BEGIN:VCALENDAR
TZID:Europe/Warsaw
X-WR-TIMEZONE:Europe/Warsaw
VERSION:2.0
PRODID:-//Uniwersytet Zielonogórski//NONSGML Plan zajęć v1.0//EN
NAME:Plan zajęć - semestr letni 2024/2025
X-WR-CALNAME:Plan zajęć - semestr letni 2024/2025
COLOR:green
CALSCALE:GREGORIAN
BEGIN:VEVENT
UID:UZ_PLZ_20250304_0800_469030
DTSTAMP:20250304T080000
DTSTART:20250304T080000
DTEND:20250304T093000
SUMMARY:Seminarium IV (S): 51PPiW-JMS/sem1
CATEGORIES:S
LOCATION:334 A-16
END:VEVENT
BEGIN:VEVENT
UID:UZ_PLZ_20250304_0945_469098
DTSTAMP:20250304T094500
DTSTART:20250304T094500
DTEND:20250304T111000
SUMMARY:Pedagogika przedszkolna (K): 11PPiW-JMS
CATEGORIES:K
LOCATION:334 A-16
END:VEVENT
BEGIN:VEVENT
UID:UZ_PLZ_20250304_1135_469042
DTSTAMP:20250304T113500
DTSTART:20250304T113500
DTEND:20250304T130000
SUMMARY:Teoretyczne podstawy pedagogiki przedszkolnej (W): 21PPiW-JMS
CATEGORIES:W
LOCATION:334 A-16
END:VEVENT
BEGIN:VEVENT
UID:UZ_PLZ_20250304_1315_469074
DTSTAMP:20250304T131500
DTSTART:20250304T131500
DTEND:20250304T144000
SUMMARY:Teoretyczne podstawy pedagogiki przedszkolnej (K): 21PPiW-JMS
CATEGORIES:K
LOCATION:334 A-16
END:VEVENT
BEGIN:VEVENT
UID:UZ_PLZ_20250305_1130_471687
DTSTAMP:20250305T113000
DTSTART:20250305T113000
DTEND:20250305T130000
SUMMARY:Dyżur pracowniczy (I)
CATEGORIES:I
END:VEVENT
BEGIN:VEVENT
UID:UZ_PLZ_20250312_1130_471687
DTSTAMP:20250312T113000
DTSTART:20250312T113000
DTEND:20250312T130000
SUMMARY:Dyżur pracowniczy (I)
CATEGORIES:I
END:VEVENT
BEGIN:VEVENT
UID:UZ_PLZ_20250319_1130_471687
DTSTAMP:20250319T113000
DTSTART:20250319T113000
DTEND:20250319T130000
SUMMARY:Dyżur pracowniczy (I)
CATEGORIES:I
END:VEVENT
BEGIN:VEVENT
UID:UZ_PLZ_20250326_1130_471687
DTSTAMP:20250326T113000
DTSTART:20250326T113000
DTEND:20250326T130000
SUMMARY:Dyżur pracowniczy (I)
CATEGORIES:I
END:VEVENT
BEGIN:VEVENT
UID:UZ_PLZ_20250402_1130_471687
DTSTAMP:20250402T113000
DTSTART:20250402T113000
DTEND:20250402T130000
SUMMARY:Dyżur pracowniczy (I)
CATEGORIES:I
END:VEVENT
BEGIN:VEVENT
UID:UZ_PLZ_20250409_1130_471687
DTSTAMP:20250409T113000
DTSTART:20250409T113000
DTEND:20250409T130000
SUMMARY:Dyżur pracowniczy (I)
CATEGORIES:I
END:VEVENT
BEGIN:VEVENT
UID:UZ_PLZ_20250416_1130_471687
DTSTAMP:20250416T113000
DTSTART:20250416T113000
DTEND:20250416T130000
SUMMARY:Dyżur pracowniczy (I)
CATEGORIES:I
END:VEVENT
BEGIN:VEVENT
UID:UZ_PLZ_20250423_1130_471687
DTSTAMP:20250423T113000
DTSTART:20250423T113000
DTEND:20250423T130000
SUMMARY:Dyżur pracowniczy (I)
CATEGORIES:I
END:VEVENT
BEGIN:VEVENT
UID:UZ_PLZ_20250430_1130_471687
DTSTAMP:20250430T113000
DTSTART:20250430T113000
DTEND:20250430T130000
SUMMARY:Dyżur pracowniczy (I)
CATEGORIES:I
END:VEVENT
BEGIN:VEVENT
UID:UZ_PLZ_20250507_1130_471687
DTSTAMP:20250507T113000
DTSTART:20250507T113000
DTEND:20250507T130000
SUMMARY:Dyżur pracowniczy (I)
CATEGORIES:I
END:VEVENT
BEGIN:VEVENT
UID:UZ_PLZ_20250514_1130_471687
DTSTAMP:20250514T113000
DTSTART:20250514T113000
DTEND:20250514T130000
SUMMARY:Dyżur pracowniczy (I)
CATEGORIES:I
END:VEVENT
BEGIN:VEVENT
UID:UZ_PLZ_20250521_1130_471687
DTSTAMP:20250521T113000
DTSTART:20250521T113000
DTEND:20250521T130000
SUMMARY:Dyżur pracowniczy (I)
CATEGORIES:I
END:VEVENT
BEGIN:VEVENT
UID:UZ_PLZ_20250528_1130_471687
DTSTAMP:20250528T113000
DTSTART:20250528T113000
DTEND:20250528T130000
SUMMARY:Dyżur pracowniczy (I)
CATEGORIES:I
END:VEVENT
BEGIN:VEVENT
UID:UZ_PLZ_20250604_1130_471687
DTSTAMP:20250604T113000
DTSTART:20250604T113000
DTEND:20250604T130000
SUMMARY:Dyżur pracowniczy (I)
CATEGORIES:I
END:VEVENT
BEGIN:VEVENT
UID:UZ_PLZ_20250611_1130_471687
DTSTAMP:20250611T113000
DTSTART:20250611T113000
DTEND:20250611T130000
SUMMARY:Dyżur pracowniczy (I)
CATEGORIES:I
END:VEVENT
END:VCALENDAR
