BEGIN:VCALENDAR
TZID:Europe/Warsaw
X-WR-TIMEZONE:Europe/Warsaw
VERSION:2.0
PRODID:-//Uniwersytet Zielonogórski//NONSGML Plan zajęć v1.0//EN
NAME:Plan zajęć - semestr letni 2025/2026
X-WR-CALNAME:Plan zajęć - semestr letni 2025/2026
COLOR:green
CALSCALE:GREGORIAN
BEGIN:VEVENT
UID:UZ_PLZ_20260429_1315_500853
DTSTAMP:20260429T131500
DTSTART:20260429T131500
DTEND:20260429T144500
SUMMARY:Historia krajów anglosaskich (W): 11F-ANG-SP25\; 12F-ANG-SP25\; 13F-ANG-SP25
CATEGORIES:W
LOCATION:A A-16
END:VEVENT
BEGIN:VEVENT
UID:UZ_PLZ_20260508_1315_500853
DTSTAMP:20260508T131500
DTSTART:20260508T131500
DTEND:20260508T144500
SUMMARY:Historia krajów anglosaskich (W): 11F-ANG-SP25\; 12F-ANG-SP25\; 13F-ANG-SP25
CATEGORIES:W
LOCATION:A A-16
END:VEVENT
BEGIN:VEVENT
UID:UZ_PLZ_20260508_1515_500949
DTSTAMP:20260508T151500
DTSTART:20260508T151500
DTEND:20260508T164500
SUMMARY:Historia krajów anglosaskich (W): 11F-ANG-NP25
CATEGORIES:W
LOCATION:A A-16
END:VEVENT
BEGIN:VEVENT
UID:UZ_PLZ_20260515_1315_500853
DTSTAMP:20260515T131500
DTSTART:20260515T131500
DTEND:20260515T144500
SUMMARY:Historia krajów anglosaskich (W): 11F-ANG-SP25\; 12F-ANG-SP25\; 13F-ANG-SP25
CATEGORIES:W
LOCATION:A A-16
END:VEVENT
BEGIN:VEVENT
UID:UZ_PLZ_20260515_1515_500949
DTSTAMP:20260515T151500
DTSTART:20260515T151500
DTEND:20260515T164500
SUMMARY:Historia krajów anglosaskich (W): 11F-ANG-NP25
CATEGORIES:W
LOCATION:A A-16
END:VEVENT
BEGIN:VEVENT
UID:UZ_PLZ_20260522_1315_500853
DTSTAMP:20260522T131500
DTSTART:20260522T131500
DTEND:20260522T144500
SUMMARY:Historia krajów anglosaskich (W): 11F-ANG-SP25\; 12F-ANG-SP25\; 13F-ANG-SP25
CATEGORIES:W
LOCATION:A A-16
END:VEVENT
BEGIN:VEVENT
UID:UZ_PLZ_20260529_1315_500853
DTSTAMP:20260529T131500
DTSTART:20260529T131500
DTEND:20260529T144500
SUMMARY:Historia krajów anglosaskich (W): 11F-ANG-SP25\; 12F-ANG-SP25\; 13F-ANG-SP25
CATEGORIES:W
LOCATION:A A-16
END:VEVENT
BEGIN:VEVENT
UID:UZ_PLZ_20260529_1515_500949
DTSTAMP:20260529T151500
DTSTART:20260529T151500
DTEND:20260529T164500
SUMMARY:Historia krajów anglosaskich (W): 11F-ANG-NP25
CATEGORIES:W
LOCATION:A A-16
END:VEVENT
BEGIN:VEVENT
UID:UZ_PLZ_20260612_1315_500853
DTSTAMP:20260612T131500
DTSTART:20260612T131500
DTEND:20260612T144500
SUMMARY:Historia krajów anglosaskich (W): 11F-ANG-SP25\; 12F-ANG-SP25\; 13F-ANG-SP25
CATEGORIES:W
LOCATION:A A-16
END:VEVENT
BEGIN:VEVENT
UID:UZ_PLZ_20260619_1315_500853
DTSTAMP:20260619T131500
DTSTART:20260619T131500
DTEND:20260619T144500
SUMMARY:Historia krajów anglosaskich (W): 11F-ANG-SP25\; 12F-ANG-SP25\; 13F-ANG-SP25
CATEGORIES:W
LOCATION:A A-16
END:VEVENT
BEGIN:VEVENT
UID:UZ_PLZ_20260626_1515_507852
DTSTAMP:20260626T151500
DTSTART:20260626T151500
DTEND:20260626T180000
SUMMARY:Historia krajów anglosaskich (E): 11F-ANG-NP25
CATEGORIES:E
LOCATION:C A-16
END:VEVENT
BEGIN:VEVENT
UID:UZ_PLZ_20260626_1515_507849
DTSTAMP:20260626T151500
DTSTART:20260626T151500
DTEND:20260626T180000
SUMMARY:Historia krajów anglosaskich (E): 11F-ANG-SP25\; 12F-ANG-SP25\; 13F-ANG-SP25
CATEGORIES:E
LOCATION:C A-16
END:VEVENT
BEGIN:VEVENT
UID:UZ_PLZ_20260904_1515_507852
DTSTAMP:20260904T151500
DTSTART:20260904T151500
DTEND:20260904T180000
SUMMARY:Historia krajów anglosaskich (E): 11F-ANG-NP25
CATEGORIES:E
LOCATION:C A-16
END:VEVENT
BEGIN:VEVENT
UID:UZ_PLZ_20260904_1515_507849
DTSTAMP:20260904T151500
DTSTART:20260904T151500
DTEND:20260904T180000
SUMMARY:Historia krajów anglosaskich (E): 11F-ANG-SP25\; 12F-ANG-SP25\; 13F-ANG-SP25
CATEGORIES:E
LOCATION:C A-16
END:VEVENT
END:VCALENDAR
