BEGIN:VCALENDAR
TZID:Europe/Warsaw
X-WR-TIMEZONE:Europe/Warsaw
VERSION:2.0
PRODID:-//Uniwersytet Zielonogórski//NONSGML Plan zajęć v1.0//EN
NAME:Plan zajęć - semestr zimowy 2025/2026
X-WR-CALNAME:Plan zajęć - semestr zimowy 2025/2026
COLOR:green
CALSCALE:GREGORIAN
BEGIN:VEVENT
UID:UZ_PLZ_20251001_0800_483344
DTSTAMP:20251001T080000
DTSTART:20251001T080000
DTEND:20251001T092500
SUMMARY:Pedeutologia (W): 41PSpecjal-JMS
CATEGORIES:W
LOCATION:341 A-16
END:VEVENT
BEGIN:VEVENT
UID:UZ_PLZ_20251001_0945_492864
DTSTAMP:20251001T094500
DTSTART:20251001T094500
DTEND:20251001T111000
SUMMARY:Pedeutologia (Ć): 11PED-POWiP-SD
CATEGORIES:Ć
LOCATION:217 A-16
END:VEVENT
BEGIN:VEVENT
UID:UZ_PLZ_20251001_1130_485876
DTSTAMP:20251001T113000
DTSTART:20251001T113000
DTEND:20251001T130000
SUMMARY:Dyżur pracowniczy (I)
CATEGORIES:I
END:VEVENT
BEGIN:VEVENT
UID:UZ_PLZ_20251001_1315_483174
DTSTAMP:20251001T131500
DTSTART:20251001T131500
DTEND:20251001T144500
SUMMARY:Seminarium magisterskie III (S): 21PED-POWiP-SD/sem
CATEGORIES:S
LOCATION:324 A-16
END:VEVENT
BEGIN:VEVENT
UID:UZ_PLZ_20251001_1500_492881
DTSTAMP:20251001T150000
DTSTART:20251001T150000
DTEND:20251001T163000
SUMMARY:Seminarium magisterskie I (S): 11PED-POWiP-SD/sem.2
CATEGORIES:S
LOCATION:324 A-16
END:VEVENT
BEGIN:VEVENT
UID:UZ_PLZ_20251008_0800_483340
DTSTAMP:20251008T080000
DTSTART:20251008T080000
DTEND:20251008T093500
SUMMARY:Pedeutologia (Ć): 41PSpecjal-JMS
CATEGORIES:Ć
LOCATION:341 A-16
END:VEVENT
BEGIN:VEVENT
UID:UZ_PLZ_20251008_0945_483101
DTSTAMP:20251008T094500
DTSTART:20251008T094500
DTEND:20251008T112000
SUMMARY:Pedeutologia (Ć): 11PED-LOG-SD
CATEGORIES:Ć
LOCATION:229 A-16
END:VEVENT
BEGIN:VEVENT
UID:UZ_PLZ_20251008_1130_485876
DTSTAMP:20251008T113000
DTSTART:20251008T113000
DTEND:20251008T130000
SUMMARY:Dyżur pracowniczy (I)
CATEGORIES:I
END:VEVENT
BEGIN:VEVENT
UID:UZ_PLZ_20251008_1315_483174
DTSTAMP:20251008T131500
DTSTART:20251008T131500
DTEND:20251008T144500
SUMMARY:Seminarium magisterskie III (S): 21PED-POWiP-SD/sem
CATEGORIES:S
LOCATION:324 A-16
END:VEVENT
BEGIN:VEVENT
UID:UZ_PLZ_20251008_1500_492881
DTSTAMP:20251008T150000
DTSTART:20251008T150000
DTEND:20251008T163000
SUMMARY:Seminarium magisterskie I (S): 11PED-POWiP-SD/sem.2
CATEGORIES:S
LOCATION:324 A-16
END:VEVENT
BEGIN:VEVENT
UID:UZ_PLZ_20251015_0800_483344
DTSTAMP:20251015T080000
DTSTART:20251015T080000
DTEND:20251015T092500
SUMMARY:Pedeutologia (W): 41PSpecjal-JMS
CATEGORIES:W
LOCATION:341 A-16
END:VEVENT
BEGIN:VEVENT
UID:UZ_PLZ_20251015_0945_492864
DTSTAMP:20251015T094500
DTSTART:20251015T094500
DTEND:20251015T111000
SUMMARY:Pedeutologia (Ć): 11PED-POWiP-SD
CATEGORIES:Ć
LOCATION:217 A-16
END:VEVENT
BEGIN:VEVENT
UID:UZ_PLZ_20251015_1130_485876
DTSTAMP:20251015T113000
DTSTART:20251015T113000
DTEND:20251015T130000
SUMMARY:Dyżur pracowniczy (I)
CATEGORIES:I
END:VEVENT
BEGIN:VEVENT
UID:UZ_PLZ_20251015_1315_483174
DTSTAMP:20251015T131500
DTSTART:20251015T131500
DTEND:20251015T144500
SUMMARY:Seminarium magisterskie III (S): 21PED-POWiP-SD/sem
CATEGORIES:S
LOCATION:324 A-16
END:VEVENT
BEGIN:VEVENT
UID:UZ_PLZ_20251015_1500_492881
DTSTAMP:20251015T150000
DTSTART:20251015T150000
DTEND:20251015T163000
SUMMARY:Seminarium magisterskie I (S): 11PED-POWiP-SD/sem.2
CATEGORIES:S
LOCATION:324 A-16
END:VEVENT
BEGIN:VEVENT
UID:UZ_PLZ_20251015_1800_492627
DTSTAMP:20251015T180000
DTSTART:20251015T180000
DTEND:20251015T193000
SUMMARY:Seminarium doktoranckie (S): 31SDNHiS-23/Ped
CATEGORIES:S
END:VEVENT
BEGIN:VEVENT
UID:UZ_PLZ_20251018_1530_483849
DTSTAMP:20251018T153000
DTSTART:20251018T153000
DTEND:20251018T174500
SUMMARY:Podstawy komunikacji i kultury języka (Ć): 11RzK-NP
CATEGORIES:Ć
LOCATION:336 A-16
END:VEVENT
BEGIN:VEVENT
UID:UZ_PLZ_20251018_1800_483929
DTSTAMP:20251018T180000
DTSTART:20251018T180000
DTEND:20251018T201500
SUMMARY:Podstawy komunikacji i kultury języka (Ć): 12RzK-NP
CATEGORIES:Ć
LOCATION:336 A-16
END:VEVENT
BEGIN:VEVENT
UID:UZ_PLZ_20251019_1030_483849
DTSTAMP:20251019T103000
DTSTART:20251019T103000
DTEND:20251019T124500
SUMMARY:Podstawy komunikacji i kultury języka (Ć): 11RzK-NP
CATEGORIES:Ć
LOCATION:334 A-16
END:VEVENT
BEGIN:VEVENT
UID:UZ_PLZ_20251019_1300_483929
DTSTAMP:20251019T130000
DTSTART:20251019T130000
DTEND:20251019T151500
SUMMARY:Podstawy komunikacji i kultury języka (Ć): 12RzK-NP
CATEGORIES:Ć
LOCATION:334 A-16
END:VEVENT
BEGIN:VEVENT
UID:UZ_PLZ_20251022_0800_483340
DTSTAMP:20251022T080000
DTSTART:20251022T080000
DTEND:20251022T093500
SUMMARY:Pedeutologia (Ć): 41PSpecjal-JMS
CATEGORIES:Ć
LOCATION:341 A-16
END:VEVENT
BEGIN:VEVENT
UID:UZ_PLZ_20251022_0945_483101
DTSTAMP:20251022T094500
DTSTART:20251022T094500
DTEND:20251022T112000
SUMMARY:Pedeutologia (Ć): 11PED-LOG-SD
CATEGORIES:Ć
LOCATION:229 A-16
END:VEVENT
BEGIN:VEVENT
UID:UZ_PLZ_20251022_1130_485876
DTSTAMP:20251022T113000
DTSTART:20251022T113000
DTEND:20251022T130000
SUMMARY:Dyżur pracowniczy (I)
CATEGORIES:I
END:VEVENT
BEGIN:VEVENT
UID:UZ_PLZ_20251022_1315_483174
DTSTAMP:20251022T131500
DTSTART:20251022T131500
DTEND:20251022T144500
SUMMARY:Seminarium magisterskie III (S): 21PED-POWiP-SD/sem
CATEGORIES:S
LOCATION:324 A-16
END:VEVENT
BEGIN:VEVENT
UID:UZ_PLZ_20251022_1500_492881
DTSTAMP:20251022T150000
DTSTART:20251022T150000
DTEND:20251022T163000
SUMMARY:Seminarium magisterskie I (S): 11PED-POWiP-SD/sem.2
CATEGORIES:S
LOCATION:324 A-16
END:VEVENT
BEGIN:VEVENT
UID:UZ_PLZ_20251022_1800_492560
DTSTAMP:20251022T180000
DTSTART:20251022T180000
DTEND:20251022T193000
SUMMARY:Seminarium doktoranckie (S): 41SDNHiS-22/Ped
CATEGORIES:S
END:VEVENT
BEGIN:VEVENT
UID:UZ_PLZ_20251026_0800_483639
DTSTAMP:20251026T080000
DTSTART:20251026T080000
DTEND:20251026T101500
SUMMARY:Pedeutologia (Ć): 11PED-POWiP-ND
CATEGORIES:Ć
LOCATION:341 A-16
END:VEVENT
BEGIN:VEVENT
UID:UZ_PLZ_20251026_1030_483849
DTSTAMP:20251026T103000
DTSTART:20251026T103000
DTEND:20251026T124500
SUMMARY:Podstawy komunikacji i kultury języka (Ć): 11RzK-NP
CATEGORIES:Ć
LOCATION:341 A-16
END:VEVENT
BEGIN:VEVENT
UID:UZ_PLZ_20251026_1300_483929
DTSTAMP:20251026T130000
DTSTART:20251026T130000
DTEND:20251026T151500
SUMMARY:Podstawy komunikacji i kultury języka (Ć): 12RzK-NP
CATEGORIES:Ć
LOCATION:341 A-16
END:VEVENT
BEGIN:VEVENT
UID:UZ_PLZ_20251029_0800_483344
DTSTAMP:20251029T080000
DTSTART:20251029T080000
DTEND:20251029T092500
SUMMARY:Pedeutologia (W): 41PSpecjal-JMS
CATEGORIES:W
LOCATION:341 A-16
END:VEVENT
BEGIN:VEVENT
UID:UZ_PLZ_20251029_0945_492864
DTSTAMP:20251029T094500
DTSTART:20251029T094500
DTEND:20251029T111000
SUMMARY:Pedeutologia (Ć): 11PED-POWiP-SD
CATEGORIES:Ć
LOCATION:217 A-16
END:VEVENT
BEGIN:VEVENT
UID:UZ_PLZ_20251029_1130_485876
DTSTAMP:20251029T113000
DTSTART:20251029T113000
DTEND:20251029T130000
SUMMARY:Dyżur pracowniczy (I)
CATEGORIES:I
END:VEVENT
BEGIN:VEVENT
UID:UZ_PLZ_20251029_1315_483174
DTSTAMP:20251029T131500
DTSTART:20251029T131500
DTEND:20251029T144500
SUMMARY:Seminarium magisterskie III (S): 21PED-POWiP-SD/sem
CATEGORIES:S
LOCATION:324 A-16
END:VEVENT
BEGIN:VEVENT
UID:UZ_PLZ_20251029_1500_492881
DTSTAMP:20251029T150000
DTSTART:20251029T150000
DTEND:20251029T163000
SUMMARY:Seminarium magisterskie I (S): 11PED-POWiP-SD/sem.2
CATEGORIES:S
LOCATION:324 A-16
END:VEVENT
BEGIN:VEVENT
UID:UZ_PLZ_20251029_1630_494051
DTSTAMP:20251029T163000
DTSTART:20251029T163000
DTEND:20251029T180000
SUMMARY:Konsultacje (I)
CATEGORIES:I
LOCATION:337 A-16
END:VEVENT
BEGIN:VEVENT
UID:UZ_PLZ_20251029_1800_492627
DTSTAMP:20251029T180000
DTSTART:20251029T180000
DTEND:20251029T193000
SUMMARY:Seminarium doktoranckie (S): 31SDNHiS-23/Ped
CATEGORIES:S
END:VEVENT
BEGIN:VEVENT
UID:UZ_PLZ_20251105_0800_483340
DTSTAMP:20251105T080000
DTSTART:20251105T080000
DTEND:20251105T093500
SUMMARY:Pedeutologia (Ć): 41PSpecjal-JMS
CATEGORIES:Ć
LOCATION:341 A-16
END:VEVENT
BEGIN:VEVENT
UID:UZ_PLZ_20251105_0945_483101
DTSTAMP:20251105T094500
DTSTART:20251105T094500
DTEND:20251105T112000
SUMMARY:Pedeutologia (Ć): 11PED-LOG-SD
CATEGORIES:Ć
LOCATION:229 A-16
END:VEVENT
BEGIN:VEVENT
UID:UZ_PLZ_20251105_1130_485876
DTSTAMP:20251105T113000
DTSTART:20251105T113000
DTEND:20251105T130000
SUMMARY:Dyżur pracowniczy (I)
CATEGORIES:I
END:VEVENT
BEGIN:VEVENT
UID:UZ_PLZ_20251105_1315_483174
DTSTAMP:20251105T131500
DTSTART:20251105T131500
DTEND:20251105T144500
SUMMARY:Seminarium magisterskie III (S): 21PED-POWiP-SD/sem
CATEGORIES:S
LOCATION:324 A-16
END:VEVENT
BEGIN:VEVENT
UID:UZ_PLZ_20251105_1500_492881
DTSTAMP:20251105T150000
DTSTART:20251105T150000
DTEND:20251105T163000
SUMMARY:Seminarium magisterskie I (S): 11PED-POWiP-SD/sem.2
CATEGORIES:S
LOCATION:324 A-16
END:VEVENT
BEGIN:VEVENT
UID:UZ_PLZ_20251105_1630_494051
DTSTAMP:20251105T163000
DTSTART:20251105T163000
DTEND:20251105T180000
SUMMARY:Konsultacje (I)
CATEGORIES:I
LOCATION:337 A-16
END:VEVENT
BEGIN:VEVENT
UID:UZ_PLZ_20251105_1800_492560
DTSTAMP:20251105T180000
DTSTART:20251105T180000
DTEND:20251105T193000
SUMMARY:Seminarium doktoranckie (S): 41SDNHiS-22/Ped
CATEGORIES:S
END:VEVENT
BEGIN:VEVENT
UID:UZ_PLZ_20251112_0800_483344
DTSTAMP:20251112T080000
DTSTART:20251112T080000
DTEND:20251112T092500
SUMMARY:Pedeutologia (W): 41PSpecjal-JMS
CATEGORIES:W
LOCATION:341 A-16
END:VEVENT
BEGIN:VEVENT
UID:UZ_PLZ_20251112_0945_492864
DTSTAMP:20251112T094500
DTSTART:20251112T094500
DTEND:20251112T111000
SUMMARY:Pedeutologia (Ć): 11PED-POWiP-SD
CATEGORIES:Ć
LOCATION:217 A-16
END:VEVENT
BEGIN:VEVENT
UID:UZ_PLZ_20251112_1130_485876
DTSTAMP:20251112T113000
DTSTART:20251112T113000
DTEND:20251112T130000
SUMMARY:Dyżur pracowniczy (I)
CATEGORIES:I
END:VEVENT
BEGIN:VEVENT
UID:UZ_PLZ_20251112_1315_483174
DTSTAMP:20251112T131500
DTSTART:20251112T131500
DTEND:20251112T144500
SUMMARY:Seminarium magisterskie III (S): 21PED-POWiP-SD/sem
CATEGORIES:S
LOCATION:324 A-16
END:VEVENT
BEGIN:VEVENT
UID:UZ_PLZ_20251112_1500_492881
DTSTAMP:20251112T150000
DTSTART:20251112T150000
DTEND:20251112T163000
SUMMARY:Seminarium magisterskie I (S): 11PED-POWiP-SD/sem.2
CATEGORIES:S
LOCATION:324 A-16
END:VEVENT
BEGIN:VEVENT
UID:UZ_PLZ_20251112_1630_494051
DTSTAMP:20251112T163000
DTSTART:20251112T163000
DTEND:20251112T180000
SUMMARY:Konsultacje (I)
CATEGORIES:I
LOCATION:337 A-16
END:VEVENT
BEGIN:VEVENT
UID:UZ_PLZ_20251112_1800_492627
DTSTAMP:20251112T180000
DTSTART:20251112T180000
DTEND:20251112T193000
SUMMARY:Seminarium doktoranckie (S): 31SDNHiS-23/Ped
CATEGORIES:S
END:VEVENT
BEGIN:VEVENT
UID:UZ_PLZ_20251115_1030_483849
DTSTAMP:20251115T103000
DTSTART:20251115T103000
DTEND:20251115T124500
SUMMARY:Podstawy komunikacji i kultury języka (Ć): 11RzK-NP
CATEGORIES:Ć
LOCATION:34 A-16
END:VEVENT
BEGIN:VEVENT
UID:UZ_PLZ_20251115_1300_483929
DTSTAMP:20251115T130000
DTSTART:20251115T130000
DTEND:20251115T151500
SUMMARY:Podstawy komunikacji i kultury języka (Ć): 12RzK-NP
CATEGORIES:Ć
LOCATION:34 A-16
END:VEVENT
BEGIN:VEVENT
UID:UZ_PLZ_20251115_1530_483758
DTSTAMP:20251115T153000
DTSTART:20251115T153000
DTEND:20251115T174500
SUMMARY:Seminarium I (S): 41PPiW-JMN/sem.2\; 42PPiW-JMN/sem.2
CATEGORIES:S
LOCATION:336 A-16
END:VEVENT
BEGIN:VEVENT
UID:UZ_PLZ_20251115_1800_483758
DTSTAMP:20251115T180000
DTSTART:20251115T180000
DTEND:20251115T201500
SUMMARY:Seminarium I (S): 41PPiW-JMN/sem.2\; 42PPiW-JMN/sem.2
CATEGORIES:S
LOCATION:336 A-16
END:VEVENT
BEGIN:VEVENT
UID:UZ_PLZ_20251116_0800_483639
DTSTAMP:20251116T080000
DTSTART:20251116T080000
DTEND:20251116T101500
SUMMARY:Pedeutologia (Ć): 11PED-POWiP-ND
CATEGORIES:Ć
LOCATION:336 A-16
END:VEVENT
BEGIN:VEVENT
UID:UZ_PLZ_20251116_1030_483849
DTSTAMP:20251116T103000
DTSTART:20251116T103000
DTEND:20251116T124500
SUMMARY:Podstawy komunikacji i kultury języka (Ć): 11RzK-NP
CATEGORIES:Ć
LOCATION:336 A-16
END:VEVENT
BEGIN:VEVENT
UID:UZ_PLZ_20251116_1300_483929
DTSTAMP:20251116T130000
DTSTART:20251116T130000
DTEND:20251116T151500
SUMMARY:Podstawy komunikacji i kultury języka (Ć): 12RzK-NP
CATEGORIES:Ć
LOCATION:336 A-16
END:VEVENT
BEGIN:VEVENT
UID:UZ_PLZ_20251119_0800_483340
DTSTAMP:20251119T080000
DTSTART:20251119T080000
DTEND:20251119T093500
SUMMARY:Pedeutologia (Ć): 41PSpecjal-JMS
CATEGORIES:Ć
LOCATION:341 A-16
END:VEVENT
BEGIN:VEVENT
UID:UZ_PLZ_20251119_0945_483101
DTSTAMP:20251119T094500
DTSTART:20251119T094500
DTEND:20251119T112000
SUMMARY:Pedeutologia (Ć): 11PED-LOG-SD
CATEGORIES:Ć
LOCATION:229 A-16
END:VEVENT
BEGIN:VEVENT
UID:UZ_PLZ_20251119_1130_485876
DTSTAMP:20251119T113000
DTSTART:20251119T113000
DTEND:20251119T130000
SUMMARY:Dyżur pracowniczy (I)
CATEGORIES:I
END:VEVENT
BEGIN:VEVENT
UID:UZ_PLZ_20251119_1315_483174
DTSTAMP:20251119T131500
DTSTART:20251119T131500
DTEND:20251119T144500
SUMMARY:Seminarium magisterskie III (S): 21PED-POWiP-SD/sem
CATEGORIES:S
LOCATION:324 A-16
END:VEVENT
BEGIN:VEVENT
UID:UZ_PLZ_20251119_1500_492881
DTSTAMP:20251119T150000
DTSTART:20251119T150000
DTEND:20251119T163000
SUMMARY:Seminarium magisterskie I (S): 11PED-POWiP-SD/sem.2
CATEGORIES:S
LOCATION:324 A-16
END:VEVENT
BEGIN:VEVENT
UID:UZ_PLZ_20251119_1630_494051
DTSTAMP:20251119T163000
DTSTART:20251119T163000
DTEND:20251119T180000
SUMMARY:Konsultacje (I)
CATEGORIES:I
LOCATION:337 A-16
END:VEVENT
BEGIN:VEVENT
UID:UZ_PLZ_20251119_1800_492560
DTSTAMP:20251119T180000
DTSTART:20251119T180000
DTEND:20251119T193000
SUMMARY:Seminarium doktoranckie (S): 41SDNHiS-22/Ped
CATEGORIES:S
END:VEVENT
BEGIN:VEVENT
UID:UZ_PLZ_20251123_1030_483849
DTSTAMP:20251123T103000
DTSTART:20251123T103000
DTEND:20251123T124500
SUMMARY:Podstawy komunikacji i kultury języka (Ć): 11RzK-NP
CATEGORIES:Ć
LOCATION:341 A-16
END:VEVENT
BEGIN:VEVENT
UID:UZ_PLZ_20251123_1300_483929
DTSTAMP:20251123T130000
DTSTART:20251123T130000
DTEND:20251123T151500
SUMMARY:Podstawy komunikacji i kultury języka (Ć): 12RzK-NP
CATEGORIES:Ć
LOCATION:341 A-16
END:VEVENT
BEGIN:VEVENT
UID:UZ_PLZ_20251123_1530_483849
DTSTAMP:20251123T153000
DTSTART:20251123T153000
DTEND:20251123T174500
SUMMARY:Podstawy komunikacji i kultury języka (Ć): 11RzK-NP
CATEGORIES:Ć
LOCATION:341 A-16
END:VEVENT
BEGIN:VEVENT
UID:UZ_PLZ_20251123_1800_483929
DTSTAMP:20251123T180000
DTSTART:20251123T180000
DTEND:20251123T201500
SUMMARY:Podstawy komunikacji i kultury języka (Ć): 12RzK-NP
CATEGORIES:Ć
LOCATION:341 A-16
END:VEVENT
BEGIN:VEVENT
UID:UZ_PLZ_20251126_0800_483344
DTSTAMP:20251126T080000
DTSTART:20251126T080000
DTEND:20251126T092500
SUMMARY:Pedeutologia (W): 41PSpecjal-JMS
CATEGORIES:W
LOCATION:341 A-16
END:VEVENT
BEGIN:VEVENT
UID:UZ_PLZ_20251126_0945_492864
DTSTAMP:20251126T094500
DTSTART:20251126T094500
DTEND:20251126T111000
SUMMARY:Pedeutologia (Ć): 11PED-POWiP-SD
CATEGORIES:Ć
LOCATION:217 A-16
END:VEVENT
BEGIN:VEVENT
UID:UZ_PLZ_20251126_1130_485876
DTSTAMP:20251126T113000
DTSTART:20251126T113000
DTEND:20251126T130000
SUMMARY:Dyżur pracowniczy (I)
CATEGORIES:I
END:VEVENT
BEGIN:VEVENT
UID:UZ_PLZ_20251126_1130_496020
DTSTAMP:20251126T113000
DTSTART:20251126T113000
DTEND:20251126T130000
SUMMARY:REZERWACJA (I)
CATEGORIES:I
LOCATION:20 A-16
END:VEVENT
BEGIN:VEVENT
UID:UZ_PLZ_20251126_1315_483174
DTSTAMP:20251126T131500
DTSTART:20251126T131500
DTEND:20251126T144500
SUMMARY:Seminarium magisterskie III (S): 21PED-POWiP-SD/sem
CATEGORIES:S
LOCATION:324 A-16
END:VEVENT
BEGIN:VEVENT
UID:UZ_PLZ_20251126_1500_492881
DTSTAMP:20251126T150000
DTSTART:20251126T150000
DTEND:20251126T163000
SUMMARY:Seminarium magisterskie I (S): 11PED-POWiP-SD/sem.2
CATEGORIES:S
LOCATION:324 A-16
END:VEVENT
BEGIN:VEVENT
UID:UZ_PLZ_20251126_1630_494051
DTSTAMP:20251126T163000
DTSTART:20251126T163000
DTEND:20251126T180000
SUMMARY:Konsultacje (I)
CATEGORIES:I
LOCATION:337 A-16
END:VEVENT
BEGIN:VEVENT
UID:UZ_PLZ_20251126_1800_492627
DTSTAMP:20251126T180000
DTSTART:20251126T180000
DTEND:20251126T193000
SUMMARY:Seminarium doktoranckie (S): 31SDNHiS-23/Ped
CATEGORIES:S
END:VEVENT
BEGIN:VEVENT
UID:UZ_PLZ_20251127_1545_492592
DTSTAMP:20251127T154500
DTSTART:20251127T154500
DTEND:20251127T180000
SUMMARY:Tendencje rozwojowe w naukach humanistycznych i społecznych (cz. 1) (W): 11SDNHiS-25
CATEGORIES:W
LOCATION:302R A-17
END:VEVENT
BEGIN:VEVENT
UID:UZ_PLZ_20251130_0800_483639
DTSTAMP:20251130T080000
DTSTART:20251130T080000
DTEND:20251130T101500
SUMMARY:Pedeutologia (Ć): 11PED-POWiP-ND
CATEGORIES:Ć
LOCATION:341 A-16
END:VEVENT
BEGIN:VEVENT
UID:UZ_PLZ_20251130_1030_483849
DTSTAMP:20251130T103000
DTSTART:20251130T103000
DTEND:20251130T124500
SUMMARY:Podstawy komunikacji i kultury języka (Ć): 11RzK-NP
CATEGORIES:Ć
LOCATION:341 A-16
END:VEVENT
BEGIN:VEVENT
UID:UZ_PLZ_20251130_1300_483929
DTSTAMP:20251130T130000
DTSTART:20251130T130000
DTEND:20251130T151500
SUMMARY:Podstawy komunikacji i kultury języka (Ć): 12RzK-NP
CATEGORIES:Ć
LOCATION:341 A-16
END:VEVENT
BEGIN:VEVENT
UID:UZ_PLZ_20251130_1800_483758
DTSTAMP:20251130T180000
DTSTART:20251130T180000
DTEND:20251130T201500
SUMMARY:Seminarium I (S): 41PPiW-JMN/sem.2\; 42PPiW-JMN/sem.2
CATEGORIES:S
LOCATION:336 A-16
END:VEVENT
BEGIN:VEVENT
UID:UZ_PLZ_20251203_0800_483340
DTSTAMP:20251203T080000
DTSTART:20251203T080000
DTEND:20251203T093500
SUMMARY:Pedeutologia (Ć): 41PSpecjal-JMS
CATEGORIES:Ć
LOCATION:341 A-16
END:VEVENT
BEGIN:VEVENT
UID:UZ_PLZ_20251203_0945_483101
DTSTAMP:20251203T094500
DTSTART:20251203T094500
DTEND:20251203T112000
SUMMARY:Pedeutologia (Ć): 11PED-LOG-SD
CATEGORIES:Ć
LOCATION:229 A-16
END:VEVENT
BEGIN:VEVENT
UID:UZ_PLZ_20251203_1130_485876
DTSTAMP:20251203T113000
DTSTART:20251203T113000
DTEND:20251203T130000
SUMMARY:Dyżur pracowniczy (I)
CATEGORIES:I
END:VEVENT
BEGIN:VEVENT
UID:UZ_PLZ_20251203_1315_483174
DTSTAMP:20251203T131500
DTSTART:20251203T131500
DTEND:20251203T144500
SUMMARY:Seminarium magisterskie III (S): 21PED-POWiP-SD/sem
CATEGORIES:S
LOCATION:324 A-16
END:VEVENT
BEGIN:VEVENT
UID:UZ_PLZ_20251203_1500_492881
DTSTAMP:20251203T150000
DTSTART:20251203T150000
DTEND:20251203T163000
SUMMARY:Seminarium magisterskie I (S): 11PED-POWiP-SD/sem.2
CATEGORIES:S
LOCATION:324 A-16
END:VEVENT
BEGIN:VEVENT
UID:UZ_PLZ_20251203_1630_494051
DTSTAMP:20251203T163000
DTSTART:20251203T163000
DTEND:20251203T180000
SUMMARY:Konsultacje (I)
CATEGORIES:I
LOCATION:337 A-16
END:VEVENT
BEGIN:VEVENT
UID:UZ_PLZ_20251203_1800_492560
DTSTAMP:20251203T180000
DTSTART:20251203T180000
DTEND:20251203T201500
SUMMARY:Seminarium doktoranckie (S): 41SDNHiS-22/Ped
CATEGORIES:S
END:VEVENT
BEGIN:VEVENT
UID:UZ_PLZ_20251204_1315_492592
DTSTAMP:20251204T131500
DTSTART:20251204T131500
DTEND:20251204T144500
SUMMARY:Tendencje rozwojowe w naukach humanistycznych i społecznych (cz. 1) (W): 11SDNHiS-25
CATEGORIES:W
LOCATION:302R A-17
END:VEVENT
BEGIN:VEVENT
UID:UZ_PLZ_20251207_1030_483849
DTSTAMP:20251207T103000
DTSTART:20251207T103000
DTEND:20251207T124500
SUMMARY:Podstawy komunikacji i kultury języka (Ć): 11RzK-NP
CATEGORIES:Ć
LOCATION:336 A-16
END:VEVENT
BEGIN:VEVENT
UID:UZ_PLZ_20251207_1300_483929
DTSTAMP:20251207T130000
DTSTART:20251207T130000
DTEND:20251207T151500
SUMMARY:Podstawy komunikacji i kultury języka (Ć): 12RzK-NP
CATEGORIES:Ć
LOCATION:336 A-16
END:VEVENT
BEGIN:VEVENT
UID:UZ_PLZ_20251207_1530_483758
DTSTAMP:20251207T153000
DTSTART:20251207T153000
DTEND:20251207T174500
SUMMARY:Seminarium I (S): 41PPiW-JMN/sem.2\; 42PPiW-JMN/sem.2
CATEGORIES:S
LOCATION:336 A-16
END:VEVENT
BEGIN:VEVENT
UID:UZ_PLZ_20251207_1800_483758
DTSTAMP:20251207T180000
DTSTART:20251207T180000
DTEND:20251207T201500
SUMMARY:Seminarium I (S): 41PPiW-JMN/sem.2\; 42PPiW-JMN/sem.2
CATEGORIES:S
LOCATION:336 A-16
END:VEVENT
BEGIN:VEVENT
UID:UZ_PLZ_20251210_0800_483344
DTSTAMP:20251210T080000
DTSTART:20251210T080000
DTEND:20251210T092500
SUMMARY:Pedeutologia (W): 41PSpecjal-JMS
CATEGORIES:W
LOCATION:341 A-16
END:VEVENT
BEGIN:VEVENT
UID:UZ_PLZ_20251210_0945_492864
DTSTAMP:20251210T094500
DTSTART:20251210T094500
DTEND:20251210T111000
SUMMARY:Pedeutologia (Ć): 11PED-POWiP-SD
CATEGORIES:Ć
LOCATION:217 A-16
END:VEVENT
BEGIN:VEVENT
UID:UZ_PLZ_20251210_1130_485876
DTSTAMP:20251210T113000
DTSTART:20251210T113000
DTEND:20251210T130000
SUMMARY:Dyżur pracowniczy (I)
CATEGORIES:I
END:VEVENT
BEGIN:VEVENT
UID:UZ_PLZ_20251210_1315_483174
DTSTAMP:20251210T131500
DTSTART:20251210T131500
DTEND:20251210T144500
SUMMARY:Seminarium magisterskie III (S): 21PED-POWiP-SD/sem
CATEGORIES:S
LOCATION:324 A-16
END:VEVENT
BEGIN:VEVENT
UID:UZ_PLZ_20251210_1500_492881
DTSTAMP:20251210T150000
DTSTART:20251210T150000
DTEND:20251210T163000
SUMMARY:Seminarium magisterskie I (S): 11PED-POWiP-SD/sem.2
CATEGORIES:S
LOCATION:324 A-16
END:VEVENT
BEGIN:VEVENT
UID:UZ_PLZ_20251210_1630_494051
DTSTAMP:20251210T163000
DTSTART:20251210T163000
DTEND:20251210T180000
SUMMARY:Konsultacje (I)
CATEGORIES:I
LOCATION:337 A-16
END:VEVENT
BEGIN:VEVENT
UID:UZ_PLZ_20251210_1800_492627
DTSTAMP:20251210T180000
DTSTART:20251210T180000
DTEND:20251210T193000
SUMMARY:Seminarium doktoranckie (S): 31SDNHiS-23/Ped
CATEGORIES:S
END:VEVENT
BEGIN:VEVENT
UID:UZ_PLZ_20251217_0800_483340
DTSTAMP:20251217T080000
DTSTART:20251217T080000
DTEND:20251217T093500
SUMMARY:Pedeutologia (Ć): 41PSpecjal-JMS
CATEGORIES:Ć
LOCATION:341 A-16
END:VEVENT
BEGIN:VEVENT
UID:UZ_PLZ_20251217_0945_483101
DTSTAMP:20251217T094500
DTSTART:20251217T094500
DTEND:20251217T112000
SUMMARY:Pedeutologia (Ć): 11PED-LOG-SD
CATEGORIES:Ć
LOCATION:229 A-16
END:VEVENT
BEGIN:VEVENT
UID:UZ_PLZ_20251217_1130_485876
DTSTAMP:20251217T113000
DTSTART:20251217T113000
DTEND:20251217T130000
SUMMARY:Dyżur pracowniczy (I)
CATEGORIES:I
END:VEVENT
BEGIN:VEVENT
UID:UZ_PLZ_20251217_1315_483174
DTSTAMP:20251217T131500
DTSTART:20251217T131500
DTEND:20251217T144500
SUMMARY:Seminarium magisterskie III (S): 21PED-POWiP-SD/sem
CATEGORIES:S
LOCATION:324 A-16
END:VEVENT
BEGIN:VEVENT
UID:UZ_PLZ_20251217_1500_492881
DTSTAMP:20251217T150000
DTSTART:20251217T150000
DTEND:20251217T163000
SUMMARY:Seminarium magisterskie I (S): 11PED-POWiP-SD/sem.2
CATEGORIES:S
LOCATION:324 A-16
END:VEVENT
BEGIN:VEVENT
UID:UZ_PLZ_20251217_1630_494051
DTSTAMP:20251217T163000
DTSTART:20251217T163000
DTEND:20251217T180000
SUMMARY:Konsultacje (I)
CATEGORIES:I
LOCATION:337 A-16
END:VEVENT
BEGIN:VEVENT
UID:UZ_PLZ_20251217_1800_492560
DTSTAMP:20251217T180000
DTSTART:20251217T180000
DTEND:20251217T201500
SUMMARY:Seminarium doktoranckie (S): 41SDNHiS-22/Ped
CATEGORIES:S
END:VEVENT
BEGIN:VEVENT
UID:UZ_PLZ_20260114_0800_483340
DTSTAMP:20260114T080000
DTSTART:20260114T080000
DTEND:20260114T093500
SUMMARY:Pedeutologia (Ć): 41PSpecjal-JMS
CATEGORIES:Ć
LOCATION:341 A-16
END:VEVENT
BEGIN:VEVENT
UID:UZ_PLZ_20260114_0945_483101
DTSTAMP:20260114T094500
DTSTART:20260114T094500
DTEND:20260114T112000
SUMMARY:Pedeutologia (Ć): 11PED-LOG-SD
CATEGORIES:Ć
LOCATION:229 A-16
END:VEVENT
BEGIN:VEVENT
UID:UZ_PLZ_20260114_1130_485876
DTSTAMP:20260114T113000
DTSTART:20260114T113000
DTEND:20260114T130000
SUMMARY:Dyżur pracowniczy (I)
CATEGORIES:I
END:VEVENT
BEGIN:VEVENT
UID:UZ_PLZ_20260114_1315_483174
DTSTAMP:20260114T131500
DTSTART:20260114T131500
DTEND:20260114T144500
SUMMARY:Seminarium magisterskie III (S): 21PED-POWiP-SD/sem
CATEGORIES:S
LOCATION:324 A-16
END:VEVENT
BEGIN:VEVENT
UID:UZ_PLZ_20260114_1500_492881
DTSTAMP:20260114T150000
DTSTART:20260114T150000
DTEND:20260114T163000
SUMMARY:Seminarium magisterskie I (S): 11PED-POWiP-SD/sem.2
CATEGORIES:S
LOCATION:324 A-16
END:VEVENT
BEGIN:VEVENT
UID:UZ_PLZ_20260114_1630_494051
DTSTAMP:20260114T163000
DTSTART:20260114T163000
DTEND:20260114T180000
SUMMARY:Konsultacje (I)
CATEGORIES:I
LOCATION:337 A-16
END:VEVENT
BEGIN:VEVENT
UID:UZ_PLZ_20260114_1800_492560
DTSTAMP:20260114T180000
DTSTART:20260114T180000
DTEND:20260114T201500
SUMMARY:Seminarium doktoranckie (S): 41SDNHiS-22/Ped
CATEGORIES:S
END:VEVENT
BEGIN:VEVENT
UID:UZ_PLZ_20260118_1030_483849
DTSTAMP:20260118T103000
DTSTART:20260118T103000
DTEND:20260118T124500
SUMMARY:Podstawy komunikacji i kultury języka (Ć): 11RzK-NP
CATEGORIES:Ć
LOCATION:324 A-16
END:VEVENT
BEGIN:VEVENT
UID:UZ_PLZ_20260118_1300_483929
DTSTAMP:20260118T130000
DTSTART:20260118T130000
DTEND:20260118T151500
SUMMARY:Podstawy komunikacji i kultury języka (Ć): 12RzK-NP
CATEGORIES:Ć
LOCATION:324 A-16
END:VEVENT
BEGIN:VEVENT
UID:UZ_PLZ_20260118_1530_483758
DTSTAMP:20260118T153000
DTSTART:20260118T153000
DTEND:20260118T174500
SUMMARY:Seminarium I (S): 41PPiW-JMN/sem.2\; 42PPiW-JMN/sem.2
CATEGORIES:S
LOCATION:324 A-16
END:VEVENT
BEGIN:VEVENT
UID:UZ_PLZ_20260121_0800_483344
DTSTAMP:20260121T080000
DTSTART:20260121T080000
DTEND:20260121T092500
SUMMARY:Pedeutologia (W): 41PSpecjal-JMS
CATEGORIES:W
LOCATION:341 A-16
END:VEVENT
BEGIN:VEVENT
UID:UZ_PLZ_20260121_0945_492864
DTSTAMP:20260121T094500
DTSTART:20260121T094500
DTEND:20260121T111000
SUMMARY:Pedeutologia (Ć): 11PED-POWiP-SD
CATEGORIES:Ć
LOCATION:217 A-16
END:VEVENT
BEGIN:VEVENT
UID:UZ_PLZ_20260121_1130_485876
DTSTAMP:20260121T113000
DTSTART:20260121T113000
DTEND:20260121T130000
SUMMARY:Dyżur pracowniczy (I)
CATEGORIES:I
END:VEVENT
BEGIN:VEVENT
UID:UZ_PLZ_20260121_1315_483174
DTSTAMP:20260121T131500
DTSTART:20260121T131500
DTEND:20260121T144500
SUMMARY:Seminarium magisterskie III (S): 21PED-POWiP-SD/sem
CATEGORIES:S
LOCATION:324 A-16
END:VEVENT
BEGIN:VEVENT
UID:UZ_PLZ_20260121_1500_492881
DTSTAMP:20260121T150000
DTSTART:20260121T150000
DTEND:20260121T163000
SUMMARY:Seminarium magisterskie I (S): 11PED-POWiP-SD/sem.2
CATEGORIES:S
LOCATION:324 A-16
END:VEVENT
BEGIN:VEVENT
UID:UZ_PLZ_20260121_1630_494051
DTSTAMP:20260121T163000
DTSTART:20260121T163000
DTEND:20260121T180000
SUMMARY:Konsultacje (I)
CATEGORIES:I
LOCATION:337 A-16
END:VEVENT
BEGIN:VEVENT
UID:UZ_PLZ_20260121_1800_492627
DTSTAMP:20260121T180000
DTSTART:20260121T180000
DTEND:20260121T193000
SUMMARY:Seminarium doktoranckie (S): 31SDNHiS-23/Ped
CATEGORIES:S
END:VEVENT
BEGIN:VEVENT
UID:UZ_PLZ_20260128_0800_483344
DTSTAMP:20260128T080000
DTSTART:20260128T080000
DTEND:20260128T092500
SUMMARY:Pedeutologia (W): 41PSpecjal-JMS
CATEGORIES:W
LOCATION:341 A-16
END:VEVENT
BEGIN:VEVENT
UID:UZ_PLZ_20260128_0945_492864
DTSTAMP:20260128T094500
DTSTART:20260128T094500
DTEND:20260128T111000
SUMMARY:Pedeutologia (Ć): 11PED-POWiP-SD
CATEGORIES:Ć
LOCATION:217 A-16
END:VEVENT
BEGIN:VEVENT
UID:UZ_PLZ_20260128_1130_485876
DTSTAMP:20260128T113000
DTSTART:20260128T113000
DTEND:20260128T130000
SUMMARY:Dyżur pracowniczy (I)
CATEGORIES:I
END:VEVENT
BEGIN:VEVENT
UID:UZ_PLZ_20260128_1315_483174
DTSTAMP:20260128T131500
DTSTART:20260128T131500
DTEND:20260128T144500
SUMMARY:Seminarium magisterskie III (S): 21PED-POWiP-SD/sem
CATEGORIES:S
LOCATION:324 A-16
END:VEVENT
BEGIN:VEVENT
UID:UZ_PLZ_20260128_1500_492881
DTSTAMP:20260128T150000
DTSTART:20260128T150000
DTEND:20260128T163000
SUMMARY:Seminarium magisterskie I (S): 11PED-POWiP-SD/sem.2
CATEGORIES:S
LOCATION:324 A-16
END:VEVENT
BEGIN:VEVENT
UID:UZ_PLZ_20260128_1630_494051
DTSTAMP:20260128T163000
DTSTART:20260128T163000
DTEND:20260128T180000
SUMMARY:Konsultacje (I)
CATEGORIES:I
LOCATION:337 A-16
END:VEVENT
BEGIN:VEVENT
UID:UZ_PLZ_20260128_1800_492627
DTSTAMP:20260128T180000
DTSTART:20260128T180000
DTEND:20260128T201500
SUMMARY:Seminarium doktoranckie (S): 31SDNHiS-23/Ped
CATEGORIES:S
END:VEVENT
BEGIN:VEVENT
UID:UZ_PLZ_20260206_1100_500312
DTSTAMP:20260206T110000
DTSTART:20260206T110000
DTEND:20260206T120000
SUMMARY:Pedeutologia (E): 41PSpecjal-JMS
CATEGORIES:E
LOCATION:336 A-16
END:VEVENT
BEGIN:VEVENT
UID:UZ_PLZ_20260228_1200_500312
DTSTAMP:20260228T120000
DTSTART:20260228T120000
DTEND:20260228T130000
SUMMARY:Pedeutologia (E): 41PSpecjal-JMS
CATEGORIES:E
LOCATION:336 A-16
END:VEVENT
END:VCALENDAR
