BEGIN:VCALENDAR
TZID:Europe/Warsaw
X-WR-TIMEZONE:Europe/Warsaw
VERSION:2.0
PRODID:-//Uniwersytet Zielonogórski//NONSGML Plan zajęć v1.0//EN
NAME:Plan zajęć - semestr letni 2025/2026
X-WR-CALNAME:Plan zajęć - semestr letni 2025/2026
COLOR:green
CALSCALE:GREGORIAN
BEGIN:VEVENT
UID:UZ_PLZ_20260426_0800_501928
DTSTAMP:20260426T080000
DTSTART:20260426T080000
DTEND:20260426T101500
SUMMARY:Jakość i efektywność procesów edukacyjnych (Ć): 21PED-POWiP-ND
CATEGORIES:Ć
LOCATION:324 A-16
END:VEVENT
BEGIN:VEVENT
UID:UZ_PLZ_20260426_1030_501931
DTSTAMP:20260426T103000
DTSTART:20260426T103000
DTEND:20260426T124500
SUMMARY:Pedagogika porównawcza (W): 11PED-POWiP-ND
CATEGORIES:W
LOCATION:324 A-16
END:VEVENT
BEGIN:VEVENT
UID:UZ_PLZ_20260426_1300_501909
DTSTAMP:20260426T130000
DTSTART:20260426T130000
DTEND:20260426T151500
SUMMARY:Głębokie uczenie się i efektywność edukacji (W): 21LogzN-NP
CATEGORIES:W
LOCATION:324 A-16
END:VEVENT
BEGIN:VEVENT
UID:UZ_PLZ_20260426_1530_501988
DTSTAMP:20260426T153000
DTSTART:20260426T153000
DTEND:20260426T174500
SUMMARY:Seminarium II (S): 41PPiW-JMN/sem.2\; 42PPiW-JMN/sem.2
CATEGORIES:S
LOCATION:324 A-16
END:VEVENT
BEGIN:VEVENT
UID:UZ_PLZ_20260427_1600_505463
DTSTAMP:20260427T160000
DTSTART:20260427T160000
DTEND:20260427T175000
SUMMARY:Seminarium doktoranckie (S): 11SDNHiS-25/Ped
CATEGORIES:S
END:VEVENT
BEGIN:VEVENT
UID:UZ_PLZ_20260427_1800_505494
DTSTAMP:20260427T180000
DTSTART:20260427T180000
DTEND:20260427T195000
SUMMARY:Seminarium doktoranckie (S): 41SDNHiS-22/Ped
CATEGORIES:S
END:VEVENT
BEGIN:VEVENT
UID:UZ_PLZ_20260430_1315_505466
DTSTAMP:20260430T131500
DTSTART:20260430T131500
DTEND:20260430T153000
SUMMARY:Tendencje rozwojowe w naukach humanistycznych i społecznych (cz. 1) (W): 11SDNHiS-25
CATEGORIES:W
LOCATION:302R A-17
END:VEVENT
BEGIN:VEVENT
UID:UZ_PLZ_20260504_1600_505463
DTSTAMP:20260504T160000
DTSTART:20260504T160000
DTEND:20260504T175000
SUMMARY:Seminarium doktoranckie (S): 11SDNHiS-25/Ped
CATEGORIES:S
END:VEVENT
BEGIN:VEVENT
UID:UZ_PLZ_20260504_1800_505477
DTSTAMP:20260504T180000
DTSTART:20260504T180000
DTEND:20260504T195000
SUMMARY:Seminarium doktoranckie (S): 31SDNHiS-23/Ped
CATEGORIES:S
END:VEVENT
BEGIN:VEVENT
UID:UZ_PLZ_20260506_0800_501443
DTSTAMP:20260506T080000
DTSTART:20260506T080000
DTEND:20260506T093000
SUMMARY:Seminarium magisterskie IV (S): 21PED-POWiP-SD/sem
CATEGORIES:S
LOCATION:334 A-16
END:VEVENT
BEGIN:VEVENT
UID:UZ_PLZ_20260506_0945_501486
DTSTAMP:20260506T094500
DTSTART:20260506T094500
DTEND:20260506T111500
SUMMARY:Seminarium magisterskie II (S): 11PED-POWiP-SD/sem2
CATEGORIES:S
LOCATION:334 A-16
END:VEVENT
BEGIN:VEVENT
UID:UZ_PLZ_20260506_1130_498764
DTSTAMP:20260506T113000
DTSTART:20260506T113000
DTEND:20260506T130000
SUMMARY:Dyżur pracowniczy (I)
CATEGORIES:I
END:VEVENT
BEGIN:VEVENT
UID:UZ_PLZ_20260506_1315_501471
DTSTAMP:20260506T131500
DTSTART:20260506T131500
DTEND:20260506T145000
SUMMARY:Pedagogika porównawcza (Ć): 11PED-LOG-SD
CATEGORIES:Ć
LOCATION:341 A-16
END:VEVENT
BEGIN:VEVENT
UID:UZ_PLZ_20260506_1500_501526
DTSTAMP:20260506T150000
DTSTART:20260506T150000
DTEND:20260506T163500
SUMMARY:Pedagogika porównawcza (Ć): 11PED-POWiP-SD
CATEGORIES:Ć
LOCATION:341 A-16
END:VEVENT
BEGIN:VEVENT
UID:UZ_PLZ_20260507_1315_505466
DTSTAMP:20260507T131500
DTSTART:20260507T131500
DTEND:20260507T144500
SUMMARY:Tendencje rozwojowe w naukach humanistycznych i społecznych (cz. 1) (W): 11SDNHiS-25
CATEGORIES:W
LOCATION:302R A-17
END:VEVENT
BEGIN:VEVENT
UID:UZ_PLZ_20260510_0800_501928
DTSTAMP:20260510T080000
DTSTART:20260510T080000
DTEND:20260510T101500
SUMMARY:Jakość i efektywność procesów edukacyjnych (Ć): 21PED-POWiP-ND
CATEGORIES:Ć
LOCATION:336 A-16
END:VEVENT
BEGIN:VEVENT
UID:UZ_PLZ_20260510_1030_501970
DTSTAMP:20260510T103000
DTSTART:20260510T103000
DTEND:20260510T124500
SUMMARY:Pedagogika porównawcza (Ć): 11PED-POWiP-ND
CATEGORIES:Ć
LOCATION:336 A-16
END:VEVENT
BEGIN:VEVENT
UID:UZ_PLZ_20260510_1300_501979
DTSTAMP:20260510T130000
DTSTART:20260510T130000
DTEND:20260510T151500
SUMMARY:Pedagogika porównawcza (Ć): 42PPiW-JMN
CATEGORIES:Ć
LOCATION:336 A-16
END:VEVENT
BEGIN:VEVENT
UID:UZ_PLZ_20260510_1530_502048
DTSTAMP:20260510T153000
DTSTART:20260510T153000
DTEND:20260510T174500
SUMMARY:Pedagogika porównawcza (Ć): 41PPiW-JMN
CATEGORIES:Ć
LOCATION:336 A-16
END:VEVENT
BEGIN:VEVENT
UID:UZ_PLZ_20260510_1800_501897
DTSTAMP:20260510T180000
DTSTART:20260510T180000
DTEND:20260510T201500
SUMMARY:Głębokie uczenie się i efektywność edukacji (Ć): 21LogzN-NP
CATEGORIES:Ć
LOCATION:336 A-16
END:VEVENT
BEGIN:VEVENT
UID:UZ_PLZ_20260511_1600_505463
DTSTAMP:20260511T160000
DTSTART:20260511T160000
DTEND:20260511T175000
SUMMARY:Seminarium doktoranckie (S): 11SDNHiS-25/Ped
CATEGORIES:S
END:VEVENT
BEGIN:VEVENT
UID:UZ_PLZ_20260511_1800_505494
DTSTAMP:20260511T180000
DTSTART:20260511T180000
DTEND:20260511T195000
SUMMARY:Seminarium doktoranckie (S): 41SDNHiS-22/Ped
CATEGORIES:S
END:VEVENT
BEGIN:VEVENT
UID:UZ_PLZ_20260513_0800_501443
DTSTAMP:20260513T080000
DTSTART:20260513T080000
DTEND:20260513T093000
SUMMARY:Seminarium magisterskie IV (S): 21PED-POWiP-SD/sem
CATEGORIES:S
LOCATION:334 A-16
END:VEVENT
BEGIN:VEVENT
UID:UZ_PLZ_20260513_0945_501486
DTSTAMP:20260513T094500
DTSTART:20260513T094500
DTEND:20260513T111500
SUMMARY:Seminarium magisterskie II (S): 11PED-POWiP-SD/sem2
CATEGORIES:S
LOCATION:334 A-16
END:VEVENT
BEGIN:VEVENT
UID:UZ_PLZ_20260513_1130_498764
DTSTAMP:20260513T113000
DTSTART:20260513T113000
DTEND:20260513T130000
SUMMARY:Dyżur pracowniczy (I)
CATEGORIES:I
END:VEVENT
BEGIN:VEVENT
UID:UZ_PLZ_20260513_1315_501453
DTSTAMP:20260513T131500
DTSTART:20260513T131500
DTEND:20260513T144000
SUMMARY:Pedagogika porównawcza (W): 11PED-LOG-SD\; 11PED-POWiP-SD
CATEGORIES:W
LOCATION:341 A-16
END:VEVENT
BEGIN:VEVENT
UID:UZ_PLZ_20260513_1500_501587
DTSTAMP:20260513T150000
DTSTART:20260513T150000
DTEND:20260513T163500
SUMMARY:Pedagogika porównawcza (W): 41PPiW-JMS
CATEGORIES:W
LOCATION:341 A-16
END:VEVENT
BEGIN:VEVENT
UID:UZ_PLZ_20260513_1640_501586
DTSTAMP:20260513T164000
DTSTART:20260513T164000
DTEND:20260513T181500
SUMMARY:Pedagogika porównawcza (Ć): 41PPiW-JMS
CATEGORIES:Ć
LOCATION:341 A-16
END:VEVENT
BEGIN:VEVENT
UID:UZ_PLZ_20260513_1816_507837
DTSTAMP:20260513T181600
DTSTART:20260513T181600
DTEND:20260513T194500
SUMMARY:Konsultacje (I)
CATEGORIES:I
LOCATION:341 A-16
END:VEVENT
BEGIN:VEVENT
UID:UZ_PLZ_20260517_0800_501988
DTSTAMP:20260517T080000
DTSTART:20260517T080000
DTEND:20260517T101500
SUMMARY:Seminarium II (S): 41PPiW-JMN/sem.2\; 42PPiW-JMN/sem.2
CATEGORIES:S
LOCATION:324 A-16
END:VEVENT
BEGIN:VEVENT
UID:UZ_PLZ_20260518_1600_505463
DTSTAMP:20260518T160000
DTSTART:20260518T160000
DTEND:20260518T175000
SUMMARY:Seminarium doktoranckie (S): 11SDNHiS-25/Ped
CATEGORIES:S
END:VEVENT
BEGIN:VEVENT
UID:UZ_PLZ_20260518_1800_505477
DTSTAMP:20260518T180000
DTSTART:20260518T180000
DTEND:20260518T195000
SUMMARY:Seminarium doktoranckie (S): 31SDNHiS-23/Ped
CATEGORIES:S
END:VEVENT
BEGIN:VEVENT
UID:UZ_PLZ_20260520_0800_501443
DTSTAMP:20260520T080000
DTSTART:20260520T080000
DTEND:20260520T093000
SUMMARY:Seminarium magisterskie IV (S): 21PED-POWiP-SD/sem
CATEGORIES:S
LOCATION:334 A-16
END:VEVENT
BEGIN:VEVENT
UID:UZ_PLZ_20260520_0945_501486
DTSTAMP:20260520T094500
DTSTART:20260520T094500
DTEND:20260520T111500
SUMMARY:Seminarium magisterskie II (S): 11PED-POWiP-SD/sem2
CATEGORIES:S
LOCATION:334 A-16
END:VEVENT
BEGIN:VEVENT
UID:UZ_PLZ_20260520_1130_498764
DTSTAMP:20260520T113000
DTSTART:20260520T113000
DTEND:20260520T130000
SUMMARY:Dyżur pracowniczy (I)
CATEGORIES:I
END:VEVENT
BEGIN:VEVENT
UID:UZ_PLZ_20260520_1315_501471
DTSTAMP:20260520T131500
DTSTART:20260520T131500
DTEND:20260520T145000
SUMMARY:Pedagogika porównawcza (Ć): 11PED-LOG-SD
CATEGORIES:Ć
LOCATION:341 A-16
END:VEVENT
BEGIN:VEVENT
UID:UZ_PLZ_20260520_1500_501526
DTSTAMP:20260520T150000
DTSTART:20260520T150000
DTEND:20260520T163500
SUMMARY:Pedagogika porównawcza (Ć): 11PED-POWiP-SD
CATEGORIES:Ć
LOCATION:341 A-16
END:VEVENT
BEGIN:VEVENT
UID:UZ_PLZ_20260525_1600_505463
DTSTAMP:20260525T160000
DTSTART:20260525T160000
DTEND:20260525T175000
SUMMARY:Seminarium doktoranckie (S): 11SDNHiS-25/Ped
CATEGORIES:S
END:VEVENT
BEGIN:VEVENT
UID:UZ_PLZ_20260525_1800_505494
DTSTAMP:20260525T180000
DTSTART:20260525T180000
DTEND:20260525T195000
SUMMARY:Seminarium doktoranckie (S): 41SDNHiS-22/Ped
CATEGORIES:S
END:VEVENT
BEGIN:VEVENT
UID:UZ_PLZ_20260527_0800_501443
DTSTAMP:20260527T080000
DTSTART:20260527T080000
DTEND:20260527T093000
SUMMARY:Seminarium magisterskie IV (S): 21PED-POWiP-SD/sem
CATEGORIES:S
LOCATION:334 A-16
END:VEVENT
BEGIN:VEVENT
UID:UZ_PLZ_20260527_0945_501486
DTSTAMP:20260527T094500
DTSTART:20260527T094500
DTEND:20260527T111500
SUMMARY:Seminarium magisterskie II (S): 11PED-POWiP-SD/sem2
CATEGORIES:S
LOCATION:334 A-16
END:VEVENT
BEGIN:VEVENT
UID:UZ_PLZ_20260527_1130_498764
DTSTAMP:20260527T113000
DTSTART:20260527T113000
DTEND:20260527T130000
SUMMARY:Dyżur pracowniczy (I)
CATEGORIES:I
END:VEVENT
BEGIN:VEVENT
UID:UZ_PLZ_20260527_1315_501453
DTSTAMP:20260527T131500
DTSTART:20260527T131500
DTEND:20260527T144000
SUMMARY:Pedagogika porównawcza (W): 11PED-LOG-SD\; 11PED-POWiP-SD
CATEGORIES:W
LOCATION:341 A-16
END:VEVENT
BEGIN:VEVENT
UID:UZ_PLZ_20260527_1500_501587
DTSTAMP:20260527T150000
DTSTART:20260527T150000
DTEND:20260527T163500
SUMMARY:Pedagogika porównawcza (W): 41PPiW-JMS
CATEGORIES:W
LOCATION:341 A-16
END:VEVENT
BEGIN:VEVENT
UID:UZ_PLZ_20260527_1640_501586
DTSTAMP:20260527T164000
DTSTART:20260527T164000
DTEND:20260527T181500
SUMMARY:Pedagogika porównawcza (Ć): 41PPiW-JMS
CATEGORIES:Ć
LOCATION:341 A-16
END:VEVENT
BEGIN:VEVENT
UID:UZ_PLZ_20260527_1816_507837
DTSTAMP:20260527T181600
DTSTART:20260527T181600
DTEND:20260527T194500
SUMMARY:Konsultacje (I)
CATEGORIES:I
LOCATION:341 A-16
END:VEVENT
BEGIN:VEVENT
UID:UZ_PLZ_20260531_0800_501970
DTSTAMP:20260531T080000
DTSTART:20260531T080000
DTEND:20260531T101500
SUMMARY:Pedagogika porównawcza (Ć): 11PED-POWiP-ND
CATEGORIES:Ć
LOCATION:341 A-16
END:VEVENT
BEGIN:VEVENT
UID:UZ_PLZ_20260531_1030_501928
DTSTAMP:20260531T103000
DTSTART:20260531T103000
DTEND:20260531T124500
SUMMARY:Jakość i efektywność procesów edukacyjnych (Ć): 21PED-POWiP-ND
CATEGORIES:Ć
LOCATION:341 A-16
END:VEVENT
BEGIN:VEVENT
UID:UZ_PLZ_20260531_1300_501897
DTSTAMP:20260531T130000
DTSTART:20260531T130000
DTEND:20260531T151500
SUMMARY:Głębokie uczenie się i efektywność edukacji (Ć): 21LogzN-NP
CATEGORIES:Ć
LOCATION:341 A-16
END:VEVENT
BEGIN:VEVENT
UID:UZ_PLZ_20260601_1600_505463
DTSTAMP:20260601T160000
DTSTART:20260601T160000
DTEND:20260601T175000
SUMMARY:Seminarium doktoranckie (S): 11SDNHiS-25/Ped
CATEGORIES:S
END:VEVENT
BEGIN:VEVENT
UID:UZ_PLZ_20260601_1800_505477
DTSTAMP:20260601T180000
DTSTART:20260601T180000
DTEND:20260601T195000
SUMMARY:Seminarium doktoranckie (S): 31SDNHiS-23/Ped
CATEGORIES:S
END:VEVENT
BEGIN:VEVENT
UID:UZ_PLZ_20260603_0800_501443
DTSTAMP:20260603T080000
DTSTART:20260603T080000
DTEND:20260603T093000
SUMMARY:Seminarium magisterskie IV (S): 21PED-POWiP-SD/sem
CATEGORIES:S
LOCATION:334 A-16
END:VEVENT
BEGIN:VEVENT
UID:UZ_PLZ_20260603_0945_501486
DTSTAMP:20260603T094500
DTSTART:20260603T094500
DTEND:20260603T111500
SUMMARY:Seminarium magisterskie II (S): 11PED-POWiP-SD/sem2
CATEGORIES:S
LOCATION:334 A-16
END:VEVENT
BEGIN:VEVENT
UID:UZ_PLZ_20260603_1130_498764
DTSTAMP:20260603T113000
DTSTART:20260603T113000
DTEND:20260603T130000
SUMMARY:Dyżur pracowniczy (I)
CATEGORIES:I
END:VEVENT
BEGIN:VEVENT
UID:UZ_PLZ_20260603_1315_501471
DTSTAMP:20260603T131500
DTSTART:20260603T131500
DTEND:20260603T145000
SUMMARY:Pedagogika porównawcza (Ć): 11PED-LOG-SD
CATEGORIES:Ć
LOCATION:341 A-16
END:VEVENT
BEGIN:VEVENT
UID:UZ_PLZ_20260603_1500_501526
DTSTAMP:20260603T150000
DTSTART:20260603T150000
DTEND:20260603T163500
SUMMARY:Pedagogika porównawcza (Ć): 11PED-POWiP-SD
CATEGORIES:Ć
LOCATION:341 A-16
END:VEVENT
BEGIN:VEVENT
UID:UZ_PLZ_20260608_1600_505463
DTSTAMP:20260608T160000
DTSTART:20260608T160000
DTEND:20260608T175000
SUMMARY:Seminarium doktoranckie (S): 11SDNHiS-25/Ped
CATEGORIES:S
END:VEVENT
BEGIN:VEVENT
UID:UZ_PLZ_20260608_1800_505494
DTSTAMP:20260608T180000
DTSTART:20260608T180000
DTEND:20260608T195000
SUMMARY:Seminarium doktoranckie (S): 41SDNHiS-22/Ped
CATEGORIES:S
END:VEVENT
BEGIN:VEVENT
UID:UZ_PLZ_20260610_0800_501443
DTSTAMP:20260610T080000
DTSTART:20260610T080000
DTEND:20260610T093000
SUMMARY:Seminarium magisterskie IV (S): 21PED-POWiP-SD/sem
CATEGORIES:S
LOCATION:334 A-16
END:VEVENT
BEGIN:VEVENT
UID:UZ_PLZ_20260610_0945_501486
DTSTAMP:20260610T094500
DTSTART:20260610T094500
DTEND:20260610T111500
SUMMARY:Seminarium magisterskie II (S): 11PED-POWiP-SD/sem2
CATEGORIES:S
LOCATION:334 A-16
END:VEVENT
BEGIN:VEVENT
UID:UZ_PLZ_20260610_1130_498764
DTSTAMP:20260610T113000
DTSTART:20260610T113000
DTEND:20260610T130000
SUMMARY:Dyżur pracowniczy (I)
CATEGORIES:I
END:VEVENT
BEGIN:VEVENT
UID:UZ_PLZ_20260610_1315_501453
DTSTAMP:20260610T131500
DTSTART:20260610T131500
DTEND:20260610T144000
SUMMARY:Pedagogika porównawcza (W): 11PED-LOG-SD\; 11PED-POWiP-SD
CATEGORIES:W
LOCATION:341 A-16
END:VEVENT
BEGIN:VEVENT
UID:UZ_PLZ_20260610_1500_501587
DTSTAMP:20260610T150000
DTSTART:20260610T150000
DTEND:20260610T163500
SUMMARY:Pedagogika porównawcza (W): 41PPiW-JMS
CATEGORIES:W
LOCATION:341 A-16
END:VEVENT
BEGIN:VEVENT
UID:UZ_PLZ_20260610_1640_501586
DTSTAMP:20260610T164000
DTSTART:20260610T164000
DTEND:20260610T181500
SUMMARY:Pedagogika porównawcza (Ć): 41PPiW-JMS
CATEGORIES:Ć
LOCATION:341 A-16
END:VEVENT
BEGIN:VEVENT
UID:UZ_PLZ_20260610_1816_507837
DTSTAMP:20260610T181600
DTSTART:20260610T181600
DTEND:20260610T194500
SUMMARY:Konsultacje (I)
CATEGORIES:I
LOCATION:341 A-16
END:VEVENT
BEGIN:VEVENT
UID:UZ_PLZ_20260615_1600_505463
DTSTAMP:20260615T160000
DTSTART:20260615T160000
DTEND:20260615T175000
SUMMARY:Seminarium doktoranckie (S): 11SDNHiS-25/Ped
CATEGORIES:S
END:VEVENT
BEGIN:VEVENT
UID:UZ_PLZ_20260615_1800_505477
DTSTAMP:20260615T180000
DTSTART:20260615T180000
DTEND:20260615T195000
SUMMARY:Seminarium doktoranckie (S): 31SDNHiS-23/Ped
CATEGORIES:S
END:VEVENT
BEGIN:VEVENT
UID:UZ_PLZ_20260617_0800_501443
DTSTAMP:20260617T080000
DTSTART:20260617T080000
DTEND:20260617T093000
SUMMARY:Seminarium magisterskie IV (S): 21PED-POWiP-SD/sem
CATEGORIES:S
LOCATION:334 A-16
END:VEVENT
BEGIN:VEVENT
UID:UZ_PLZ_20260617_0945_501486
DTSTAMP:20260617T094500
DTSTART:20260617T094500
DTEND:20260617T111500
SUMMARY:Seminarium magisterskie II (S): 11PED-POWiP-SD/sem2
CATEGORIES:S
LOCATION:334 A-16
END:VEVENT
BEGIN:VEVENT
UID:UZ_PLZ_20260617_1130_498764
DTSTAMP:20260617T113000
DTSTART:20260617T113000
DTEND:20260617T130000
SUMMARY:Dyżur pracowniczy (I)
CATEGORIES:I
END:VEVENT
BEGIN:VEVENT
UID:UZ_PLZ_20260617_1315_501453
DTSTAMP:20260617T131500
DTSTART:20260617T131500
DTEND:20260617T144000
SUMMARY:Pedagogika porównawcza (W): 11PED-LOG-SD\; 11PED-POWiP-SD
CATEGORIES:W
LOCATION:341 A-16
END:VEVENT
BEGIN:VEVENT
UID:UZ_PLZ_20260617_1500_501587
DTSTAMP:20260617T150000
DTSTART:20260617T150000
DTEND:20260617T163500
SUMMARY:Pedagogika porównawcza (W): 41PPiW-JMS
CATEGORIES:W
LOCATION:341 A-16
END:VEVENT
BEGIN:VEVENT
UID:UZ_PLZ_20260617_1640_501586
DTSTAMP:20260617T164000
DTSTART:20260617T164000
DTEND:20260617T181500
SUMMARY:Pedagogika porównawcza (Ć): 41PPiW-JMS
CATEGORIES:Ć
LOCATION:341 A-16
END:VEVENT
BEGIN:VEVENT
UID:UZ_PLZ_20260617_1816_507837
DTSTAMP:20260617T181600
DTSTART:20260617T181600
DTEND:20260617T194500
SUMMARY:Konsultacje (I)
CATEGORIES:I
LOCATION:341 A-16
END:VEVENT
END:VCALENDAR
