BEGIN:VCALENDAR
TZID:Europe/Warsaw
X-WR-TIMEZONE:Europe/Warsaw
VERSION:2.0
PRODID:-//Uniwersytet Zielonogórski//NONSGML Plan zajęć v1.0//EN
NAME:Plan zajęć - semestr zimowy 2025/2026
X-WR-CALNAME:Plan zajęć - semestr zimowy 2025/2026
COLOR:green
CALSCALE:GREGORIAN
BEGIN:VEVENT
UID:UZ_PLZ_20251001_0950_488695
DTSTAMP:20251001T095000
DTSTART:20251001T095000
DTEND:20251001T111500
SUMMARY:Społeczne aspekty reklamy (W): 2 PS SD 24/25
CATEGORIES:W
LOCATION:36 A-16
END:VEVENT
BEGIN:VEVENT
UID:UZ_PLZ_20251002_1400_492942
DTSTAMP:20251002T140000
DTSTART:20251002T140000
DTEND:20251002T150000
SUMMARY:Spotkanie adaptacyjne RISG (I)
CATEGORIES:I
END:VEVENT
BEGIN:VEVENT
UID:UZ_PLZ_20251006_1315_488707
DTSTAMP:20251006T131500
DTSTART:20251006T131500
DTEND:20251006T144000
SUMMARY:Wprowadzenie do socjologii kultury (W): 2 SOC-SP 24/25
CATEGORIES:W
LOCATION:31 A-16
END:VEVENT
BEGIN:VEVENT
UID:UZ_PLZ_20251007_1130_488752
DTSTAMP:20251007T113000
DTSTART:20251007T113000
DTEND:20251007T130000
SUMMARY:Dyżur pracowniczy (I)
CATEGORIES:I
END:VEVENT
BEGIN:VEVENT
UID:UZ_PLZ_20251007_1130_488751
DTSTAMP:20251007T113000
DTSTART:20251007T113000
DTEND:20251007T130000
SUMMARY:Rada Dyscypliny (I)
CATEGORIES:I
LOCATION:302R A-17
END:VEVENT
BEGIN:VEVENT
UID:UZ_PLZ_20251007_1500_488735
DTSTAMP:20251007T150000
DTSTART:20251007T150000
DTEND:20251007T163000
SUMMARY:Społeczne aspekty reklamy (Ć): 2 SOC SD 24/25
CATEGORIES:Ć
LOCATION:P2 A-16
END:VEVENT
BEGIN:VEVENT
UID:UZ_PLZ_20251008_0950_488695
DTSTAMP:20251008T095000
DTSTART:20251008T095000
DTEND:20251008T111500
SUMMARY:Społeczne aspekty reklamy (W): 2 PS SD 24/25
CATEGORIES:W
LOCATION:36 A-16
END:VEVENT
BEGIN:VEVENT
UID:UZ_PLZ_20251013_1315_488707
DTSTAMP:20251013T131500
DTSTART:20251013T131500
DTEND:20251013T144000
SUMMARY:Wprowadzenie do socjologii kultury (W): 2 SOC-SP 24/25
CATEGORIES:W
LOCATION:31 A-16
END:VEVENT
BEGIN:VEVENT
UID:UZ_PLZ_20251013_1500_492588
DTSTAMP:20251013T150000
DTSTART:20251013T150000
DTEND:20251013T163000
SUMMARY:Metodologia badań naukowych (W): 11SDNHiS-25/Socj
CATEGORIES:W
END:VEVENT
BEGIN:VEVENT
UID:UZ_PLZ_20251013_1500_493478
DTSTAMP:20251013T150000
DTSTART:20251013T150000
DTEND:20251013T163000
SUMMARY:Rezerwacja (I)
CATEGORIES:I
LOCATION:201R A-17
END:VEVENT
BEGIN:VEVENT
UID:UZ_PLZ_20251014_1130_488752
DTSTAMP:20251014T113000
DTSTART:20251014T113000
DTEND:20251014T130000
SUMMARY:Dyżur pracowniczy (I)
CATEGORIES:I
END:VEVENT
BEGIN:VEVENT
UID:UZ_PLZ_20251014_1500_488735
DTSTAMP:20251014T150000
DTSTART:20251014T150000
DTEND:20251014T163000
SUMMARY:Społeczne aspekty reklamy (Ć): 2 SOC SD 24/25
CATEGORIES:Ć
LOCATION:P2 A-16
END:VEVENT
BEGIN:VEVENT
UID:UZ_PLZ_20251015_0950_488695
DTSTAMP:20251015T095000
DTSTART:20251015T095000
DTEND:20251015T111500
SUMMARY:Społeczne aspekty reklamy (W): 2 PS SD 24/25
CATEGORIES:W
LOCATION:36 A-16
END:VEVENT
BEGIN:VEVENT
UID:UZ_PLZ_20251020_1315_488707
DTSTAMP:20251020T131500
DTSTART:20251020T131500
DTEND:20251020T144000
SUMMARY:Wprowadzenie do socjologii kultury (W): 2 SOC-SP 24/25
CATEGORIES:W
LOCATION:31 A-16
END:VEVENT
BEGIN:VEVENT
UID:UZ_PLZ_20251021_1130_488752
DTSTAMP:20251021T113000
DTSTART:20251021T113000
DTEND:20251021T130000
SUMMARY:Dyżur pracowniczy (I)
CATEGORIES:I
END:VEVENT
BEGIN:VEVENT
UID:UZ_PLZ_20251021_1315_493638
DTSTAMP:20251021T131500
DTSTART:20251021T131500
DTEND:20251021T144500
SUMMARY:Konsultacje dla studentów (I)
CATEGORIES:I
LOCATION:204R A-17
END:VEVENT
BEGIN:VEVENT
UID:UZ_PLZ_20251021_1500_488735
DTSTAMP:20251021T150000
DTSTART:20251021T150000
DTEND:20251021T163000
SUMMARY:Społeczne aspekty reklamy (Ć): 2 SOC SD 24/25
CATEGORIES:Ć
LOCATION:P2 A-16
END:VEVENT
BEGIN:VEVENT
UID:UZ_PLZ_20251022_0950_488695
DTSTAMP:20251022T095000
DTSTART:20251022T095000
DTEND:20251022T111500
SUMMARY:Społeczne aspekty reklamy (W): 2 PS SD 24/25
CATEGORIES:W
LOCATION:36 A-16
END:VEVENT
BEGIN:VEVENT
UID:UZ_PLZ_20251027_1315_488707
DTSTAMP:20251027T131500
DTSTART:20251027T131500
DTEND:20251027T144000
SUMMARY:Wprowadzenie do socjologii kultury (W): 2 SOC-SP 24/25
CATEGORIES:W
LOCATION:31 A-16
END:VEVENT
BEGIN:VEVENT
UID:UZ_PLZ_20251027_1500_492588
DTSTAMP:20251027T150000
DTSTART:20251027T150000
DTEND:20251027T163000
SUMMARY:Metodologia badań naukowych (W): 11SDNHiS-25/Socj
CATEGORIES:W
END:VEVENT
BEGIN:VEVENT
UID:UZ_PLZ_20251027_1500_493478
DTSTAMP:20251027T150000
DTSTART:20251027T150000
DTEND:20251027T163000
SUMMARY:Rezerwacja (I)
CATEGORIES:I
LOCATION:201R A-17
END:VEVENT
BEGIN:VEVENT
UID:UZ_PLZ_20251028_1130_488752
DTSTAMP:20251028T113000
DTSTART:20251028T113000
DTEND:20251028T130000
SUMMARY:Dyżur pracowniczy (I)
CATEGORIES:I
END:VEVENT
BEGIN:VEVENT
UID:UZ_PLZ_20251028_1315_493638
DTSTAMP:20251028T131500
DTSTART:20251028T131500
DTEND:20251028T144500
SUMMARY:Konsultacje dla studentów (I)
CATEGORIES:I
LOCATION:204R A-17
END:VEVENT
BEGIN:VEVENT
UID:UZ_PLZ_20251028_1500_488735
DTSTAMP:20251028T150000
DTSTART:20251028T150000
DTEND:20251028T163000
SUMMARY:Społeczne aspekty reklamy (Ć): 2 SOC SD 24/25
CATEGORIES:Ć
LOCATION:P2 A-16
END:VEVENT
BEGIN:VEVENT
UID:UZ_PLZ_20251029_0950_488695
DTSTAMP:20251029T095000
DTSTART:20251029T095000
DTEND:20251029T111500
SUMMARY:Społeczne aspekty reklamy (W): 2 PS SD 24/25
CATEGORIES:W
LOCATION:36 A-16
END:VEVENT
BEGIN:VEVENT
UID:UZ_PLZ_20251103_1315_488707
DTSTAMP:20251103T131500
DTSTART:20251103T131500
DTEND:20251103T144000
SUMMARY:Wprowadzenie do socjologii kultury (W): 2 SOC-SP 24/25
CATEGORIES:W
LOCATION:31 A-16
END:VEVENT
BEGIN:VEVENT
UID:UZ_PLZ_20251104_1130_488752
DTSTAMP:20251104T113000
DTSTART:20251104T113000
DTEND:20251104T130000
SUMMARY:Dyżur pracowniczy (I)
CATEGORIES:I
END:VEVENT
BEGIN:VEVENT
UID:UZ_PLZ_20251104_1130_488751
DTSTAMP:20251104T113000
DTSTART:20251104T113000
DTEND:20251104T130000
SUMMARY:Rada Dyscypliny (I)
CATEGORIES:I
LOCATION:302R A-17
END:VEVENT
BEGIN:VEVENT
UID:UZ_PLZ_20251104_1315_493638
DTSTAMP:20251104T131500
DTSTART:20251104T131500
DTEND:20251104T144500
SUMMARY:Konsultacje dla studentów (I)
CATEGORIES:I
LOCATION:204R A-17
END:VEVENT
BEGIN:VEVENT
UID:UZ_PLZ_20251104_1500_488735
DTSTAMP:20251104T150000
DTSTART:20251104T150000
DTEND:20251104T163000
SUMMARY:Społeczne aspekty reklamy (Ć): 2 SOC SD 24/25
CATEGORIES:Ć
LOCATION:P2 A-16
END:VEVENT
BEGIN:VEVENT
UID:UZ_PLZ_20251105_0950_488695
DTSTAMP:20251105T095000
DTSTART:20251105T095000
DTEND:20251105T111500
SUMMARY:Społeczne aspekty reklamy (W): 2 PS SD 24/25
CATEGORIES:W
LOCATION:36 A-16
END:VEVENT
BEGIN:VEVENT
UID:UZ_PLZ_20251112_0950_488695
DTSTAMP:20251112T095000
DTSTART:20251112T095000
DTEND:20251112T111500
SUMMARY:Społeczne aspekty reklamy (W): 2 PS SD 24/25
CATEGORIES:W
LOCATION:36 A-16
END:VEVENT
BEGIN:VEVENT
UID:UZ_PLZ_20251113_1315_488707
DTSTAMP:20251113T131500
DTSTART:20251113T131500
DTEND:20251113T144000
SUMMARY:Wprowadzenie do socjologii kultury (W): 2 SOC-SP 24/25
CATEGORIES:W
LOCATION:31 A-16
END:VEVENT
BEGIN:VEVENT
UID:UZ_PLZ_20251113_1500_492588
DTSTAMP:20251113T150000
DTSTART:20251113T150000
DTEND:20251113T163000
SUMMARY:Metodologia badań naukowych (W): 11SDNHiS-25/Socj
CATEGORIES:W
END:VEVENT
BEGIN:VEVENT
UID:UZ_PLZ_20251113_1500_493478
DTSTAMP:20251113T150000
DTSTART:20251113T150000
DTEND:20251113T163000
SUMMARY:Rezerwacja (I)
CATEGORIES:I
LOCATION:201R A-17
END:VEVENT
BEGIN:VEVENT
UID:UZ_PLZ_20251114_1130_488752
DTSTAMP:20251114T113000
DTSTART:20251114T113000
DTEND:20251114T130000
SUMMARY:Dyżur pracowniczy (I)
CATEGORIES:I
END:VEVENT
BEGIN:VEVENT
UID:UZ_PLZ_20251114_1315_493638
DTSTAMP:20251114T131500
DTSTART:20251114T131500
DTEND:20251114T144500
SUMMARY:Konsultacje dla studentów (I)
CATEGORIES:I
LOCATION:204R A-17
END:VEVENT
BEGIN:VEVENT
UID:UZ_PLZ_20251114_1500_488735
DTSTAMP:20251114T150000
DTSTART:20251114T150000
DTEND:20251114T163000
SUMMARY:Społeczne aspekty reklamy (Ć): 2 SOC SD 24/25
CATEGORIES:Ć
LOCATION:P2 A-16
END:VEVENT
BEGIN:VEVENT
UID:UZ_PLZ_20251117_1315_488707
DTSTAMP:20251117T131500
DTSTART:20251117T131500
DTEND:20251117T144000
SUMMARY:Wprowadzenie do socjologii kultury (W): 2 SOC-SP 24/25
CATEGORIES:W
LOCATION:31 A-16
END:VEVENT
BEGIN:VEVENT
UID:UZ_PLZ_20251118_1130_488752
DTSTAMP:20251118T113000
DTSTART:20251118T113000
DTEND:20251118T130000
SUMMARY:Dyżur pracowniczy (I)
CATEGORIES:I
END:VEVENT
BEGIN:VEVENT
UID:UZ_PLZ_20251118_1315_493638
DTSTAMP:20251118T131500
DTSTART:20251118T131500
DTEND:20251118T144500
SUMMARY:Konsultacje dla studentów (I)
CATEGORIES:I
LOCATION:204R A-17
END:VEVENT
BEGIN:VEVENT
UID:UZ_PLZ_20251118_1500_488735
DTSTAMP:20251118T150000
DTSTART:20251118T150000
DTEND:20251118T163000
SUMMARY:Społeczne aspekty reklamy (Ć): 2 SOC SD 24/25
CATEGORIES:Ć
LOCATION:P2 A-16
END:VEVENT
BEGIN:VEVENT
UID:UZ_PLZ_20251119_0950_488695
DTSTAMP:20251119T095000
DTSTART:20251119T095000
DTEND:20251119T111500
SUMMARY:Społeczne aspekty reklamy (W): 2 PS SD 24/25
CATEGORIES:W
LOCATION:36 A-16
END:VEVENT
BEGIN:VEVENT
UID:UZ_PLZ_20251124_1315_488660
DTSTAMP:20251124T131500
DTSTART:20251124T131500
DTEND:20251124T145000
SUMMARY:Wprowadzenie do socjologii kultury (Ć): 2 SOC-SP 24/25
CATEGORIES:Ć
LOCATION:31 A-16
END:VEVENT
BEGIN:VEVENT
UID:UZ_PLZ_20251124_1500_492588
DTSTAMP:20251124T150000
DTSTART:20251124T150000
DTEND:20251124T163000
SUMMARY:Metodologia badań naukowych (W): 11SDNHiS-25/Socj
CATEGORIES:W
END:VEVENT
BEGIN:VEVENT
UID:UZ_PLZ_20251124_1500_493478
DTSTAMP:20251124T150000
DTSTART:20251124T150000
DTEND:20251124T163000
SUMMARY:Rezerwacja (I)
CATEGORIES:I
LOCATION:201R A-17
END:VEVENT
BEGIN:VEVENT
UID:UZ_PLZ_20251125_1130_488752
DTSTAMP:20251125T113000
DTSTART:20251125T113000
DTEND:20251125T130000
SUMMARY:Dyżur pracowniczy (I)
CATEGORIES:I
END:VEVENT
BEGIN:VEVENT
UID:UZ_PLZ_20251125_1315_493638
DTSTAMP:20251125T131500
DTSTART:20251125T131500
DTEND:20251125T144500
SUMMARY:Konsultacje dla studentów (I)
CATEGORIES:I
LOCATION:204R A-17
END:VEVENT
BEGIN:VEVENT
UID:UZ_PLZ_20251126_0940_488734
DTSTAMP:20251126T094000
DTSTART:20251126T094000
DTEND:20251126T111500
SUMMARY:Społeczne aspekty reklamy (Ć): 2 PS SD 24/25
CATEGORIES:Ć
LOCATION:36 A-16
END:VEVENT
BEGIN:VEVENT
UID:UZ_PLZ_20251201_1315_488660
DTSTAMP:20251201T131500
DTSTART:20251201T131500
DTEND:20251201T145000
SUMMARY:Wprowadzenie do socjologii kultury (Ć): 2 SOC-SP 24/25
CATEGORIES:Ć
LOCATION:31 A-16
END:VEVENT
BEGIN:VEVENT
UID:UZ_PLZ_20251202_1130_488752
DTSTAMP:20251202T113000
DTSTART:20251202T113000
DTEND:20251202T130000
SUMMARY:Dyżur pracowniczy (I)
CATEGORIES:I
END:VEVENT
BEGIN:VEVENT
UID:UZ_PLZ_20251202_1315_493638
DTSTAMP:20251202T131500
DTSTART:20251202T131500
DTEND:20251202T144500
SUMMARY:Konsultacje dla studentów (I)
CATEGORIES:I
LOCATION:204R A-17
END:VEVENT
BEGIN:VEVENT
UID:UZ_PLZ_20251203_0940_488734
DTSTAMP:20251203T094000
DTSTART:20251203T094000
DTEND:20251203T111500
SUMMARY:Społeczne aspekty reklamy (Ć): 2 PS SD 24/25
CATEGORIES:Ć
LOCATION:36 A-16
END:VEVENT
BEGIN:VEVENT
UID:UZ_PLZ_20251208_1315_488660
DTSTAMP:20251208T131500
DTSTART:20251208T131500
DTEND:20251208T145000
SUMMARY:Wprowadzenie do socjologii kultury (Ć): 2 SOC-SP 24/25
CATEGORIES:Ć
LOCATION:31 A-16
END:VEVENT
BEGIN:VEVENT
UID:UZ_PLZ_20251208_1500_492588
DTSTAMP:20251208T150000
DTSTART:20251208T150000
DTEND:20251208T163000
SUMMARY:Metodologia badań naukowych (W): 11SDNHiS-25/Socj
CATEGORIES:W
END:VEVENT
BEGIN:VEVENT
UID:UZ_PLZ_20251208_1500_493478
DTSTAMP:20251208T150000
DTSTART:20251208T150000
DTEND:20251208T163000
SUMMARY:Rezerwacja (I)
CATEGORIES:I
LOCATION:201R A-17
END:VEVENT
BEGIN:VEVENT
UID:UZ_PLZ_20251209_1130_488752
DTSTAMP:20251209T113000
DTSTART:20251209T113000
DTEND:20251209T130000
SUMMARY:Dyżur pracowniczy (I)
CATEGORIES:I
END:VEVENT
BEGIN:VEVENT
UID:UZ_PLZ_20251209_1130_488751
DTSTAMP:20251209T113000
DTSTART:20251209T113000
DTEND:20251209T130000
SUMMARY:Rada Dyscypliny (I)
CATEGORIES:I
LOCATION:302R A-17
END:VEVENT
BEGIN:VEVENT
UID:UZ_PLZ_20251209_1315_493638
DTSTAMP:20251209T131500
DTSTART:20251209T131500
DTEND:20251209T144500
SUMMARY:Konsultacje dla studentów (I)
CATEGORIES:I
LOCATION:204R A-17
END:VEVENT
BEGIN:VEVENT
UID:UZ_PLZ_20251210_0940_488734
DTSTAMP:20251210T094000
DTSTART:20251210T094000
DTEND:20251210T111500
SUMMARY:Społeczne aspekty reklamy (Ć): 2 PS SD 24/25
CATEGORIES:Ć
LOCATION:36 A-16
END:VEVENT
BEGIN:VEVENT
UID:UZ_PLZ_20251215_1315_488660
DTSTAMP:20251215T131500
DTSTART:20251215T131500
DTEND:20251215T145000
SUMMARY:Wprowadzenie do socjologii kultury (Ć): 2 SOC-SP 24/25
CATEGORIES:Ć
LOCATION:31 A-16
END:VEVENT
BEGIN:VEVENT
UID:UZ_PLZ_20251216_1130_488752
DTSTAMP:20251216T113000
DTSTART:20251216T113000
DTEND:20251216T130000
SUMMARY:Dyżur pracowniczy (I)
CATEGORIES:I
END:VEVENT
BEGIN:VEVENT
UID:UZ_PLZ_20251216_1315_493638
DTSTAMP:20251216T131500
DTSTART:20251216T131500
DTEND:20251216T144500
SUMMARY:Konsultacje dla studentów (I)
CATEGORIES:I
LOCATION:204R A-17
END:VEVENT
BEGIN:VEVENT
UID:UZ_PLZ_20251217_0940_488734
DTSTAMP:20251217T094000
DTSTART:20251217T094000
DTEND:20251217T111500
SUMMARY:Społeczne aspekty reklamy (Ć): 2 PS SD 24/25
CATEGORIES:Ć
LOCATION:36 A-16
END:VEVENT
BEGIN:VEVENT
UID:UZ_PLZ_20260107_1130_488752
DTSTAMP:20260107T113000
DTSTART:20260107T113000
DTEND:20260107T130000
SUMMARY:Dyżur pracowniczy (I)
CATEGORIES:I
END:VEVENT
BEGIN:VEVENT
UID:UZ_PLZ_20260107_1315_493638
DTSTAMP:20260107T131500
DTSTART:20260107T131500
DTEND:20260107T144500
SUMMARY:Konsultacje dla studentów (I)
CATEGORIES:I
LOCATION:204R A-17
END:VEVENT
BEGIN:VEVENT
UID:UZ_PLZ_20260112_1315_488660
DTSTAMP:20260112T131500
DTSTART:20260112T131500
DTEND:20260112T145000
SUMMARY:Wprowadzenie do socjologii kultury (Ć): 2 SOC-SP 24/25
CATEGORIES:Ć
LOCATION:31 A-16
END:VEVENT
BEGIN:VEVENT
UID:UZ_PLZ_20260113_1130_488752
DTSTAMP:20260113T113000
DTSTART:20260113T113000
DTEND:20260113T130000
SUMMARY:Dyżur pracowniczy (I)
CATEGORIES:I
END:VEVENT
BEGIN:VEVENT
UID:UZ_PLZ_20260113_1130_488751
DTSTAMP:20260113T113000
DTSTART:20260113T113000
DTEND:20260113T130000
SUMMARY:Rada Dyscypliny (I)
CATEGORIES:I
LOCATION:302R A-17
END:VEVENT
BEGIN:VEVENT
UID:UZ_PLZ_20260113_1315_493638
DTSTAMP:20260113T131500
DTSTART:20260113T131500
DTEND:20260113T144500
SUMMARY:Konsultacje dla studentów (I)
CATEGORIES:I
LOCATION:204R A-17
END:VEVENT
BEGIN:VEVENT
UID:UZ_PLZ_20260114_0940_488734
DTSTAMP:20260114T094000
DTSTART:20260114T094000
DTEND:20260114T111500
SUMMARY:Społeczne aspekty reklamy (Ć): 2 PS SD 24/25
CATEGORIES:Ć
LOCATION:36 A-16
END:VEVENT
BEGIN:VEVENT
UID:UZ_PLZ_20260119_1315_488660
DTSTAMP:20260119T131500
DTSTART:20260119T131500
DTEND:20260119T145000
SUMMARY:Wprowadzenie do socjologii kultury (Ć): 2 SOC-SP 24/25
CATEGORIES:Ć
LOCATION:31 A-16
END:VEVENT
BEGIN:VEVENT
UID:UZ_PLZ_20260119_1500_492588
DTSTAMP:20260119T150000
DTSTART:20260119T150000
DTEND:20260119T163000
SUMMARY:Metodologia badań naukowych (W): 11SDNHiS-25/Socj
CATEGORIES:W
END:VEVENT
BEGIN:VEVENT
UID:UZ_PLZ_20260119_1500_493478
DTSTAMP:20260119T150000
DTSTART:20260119T150000
DTEND:20260119T163000
SUMMARY:Rezerwacja (I)
CATEGORIES:I
LOCATION:201R A-17
END:VEVENT
BEGIN:VEVENT
UID:UZ_PLZ_20260120_1130_488752
DTSTAMP:20260120T113000
DTSTART:20260120T113000
DTEND:20260120T130000
SUMMARY:Dyżur pracowniczy (I)
CATEGORIES:I
END:VEVENT
BEGIN:VEVENT
UID:UZ_PLZ_20260120_1315_493638
DTSTAMP:20260120T131500
DTSTART:20260120T131500
DTEND:20260120T144500
SUMMARY:Konsultacje dla studentów (I)
CATEGORIES:I
LOCATION:204R A-17
END:VEVENT
BEGIN:VEVENT
UID:UZ_PLZ_20260121_0940_488734
DTSTAMP:20260121T094000
DTSTART:20260121T094000
DTEND:20260121T111500
SUMMARY:Społeczne aspekty reklamy (Ć): 2 PS SD 24/25
CATEGORIES:Ć
LOCATION:36 A-16
END:VEVENT
BEGIN:VEVENT
UID:UZ_PLZ_20260126_1315_488707
DTSTAMP:20260126T131500
DTSTART:20260126T131500
DTEND:20260126T144000
SUMMARY:Wprowadzenie do socjologii kultury (W): 2 SOC-SP 24/25
CATEGORIES:W
LOCATION:31 A-16
END:VEVENT
BEGIN:VEVENT
UID:UZ_PLZ_20260126_1500_492588
DTSTAMP:20260126T150000
DTSTART:20260126T150000
DTEND:20260126T163000
SUMMARY:Metodologia badań naukowych (W): 11SDNHiS-25/Socj
CATEGORIES:W
END:VEVENT
BEGIN:VEVENT
UID:UZ_PLZ_20260126_1500_493478
DTSTAMP:20260126T150000
DTSTART:20260126T150000
DTEND:20260126T163000
SUMMARY:Rezerwacja (I)
CATEGORIES:I
LOCATION:201R A-17
END:VEVENT
BEGIN:VEVENT
UID:UZ_PLZ_20260127_1130_488752
DTSTAMP:20260127T113000
DTSTART:20260127T113000
DTEND:20260127T130000
SUMMARY:Dyżur pracowniczy (I)
CATEGORIES:I
END:VEVENT
BEGIN:VEVENT
UID:UZ_PLZ_20260127_1315_493638
DTSTAMP:20260127T131500
DTSTART:20260127T131500
DTEND:20260127T144500
SUMMARY:Konsultacje dla studentów (I)
CATEGORIES:I
LOCATION:204R A-17
END:VEVENT
BEGIN:VEVENT
UID:UZ_PLZ_20260127_1500_488735
DTSTAMP:20260127T150000
DTSTART:20260127T150000
DTEND:20260127T163000
SUMMARY:Społeczne aspekty reklamy (Ć): 2 SOC SD 24/25
CATEGORIES:Ć
LOCATION:P2 A-16
END:VEVENT
BEGIN:VEVENT
UID:UZ_PLZ_20260128_0940_488734
DTSTAMP:20260128T094000
DTSTART:20260128T094000
DTEND:20260128T111500
SUMMARY:Społeczne aspekty reklamy (Ć): 2 PS SD 24/25
CATEGORIES:Ć
LOCATION:36 A-16
END:VEVENT
BEGIN:VEVENT
UID:UZ_PLZ_20260202_1315_488660
DTSTAMP:20260202T131500
DTSTART:20260202T131500
DTEND:20260202T145000
SUMMARY:Wprowadzenie do socjologii kultury (Ć): 2 SOC-SP 24/25
CATEGORIES:Ć
LOCATION:31 A-16
END:VEVENT
BEGIN:VEVENT
UID:UZ_PLZ_20260202_1500_492588
DTSTAMP:20260202T150000
DTSTART:20260202T150000
DTEND:20260202T154500
SUMMARY:Metodologia badań naukowych (W): 11SDNHiS-25/Socj
CATEGORIES:W
END:VEVENT
END:VCALENDAR
