BEGIN:VCALENDAR
TZID:Europe/Warsaw
X-WR-TIMEZONE:Europe/Warsaw
VERSION:2.0
PRODID:-//Uniwersytet Zielonogórski//NONSGML Plan zajęć v1.0//EN
NAME:Plan zajęć - semestr letni 2025/2026
X-WR-CALNAME:Plan zajęć - semestr letni 2025/2026
COLOR:green
CALSCALE:GREGORIAN
BEGIN:VEVENT
UID:UZ_PLZ_20260302_1130_507086
DTSTAMP:20260302T113000
DTSTART:20260302T113000
DTEND:20260302T130000
SUMMARY:Konsultacje (I)
CATEGORIES:I
LOCATION:204R A-17
END:VEVENT
BEGIN:VEVENT
UID:UZ_PLZ_20260303_0945_502292
DTSTAMP:20260303T094500
DTSTART:20260303T094500
DTEND:20260303T111500
SUMMARY:Socjotrendy (Ć): 3 SOC-SP 23/24
CATEGORIES:Ć
LOCATION:302R A-17
END:VEVENT
BEGIN:VEVENT
UID:UZ_PLZ_20260303_1130_502346
DTSTAMP:20260303T113000
DTSTART:20260303T113000
DTEND:20260303T130000
SUMMARY:Dyżur pracowniczy (I)
CATEGORIES:I
END:VEVENT
BEGIN:VEVENT
UID:UZ_PLZ_20260303_1315_502312
DTSTAMP:20260303T131500
DTSTART:20260303T131500
DTEND:20260303T144500
SUMMARY:Wprowadzenie do gender studies (W): 3 SOC-SP 23/24
CATEGORIES:W
LOCATION:302R A-17
END:VEVENT
BEGIN:VEVENT
UID:UZ_PLZ_20260304_1130_502320
DTSTAMP:20260304T113000
DTSTART:20260304T113000
DTEND:20260304T130000
SUMMARY:Społeczeństwo konsumpcji (W): 2 PS SD 24/25
CATEGORIES:W
LOCATION:302R A-17
END:VEVENT
BEGIN:VEVENT
UID:UZ_PLZ_20260304_1315_502255
DTSTAMP:20260304T131500
DTSTART:20260304T131500
DTEND:20260304T144500
SUMMARY:Public and Media Relations (Ć): 2 SOC SD 24/25
CATEGORIES:Ć
LOCATION:302R A-17
END:VEVENT
BEGIN:VEVENT
UID:UZ_PLZ_20260304_1500_502272
DTSTAMP:20260304T150000
DTSTART:20260304T150000
DTEND:20260304T163000
SUMMARY:Metody badania mass mediów (Ć): 2 SOC SD 24/25
CATEGORIES:Ć
LOCATION:302R A-17
END:VEVENT
BEGIN:VEVENT
UID:UZ_PLZ_20260309_1130_507086
DTSTAMP:20260309T113000
DTSTART:20260309T113000
DTEND:20260309T130000
SUMMARY:Konsultacje (I)
CATEGORIES:I
LOCATION:204R A-17
END:VEVENT
BEGIN:VEVENT
UID:UZ_PLZ_20260309_1315_505551
DTSTAMP:20260309T131500
DTSTART:20260309T131500
DTEND:20260309T144500
SUMMARY:Opracowywanie tekstów naukowych (Ć): 11SDNHiS-25/Socj
CATEGORIES:Ć
END:VEVENT
BEGIN:VEVENT
UID:UZ_PLZ_20260310_0945_502292
DTSTAMP:20260310T094500
DTSTART:20260310T094500
DTEND:20260310T111500
SUMMARY:Socjotrendy (Ć): 3 SOC-SP 23/24
CATEGORIES:Ć
LOCATION:302R A-17
END:VEVENT
BEGIN:VEVENT
UID:UZ_PLZ_20260310_1130_502346
DTSTAMP:20260310T113000
DTSTART:20260310T113000
DTEND:20260310T130000
SUMMARY:Dyżur pracowniczy (I)
CATEGORIES:I
END:VEVENT
BEGIN:VEVENT
UID:UZ_PLZ_20260310_1130_504565
DTSTAMP:20260310T113000
DTSTART:20260310T113000
DTEND:20260310T130000
SUMMARY:Rada Dyscypliny (I)
CATEGORIES:I
LOCATION:302R A-17
END:VEVENT
BEGIN:VEVENT
UID:UZ_PLZ_20260310_1315_502312
DTSTAMP:20260310T131500
DTSTART:20260310T131500
DTEND:20260310T144500
SUMMARY:Wprowadzenie do gender studies (W): 3 SOC-SP 23/24
CATEGORIES:W
LOCATION:302R A-17
END:VEVENT
BEGIN:VEVENT
UID:UZ_PLZ_20260311_1130_502320
DTSTAMP:20260311T113000
DTSTART:20260311T113000
DTEND:20260311T130000
SUMMARY:Społeczeństwo konsumpcji (W): 2 PS SD 24/25
CATEGORIES:W
LOCATION:302R A-17
END:VEVENT
BEGIN:VEVENT
UID:UZ_PLZ_20260311_1315_502255
DTSTAMP:20260311T131500
DTSTART:20260311T131500
DTEND:20260311T144500
SUMMARY:Public and Media Relations (Ć): 2 SOC SD 24/25
CATEGORIES:Ć
LOCATION:302R A-17
END:VEVENT
BEGIN:VEVENT
UID:UZ_PLZ_20260311_1500_502272
DTSTAMP:20260311T150000
DTSTART:20260311T150000
DTEND:20260311T163000
SUMMARY:Metody badania mass mediów (Ć): 2 SOC SD 24/25
CATEGORIES:Ć
LOCATION:302R A-17
END:VEVENT
BEGIN:VEVENT
UID:UZ_PLZ_20260316_1130_507086
DTSTAMP:20260316T113000
DTSTART:20260316T113000
DTEND:20260316T130000
SUMMARY:Konsultacje (I)
CATEGORIES:I
LOCATION:204R A-17
END:VEVENT
BEGIN:VEVENT
UID:UZ_PLZ_20260317_0945_502292
DTSTAMP:20260317T094500
DTSTART:20260317T094500
DTEND:20260317T111500
SUMMARY:Socjotrendy (Ć): 3 SOC-SP 23/24
CATEGORIES:Ć
LOCATION:302R A-17
END:VEVENT
BEGIN:VEVENT
UID:UZ_PLZ_20260317_1130_502346
DTSTAMP:20260317T113000
DTSTART:20260317T113000
DTEND:20260317T130000
SUMMARY:Dyżur pracowniczy (I)
CATEGORIES:I
END:VEVENT
BEGIN:VEVENT
UID:UZ_PLZ_20260317_1315_502312
DTSTAMP:20260317T131500
DTSTART:20260317T131500
DTEND:20260317T144500
SUMMARY:Wprowadzenie do gender studies (W): 3 SOC-SP 23/24
CATEGORIES:W
LOCATION:302R A-17
END:VEVENT
BEGIN:VEVENT
UID:UZ_PLZ_20260318_1130_502320
DTSTAMP:20260318T113000
DTSTART:20260318T113000
DTEND:20260318T130000
SUMMARY:Społeczeństwo konsumpcji (W): 2 PS SD 24/25
CATEGORIES:W
LOCATION:302R A-17
END:VEVENT
BEGIN:VEVENT
UID:UZ_PLZ_20260318_1315_502272
DTSTAMP:20260318T131500
DTSTART:20260318T131500
DTEND:20260318T144500
SUMMARY:Metody badania mass mediów (Ć): 2 SOC SD 24/25
CATEGORIES:Ć
LOCATION:302R A-17
END:VEVENT
BEGIN:VEVENT
UID:UZ_PLZ_20260318_1500_502255
DTSTAMP:20260318T150000
DTSTART:20260318T150000
DTEND:20260318T163000
SUMMARY:Public and Media Relations (Ć): 2 SOC SD 24/25
CATEGORIES:Ć
LOCATION:302R A-17
END:VEVENT
BEGIN:VEVENT
UID:UZ_PLZ_20260323_1130_507086
DTSTAMP:20260323T113000
DTSTART:20260323T113000
DTEND:20260323T130000
SUMMARY:Konsultacje (I)
CATEGORIES:I
LOCATION:204R A-17
END:VEVENT
BEGIN:VEVENT
UID:UZ_PLZ_20260323_1315_505551
DTSTAMP:20260323T131500
DTSTART:20260323T131500
DTEND:20260323T144500
SUMMARY:Opracowywanie tekstów naukowych (Ć): 11SDNHiS-25/Socj
CATEGORIES:Ć
END:VEVENT
BEGIN:VEVENT
UID:UZ_PLZ_20260324_0945_502292
DTSTAMP:20260324T094500
DTSTART:20260324T094500
DTEND:20260324T111500
SUMMARY:Socjotrendy (Ć): 3 SOC-SP 23/24
CATEGORIES:Ć
LOCATION:302R A-17
END:VEVENT
BEGIN:VEVENT
UID:UZ_PLZ_20260324_1130_502346
DTSTAMP:20260324T113000
DTSTART:20260324T113000
DTEND:20260324T130000
SUMMARY:Dyżur pracowniczy (I)
CATEGORIES:I
END:VEVENT
BEGIN:VEVENT
UID:UZ_PLZ_20260324_1315_502312
DTSTAMP:20260324T131500
DTSTART:20260324T131500
DTEND:20260324T144500
SUMMARY:Wprowadzenie do gender studies (W): 3 SOC-SP 23/24
CATEGORIES:W
LOCATION:302R A-17
END:VEVENT
BEGIN:VEVENT
UID:UZ_PLZ_20260325_1130_502320
DTSTAMP:20260325T113000
DTSTART:20260325T113000
DTEND:20260325T130000
SUMMARY:Społeczeństwo konsumpcji (W): 2 PS SD 24/25
CATEGORIES:W
LOCATION:302R A-17
END:VEVENT
BEGIN:VEVENT
UID:UZ_PLZ_20260325_1315_502272
DTSTAMP:20260325T131500
DTSTART:20260325T131500
DTEND:20260325T144500
SUMMARY:Metody badania mass mediów (Ć): 2 SOC SD 24/25
CATEGORIES:Ć
LOCATION:302R A-17
END:VEVENT
BEGIN:VEVENT
UID:UZ_PLZ_20260325_1500_502255
DTSTAMP:20260325T150000
DTSTART:20260325T150000
DTEND:20260325T163000
SUMMARY:Public and Media Relations (Ć): 2 SOC SD 24/25
CATEGORIES:Ć
LOCATION:302R A-17
END:VEVENT
BEGIN:VEVENT
UID:UZ_PLZ_20260330_1130_507086
DTSTAMP:20260330T113000
DTSTART:20260330T113000
DTEND:20260330T130000
SUMMARY:Konsultacje (I)
CATEGORIES:I
LOCATION:204R A-17
END:VEVENT
BEGIN:VEVENT
UID:UZ_PLZ_20260331_0945_502292
DTSTAMP:20260331T094500
DTSTART:20260331T094500
DTEND:20260331T111500
SUMMARY:Socjotrendy (Ć): 3 SOC-SP 23/24
CATEGORIES:Ć
LOCATION:302R A-17
END:VEVENT
BEGIN:VEVENT
UID:UZ_PLZ_20260331_1130_502346
DTSTAMP:20260331T113000
DTSTART:20260331T113000
DTEND:20260331T130000
SUMMARY:Dyżur pracowniczy (I)
CATEGORIES:I
END:VEVENT
BEGIN:VEVENT
UID:UZ_PLZ_20260331_1315_502312
DTSTAMP:20260331T131500
DTSTART:20260331T131500
DTEND:20260331T144500
SUMMARY:Wprowadzenie do gender studies (W): 3 SOC-SP 23/24
CATEGORIES:W
LOCATION:302R A-17
END:VEVENT
BEGIN:VEVENT
UID:UZ_PLZ_20260401_1130_502320
DTSTAMP:20260401T113000
DTSTART:20260401T113000
DTEND:20260401T130000
SUMMARY:Społeczeństwo konsumpcji (W): 2 PS SD 24/25
CATEGORIES:W
LOCATION:302R A-17
END:VEVENT
BEGIN:VEVENT
UID:UZ_PLZ_20260401_1315_502272
DTSTAMP:20260401T131500
DTSTART:20260401T131500
DTEND:20260401T144500
SUMMARY:Metody badania mass mediów (Ć): 2 SOC SD 24/25
CATEGORIES:Ć
LOCATION:302R A-17
END:VEVENT
BEGIN:VEVENT
UID:UZ_PLZ_20260401_1500_502255
DTSTAMP:20260401T150000
DTSTART:20260401T150000
DTEND:20260401T163000
SUMMARY:Public and Media Relations (Ć): 2 SOC SD 24/25
CATEGORIES:Ć
LOCATION:302R A-17
END:VEVENT
BEGIN:VEVENT
UID:UZ_PLZ_20260408_1130_502320
DTSTAMP:20260408T113000
DTSTART:20260408T113000
DTEND:20260408T130000
SUMMARY:Społeczeństwo konsumpcji (W): 2 PS SD 24/25
CATEGORIES:W
LOCATION:302R A-17
END:VEVENT
BEGIN:VEVENT
UID:UZ_PLZ_20260408_1315_502272
DTSTAMP:20260408T131500
DTSTART:20260408T131500
DTEND:20260408T144500
SUMMARY:Metody badania mass mediów (Ć): 2 SOC SD 24/25
CATEGORIES:Ć
LOCATION:302R A-17
END:VEVENT
BEGIN:VEVENT
UID:UZ_PLZ_20260408_1500_502255
DTSTAMP:20260408T150000
DTSTART:20260408T150000
DTEND:20260408T163000
SUMMARY:Public and Media Relations (Ć): 2 SOC SD 24/25
CATEGORIES:Ć
LOCATION:302R A-17
END:VEVENT
BEGIN:VEVENT
UID:UZ_PLZ_20260413_1130_507086
DTSTAMP:20260413T113000
DTSTART:20260413T113000
DTEND:20260413T130000
SUMMARY:Konsultacje (I)
CATEGORIES:I
LOCATION:204R A-17
END:VEVENT
BEGIN:VEVENT
UID:UZ_PLZ_20260414_0945_502292
DTSTAMP:20260414T094500
DTSTART:20260414T094500
DTEND:20260414T111500
SUMMARY:Socjotrendy (Ć): 3 SOC-SP 23/24
CATEGORIES:Ć
LOCATION:302R A-17
END:VEVENT
BEGIN:VEVENT
UID:UZ_PLZ_20260414_1130_502346
DTSTAMP:20260414T113000
DTSTART:20260414T113000
DTEND:20260414T130000
SUMMARY:Dyżur pracowniczy (I)
CATEGORIES:I
END:VEVENT
BEGIN:VEVENT
UID:UZ_PLZ_20260414_1315_502312
DTSTAMP:20260414T131500
DTSTART:20260414T131500
DTEND:20260414T144500
SUMMARY:Wprowadzenie do gender studies (W): 3 SOC-SP 23/24
CATEGORIES:W
LOCATION:302R A-17
END:VEVENT
BEGIN:VEVENT
UID:UZ_PLZ_20260415_1130_502320
DTSTAMP:20260415T113000
DTSTART:20260415T113000
DTEND:20260415T130000
SUMMARY:Społeczeństwo konsumpcji (W): 2 PS SD 24/25
CATEGORIES:W
LOCATION:302R A-17
END:VEVENT
BEGIN:VEVENT
UID:UZ_PLZ_20260415_1315_502272
DTSTAMP:20260415T131500
DTSTART:20260415T131500
DTEND:20260415T144500
SUMMARY:Metody badania mass mediów (Ć): 2 SOC SD 24/25
CATEGORIES:Ć
LOCATION:302R A-17
END:VEVENT
BEGIN:VEVENT
UID:UZ_PLZ_20260415_1500_502255
DTSTAMP:20260415T150000
DTSTART:20260415T150000
DTEND:20260415T163000
SUMMARY:Public and Media Relations (Ć): 2 SOC SD 24/25
CATEGORIES:Ć
LOCATION:302R A-17
END:VEVENT
BEGIN:VEVENT
UID:UZ_PLZ_20260420_1130_507086
DTSTAMP:20260420T113000
DTSTART:20260420T113000
DTEND:20260420T130000
SUMMARY:Konsultacje (I)
CATEGORIES:I
LOCATION:204R A-17
END:VEVENT
BEGIN:VEVENT
UID:UZ_PLZ_20260420_1315_505551
DTSTAMP:20260420T131500
DTSTART:20260420T131500
DTEND:20260420T144500
SUMMARY:Opracowywanie tekstów naukowych (Ć): 11SDNHiS-25/Socj
CATEGORIES:Ć
END:VEVENT
BEGIN:VEVENT
UID:UZ_PLZ_20260421_0945_502292
DTSTAMP:20260421T094500
DTSTART:20260421T094500
DTEND:20260421T111500
SUMMARY:Socjotrendy (Ć): 3 SOC-SP 23/24
CATEGORIES:Ć
LOCATION:302R A-17
END:VEVENT
BEGIN:VEVENT
UID:UZ_PLZ_20260421_1130_502346
DTSTAMP:20260421T113000
DTSTART:20260421T113000
DTEND:20260421T130000
SUMMARY:Dyżur pracowniczy (I)
CATEGORIES:I
END:VEVENT
BEGIN:VEVENT
UID:UZ_PLZ_20260421_1315_502312
DTSTAMP:20260421T131500
DTSTART:20260421T131500
DTEND:20260421T144500
SUMMARY:Wprowadzenie do gender studies (W): 3 SOC-SP 23/24
CATEGORIES:W
LOCATION:302R A-17
END:VEVENT
BEGIN:VEVENT
UID:UZ_PLZ_20260422_1130_502320
DTSTAMP:20260422T113000
DTSTART:20260422T113000
DTEND:20260422T130000
SUMMARY:Społeczeństwo konsumpcji (W): 2 PS SD 24/25
CATEGORIES:W
LOCATION:302R A-17
END:VEVENT
BEGIN:VEVENT
UID:UZ_PLZ_20260422_1315_502272
DTSTAMP:20260422T131500
DTSTART:20260422T131500
DTEND:20260422T144500
SUMMARY:Metody badania mass mediów (Ć): 2 SOC SD 24/25
CATEGORIES:Ć
LOCATION:302R A-17
END:VEVENT
BEGIN:VEVENT
UID:UZ_PLZ_20260422_1500_502255
DTSTAMP:20260422T150000
DTSTART:20260422T150000
DTEND:20260422T163000
SUMMARY:Public and Media Relations (Ć): 2 SOC SD 24/25
CATEGORIES:Ć
LOCATION:302R A-17
END:VEVENT
BEGIN:VEVENT
UID:UZ_PLZ_20260427_1130_507086
DTSTAMP:20260427T113000
DTSTART:20260427T113000
DTEND:20260427T130000
SUMMARY:Konsultacje (I)
CATEGORIES:I
LOCATION:204R A-17
END:VEVENT
BEGIN:VEVENT
UID:UZ_PLZ_20260428_0940_502286
DTSTAMP:20260428T094000
DTSTART:20260428T094000
DTEND:20260428T111500
SUMMARY:Fakultet 1: reklama w perspektywie socjologicznej (K): 2 SOC-SP 24/25
CATEGORIES:K
END:VEVENT
BEGIN:VEVENT
UID:UZ_PLZ_20260428_1130_502346
DTSTAMP:20260428T113000
DTSTART:20260428T113000
DTEND:20260428T130000
SUMMARY:Dyżur pracowniczy (I)
CATEGORIES:I
END:VEVENT
BEGIN:VEVENT
UID:UZ_PLZ_20260428_1315_502312
DTSTAMP:20260428T131500
DTSTART:20260428T131500
DTEND:20260428T144500
SUMMARY:Wprowadzenie do gender studies (W): 3 SOC-SP 23/24
CATEGORIES:W
LOCATION:302R A-17
END:VEVENT
BEGIN:VEVENT
UID:UZ_PLZ_20260504_1130_507086
DTSTAMP:20260504T113000
DTSTART:20260504T113000
DTEND:20260504T130000
SUMMARY:Konsultacje (I)
CATEGORIES:I
LOCATION:204R A-17
END:VEVENT
BEGIN:VEVENT
UID:UZ_PLZ_20260504_1315_505551
DTSTAMP:20260504T131500
DTSTART:20260504T131500
DTEND:20260504T144500
SUMMARY:Opracowywanie tekstów naukowych (Ć): 11SDNHiS-25/Socj
CATEGORIES:Ć
END:VEVENT
BEGIN:VEVENT
UID:UZ_PLZ_20260505_0940_502286
DTSTAMP:20260505T094000
DTSTART:20260505T094000
DTEND:20260505T111500
SUMMARY:Fakultet 1: reklama w perspektywie socjologicznej (K): 2 SOC-SP 24/25
CATEGORIES:K
END:VEVENT
BEGIN:VEVENT
UID:UZ_PLZ_20260505_1130_502346
DTSTAMP:20260505T113000
DTSTART:20260505T113000
DTEND:20260505T130000
SUMMARY:Dyżur pracowniczy (I)
CATEGORIES:I
END:VEVENT
BEGIN:VEVENT
UID:UZ_PLZ_20260505_1130_504565
DTSTAMP:20260505T113000
DTSTART:20260505T113000
DTEND:20260505T130000
SUMMARY:Rada Dyscypliny (I)
CATEGORIES:I
LOCATION:302R A-17
END:VEVENT
BEGIN:VEVENT
UID:UZ_PLZ_20260505_1315_502312
DTSTAMP:20260505T131500
DTSTART:20260505T131500
DTEND:20260505T144500
SUMMARY:Wprowadzenie do gender studies (W): 3 SOC-SP 23/24
CATEGORIES:W
LOCATION:302R A-17
END:VEVENT
BEGIN:VEVENT
UID:UZ_PLZ_20260506_1130_502257
DTSTAMP:20260506T113000
DTSTART:20260506T113000
DTEND:20260506T130000
SUMMARY:Społeczeństwo konsumpcji (Ć): 2 PS SD 24/25
CATEGORIES:Ć
LOCATION:302R A-17
END:VEVENT
BEGIN:VEVENT
UID:UZ_PLZ_20260506_1315_502272
DTSTAMP:20260506T131500
DTSTART:20260506T131500
DTEND:20260506T144500
SUMMARY:Metody badania mass mediów (Ć): 2 SOC SD 24/25
CATEGORIES:Ć
LOCATION:302R A-17
END:VEVENT
BEGIN:VEVENT
UID:UZ_PLZ_20260506_1500_502255
DTSTAMP:20260506T150000
DTSTART:20260506T150000
DTEND:20260506T163000
SUMMARY:Public and Media Relations (Ć): 2 SOC SD 24/25
CATEGORIES:Ć
LOCATION:302R A-17
END:VEVENT
BEGIN:VEVENT
UID:UZ_PLZ_20260511_1130_507086
DTSTAMP:20260511T113000
DTSTART:20260511T113000
DTEND:20260511T130000
SUMMARY:Konsultacje (I)
CATEGORIES:I
LOCATION:204R A-17
END:VEVENT
BEGIN:VEVENT
UID:UZ_PLZ_20260512_0940_502286
DTSTAMP:20260512T094000
DTSTART:20260512T094000
DTEND:20260512T111500
SUMMARY:Fakultet 1: reklama w perspektywie socjologicznej (K): 2 SOC-SP 24/25
CATEGORIES:K
END:VEVENT
BEGIN:VEVENT
UID:UZ_PLZ_20260512_1130_502346
DTSTAMP:20260512T113000
DTSTART:20260512T113000
DTEND:20260512T130000
SUMMARY:Dyżur pracowniczy (I)
CATEGORIES:I
END:VEVENT
BEGIN:VEVENT
UID:UZ_PLZ_20260512_1315_502312
DTSTAMP:20260512T131500
DTSTART:20260512T131500
DTEND:20260512T144500
SUMMARY:Wprowadzenie do gender studies (W): 3 SOC-SP 23/24
CATEGORIES:W
LOCATION:302R A-17
END:VEVENT
BEGIN:VEVENT
UID:UZ_PLZ_20260513_1130_502257
DTSTAMP:20260513T113000
DTSTART:20260513T113000
DTEND:20260513T130000
SUMMARY:Społeczeństwo konsumpcji (Ć): 2 PS SD 24/25
CATEGORIES:Ć
LOCATION:302R A-17
END:VEVENT
BEGIN:VEVENT
UID:UZ_PLZ_20260513_1315_502272
DTSTAMP:20260513T131500
DTSTART:20260513T131500
DTEND:20260513T144500
SUMMARY:Metody badania mass mediów (Ć): 2 SOC SD 24/25
CATEGORIES:Ć
LOCATION:302R A-17
END:VEVENT
BEGIN:VEVENT
UID:UZ_PLZ_20260513_1500_502255
DTSTAMP:20260513T150000
DTSTART:20260513T150000
DTEND:20260513T163000
SUMMARY:Public and Media Relations (Ć): 2 SOC SD 24/25
CATEGORIES:Ć
LOCATION:302R A-17
END:VEVENT
BEGIN:VEVENT
UID:UZ_PLZ_20260518_1130_507086
DTSTAMP:20260518T113000
DTSTART:20260518T113000
DTEND:20260518T130000
SUMMARY:Konsultacje (I)
CATEGORIES:I
LOCATION:204R A-17
END:VEVENT
BEGIN:VEVENT
UID:UZ_PLZ_20260518_1315_505551
DTSTAMP:20260518T131500
DTSTART:20260518T131500
DTEND:20260518T144500
SUMMARY:Opracowywanie tekstów naukowych (Ć): 11SDNHiS-25/Socj
CATEGORIES:Ć
END:VEVENT
BEGIN:VEVENT
UID:UZ_PLZ_20260519_0940_502286
DTSTAMP:20260519T094000
DTSTART:20260519T094000
DTEND:20260519T111500
SUMMARY:Fakultet 1: reklama w perspektywie socjologicznej (K): 2 SOC-SP 24/25
CATEGORIES:K
END:VEVENT
BEGIN:VEVENT
UID:UZ_PLZ_20260519_1130_502346
DTSTAMP:20260519T113000
DTSTART:20260519T113000
DTEND:20260519T130000
SUMMARY:Dyżur pracowniczy (I)
CATEGORIES:I
END:VEVENT
BEGIN:VEVENT
UID:UZ_PLZ_20260519_1315_502312
DTSTAMP:20260519T131500
DTSTART:20260519T131500
DTEND:20260519T144500
SUMMARY:Wprowadzenie do gender studies (W): 3 SOC-SP 23/24
CATEGORIES:W
LOCATION:302R A-17
END:VEVENT
BEGIN:VEVENT
UID:UZ_PLZ_20260520_1130_502257
DTSTAMP:20260520T113000
DTSTART:20260520T113000
DTEND:20260520T130000
SUMMARY:Społeczeństwo konsumpcji (Ć): 2 PS SD 24/25
CATEGORIES:Ć
LOCATION:302R A-17
END:VEVENT
BEGIN:VEVENT
UID:UZ_PLZ_20260520_1315_502272
DTSTAMP:20260520T131500
DTSTART:20260520T131500
DTEND:20260520T144500
SUMMARY:Metody badania mass mediów (Ć): 2 SOC SD 24/25
CATEGORIES:Ć
LOCATION:302R A-17
END:VEVENT
BEGIN:VEVENT
UID:UZ_PLZ_20260520_1500_502255
DTSTAMP:20260520T150000
DTSTART:20260520T150000
DTEND:20260520T163000
SUMMARY:Public and Media Relations (Ć): 2 SOC SD 24/25
CATEGORIES:Ć
LOCATION:302R A-17
END:VEVENT
BEGIN:VEVENT
UID:UZ_PLZ_20260525_1130_507086
DTSTAMP:20260525T113000
DTSTART:20260525T113000
DTEND:20260525T130000
SUMMARY:Konsultacje (I)
CATEGORIES:I
LOCATION:204R A-17
END:VEVENT
BEGIN:VEVENT
UID:UZ_PLZ_20260526_0940_502286
DTSTAMP:20260526T094000
DTSTART:20260526T094000
DTEND:20260526T111500
SUMMARY:Fakultet 1: reklama w perspektywie socjologicznej (K): 2 SOC-SP 24/25
CATEGORIES:K
END:VEVENT
BEGIN:VEVENT
UID:UZ_PLZ_20260526_1130_502346
DTSTAMP:20260526T113000
DTSTART:20260526T113000
DTEND:20260526T130000
SUMMARY:Dyżur pracowniczy (I)
CATEGORIES:I
END:VEVENT
BEGIN:VEVENT
UID:UZ_PLZ_20260526_1315_502312
DTSTAMP:20260526T131500
DTSTART:20260526T131500
DTEND:20260526T144500
SUMMARY:Wprowadzenie do gender studies (W): 3 SOC-SP 23/24
CATEGORIES:W
LOCATION:302R A-17
END:VEVENT
BEGIN:VEVENT
UID:UZ_PLZ_20260527_1130_502257
DTSTAMP:20260527T113000
DTSTART:20260527T113000
DTEND:20260527T130000
SUMMARY:Społeczeństwo konsumpcji (Ć): 2 PS SD 24/25
CATEGORIES:Ć
LOCATION:302R A-17
END:VEVENT
BEGIN:VEVENT
UID:UZ_PLZ_20260527_1315_502272
DTSTAMP:20260527T131500
DTSTART:20260527T131500
DTEND:20260527T144500
SUMMARY:Metody badania mass mediów (Ć): 2 SOC SD 24/25
CATEGORIES:Ć
LOCATION:302R A-17
END:VEVENT
BEGIN:VEVENT
UID:UZ_PLZ_20260527_1500_502255
DTSTAMP:20260527T150000
DTSTART:20260527T150000
DTEND:20260527T163000
SUMMARY:Public and Media Relations (Ć): 2 SOC SD 24/25
CATEGORIES:Ć
LOCATION:302R A-17
END:VEVENT
BEGIN:VEVENT
UID:UZ_PLZ_20260601_1130_507086
DTSTAMP:20260601T113000
DTSTART:20260601T113000
DTEND:20260601T130000
SUMMARY:Konsultacje (I)
CATEGORIES:I
LOCATION:204R A-17
END:VEVENT
BEGIN:VEVENT
UID:UZ_PLZ_20260601_1315_505551
DTSTAMP:20260601T131500
DTSTART:20260601T131500
DTEND:20260601T144500
SUMMARY:Opracowywanie tekstów naukowych (Ć): 11SDNHiS-25/Socj
CATEGORIES:Ć
END:VEVENT
BEGIN:VEVENT
UID:UZ_PLZ_20260602_0940_502286
DTSTAMP:20260602T094000
DTSTART:20260602T094000
DTEND:20260602T111500
SUMMARY:Fakultet 1: reklama w perspektywie socjologicznej (K): 2 SOC-SP 24/25
CATEGORIES:K
END:VEVENT
BEGIN:VEVENT
UID:UZ_PLZ_20260602_1130_502346
DTSTAMP:20260602T113000
DTSTART:20260602T113000
DTEND:20260602T130000
SUMMARY:Dyżur pracowniczy (I)
CATEGORIES:I
END:VEVENT
BEGIN:VEVENT
UID:UZ_PLZ_20260602_1130_504565
DTSTAMP:20260602T113000
DTSTART:20260602T113000
DTEND:20260602T130000
SUMMARY:Rada Dyscypliny (I)
CATEGORIES:I
LOCATION:302R A-17
END:VEVENT
BEGIN:VEVENT
UID:UZ_PLZ_20260602_1315_502312
DTSTAMP:20260602T131500
DTSTART:20260602T131500
DTEND:20260602T144500
SUMMARY:Wprowadzenie do gender studies (W): 3 SOC-SP 23/24
CATEGORIES:W
LOCATION:302R A-17
END:VEVENT
BEGIN:VEVENT
UID:UZ_PLZ_20260603_1130_502257
DTSTAMP:20260603T113000
DTSTART:20260603T113000
DTEND:20260603T130000
SUMMARY:Społeczeństwo konsumpcji (Ć): 2 PS SD 24/25
CATEGORIES:Ć
LOCATION:302R A-17
END:VEVENT
BEGIN:VEVENT
UID:UZ_PLZ_20260603_1315_502272
DTSTAMP:20260603T131500
DTSTART:20260603T131500
DTEND:20260603T144500
SUMMARY:Metody badania mass mediów (Ć): 2 SOC SD 24/25
CATEGORIES:Ć
LOCATION:302R A-17
END:VEVENT
BEGIN:VEVENT
UID:UZ_PLZ_20260603_1500_502255
DTSTAMP:20260603T150000
DTSTART:20260603T150000
DTEND:20260603T163000
SUMMARY:Public and Media Relations (Ć): 2 SOC SD 24/25
CATEGORIES:Ć
LOCATION:302R A-17
END:VEVENT
BEGIN:VEVENT
UID:UZ_PLZ_20260608_1130_507086
DTSTAMP:20260608T113000
DTSTART:20260608T113000
DTEND:20260608T130000
SUMMARY:Konsultacje (I)
CATEGORIES:I
LOCATION:204R A-17
END:VEVENT
BEGIN:VEVENT
UID:UZ_PLZ_20260609_0940_502286
DTSTAMP:20260609T094000
DTSTART:20260609T094000
DTEND:20260609T111500
SUMMARY:Fakultet 1: reklama w perspektywie socjologicznej (K): 2 SOC-SP 24/25
CATEGORIES:K
END:VEVENT
BEGIN:VEVENT
UID:UZ_PLZ_20260609_1130_502346
DTSTAMP:20260609T113000
DTSTART:20260609T113000
DTEND:20260609T130000
SUMMARY:Dyżur pracowniczy (I)
CATEGORIES:I
END:VEVENT
BEGIN:VEVENT
UID:UZ_PLZ_20260609_1315_502312
DTSTAMP:20260609T131500
DTSTART:20260609T131500
DTEND:20260609T144500
SUMMARY:Wprowadzenie do gender studies (W): 3 SOC-SP 23/24
CATEGORIES:W
LOCATION:302R A-17
END:VEVENT
BEGIN:VEVENT
UID:UZ_PLZ_20260610_1130_502257
DTSTAMP:20260610T113000
DTSTART:20260610T113000
DTEND:20260610T130000
SUMMARY:Społeczeństwo konsumpcji (Ć): 2 PS SD 24/25
CATEGORIES:Ć
LOCATION:302R A-17
END:VEVENT
BEGIN:VEVENT
UID:UZ_PLZ_20260610_1315_502272
DTSTAMP:20260610T131500
DTSTART:20260610T131500
DTEND:20260610T144500
SUMMARY:Metody badania mass mediów (Ć): 2 SOC SD 24/25
CATEGORIES:Ć
LOCATION:302R A-17
END:VEVENT
BEGIN:VEVENT
UID:UZ_PLZ_20260610_1500_502255
DTSTAMP:20260610T150000
DTSTART:20260610T150000
DTEND:20260610T163000
SUMMARY:Public and Media Relations (Ć): 2 SOC SD 24/25
CATEGORIES:Ć
LOCATION:302R A-17
END:VEVENT
BEGIN:VEVENT
UID:UZ_PLZ_20260615_1130_507086
DTSTAMP:20260615T113000
DTSTART:20260615T113000
DTEND:20260615T130000
SUMMARY:Konsultacje (I)
CATEGORIES:I
LOCATION:204R A-17
END:VEVENT
BEGIN:VEVENT
UID:UZ_PLZ_20260615_1315_505551
DTSTAMP:20260615T131500
DTSTART:20260615T131500
DTEND:20260615T153000
SUMMARY:Opracowywanie tekstów naukowych (Ć): 11SDNHiS-25/Socj
CATEGORIES:Ć
END:VEVENT
BEGIN:VEVENT
UID:UZ_PLZ_20260616_0945_502292
DTSTAMP:20260616T094500
DTSTART:20260616T094500
DTEND:20260616T111500
SUMMARY:Socjotrendy (Ć): 3 SOC-SP 23/24
CATEGORIES:Ć
LOCATION:302R A-17
END:VEVENT
BEGIN:VEVENT
UID:UZ_PLZ_20260616_1130_502346
DTSTAMP:20260616T113000
DTSTART:20260616T113000
DTEND:20260616T130000
SUMMARY:Dyżur pracowniczy (I)
CATEGORIES:I
END:VEVENT
BEGIN:VEVENT
UID:UZ_PLZ_20260616_1315_502312
DTSTAMP:20260616T131500
DTSTART:20260616T131500
DTEND:20260616T144500
SUMMARY:Wprowadzenie do gender studies (W): 3 SOC-SP 23/24
CATEGORIES:W
LOCATION:302R A-17
END:VEVENT
BEGIN:VEVENT
UID:UZ_PLZ_20260617_1130_502257
DTSTAMP:20260617T113000
DTSTART:20260617T113000
DTEND:20260617T130000
SUMMARY:Społeczeństwo konsumpcji (Ć): 2 PS SD 24/25
CATEGORIES:Ć
LOCATION:302R A-17
END:VEVENT
BEGIN:VEVENT
UID:UZ_PLZ_20260617_1315_502272
DTSTAMP:20260617T131500
DTSTART:20260617T131500
DTEND:20260617T144500
SUMMARY:Metody badania mass mediów (Ć): 2 SOC SD 24/25
CATEGORIES:Ć
LOCATION:302R A-17
END:VEVENT
BEGIN:VEVENT
UID:UZ_PLZ_20260617_1500_502255
DTSTAMP:20260617T150000
DTSTART:20260617T150000
DTEND:20260617T163000
SUMMARY:Public and Media Relations (Ć): 2 SOC SD 24/25
CATEGORIES:Ć
LOCATION:302R A-17
END:VEVENT
END:VCALENDAR
