BEGIN:VCALENDAR
TZID:Europe/Warsaw
X-WR-TIMEZONE:Europe/Warsaw
VERSION:2.0
PRODID:-//Uniwersytet Zielonogórski//NONSGML Plan zajęć v1.0//EN
NAME:Plan zajęć - semestr letni 2025/2026
X-WR-CALNAME:Plan zajęć - semestr letni 2025/2026
COLOR:green
CALSCALE:GREGORIAN
BEGIN:VEVENT
UID:UZ_PLZ_20260428_0815_502285
DTSTAMP:20260428T081500
DTSTART:20260428T081500
DTEND:20260428T111500
SUMMARY:Biznes społeczny (Ć): 2 PS SD 24/25
CATEGORIES:Ć
X-ALT-DESC;FMTTYPE=text/html:<html><body><a href="https://classroom.google.com/c/ODU4NDM0OTUzODQ3">Google Classroom</a> </body></html>
END:VEVENT
BEGIN:VEVENT
UID:UZ_PLZ_20260428_1130_502346
DTSTAMP:20260428T113000
DTSTART:20260428T113000
DTEND:20260428T130000
SUMMARY:Dyżur pracowniczy (I)
CATEGORIES:I
END:VEVENT
BEGIN:VEVENT
UID:UZ_PLZ_20260428_1315_507206
DTSTAMP:20260428T131500
DTSTART:20260428T131500
DTEND:20260428T144500
SUMMARY:Social Aspects of Popular Music (Ć): grupa Erasmus
CATEGORIES:Ć
LOCATION:102 A-20
END:VEVENT
BEGIN:VEVENT
UID:UZ_PLZ_20260428_1715_507078
DTSTAMP:20260428T171500
DTSTART:20260428T171500
DTEND:20260428T184500
SUMMARY:Konsultacje (I)
CATEGORIES:I
LOCATION:205R A-17
END:VEVENT
BEGIN:VEVENT
UID:UZ_PLZ_20260505_0815_502285
DTSTAMP:20260505T081500
DTSTART:20260505T081500
DTEND:20260505T111500
SUMMARY:Biznes społeczny (Ć): 2 PS SD 24/25
CATEGORIES:Ć
X-ALT-DESC;FMTTYPE=text/html:<html><body><a href="https://classroom.google.com/c/ODU4NDM0OTUzODQ3">Google Classroom</a> </body></html>
END:VEVENT
BEGIN:VEVENT
UID:UZ_PLZ_20260505_1130_502346
DTSTAMP:20260505T113000
DTSTART:20260505T113000
DTEND:20260505T130000
SUMMARY:Dyżur pracowniczy (I)
CATEGORIES:I
END:VEVENT
BEGIN:VEVENT
UID:UZ_PLZ_20260505_1130_504565
DTSTAMP:20260505T113000
DTSTART:20260505T113000
DTEND:20260505T130000
SUMMARY:Rada Dyscypliny (I)
CATEGORIES:I
LOCATION:302R A-17
END:VEVENT
BEGIN:VEVENT
UID:UZ_PLZ_20260505_1315_507206
DTSTAMP:20260505T131500
DTSTART:20260505T131500
DTEND:20260505T144500
SUMMARY:Social Aspects of Popular Music (Ć): grupa Erasmus
CATEGORIES:Ć
LOCATION:102 A-20
END:VEVENT
BEGIN:VEVENT
UID:UZ_PLZ_20260505_1715_507078
DTSTAMP:20260505T171500
DTSTART:20260505T171500
DTEND:20260505T184500
SUMMARY:Konsultacje (I)
CATEGORIES:I
LOCATION:205R A-17
END:VEVENT
BEGIN:VEVENT
UID:UZ_PLZ_20260506_0800_502275
DTSTAMP:20260506T080000
DTSTART:20260506T080000
DTEND:20260506T095000
SUMMARY:Seminarium dyplomowe 2 (S): 1 PS SD 25/26
CATEGORIES:S
LOCATION:116 A-20
X-ALT-DESC;FMTTYPE=text/html:<html><body><a href="https://classroom.google.com/c/Nzk3MDEwODA4NDA0">Google Classroom</a> </body></html>
END:VEVENT
BEGIN:VEVENT
UID:UZ_PLZ_20260506_1000_508148
DTSTAMP:20260506T100000
DTSTART:20260506T100000
DTEND:20260506T120000
SUMMARY:Zespoły projektowe (Ć): 1 PS SD 25/26
CATEGORIES:Ć
LOCATION:116 A-20
X-ALT-DESC;FMTTYPE=text/html:<html><body><a href="https://classroom.google.com/c/ODU4NDMzNzMwNjgz">Google Classroom</a> </body></html>
END:VEVENT
BEGIN:VEVENT
UID:UZ_PLZ_20260506_1315_502310
DTSTAMP:20260506T131500
DTSTART:20260506T131500
DTEND:20260506T151500
SUMMARY:Warsztat projektanta społecznego (Ć): 2 PS SD 24/25
CATEGORIES:Ć
LOCATION:11 A-16
X-ALT-DESC;FMTTYPE=text/html:<html><body><a href="https://classroom.google.com/c/ODU4NDM2NDgzMzY4">Google Classroom</a> </body></html>
END:VEVENT
BEGIN:VEVENT
UID:UZ_PLZ_20260512_0900_502285
DTSTAMP:20260512T090000
DTSTART:20260512T090000
DTEND:20260512T111500
SUMMARY:Biznes społeczny (Ć): 2 PS SD 24/25
CATEGORIES:Ć
X-ALT-DESC;FMTTYPE=text/html:<html><body><a href="https://classroom.google.com/c/ODU4NDM0OTUzODQ3">Google Classroom</a> </body></html>
END:VEVENT
BEGIN:VEVENT
UID:UZ_PLZ_20260512_1130_502346
DTSTAMP:20260512T113000
DTSTART:20260512T113000
DTEND:20260512T130000
SUMMARY:Dyżur pracowniczy (I)
CATEGORIES:I
END:VEVENT
BEGIN:VEVENT
UID:UZ_PLZ_20260512_1315_507206
DTSTAMP:20260512T131500
DTSTART:20260512T131500
DTEND:20260512T144500
SUMMARY:Social Aspects of Popular Music (Ć): grupa Erasmus
CATEGORIES:Ć
LOCATION:102 A-20
END:VEVENT
BEGIN:VEVENT
UID:UZ_PLZ_20260512_1715_507078
DTSTAMP:20260512T171500
DTSTART:20260512T171500
DTEND:20260512T184500
SUMMARY:Konsultacje (I)
CATEGORIES:I
LOCATION:205R A-17
END:VEVENT
BEGIN:VEVENT
UID:UZ_PLZ_20260513_0800_502275
DTSTAMP:20260513T080000
DTSTART:20260513T080000
DTEND:20260513T095000
SUMMARY:Seminarium dyplomowe 2 (S): 1 PS SD 25/26
CATEGORIES:S
LOCATION:116 A-20
X-ALT-DESC;FMTTYPE=text/html:<html><body><a href="https://classroom.google.com/c/Nzk3MDEwODA4NDA0">Google Classroom</a> </body></html>
END:VEVENT
BEGIN:VEVENT
UID:UZ_PLZ_20260513_1000_508148
DTSTAMP:20260513T100000
DTSTART:20260513T100000
DTEND:20260513T120000
SUMMARY:Zespoły projektowe (Ć): 1 PS SD 25/26
CATEGORIES:Ć
LOCATION:116 A-20
X-ALT-DESC;FMTTYPE=text/html:<html><body><a href="https://classroom.google.com/c/ODU4NDMzNzMwNjgz">Google Classroom</a> </body></html>
END:VEVENT
BEGIN:VEVENT
UID:UZ_PLZ_20260513_1315_502310
DTSTAMP:20260513T131500
DTSTART:20260513T131500
DTEND:20260513T151500
SUMMARY:Warsztat projektanta społecznego (Ć): 2 PS SD 24/25
CATEGORIES:Ć
LOCATION:11 A-16
X-ALT-DESC;FMTTYPE=text/html:<html><body><a href="https://classroom.google.com/c/ODU4NDM2NDgzMzY4">Google Classroom</a> </body></html>
END:VEVENT
BEGIN:VEVENT
UID:UZ_PLZ_20260519_0900_502285
DTSTAMP:20260519T090000
DTSTART:20260519T090000
DTEND:20260519T111500
SUMMARY:Biznes społeczny (Ć): 2 PS SD 24/25
CATEGORIES:Ć
X-ALT-DESC;FMTTYPE=text/html:<html><body><a href="https://classroom.google.com/c/ODU4NDM0OTUzODQ3">Google Classroom</a> </body></html>
END:VEVENT
BEGIN:VEVENT
UID:UZ_PLZ_20260519_1130_502346
DTSTAMP:20260519T113000
DTSTART:20260519T113000
DTEND:20260519T130000
SUMMARY:Dyżur pracowniczy (I)
CATEGORIES:I
END:VEVENT
BEGIN:VEVENT
UID:UZ_PLZ_20260519_1315_507206
DTSTAMP:20260519T131500
DTSTART:20260519T131500
DTEND:20260519T144500
SUMMARY:Social Aspects of Popular Music (Ć): grupa Erasmus
CATEGORIES:Ć
LOCATION:102 A-20
END:VEVENT
BEGIN:VEVENT
UID:UZ_PLZ_20260519_1715_507078
DTSTAMP:20260519T171500
DTSTART:20260519T171500
DTEND:20260519T184500
SUMMARY:Konsultacje (I)
CATEGORIES:I
LOCATION:205R A-17
END:VEVENT
BEGIN:VEVENT
UID:UZ_PLZ_20260520_0800_502275
DTSTAMP:20260520T080000
DTSTART:20260520T080000
DTEND:20260520T095000
SUMMARY:Seminarium dyplomowe 2 (S): 1 PS SD 25/26
CATEGORIES:S
LOCATION:116 A-20
X-ALT-DESC;FMTTYPE=text/html:<html><body><a href="https://classroom.google.com/c/Nzk3MDEwODA4NDA0">Google Classroom</a> </body></html>
END:VEVENT
BEGIN:VEVENT
UID:UZ_PLZ_20260520_1000_508148
DTSTAMP:20260520T100000
DTSTART:20260520T100000
DTEND:20260520T120000
SUMMARY:Zespoły projektowe (Ć): 1 PS SD 25/26
CATEGORIES:Ć
LOCATION:116 A-20
X-ALT-DESC;FMTTYPE=text/html:<html><body><a href="https://classroom.google.com/c/ODU4NDMzNzMwNjgz">Google Classroom</a> </body></html>
END:VEVENT
BEGIN:VEVENT
UID:UZ_PLZ_20260520_1315_502310
DTSTAMP:20260520T131500
DTSTART:20260520T131500
DTEND:20260520T151500
SUMMARY:Warsztat projektanta społecznego (Ć): 2 PS SD 24/25
CATEGORIES:Ć
LOCATION:11 A-16
X-ALT-DESC;FMTTYPE=text/html:<html><body><a href="https://classroom.google.com/c/ODU4NDM2NDgzMzY4">Google Classroom</a> </body></html>
END:VEVENT
BEGIN:VEVENT
UID:UZ_PLZ_20260526_0900_502285
DTSTAMP:20260526T090000
DTSTART:20260526T090000
DTEND:20260526T111500
SUMMARY:Biznes społeczny (Ć): 2 PS SD 24/25
CATEGORIES:Ć
X-ALT-DESC;FMTTYPE=text/html:<html><body><a href="https://classroom.google.com/c/ODU4NDM0OTUzODQ3">Google Classroom</a> </body></html>
END:VEVENT
BEGIN:VEVENT
UID:UZ_PLZ_20260526_1130_502346
DTSTAMP:20260526T113000
DTSTART:20260526T113000
DTEND:20260526T130000
SUMMARY:Dyżur pracowniczy (I)
CATEGORIES:I
END:VEVENT
BEGIN:VEVENT
UID:UZ_PLZ_20260526_1315_507206
DTSTAMP:20260526T131500
DTSTART:20260526T131500
DTEND:20260526T144500
SUMMARY:Social Aspects of Popular Music (Ć): grupa Erasmus
CATEGORIES:Ć
LOCATION:102 A-20
END:VEVENT
BEGIN:VEVENT
UID:UZ_PLZ_20260526_1715_507078
DTSTAMP:20260526T171500
DTSTART:20260526T171500
DTEND:20260526T184500
SUMMARY:Konsultacje (I)
CATEGORIES:I
LOCATION:205R A-17
END:VEVENT
BEGIN:VEVENT
UID:UZ_PLZ_20260527_0800_502275
DTSTAMP:20260527T080000
DTSTART:20260527T080000
DTEND:20260527T095000
SUMMARY:Seminarium dyplomowe 2 (S): 1 PS SD 25/26
CATEGORIES:S
LOCATION:116 A-20
X-ALT-DESC;FMTTYPE=text/html:<html><body><a href="https://classroom.google.com/c/Nzk3MDEwODA4NDA0">Google Classroom</a> </body></html>
END:VEVENT
BEGIN:VEVENT
UID:UZ_PLZ_20260527_1000_508148
DTSTAMP:20260527T100000
DTSTART:20260527T100000
DTEND:20260527T120000
SUMMARY:Zespoły projektowe (Ć): 1 PS SD 25/26
CATEGORIES:Ć
LOCATION:116 A-20
X-ALT-DESC;FMTTYPE=text/html:<html><body><a href="https://classroom.google.com/c/ODU4NDMzNzMwNjgz">Google Classroom</a> </body></html>
END:VEVENT
BEGIN:VEVENT
UID:UZ_PLZ_20260527_1315_502310
DTSTAMP:20260527T131500
DTSTART:20260527T131500
DTEND:20260527T151500
SUMMARY:Warsztat projektanta społecznego (Ć): 2 PS SD 24/25
CATEGORIES:Ć
LOCATION:11 A-16
X-ALT-DESC;FMTTYPE=text/html:<html><body><a href="https://classroom.google.com/c/ODU4NDM2NDgzMzY4">Google Classroom</a> </body></html>
END:VEVENT
BEGIN:VEVENT
UID:UZ_PLZ_20260602_0900_502285
DTSTAMP:20260602T090000
DTSTART:20260602T090000
DTEND:20260602T111500
SUMMARY:Biznes społeczny (Ć): 2 PS SD 24/25
CATEGORIES:Ć
X-ALT-DESC;FMTTYPE=text/html:<html><body><a href="https://classroom.google.com/c/ODU4NDM0OTUzODQ3">Google Classroom</a> </body></html>
END:VEVENT
BEGIN:VEVENT
UID:UZ_PLZ_20260602_1130_502346
DTSTAMP:20260602T113000
DTSTART:20260602T113000
DTEND:20260602T130000
SUMMARY:Dyżur pracowniczy (I)
CATEGORIES:I
END:VEVENT
BEGIN:VEVENT
UID:UZ_PLZ_20260602_1130_504565
DTSTAMP:20260602T113000
DTSTART:20260602T113000
DTEND:20260602T130000
SUMMARY:Rada Dyscypliny (I)
CATEGORIES:I
LOCATION:302R A-17
END:VEVENT
BEGIN:VEVENT
UID:UZ_PLZ_20260602_1715_507078
DTSTAMP:20260602T171500
DTSTART:20260602T171500
DTEND:20260602T184500
SUMMARY:Konsultacje (I)
CATEGORIES:I
LOCATION:205R A-17
END:VEVENT
BEGIN:VEVENT
UID:UZ_PLZ_20260603_0800_502275
DTSTAMP:20260603T080000
DTSTART:20260603T080000
DTEND:20260603T095000
SUMMARY:Seminarium dyplomowe 2 (S): 1 PS SD 25/26
CATEGORIES:S
LOCATION:116 A-20
X-ALT-DESC;FMTTYPE=text/html:<html><body><a href="https://classroom.google.com/c/Nzk3MDEwODA4NDA0">Google Classroom</a> </body></html>
END:VEVENT
BEGIN:VEVENT
UID:UZ_PLZ_20260603_1000_508148
DTSTAMP:20260603T100000
DTSTART:20260603T100000
DTEND:20260603T120000
SUMMARY:Zespoły projektowe (Ć): 1 PS SD 25/26
CATEGORIES:Ć
LOCATION:116 A-20
X-ALT-DESC;FMTTYPE=text/html:<html><body><a href="https://classroom.google.com/c/ODU4NDMzNzMwNjgz">Google Classroom</a> </body></html>
END:VEVENT
BEGIN:VEVENT
UID:UZ_PLZ_20260603_1315_502310
DTSTAMP:20260603T131500
DTSTART:20260603T131500
DTEND:20260603T151500
SUMMARY:Warsztat projektanta społecznego (Ć): 2 PS SD 24/25
CATEGORIES:Ć
LOCATION:11 A-16
X-ALT-DESC;FMTTYPE=text/html:<html><body><a href="https://classroom.google.com/c/ODU4NDM2NDgzMzY4">Google Classroom</a> </body></html>
END:VEVENT
BEGIN:VEVENT
UID:UZ_PLZ_20260609_0900_502285
DTSTAMP:20260609T090000
DTSTART:20260609T090000
DTEND:20260609T111500
SUMMARY:Biznes społeczny (Ć): 2 PS SD 24/25
CATEGORIES:Ć
X-ALT-DESC;FMTTYPE=text/html:<html><body><a href="https://classroom.google.com/c/ODU4NDM0OTUzODQ3">Google Classroom</a> </body></html>
END:VEVENT
BEGIN:VEVENT
UID:UZ_PLZ_20260609_1130_502346
DTSTAMP:20260609T113000
DTSTART:20260609T113000
DTEND:20260609T130000
SUMMARY:Dyżur pracowniczy (I)
CATEGORIES:I
END:VEVENT
BEGIN:VEVENT
UID:UZ_PLZ_20260609_1715_507078
DTSTAMP:20260609T171500
DTSTART:20260609T171500
DTEND:20260609T184500
SUMMARY:Konsultacje (I)
CATEGORIES:I
LOCATION:205R A-17
END:VEVENT
BEGIN:VEVENT
UID:UZ_PLZ_20260610_0800_502275
DTSTAMP:20260610T080000
DTSTART:20260610T080000
DTEND:20260610T095000
SUMMARY:Seminarium dyplomowe 2 (S): 1 PS SD 25/26
CATEGORIES:S
LOCATION:116 A-20
X-ALT-DESC;FMTTYPE=text/html:<html><body><a href="https://classroom.google.com/c/Nzk3MDEwODA4NDA0">Google Classroom</a> </body></html>
END:VEVENT
BEGIN:VEVENT
UID:UZ_PLZ_20260610_1000_508148
DTSTAMP:20260610T100000
DTSTART:20260610T100000
DTEND:20260610T120000
SUMMARY:Zespoły projektowe (Ć): 1 PS SD 25/26
CATEGORIES:Ć
LOCATION:116 A-20
X-ALT-DESC;FMTTYPE=text/html:<html><body><a href="https://classroom.google.com/c/ODU4NDMzNzMwNjgz">Google Classroom</a> </body></html>
END:VEVENT
BEGIN:VEVENT
UID:UZ_PLZ_20260610_1315_502310
DTSTAMP:20260610T131500
DTSTART:20260610T131500
DTEND:20260610T151500
SUMMARY:Warsztat projektanta społecznego (Ć): 2 PS SD 24/25
CATEGORIES:Ć
LOCATION:11 A-16
X-ALT-DESC;FMTTYPE=text/html:<html><body><a href="https://classroom.google.com/c/ODU4NDM2NDgzMzY4">Google Classroom</a> </body></html>
END:VEVENT
BEGIN:VEVENT
UID:UZ_PLZ_20260616_1130_502346
DTSTAMP:20260616T113000
DTSTART:20260616T113000
DTEND:20260616T130000
SUMMARY:Dyżur pracowniczy (I)
CATEGORIES:I
END:VEVENT
BEGIN:VEVENT
UID:UZ_PLZ_20260616_1715_507078
DTSTAMP:20260616T171500
DTSTART:20260616T171500
DTEND:20260616T184500
SUMMARY:Konsultacje (I)
CATEGORIES:I
LOCATION:205R A-17
END:VEVENT
BEGIN:VEVENT
UID:UZ_PLZ_20260617_0800_502275
DTSTAMP:20260617T080000
DTSTART:20260617T080000
DTEND:20260617T095000
SUMMARY:Seminarium dyplomowe 2 (S): 1 PS SD 25/26
CATEGORIES:S
LOCATION:116 A-20
X-ALT-DESC;FMTTYPE=text/html:<html><body><a href="https://classroom.google.com/c/Nzk3MDEwODA4NDA0">Google Classroom</a> </body></html>
END:VEVENT
BEGIN:VEVENT
UID:UZ_PLZ_20260617_1000_508148
DTSTAMP:20260617T100000
DTSTART:20260617T100000
DTEND:20260617T120000
SUMMARY:Zespoły projektowe (Ć): 1 PS SD 25/26
CATEGORIES:Ć
LOCATION:116 A-20
X-ALT-DESC;FMTTYPE=text/html:<html><body><a href="https://classroom.google.com/c/ODU4NDMzNzMwNjgz">Google Classroom</a> </body></html>
END:VEVENT
BEGIN:VEVENT
UID:UZ_PLZ_20260617_1315_502310
DTSTAMP:20260617T131500
DTSTART:20260617T131500
DTEND:20260617T151500
SUMMARY:Warsztat projektanta społecznego (Ć): 2 PS SD 24/25
CATEGORIES:Ć
LOCATION:11 A-16
X-ALT-DESC;FMTTYPE=text/html:<html><body><a href="https://classroom.google.com/c/ODU4NDM2NDgzMzY4">Google Classroom</a> </body></html>
END:VEVENT
END:VCALENDAR
