BEGIN:VCALENDAR
TZID:Europe/Warsaw
X-WR-TIMEZONE:Europe/Warsaw
VERSION:2.0
PRODID:-//Uniwersytet Zielonogórski//NONSGML Plan zajęć v1.0//EN
NAME:Plan zajęć - semestr letni 2025/2026
X-WR-CALNAME:Plan zajęć - semestr letni 2025/2026
COLOR:green
CALSCALE:GREGORIAN
BEGIN:VEVENT
UID:UZ_PLZ_20260422_0825_507314
DTSTAMP:20260422T082500
DTSTART:20260422T082500
DTEND:20260422T091000
SUMMARY:Konsultacje (I)
CATEGORIES:I
LOCATION:127 A-0
END:VEVENT
BEGIN:VEVENT
UID:UZ_PLZ_20260422_0915_498944
DTSTAMP:20260422T091500
DTSTART:20260422T091500
DTEND:20260422T104500
SUMMARY:Komunikowanie się w biznesie (Ć): 11FiR-ARF-SD
CATEGORIES:Ć
LOCATION:1 C-2
ATTACH:https://classroom.google.com/c/ODQ3MzM3MDY3MjA3
END:VEVENT
BEGIN:VEVENT
UID:UZ_PLZ_20260422_1100_498944
DTSTAMP:20260422T110000
DTSTART:20260422T110000
DTEND:20260422T123000
SUMMARY:Komunikowanie się w biznesie (Ć): 11FiR-ARF-SD
CATEGORIES:Ć
LOCATION:1 C-2
ATTACH:https://classroom.google.com/c/ODQ3MzM3MDY3MjA3
END:VEVENT
BEGIN:VEVENT
UID:UZ_PLZ_20260422_1245_497862
DTSTAMP:20260422T124500
DTSTART:20260422T124500
DTEND:20260422T142000
SUMMARY:Profesjonalizacja doboru pracowników (W): 12ZARZ-MP-SD
CATEGORIES:W
LOCATION:209 A-29
END:VEVENT
BEGIN:VEVENT
UID:UZ_PLZ_20260422_1425_497999
DTSTAMP:20260422T142500
DTSTART:20260422T142500
DTEND:20260422T155500
SUMMARY:Profesjonalizacja doboru pracowników (Ć): 12ZARZ-MP-SD
CATEGORIES:Ć
LOCATION:209 A-29
ATTACH:https://classroom.google.com/c/ODQ3MzM3MTg1Nzg3
END:VEVENT
BEGIN:VEVENT
UID:UZ_PLZ_20260423_0730_497862
DTSTAMP:20260423T073000
DTSTART:20260423T073000
DTEND:20260423T090500
SUMMARY:Profesjonalizacja doboru pracowników (W): 12ZARZ-MP-SD
CATEGORIES:W
LOCATION:209 A-29
END:VEVENT
BEGIN:VEVENT
UID:UZ_PLZ_20260423_0915_497999
DTSTAMP:20260423T091500
DTSTART:20260423T091500
DTEND:20260423T104500
SUMMARY:Profesjonalizacja doboru pracowników (Ć): 12ZARZ-MP-SD
CATEGORIES:Ć
LOCATION:209 A-29
ATTACH:https://classroom.google.com/c/ODQ3MzM3MTg1Nzg3
END:VEVENT
BEGIN:VEVENT
UID:UZ_PLZ_20260423_1100_495470
DTSTAMP:20260423T110000
DTSTART:20260423T110000
DTEND:20260423T123000
SUMMARY:Zachowania człowieka w organizacji i na rynku pracy (W): 21INF-IK-SD(L)\; 22INF-ISI-SD(L)
CATEGORIES:W
LOCATION:115 A-2
ATTACH:https://classroom.google.com/c/ODE5MDkwNDg4ODg3
END:VEVENT
BEGIN:VEVENT
UID:UZ_PLZ_20260423_1245_495191
DTSTAMP:20260423T124500
DTSTART:20260423T124500
DTEND:20260423T141500
SUMMARY:Zachowania człowieka w organizacji i na rynku pracy (W): 21AiR-KSA-SD(L)
CATEGORIES:W
LOCATION:109 A-2
ATTACH:https://classroom.google.com/c/ODQ3MzM1MzE4Njk2
END:VEVENT
BEGIN:VEVENT
UID:UZ_PLZ_20260425_0825_507315
DTSTAMP:20260425T082500
DTSTART:20260425T082500
DTEND:20260425T091000
SUMMARY:Konsultacje (I)
CATEGORIES:I
LOCATION:127 A-0
END:VEVENT
BEGIN:VEVENT
UID:UZ_PLZ_20260425_0915_502808
DTSTAMP:20260425T091500
DTSTART:20260425T091500
DTEND:20260425T104500
SUMMARY:Negocjacje i mediacje w budownictwie (W): 21BUD-KBI-ND
CATEGORIES:W
LOCATION:314 A-8
ATTACH:https://classroom.google.com/c/ODQ3MzM3MDM2OTcx
END:VEVENT
BEGIN:VEVENT
UID:UZ_PLZ_20260425_1100_495834
DTSTAMP:20260425T110000
DTSTART:20260425T110000
DTEND:20260425T123000
SUMMARY:Zachowania człowieka w organizacji i na rynku pracy (W): 21INF-ZSI-ND(L)
CATEGORIES:W
LOCATION:102 A-2
ATTACH:https://classroom.google.com/c/ODQ3MzM3NTMxMzQx
END:VEVENT
BEGIN:VEVENT
UID:UZ_PLZ_20260425_1245_502803
DTSTAMP:20260425T124500
DTSTART:20260425T124500
DTEND:20260425T141500
SUMMARY:Negocjacje i mediacje w budownictwie (W): 20BUD-DiM-ND
CATEGORIES:W
LOCATION:314 A-8
ATTACH:https://classroom.google.com/c/ODQ3MzM3ODgwMDc1
END:VEVENT
BEGIN:VEVENT
UID:UZ_PLZ_20260425_1430_495616
DTSTAMP:20260425T143000
DTSTART:20260425T143000
DTEND:20260425T160000
SUMMARY:Zachowania człowieka w organizacji i na rynku pracy (W): 21AiR-KSA-ND(L)
CATEGORIES:W
LOCATION:106 A-2
ATTACH:https://classroom.google.com/c/ODQ3MzM3NTM3NDQ3
END:VEVENT
BEGIN:VEVENT
UID:UZ_PLZ_20260430_0915_497999
DTSTAMP:20260430T091500
DTSTART:20260430T091500
DTEND:20260430T104500
SUMMARY:Profesjonalizacja doboru pracowników (Ć): 12ZARZ-MP-SD
CATEGORIES:Ć
LOCATION:209 A-29
ATTACH:https://classroom.google.com/c/ODQ3MzM3MTg1Nzg3
END:VEVENT
BEGIN:VEVENT
UID:UZ_PLZ_20260430_1100_495470
DTSTAMP:20260430T110000
DTSTART:20260430T110000
DTEND:20260430T123000
SUMMARY:Zachowania człowieka w organizacji i na rynku pracy (W): 21INF-IK-SD(L)\; 22INF-ISI-SD(L)
CATEGORIES:W
LOCATION:110/111 A-2
ATTACH:https://classroom.google.com/c/ODE5MDkwNDg4ODg3
END:VEVENT
BEGIN:VEVENT
UID:UZ_PLZ_20260430_1245_495191
DTSTAMP:20260430T124500
DTSTART:20260430T124500
DTEND:20260430T141500
SUMMARY:Zachowania człowieka w organizacji i na rynku pracy (W): 21AiR-KSA-SD(L)
CATEGORIES:W
LOCATION:109 A-2
ATTACH:https://classroom.google.com/c/ODQ3MzM1MzE4Njk2
END:VEVENT
BEGIN:VEVENT
UID:UZ_PLZ_20260506_1010_507314
DTSTAMP:20260506T101000
DTSTART:20260506T101000
DTEND:20260506T105500
SUMMARY:Konsultacje (I)
CATEGORIES:I
LOCATION:127 A-0
END:VEVENT
BEGIN:VEVENT
UID:UZ_PLZ_20260506_1100_498944
DTSTAMP:20260506T110000
DTSTART:20260506T110000
DTEND:20260506T123000
SUMMARY:Komunikowanie się w biznesie (Ć): 11FiR-ARF-SD
CATEGORIES:Ć
LOCATION:1 C-2
ATTACH:https://classroom.google.com/c/ODQ3MzM3MDY3MjA3
END:VEVENT
BEGIN:VEVENT
UID:UZ_PLZ_20260507_0730_497862
DTSTAMP:20260507T073000
DTSTART:20260507T073000
DTEND:20260507T090500
SUMMARY:Profesjonalizacja doboru pracowników (W): 12ZARZ-MP-SD
CATEGORIES:W
LOCATION:209 A-29
END:VEVENT
BEGIN:VEVENT
UID:UZ_PLZ_20260507_0915_497999
DTSTAMP:20260507T091500
DTSTART:20260507T091500
DTEND:20260507T104500
SUMMARY:Profesjonalizacja doboru pracowników (Ć): 12ZARZ-MP-SD
CATEGORIES:Ć
LOCATION:209 A-29
ATTACH:https://classroom.google.com/c/ODQ3MzM3MTg1Nzg3
END:VEVENT
BEGIN:VEVENT
UID:UZ_PLZ_20260507_1100_495470
DTSTAMP:20260507T110000
DTSTART:20260507T110000
DTEND:20260507T123000
SUMMARY:Zachowania człowieka w organizacji i na rynku pracy (W): 21INF-IK-SD(L)\; 22INF-ISI-SD(L)
CATEGORIES:W
LOCATION:110/111 A-2
ATTACH:https://classroom.google.com/c/ODE5MDkwNDg4ODg3
END:VEVENT
BEGIN:VEVENT
UID:UZ_PLZ_20260507_1245_495191
DTSTAMP:20260507T124500
DTSTART:20260507T124500
DTEND:20260507T141500
SUMMARY:Zachowania człowieka w organizacji i na rynku pracy (W): 21AiR-KSA-SD(L)
CATEGORIES:W
LOCATION:109 A-2
ATTACH:https://classroom.google.com/c/ODQ3MzM1MzE4Njk2
END:VEVENT
BEGIN:VEVENT
UID:UZ_PLZ_20260508_1245_495191
DTSTAMP:20260508T124500
DTSTART:20260508T124500
DTEND:20260508T141500
SUMMARY:Zachowania człowieka w organizacji i na rynku pracy (W): 21AiR-KSA-SD(L)
CATEGORIES:W
LOCATION:109 A-2
ATTACH:https://classroom.google.com/c/ODQ3MzM1MzE4Njk2
END:VEVENT
BEGIN:VEVENT
UID:UZ_PLZ_20260508_1430_495470
DTSTAMP:20260508T143000
DTSTART:20260508T143000
DTEND:20260508T160000
SUMMARY:Zachowania człowieka w organizacji i na rynku pracy (W): 21INF-IK-SD(L)\; 22INF-ISI-SD(L)
CATEGORIES:W
LOCATION:110/111 A-2
ATTACH:https://classroom.google.com/c/ODE5MDkwNDg4ODg3
END:VEVENT
BEGIN:VEVENT
UID:UZ_PLZ_20260509_0825_507315
DTSTAMP:20260509T082500
DTSTART:20260509T082500
DTEND:20260509T091000
SUMMARY:Konsultacje (I)
CATEGORIES:I
LOCATION:127 A-0
END:VEVENT
BEGIN:VEVENT
UID:UZ_PLZ_20260509_0915_502794
DTSTAMP:20260509T091500
DTSTART:20260509T091500
DTEND:20260509T104500
SUMMARY:Negocjacje i mediacje w budownictwie (W): 22BUD-TiOB-ND
CATEGORIES:W
LOCATION:215 A-8
ATTACH:https://classroom.google.com/c/ODQ3MzM2OTY2MDUw
END:VEVENT
BEGIN:VEVENT
UID:UZ_PLZ_20260509_1100_495834
DTSTAMP:20260509T110000
DTSTART:20260509T110000
DTEND:20260509T123000
SUMMARY:Zachowania człowieka w organizacji i na rynku pracy (W): 21INF-ZSI-ND(L)
CATEGORIES:W
LOCATION:102 A-2
ATTACH:https://classroom.google.com/c/ODQ3MzM3NTMxMzQx
END:VEVENT
BEGIN:VEVENT
UID:UZ_PLZ_20260509_1430_495616
DTSTAMP:20260509T143000
DTSTART:20260509T143000
DTEND:20260509T160000
SUMMARY:Zachowania człowieka w organizacji i na rynku pracy (W): 21AiR-KSA-ND(L)
CATEGORIES:W
LOCATION:106 A-2
ATTACH:https://classroom.google.com/c/ODQ3MzM3NTM3NDQ3
END:VEVENT
BEGIN:VEVENT
UID:UZ_PLZ_20260513_1010_507314
DTSTAMP:20260513T101000
DTSTART:20260513T101000
DTEND:20260513T105500
SUMMARY:Konsultacje (I)
CATEGORIES:I
LOCATION:127 A-0
END:VEVENT
BEGIN:VEVENT
UID:UZ_PLZ_20260513_1100_498944
DTSTAMP:20260513T110000
DTSTART:20260513T110000
DTEND:20260513T123000
SUMMARY:Komunikowanie się w biznesie (Ć): 11FiR-ARF-SD
CATEGORIES:Ć
LOCATION:1 C-2
ATTACH:https://classroom.google.com/c/ODQ3MzM3MDY3MjA3
END:VEVENT
BEGIN:VEVENT
UID:UZ_PLZ_20260514_0915_497999
DTSTAMP:20260514T091500
DTSTART:20260514T091500
DTEND:20260514T104500
SUMMARY:Profesjonalizacja doboru pracowników (Ć): 12ZARZ-MP-SD
CATEGORIES:Ć
LOCATION:209 A-29
ATTACH:https://classroom.google.com/c/ODQ3MzM3MTg1Nzg3
END:VEVENT
BEGIN:VEVENT
UID:UZ_PLZ_20260514_1100_495470
DTSTAMP:20260514T110000
DTSTART:20260514T110000
DTEND:20260514T123000
SUMMARY:Zachowania człowieka w organizacji i na rynku pracy (W): 21INF-IK-SD(L)\; 22INF-ISI-SD(L)
CATEGORIES:W
LOCATION:110/111 A-2
ATTACH:https://classroom.google.com/c/ODE5MDkwNDg4ODg3
END:VEVENT
BEGIN:VEVENT
UID:UZ_PLZ_20260514_1245_495191
DTSTAMP:20260514T124500
DTSTART:20260514T124500
DTEND:20260514T141500
SUMMARY:Zachowania człowieka w organizacji i na rynku pracy (W): 21AiR-KSA-SD(L)
CATEGORIES:W
LOCATION:109 A-2
ATTACH:https://classroom.google.com/c/ODQ3MzM1MzE4Njk2
END:VEVENT
BEGIN:VEVENT
UID:UZ_PLZ_20260516_0825_507315
DTSTAMP:20260516T082500
DTSTART:20260516T082500
DTEND:20260516T091000
SUMMARY:Konsultacje (I)
CATEGORIES:I
LOCATION:127 A-0
END:VEVENT
BEGIN:VEVENT
UID:UZ_PLZ_20260516_0915_502808
DTSTAMP:20260516T091500
DTSTART:20260516T091500
DTEND:20260516T104500
SUMMARY:Negocjacje i mediacje w budownictwie (W): 21BUD-KBI-ND
CATEGORIES:W
LOCATION:314 A-8
ATTACH:https://classroom.google.com/c/ODQ3MzM3MDM2OTcx
END:VEVENT
BEGIN:VEVENT
UID:UZ_PLZ_20260516_1100_495834
DTSTAMP:20260516T110000
DTSTART:20260516T110000
DTEND:20260516T123000
SUMMARY:Zachowania człowieka w organizacji i na rynku pracy (W): 21INF-ZSI-ND(L)
CATEGORIES:W
LOCATION:102 A-2
ATTACH:https://classroom.google.com/c/ODQ3MzM3NTMxMzQx
END:VEVENT
BEGIN:VEVENT
UID:UZ_PLZ_20260516_1245_502803
DTSTAMP:20260516T124500
DTSTART:20260516T124500
DTEND:20260516T141500
SUMMARY:Negocjacje i mediacje w budownictwie (W): 20BUD-DiM-ND
CATEGORIES:W
LOCATION:314 A-8
ATTACH:https://classroom.google.com/c/ODQ3MzM3ODgwMDc1
END:VEVENT
BEGIN:VEVENT
UID:UZ_PLZ_20260516_1430_495616
DTSTAMP:20260516T143000
DTSTART:20260516T143000
DTEND:20260516T160000
SUMMARY:Zachowania człowieka w organizacji i na rynku pracy (W): 21AiR-KSA-ND(L)
CATEGORIES:W
LOCATION:106 A-2
ATTACH:https://classroom.google.com/c/ODQ3MzM3NTM3NDQ3
END:VEVENT
BEGIN:VEVENT
UID:UZ_PLZ_20260520_1010_507314
DTSTAMP:20260520T101000
DTSTART:20260520T101000
DTEND:20260520T105500
SUMMARY:Konsultacje (I)
CATEGORIES:I
LOCATION:127 A-0
END:VEVENT
BEGIN:VEVENT
UID:UZ_PLZ_20260520_1100_498944
DTSTAMP:20260520T110000
DTSTART:20260520T110000
DTEND:20260520T123000
SUMMARY:Komunikowanie się w biznesie (Ć): 11FiR-ARF-SD
CATEGORIES:Ć
LOCATION:1 C-2
ATTACH:https://classroom.google.com/c/ODQ3MzM3MDY3MjA3
END:VEVENT
BEGIN:VEVENT
UID:UZ_PLZ_20260521_0730_497862
DTSTAMP:20260521T073000
DTSTART:20260521T073000
DTEND:20260521T090500
SUMMARY:Profesjonalizacja doboru pracowników (W): 12ZARZ-MP-SD
CATEGORIES:W
LOCATION:209 A-29
END:VEVENT
BEGIN:VEVENT
UID:UZ_PLZ_20260521_0915_497999
DTSTAMP:20260521T091500
DTSTART:20260521T091500
DTEND:20260521T104500
SUMMARY:Profesjonalizacja doboru pracowników (Ć): 12ZARZ-MP-SD
CATEGORIES:Ć
LOCATION:209 A-29
ATTACH:https://classroom.google.com/c/ODQ3MzM3MTg1Nzg3
END:VEVENT
BEGIN:VEVENT
UID:UZ_PLZ_20260521_1100_495470
DTSTAMP:20260521T110000
DTSTART:20260521T110000
DTEND:20260521T123000
SUMMARY:Zachowania człowieka w organizacji i na rynku pracy (W): 21INF-IK-SD(L)\; 22INF-ISI-SD(L)
CATEGORIES:W
LOCATION:110/111 A-2
ATTACH:https://classroom.google.com/c/ODE5MDkwNDg4ODg3
END:VEVENT
BEGIN:VEVENT
UID:UZ_PLZ_20260521_1245_495191
DTSTAMP:20260521T124500
DTSTART:20260521T124500
DTEND:20260521T141500
SUMMARY:Zachowania człowieka w organizacji i na rynku pracy (W): 21AiR-KSA-SD(L)
CATEGORIES:W
LOCATION:109 A-2
ATTACH:https://classroom.google.com/c/ODQ3MzM1MzE4Njk2
END:VEVENT
BEGIN:VEVENT
UID:UZ_PLZ_20260527_1010_507314
DTSTAMP:20260527T101000
DTSTART:20260527T101000
DTEND:20260527T105500
SUMMARY:Konsultacje (I)
CATEGORIES:I
LOCATION:127 A-0
END:VEVENT
BEGIN:VEVENT
UID:UZ_PLZ_20260527_1100_498944
DTSTAMP:20260527T110000
DTSTART:20260527T110000
DTEND:20260527T123000
SUMMARY:Komunikowanie się w biznesie (Ć): 11FiR-ARF-SD
CATEGORIES:Ć
LOCATION:1 C-2
ATTACH:https://classroom.google.com/c/ODQ3MzM3MDY3MjA3
END:VEVENT
BEGIN:VEVENT
UID:UZ_PLZ_20260528_0915_497999
DTSTAMP:20260528T091500
DTSTART:20260528T091500
DTEND:20260528T104500
SUMMARY:Profesjonalizacja doboru pracowników (Ć): 12ZARZ-MP-SD
CATEGORIES:Ć
LOCATION:209 A-29
ATTACH:https://classroom.google.com/c/ODQ3MzM3MTg1Nzg3
END:VEVENT
BEGIN:VEVENT
UID:UZ_PLZ_20260528_1100_495470
DTSTAMP:20260528T110000
DTSTART:20260528T110000
DTEND:20260528T123000
SUMMARY:Zachowania człowieka w organizacji i na rynku pracy (W): 21INF-IK-SD(L)\; 22INF-ISI-SD(L)
CATEGORIES:W
LOCATION:110/111 A-2
ATTACH:https://classroom.google.com/c/ODE5MDkwNDg4ODg3
END:VEVENT
BEGIN:VEVENT
UID:UZ_PLZ_20260528_1245_495191
DTSTAMP:20260528T124500
DTSTART:20260528T124500
DTEND:20260528T141500
SUMMARY:Zachowania człowieka w organizacji i na rynku pracy (W): 21AiR-KSA-SD(L)
CATEGORIES:W
LOCATION:109 A-2
ATTACH:https://classroom.google.com/c/ODQ3MzM1MzE4Njk2
END:VEVENT
BEGIN:VEVENT
UID:UZ_PLZ_20260530_0825_507315
DTSTAMP:20260530T082500
DTSTART:20260530T082500
DTEND:20260530T091000
SUMMARY:Konsultacje (I)
CATEGORIES:I
LOCATION:127 A-0
END:VEVENT
BEGIN:VEVENT
UID:UZ_PLZ_20260530_0915_502794
DTSTAMP:20260530T091500
DTSTART:20260530T091500
DTEND:20260530T104500
SUMMARY:Negocjacje i mediacje w budownictwie (W): 22BUD-TiOB-ND
CATEGORIES:W
LOCATION:215 A-8
ATTACH:https://classroom.google.com/c/ODQ3MzM2OTY2MDUw
END:VEVENT
BEGIN:VEVENT
UID:UZ_PLZ_20260530_1100_495834
DTSTAMP:20260530T110000
DTSTART:20260530T110000
DTEND:20260530T123000
SUMMARY:Zachowania człowieka w organizacji i na rynku pracy (W): 21INF-ZSI-ND(L)
CATEGORIES:W
LOCATION:102 A-2
ATTACH:https://classroom.google.com/c/ODQ3MzM3NTMxMzQx
END:VEVENT
BEGIN:VEVENT
UID:UZ_PLZ_20260530_1430_495616
DTSTAMP:20260530T143000
DTSTART:20260530T143000
DTEND:20260530T160000
SUMMARY:Zachowania człowieka w organizacji i na rynku pracy (W): 21AiR-KSA-ND(L)
CATEGORIES:W
LOCATION:106 A-2
ATTACH:https://classroom.google.com/c/ODQ3MzM3NTM3NDQ3
END:VEVENT
BEGIN:VEVENT
UID:UZ_PLZ_20260603_1010_507314
DTSTAMP:20260603T101000
DTSTART:20260603T101000
DTEND:20260603T105500
SUMMARY:Konsultacje (I)
CATEGORIES:I
LOCATION:127 A-0
END:VEVENT
BEGIN:VEVENT
UID:UZ_PLZ_20260603_1100_498944
DTSTAMP:20260603T110000
DTSTART:20260603T110000
DTEND:20260603T123000
SUMMARY:Komunikowanie się w biznesie (Ć): 11FiR-ARF-SD
CATEGORIES:Ć
LOCATION:1 C-2
ATTACH:https://classroom.google.com/c/ODQ3MzM3MDY3MjA3
END:VEVENT
BEGIN:VEVENT
UID:UZ_PLZ_20260610_1010_507314
DTSTAMP:20260610T101000
DTSTART:20260610T101000
DTEND:20260610T105500
SUMMARY:Konsultacje (I)
CATEGORIES:I
LOCATION:127 A-0
END:VEVENT
BEGIN:VEVENT
UID:UZ_PLZ_20260610_1100_498944
DTSTAMP:20260610T110000
DTSTART:20260610T110000
DTEND:20260610T123000
SUMMARY:Komunikowanie się w biznesie (Ć): 11FiR-ARF-SD
CATEGORIES:Ć
LOCATION:1 C-2
ATTACH:https://classroom.google.com/c/ODQ3MzM3MDY3MjA3
END:VEVENT
BEGIN:VEVENT
UID:UZ_PLZ_20260611_0915_497999
DTSTAMP:20260611T091500
DTSTART:20260611T091500
DTEND:20260611T104500
SUMMARY:Profesjonalizacja doboru pracowników (Ć): 12ZARZ-MP-SD
CATEGORIES:Ć
LOCATION:209 A-29
ATTACH:https://classroom.google.com/c/ODQ3MzM3MTg1Nzg3
END:VEVENT
BEGIN:VEVENT
UID:UZ_PLZ_20260611_1100_495470
DTSTAMP:20260611T110000
DTSTART:20260611T110000
DTEND:20260611T123000
SUMMARY:Zachowania człowieka w organizacji i na rynku pracy (W): 21INF-IK-SD(L)\; 22INF-ISI-SD(L)
CATEGORIES:W
LOCATION:110/111 A-2
ATTACH:https://classroom.google.com/c/ODE5MDkwNDg4ODg3
END:VEVENT
BEGIN:VEVENT
UID:UZ_PLZ_20260611_1245_495191
DTSTAMP:20260611T124500
DTSTART:20260611T124500
DTEND:20260611T141500
SUMMARY:Zachowania człowieka w organizacji i na rynku pracy (W): 21AiR-KSA-SD(L)
CATEGORIES:W
LOCATION:109 A-2
ATTACH:https://classroom.google.com/c/ODQ3MzM1MzE4Njk2
END:VEVENT
BEGIN:VEVENT
UID:UZ_PLZ_20260613_0825_507315
DTSTAMP:20260613T082500
DTSTART:20260613T082500
DTEND:20260613T091000
SUMMARY:Konsultacje (I)
CATEGORIES:I
LOCATION:127 A-0
END:VEVENT
BEGIN:VEVENT
UID:UZ_PLZ_20260613_1005_502808
DTSTAMP:20260613T100500
DTSTART:20260613T100500
DTEND:20260613T105000
SUMMARY:Negocjacje i mediacje w budownictwie (W): 21BUD-KBI-ND
CATEGORIES:W
LOCATION:314 A-8
ATTACH:https://classroom.google.com/c/ODQ3MzM3MDM2OTcx
END:VEVENT
BEGIN:VEVENT
UID:UZ_PLZ_20260613_1100_495834
DTSTAMP:20260613T110000
DTSTART:20260613T110000
DTEND:20260613T123000
SUMMARY:Zachowania człowieka w organizacji i na rynku pracy (W): 21INF-ZSI-ND(L)
CATEGORIES:W
LOCATION:102 A-2
ATTACH:https://classroom.google.com/c/ODQ3MzM3NTMxMzQx
END:VEVENT
BEGIN:VEVENT
UID:UZ_PLZ_20260613_1335_502803
DTSTAMP:20260613T133500
DTSTART:20260613T133500
DTEND:20260613T142000
SUMMARY:Negocjacje i mediacje w budownictwie (W): 20BUD-DiM-ND
CATEGORIES:W
LOCATION:314 A-8
ATTACH:https://classroom.google.com/c/ODQ3MzM3ODgwMDc1
END:VEVENT
BEGIN:VEVENT
UID:UZ_PLZ_20260613_1430_495616
DTSTAMP:20260613T143000
DTSTART:20260613T143000
DTEND:20260613T160000
SUMMARY:Zachowania człowieka w organizacji i na rynku pracy (W): 21AiR-KSA-ND(L)
CATEGORIES:W
LOCATION:106 A-2
ATTACH:https://classroom.google.com/c/ODQ3MzM3NTM3NDQ3
END:VEVENT
BEGIN:VEVENT
UID:UZ_PLZ_20260613_1615_502794
DTSTAMP:20260613T161500
DTSTART:20260613T161500
DTEND:20260613T170000
SUMMARY:Negocjacje i mediacje w budownictwie (W): 22BUD-TiOB-ND
CATEGORIES:W
LOCATION:321 A-8
ATTACH:https://classroom.google.com/c/ODQ3MzM2OTY2MDUw
END:VEVENT
END:VCALENDAR
