BEGIN:VCALENDAR
TZID:Europe/Warsaw
X-WR-TIMEZONE:Europe/Warsaw
VERSION:2.0
PRODID:-//Uniwersytet Zielonogórski//NONSGML Plan zajęć v1.0//EN
NAME:Plan zajęć - semestr letni 2025/2026
X-WR-CALNAME:Plan zajęć - semestr letni 2025/2026
COLOR:green
CALSCALE:GREGORIAN
BEGIN:VEVENT
UID:UZ_PLZ_20260425_0920_507444
DTSTAMP:20260425T092000
DTSTART:20260425T092000
DTEND:20260425T105000
SUMMARY:Konsultacje (I)
CATEGORIES:I
LOCATION:125 A-0
END:VEVENT
BEGIN:VEVENT
UID:UZ_PLZ_20260425_1100_498271
DTSTAMP:20260425T110000
DTSTART:20260425T110000
DTEND:20260425T122000
SUMMARY:Zarządzanie wielokulturowością (W): 21ZARZ-MP-ND\; 22ZARZ-ZMŚP-ND
CATEGORIES:W
LOCATION:216 A-29
DESCRIPTION:<a href="https://classroom.google.com/c/ODUxMTAzMzEzNjAw">Google Classroom</a> 
END:VEVENT
BEGIN:VEVENT
UID:UZ_PLZ_20260425_1245_498385
DTSTAMP:20260425T124500
DTSTART:20260425T124500
DTEND:20260425T140500
SUMMARY:Negocjacje w biznesie (W): 11ZARZ-NP\; 12ZARZ-NP
CATEGORIES:W
LOCATION:216 A-29
DESCRIPTION:<a href="https://classroom.google.com/c/Nzk2NTYyMjE2NDI2">Google Classroom</a> 
END:VEVENT
BEGIN:VEVENT
UID:UZ_PLZ_20260425_1935_498318
DTSTAMP:20260425T193500
DTSTART:20260425T193500
DTEND:20260425T205500
SUMMARY:Zarządzanie zasobami ludzkimi (W): 11ZARZ-NP\; 12ZARZ-NP
CATEGORIES:W
LOCATION:1 A-29
DESCRIPTION:<a href="https://classroom.google.com/c/ODUxMTA0NDA3NTE4">Google Classroom</a> 
END:VEVENT
BEGIN:VEVENT
UID:UZ_PLZ_20260427_1730_498649
DTSTAMP:20260427T173000
DTSTART:20260427T173000
DTEND:20260427T182000
SUMMARY:Seminarium dyplomowe 1 (S): 11ZARZ-SRB-SD\; 12ZARZ-MP-SD
CATEGORIES:S
LOCATION:125 A-0
END:VEVENT
BEGIN:VEVENT
UID:UZ_PLZ_20260427_1825_498664
DTSTAMP:20260427T182500
DTSTART:20260427T182500
DTEND:20260427T191000
SUMMARY:Proseminarium (Pro): 21BN-SP
CATEGORIES:Pro
LOCATION:125 A-0
END:VEVENT
BEGIN:VEVENT
UID:UZ_PLZ_20260429_1245_498985
DTSTAMP:20260429T124500
DTSTART:20260429T124500
DTEND:20260429T141000
SUMMARY:Negocjacje w biznesie (W): 11EK-RDF-SD
CATEGORIES:W
LOCATION:209 A-29
DESCRIPTION:<a href="https://classroom.google.com/c/ODUxMTAyMjE3MDc5">Google Classroom</a> 
END:VEVENT
BEGIN:VEVENT
UID:UZ_PLZ_20260429_1430_498891
DTSTAMP:20260429T143000
DTSTART:20260429T143000
DTEND:20260429T155500
SUMMARY:Zarządzanie zasobami ludzkimi (W): 11FiR-SP\; 12FiR-SP\; 13FiR-SP
CATEGORIES:W
LOCATION:3 A-29
DESCRIPTION:<a href="https://classroom.google.com/c/ODUxMDk4NzM2MjA4">Google Classroom</a> 
END:VEVENT
BEGIN:VEVENT
UID:UZ_PLZ_20260430_1135_496404
DTSTAMP:20260430T113500
DTSTART:20260430T113500
DTEND:20260430T130000
SUMMARY:Zarządzanie zasobami ludzkimi (W): 45PSYCH-JMS-PPOZ
CATEGORIES:W
LOCATION:P3 A-16
DESCRIPTION:<a href="https://classroom.google.com/c/ODUxMDk0MDYwNDcw">Google Classroom</a> 
END:VEVENT
BEGIN:VEVENT
UID:UZ_PLZ_20260430_1315_496523
DTSTAMP:20260430T131500
DTSTART:20260430T131500
DTEND:20260430T144000
SUMMARY:Zarządzanie zasobami ludzkimi (Ć): 45PSYCH-JMS-PPOZ
CATEGORIES:Ć
LOCATION:P3 A-16
DESCRIPTION:<a href="https://classroom.google.com/c/ODU4MTU4NjM1ODQx">Google Classroom</a> 
END:VEVENT
BEGIN:VEVENT
UID:UZ_PLZ_20260504_1430_497975
DTSTAMP:20260504T143000
DTSTART:20260504T143000
DTEND:20260504T160500
SUMMARY:Zarządzanie wielokulturowością (W): 21ZARZ-ZMŚP-SD\; 22ZARZ-SRB-SD
CATEGORIES:W
LOCATION:03b A-0
DESCRIPTION:<a href="https://classroom.google.com/c/ODUxMDkyODA2ODY1">Google Classroom</a> 
END:VEVENT
BEGIN:VEVENT
UID:UZ_PLZ_20260504_1615_498696
DTSTAMP:20260504T161500
DTSTART:20260504T161500
DTEND:20260504T171900
SUMMARY:Proseminarium (Pro): 21ZARZ-SP
CATEGORIES:Pro
LOCATION:125 A-0
END:VEVENT
BEGIN:VEVENT
UID:UZ_PLZ_20260504_1730_498644
DTSTAMP:20260504T173000
DTSTART:20260504T173000
DTEND:20260504T181500
SUMMARY:Seminarium dyplomowe 1 (S): 11ZARZ-SRB-SD
CATEGORIES:S
LOCATION:125 A-0
END:VEVENT
BEGIN:VEVENT
UID:UZ_PLZ_20260504_1825_498664
DTSTAMP:20260504T182500
DTSTART:20260504T182500
DTEND:20260504T191000
SUMMARY:Proseminarium (Pro): 21BN-SP
CATEGORIES:Pro
LOCATION:125 A-0
END:VEVENT
BEGIN:VEVENT
UID:UZ_PLZ_20260507_1245_498982
DTSTAMP:20260507T124500
DTSTART:20260507T124500
DTEND:20260507T141000
SUMMARY:Komunikowanie się w biznesie (W): 11FiR-ARF-SD
CATEGORIES:W
LOCATION:03b A-0
DESCRIPTION:<a href="https://classroom.google.com/c/ODUxMDk1NTI4MDYx">Google Classroom</a> 
END:VEVENT
BEGIN:VEVENT
UID:UZ_PLZ_20260507_1430_497831
DTSTAMP:20260507T143000
DTSTART:20260507T143000
DTEND:20260507T160500
SUMMARY:Zarządzanie zasobami ludzkimi (W): 11ZARZ-SP\; 12ZARZ-SP
CATEGORIES:W
LOCATION:123 A-29
DESCRIPTION:<a href="https://classroom.google.com/c/ODUxMDk3MDA0MDE3">Google Classroom</a> 
END:VEVENT
BEGIN:VEVENT
UID:UZ_PLZ_20260507_1615_498057
DTSTAMP:20260507T161500
DTSTART:20260507T161500
DTEND:20260507T175000
SUMMARY:Negocjacje w biznesie (W): 11ZARZ-SP\; 12ZARZ-SP
CATEGORIES:W
LOCATION:123 A-29
DESCRIPTION:<a href="https://classroom.google.com/c/ODUxMDkwODgxNDQz">Google Classroom</a> 
END:VEVENT
BEGIN:VEVENT
UID:UZ_PLZ_20260509_0730_498612
DTSTAMP:20260509T073000
DTSTART:20260509T073000
DTEND:20260509T081500
SUMMARY:Seminarium dyplomowe 1 (S): 11BN-ZK-ND\; 12BN-AI-ND
CATEGORIES:S
LOCATION:125 A-0
END:VEVENT
BEGIN:VEVENT
UID:UZ_PLZ_20260509_0915_499107
DTSTAMP:20260509T091500
DTSTART:20260509T091500
DTEND:20260509T105500
SUMMARY:Komunikowanie się w biznesie (W): 11FiR-ARF-ND\; 12FiR-FP-ND
CATEGORIES:W
LOCATION:216 A-29
DESCRIPTION:<a href="https://classroom.google.com/c/ODUxNjk2NTg1NDE3">Google Classroom</a> 
END:VEVENT
BEGIN:VEVENT
UID:UZ_PLZ_20260509_1245_499120
DTSTAMP:20260509T124500
DTSTART:20260509T124500
DTEND:20260509T142500
SUMMARY:Zarządzanie zasobami ludzkimi (W): 11FiR-NP
CATEGORIES:W
LOCATION:223 A-29
DESCRIPTION:<a href="https://classroom.google.com/c/ODUxNjk3OTQyNzkx">Google Classroom</a> 
END:VEVENT
BEGIN:VEVENT
UID:UZ_PLZ_20260509_1615_498252
DTSTAMP:20260509T161500
DTSTART:20260509T161500
DTEND:20260509T175500
SUMMARY:Negocjacje w biznesie (W): 11ZARZ-SRB-ND
CATEGORIES:W
LOCATION:214 A-29
DESCRIPTION:<a href="https://classroom.google.com/c/ODUxNjk4MzI5MjMx">Google Classroom</a> 
END:VEVENT
BEGIN:VEVENT
UID:UZ_PLZ_20260511_1730_498649
DTSTAMP:20260511T173000
DTSTART:20260511T173000
DTEND:20260511T182000
SUMMARY:Seminarium dyplomowe 1 (S): 11ZARZ-SRB-SD\; 12ZARZ-MP-SD
CATEGORIES:S
LOCATION:125 A-0
END:VEVENT
BEGIN:VEVENT
UID:UZ_PLZ_20260511_1825_498664
DTSTAMP:20260511T182500
DTSTART:20260511T182500
DTEND:20260511T191000
SUMMARY:Proseminarium (Pro): 21BN-SP
CATEGORIES:Pro
LOCATION:125 A-0
END:VEVENT
BEGIN:VEVENT
UID:UZ_PLZ_20260513_1430_498165
DTSTAMP:20260513T143000
DTSTART:20260513T143000
DTEND:20260513T155500
SUMMARY:Negocjacje (W): 11BN-ZK-SD
CATEGORIES:W
LOCATION:123 A-29
DESCRIPTION:<a href="https://classroom.google.com/c/ODUxMDk1MDYxMzgz">Google Classroom</a> 
END:VEVENT
BEGIN:VEVENT
UID:UZ_PLZ_20260514_1135_496404
DTSTAMP:20260514T113500
DTSTART:20260514T113500
DTEND:20260514T130000
SUMMARY:Zarządzanie zasobami ludzkimi (W): 45PSYCH-JMS-PPOZ
CATEGORIES:W
LOCATION:P3 A-16
DESCRIPTION:<a href="https://classroom.google.com/c/ODUxMDk0MDYwNDcw">Google Classroom</a> 
END:VEVENT
BEGIN:VEVENT
UID:UZ_PLZ_20260514_1315_496523
DTSTAMP:20260514T131500
DTSTART:20260514T131500
DTEND:20260514T144000
SUMMARY:Zarządzanie zasobami ludzkimi (Ć): 45PSYCH-JMS-PPOZ
CATEGORIES:Ć
LOCATION:P3 A-16
DESCRIPTION:<a href="https://classroom.google.com/c/ODU4MTU4NjM1ODQx">Google Classroom</a> 
END:VEVENT
BEGIN:VEVENT
UID:UZ_PLZ_20260515_1245_498985
DTSTAMP:20260515T124500
DTSTART:20260515T124500
DTEND:20260515T141000
SUMMARY:Negocjacje w biznesie (W): 11EK-RDF-SD
CATEGORIES:W
LOCATION:209 A-29
DESCRIPTION:<a href="https://classroom.google.com/c/ODUxMTAyMjE3MDc5">Google Classroom</a> 
END:VEVENT
BEGIN:VEVENT
UID:UZ_PLZ_20260515_1430_498891
DTSTAMP:20260515T143000
DTSTART:20260515T143000
DTEND:20260515T155500
SUMMARY:Zarządzanie zasobami ludzkimi (W): 11FiR-SP\; 12FiR-SP\; 13FiR-SP
CATEGORIES:W
LOCATION:3 A-29
DESCRIPTION:<a href="https://classroom.google.com/c/ODUxMDk4NzM2MjA4">Google Classroom</a> 
END:VEVENT
BEGIN:VEVENT
UID:UZ_PLZ_20260516_0730_498612
DTSTAMP:20260516T073000
DTSTART:20260516T073000
DTEND:20260516T081500
SUMMARY:Seminarium dyplomowe 1 (S): 11BN-ZK-ND\; 12BN-AI-ND
CATEGORIES:S
LOCATION:125 A-0
END:VEVENT
BEGIN:VEVENT
UID:UZ_PLZ_20260516_0920_507444
DTSTAMP:20260516T092000
DTSTART:20260516T092000
DTEND:20260516T105000
SUMMARY:Konsultacje (I)
CATEGORIES:I
LOCATION:125 A-0
END:VEVENT
BEGIN:VEVENT
UID:UZ_PLZ_20260516_1100_498271
DTSTAMP:20260516T110000
DTSTART:20260516T110000
DTEND:20260516T122000
SUMMARY:Zarządzanie wielokulturowością (W): 21ZARZ-MP-ND\; 22ZARZ-ZMŚP-ND
CATEGORIES:W
LOCATION:216 A-29
DESCRIPTION:<a href="https://classroom.google.com/c/ODUxMTAzMzEzNjAw">Google Classroom</a> 
END:VEVENT
BEGIN:VEVENT
UID:UZ_PLZ_20260516_1245_498385
DTSTAMP:20260516T124500
DTSTART:20260516T124500
DTEND:20260516T140500
SUMMARY:Negocjacje w biznesie (W): 11ZARZ-NP\; 12ZARZ-NP
CATEGORIES:W
LOCATION:216 A-29
DESCRIPTION:<a href="https://classroom.google.com/c/Nzk2NTYyMjE2NDI2">Google Classroom</a> 
END:VEVENT
BEGIN:VEVENT
UID:UZ_PLZ_20260516_1935_498318
DTSTAMP:20260516T193500
DTSTART:20260516T193500
DTEND:20260516T205500
SUMMARY:Zarządzanie zasobami ludzkimi (W): 11ZARZ-NP\; 12ZARZ-NP
CATEGORIES:W
LOCATION:1 A-29
DESCRIPTION:<a href="https://classroom.google.com/c/ODUxMTA0NDA3NTE4">Google Classroom</a> 
END:VEVENT
BEGIN:VEVENT
UID:UZ_PLZ_20260518_1430_497975
DTSTAMP:20260518T143000
DTSTART:20260518T143000
DTEND:20260518T160500
SUMMARY:Zarządzanie wielokulturowością (W): 21ZARZ-ZMŚP-SD\; 22ZARZ-SRB-SD
CATEGORIES:W
LOCATION:03b A-0
DESCRIPTION:<a href="https://classroom.google.com/c/ODUxMDkyODA2ODY1">Google Classroom</a> 
END:VEVENT
BEGIN:VEVENT
UID:UZ_PLZ_20260518_1615_498696
DTSTAMP:20260518T161500
DTSTART:20260518T161500
DTEND:20260518T171900
SUMMARY:Proseminarium (Pro): 21ZARZ-SP
CATEGORIES:Pro
LOCATION:125 A-0
END:VEVENT
BEGIN:VEVENT
UID:UZ_PLZ_20260518_1730_498644
DTSTAMP:20260518T173000
DTSTART:20260518T173000
DTEND:20260518T181500
SUMMARY:Seminarium dyplomowe 1 (S): 11ZARZ-SRB-SD
CATEGORIES:S
LOCATION:125 A-0
END:VEVENT
BEGIN:VEVENT
UID:UZ_PLZ_20260521_1245_498982
DTSTAMP:20260521T124500
DTSTART:20260521T124500
DTEND:20260521T141000
SUMMARY:Komunikowanie się w biznesie (W): 11FiR-ARF-SD
CATEGORIES:W
LOCATION:03b A-0
DESCRIPTION:<a href="https://classroom.google.com/c/ODUxMDk1NTI4MDYx">Google Classroom</a> 
END:VEVENT
BEGIN:VEVENT
UID:UZ_PLZ_20260521_1430_497831
DTSTAMP:20260521T143000
DTSTART:20260521T143000
DTEND:20260521T160500
SUMMARY:Zarządzanie zasobami ludzkimi (W): 11ZARZ-SP\; 12ZARZ-SP
CATEGORIES:W
LOCATION:123 A-29
DESCRIPTION:<a href="https://classroom.google.com/c/ODUxMDk3MDA0MDE3">Google Classroom</a> 
END:VEVENT
BEGIN:VEVENT
UID:UZ_PLZ_20260521_1615_498057
DTSTAMP:20260521T161500
DTSTART:20260521T161500
DTEND:20260521T175000
SUMMARY:Negocjacje w biznesie (W): 11ZARZ-SP\; 12ZARZ-SP
CATEGORIES:W
LOCATION:123 A-29
DESCRIPTION:<a href="https://classroom.google.com/c/ODUxMDkwODgxNDQz">Google Classroom</a> 
END:VEVENT
BEGIN:VEVENT
UID:UZ_PLZ_20260525_1730_498649
DTSTAMP:20260525T173000
DTSTART:20260525T173000
DTEND:20260525T182000
SUMMARY:Seminarium dyplomowe 1 (S): 11ZARZ-SRB-SD\; 12ZARZ-MP-SD
CATEGORIES:S
LOCATION:125 A-0
END:VEVENT
BEGIN:VEVENT
UID:UZ_PLZ_20260525_1825_498664
DTSTAMP:20260525T182500
DTSTART:20260525T182500
DTEND:20260525T191000
SUMMARY:Proseminarium (Pro): 21BN-SP
CATEGORIES:Pro
LOCATION:125 A-0
END:VEVENT
BEGIN:VEVENT
UID:UZ_PLZ_20260527_1430_498165
DTSTAMP:20260527T143000
DTSTART:20260527T143000
DTEND:20260527T155500
SUMMARY:Negocjacje (W): 11BN-ZK-SD
CATEGORIES:W
LOCATION:123 A-29
DESCRIPTION:<a href="https://classroom.google.com/c/ODUxMDk1MDYxMzgz">Google Classroom</a> 
END:VEVENT
BEGIN:VEVENT
UID:UZ_PLZ_20260528_1135_496404
DTSTAMP:20260528T113500
DTSTART:20260528T113500
DTEND:20260528T130000
SUMMARY:Zarządzanie zasobami ludzkimi (W): 45PSYCH-JMS-PPOZ
CATEGORIES:W
LOCATION:P3 A-16
DESCRIPTION:<a href="https://classroom.google.com/c/ODUxMDk0MDYwNDcw">Google Classroom</a> 
END:VEVENT
BEGIN:VEVENT
UID:UZ_PLZ_20260528_1315_496523
DTSTAMP:20260528T131500
DTSTART:20260528T131500
DTEND:20260528T144000
SUMMARY:Zarządzanie zasobami ludzkimi (Ć): 45PSYCH-JMS-PPOZ
CATEGORIES:Ć
LOCATION:P3 A-16
DESCRIPTION:<a href="https://classroom.google.com/c/ODU4MTU4NjM1ODQx">Google Classroom</a> 
END:VEVENT
BEGIN:VEVENT
UID:UZ_PLZ_20260529_1245_498985
DTSTAMP:20260529T124500
DTSTART:20260529T124500
DTEND:20260529T141000
SUMMARY:Negocjacje w biznesie (W): 11EK-RDF-SD
CATEGORIES:W
LOCATION:209 A-29
DESCRIPTION:<a href="https://classroom.google.com/c/ODUxMTAyMjE3MDc5">Google Classroom</a> 
END:VEVENT
BEGIN:VEVENT
UID:UZ_PLZ_20260529_1430_498891
DTSTAMP:20260529T143000
DTSTART:20260529T143000
DTEND:20260529T155500
SUMMARY:Zarządzanie zasobami ludzkimi (W): 11FiR-SP\; 12FiR-SP\; 13FiR-SP
CATEGORIES:W
LOCATION:3 A-29
DESCRIPTION:<a href="https://classroom.google.com/c/ODUxMDk4NzM2MjA4">Google Classroom</a> 
END:VEVENT
BEGIN:VEVENT
UID:UZ_PLZ_20260530_0730_498612
DTSTAMP:20260530T073000
DTSTART:20260530T073000
DTEND:20260530T081500
SUMMARY:Seminarium dyplomowe 1 (S): 11BN-ZK-ND\; 12BN-AI-ND
CATEGORIES:S
LOCATION:125 A-0
END:VEVENT
BEGIN:VEVENT
UID:UZ_PLZ_20260530_0915_499107
DTSTAMP:20260530T091500
DTSTART:20260530T091500
DTEND:20260530T105500
SUMMARY:Komunikowanie się w biznesie (W): 11FiR-ARF-ND\; 12FiR-FP-ND
CATEGORIES:W
LOCATION:216 A-29
DESCRIPTION:<a href="https://classroom.google.com/c/ODUxNjk2NTg1NDE3">Google Classroom</a> 
END:VEVENT
BEGIN:VEVENT
UID:UZ_PLZ_20260530_1245_499120
DTSTAMP:20260530T124500
DTSTART:20260530T124500
DTEND:20260530T142500
SUMMARY:Zarządzanie zasobami ludzkimi (W): 11FiR-NP
CATEGORIES:W
LOCATION:223 A-29
DESCRIPTION:<a href="https://classroom.google.com/c/ODUxNjk3OTQyNzkx">Google Classroom</a> 
END:VEVENT
BEGIN:VEVENT
UID:UZ_PLZ_20260530_1615_498252
DTSTAMP:20260530T161500
DTSTART:20260530T161500
DTEND:20260530T175500
SUMMARY:Negocjacje w biznesie (W): 11ZARZ-SRB-ND
CATEGORIES:W
LOCATION:214 A-29
DESCRIPTION:<a href="https://classroom.google.com/c/ODUxNjk4MzI5MjMx">Google Classroom</a> 
END:VEVENT
BEGIN:VEVENT
UID:UZ_PLZ_20260601_1430_497975
DTSTAMP:20260601T143000
DTSTART:20260601T143000
DTEND:20260601T160500
SUMMARY:Zarządzanie wielokulturowością (W): 21ZARZ-ZMŚP-SD\; 22ZARZ-SRB-SD
CATEGORIES:W
LOCATION:03b A-0
DESCRIPTION:<a href="https://classroom.google.com/c/ODUxMDkyODA2ODY1">Google Classroom</a> 
END:VEVENT
BEGIN:VEVENT
UID:UZ_PLZ_20260601_1615_498696
DTSTAMP:20260601T161500
DTSTART:20260601T161500
DTEND:20260601T171900
SUMMARY:Proseminarium (Pro): 21ZARZ-SP
CATEGORIES:Pro
LOCATION:125 A-0
END:VEVENT
BEGIN:VEVENT
UID:UZ_PLZ_20260601_1730_498649
DTSTAMP:20260601T173000
DTSTART:20260601T173000
DTEND:20260601T182000
SUMMARY:Seminarium dyplomowe 1 (S): 11ZARZ-SRB-SD\; 12ZARZ-MP-SD
CATEGORIES:S
LOCATION:125 A-0
END:VEVENT
BEGIN:VEVENT
UID:UZ_PLZ_20260601_1825_498664
DTSTAMP:20260601T182500
DTSTART:20260601T182500
DTEND:20260601T191000
SUMMARY:Proseminarium (Pro): 21BN-SP
CATEGORIES:Pro
LOCATION:125 A-0
END:VEVENT
BEGIN:VEVENT
UID:UZ_PLZ_20260608_1730_498649
DTSTAMP:20260608T173000
DTSTART:20260608T173000
DTEND:20260608T182000
SUMMARY:Seminarium dyplomowe 1 (S): 11ZARZ-SRB-SD\; 12ZARZ-MP-SD
CATEGORIES:S
LOCATION:125 A-0
END:VEVENT
BEGIN:VEVENT
UID:UZ_PLZ_20260608_1825_498664
DTSTAMP:20260608T182500
DTSTART:20260608T182500
DTEND:20260608T191000
SUMMARY:Proseminarium (Pro): 21BN-SP
CATEGORIES:Pro
LOCATION:125 A-0
END:VEVENT
BEGIN:VEVENT
UID:UZ_PLZ_20260610_1430_498165
DTSTAMP:20260610T143000
DTSTART:20260610T143000
DTEND:20260610T155500
SUMMARY:Negocjacje (W): 11BN-ZK-SD
CATEGORIES:W
LOCATION:123 A-29
DESCRIPTION:<a href="https://classroom.google.com/c/ODUxMDk1MDYxMzgz">Google Classroom</a> 
END:VEVENT
BEGIN:VEVENT
UID:UZ_PLZ_20260611_1135_496404
DTSTAMP:20260611T113500
DTSTART:20260611T113500
DTEND:20260611T130000
SUMMARY:Zarządzanie zasobami ludzkimi (W): 45PSYCH-JMS-PPOZ
CATEGORIES:W
LOCATION:P3 A-16
DESCRIPTION:<a href="https://classroom.google.com/c/ODUxMDk0MDYwNDcw">Google Classroom</a> 
END:VEVENT
BEGIN:VEVENT
UID:UZ_PLZ_20260611_1315_496523
DTSTAMP:20260611T131500
DTSTART:20260611T131500
DTEND:20260611T144000
SUMMARY:Zarządzanie zasobami ludzkimi (Ć): 45PSYCH-JMS-PPOZ
CATEGORIES:Ć
LOCATION:P3 A-16
DESCRIPTION:<a href="https://classroom.google.com/c/ODU4MTU4NjM1ODQx">Google Classroom</a> 
END:VEVENT
BEGIN:VEVENT
UID:UZ_PLZ_20260612_1245_498985
DTSTAMP:20260612T124500
DTSTART:20260612T124500
DTEND:20260612T141000
SUMMARY:Negocjacje w biznesie (W): 11EK-RDF-SD
CATEGORIES:W
LOCATION:209 A-29
DESCRIPTION:<a href="https://classroom.google.com/c/ODUxMTAyMjE3MDc5">Google Classroom</a> 
END:VEVENT
BEGIN:VEVENT
UID:UZ_PLZ_20260612_1430_498891
DTSTAMP:20260612T143000
DTSTART:20260612T143000
DTEND:20260612T155500
SUMMARY:Zarządzanie zasobami ludzkimi (W): 11FiR-SP\; 12FiR-SP\; 13FiR-SP
CATEGORIES:W
LOCATION:3 A-29
DESCRIPTION:<a href="https://classroom.google.com/c/ODUxMDk4NzM2MjA4">Google Classroom</a> 
END:VEVENT
BEGIN:VEVENT
UID:UZ_PLZ_20260613_0730_498612
DTSTAMP:20260613T073000
DTSTART:20260613T073000
DTEND:20260613T081500
SUMMARY:Seminarium dyplomowe 1 (S): 11BN-ZK-ND\; 12BN-AI-ND
CATEGORIES:S
LOCATION:125 A-0
END:VEVENT
BEGIN:VEVENT
UID:UZ_PLZ_20260613_0920_507444
DTSTAMP:20260613T092000
DTSTART:20260613T092000
DTEND:20260613T105000
SUMMARY:Konsultacje (I)
CATEGORIES:I
LOCATION:125 A-0
END:VEVENT
BEGIN:VEVENT
UID:UZ_PLZ_20260613_1100_498271
DTSTAMP:20260613T110000
DTSTART:20260613T110000
DTEND:20260613T122000
SUMMARY:Zarządzanie wielokulturowością (W): 21ZARZ-MP-ND\; 22ZARZ-ZMŚP-ND
CATEGORIES:W
LOCATION:216 A-29
DESCRIPTION:<a href="https://classroom.google.com/c/ODUxMTAzMzEzNjAw">Google Classroom</a> 
END:VEVENT
BEGIN:VEVENT
UID:UZ_PLZ_20260613_1245_498385
DTSTAMP:20260613T124500
DTSTART:20260613T124500
DTEND:20260613T140500
SUMMARY:Negocjacje w biznesie (W): 11ZARZ-NP\; 12ZARZ-NP
CATEGORIES:W
LOCATION:216 A-29
DESCRIPTION:<a href="https://classroom.google.com/c/Nzk2NTYyMjE2NDI2">Google Classroom</a> 
END:VEVENT
BEGIN:VEVENT
UID:UZ_PLZ_20260613_1935_498318
DTSTAMP:20260613T193500
DTSTART:20260613T193500
DTEND:20260613T205500
SUMMARY:Zarządzanie zasobami ludzkimi (W): 11ZARZ-NP\; 12ZARZ-NP
CATEGORIES:W
LOCATION:1 A-29
DESCRIPTION:<a href="https://classroom.google.com/c/ODUxMTA0NDA3NTE4">Google Classroom</a> 
END:VEVENT
BEGIN:VEVENT
UID:UZ_PLZ_20260615_1430_497975
DTSTAMP:20260615T143000
DTSTART:20260615T143000
DTEND:20260615T160500
SUMMARY:Zarządzanie wielokulturowością (W): 21ZARZ-ZMŚP-SD\; 22ZARZ-SRB-SD
CATEGORIES:W
LOCATION:03b A-0
DESCRIPTION:<a href="https://classroom.google.com/c/ODUxMDkyODA2ODY1">Google Classroom</a> 
END:VEVENT
BEGIN:VEVENT
UID:UZ_PLZ_20260615_1615_498696
DTSTAMP:20260615T161500
DTSTART:20260615T161500
DTEND:20260615T171900
SUMMARY:Proseminarium (Pro): 21ZARZ-SP
CATEGORIES:Pro
LOCATION:125 A-0
END:VEVENT
BEGIN:VEVENT
UID:UZ_PLZ_20260615_1730_498644
DTSTAMP:20260615T173000
DTSTART:20260615T173000
DTEND:20260615T181500
SUMMARY:Seminarium dyplomowe 1 (S): 11ZARZ-SRB-SD
CATEGORIES:S
LOCATION:125 A-0
END:VEVENT
BEGIN:VEVENT
UID:UZ_PLZ_20260615_1825_498664
DTSTAMP:20260615T182500
DTSTART:20260615T182500
DTEND:20260615T191000
SUMMARY:Proseminarium (Pro): 21BN-SP
CATEGORIES:Pro
LOCATION:125 A-0
END:VEVENT
BEGIN:VEVENT
UID:UZ_PLZ_20260617_1430_498165
DTSTAMP:20260617T143000
DTSTART:20260617T143000
DTEND:20260617T155500
SUMMARY:Negocjacje (W): 11BN-ZK-SD
CATEGORIES:W
LOCATION:123 A-29
DESCRIPTION:<a href="https://classroom.google.com/c/ODUxMDk1MDYxMzgz">Google Classroom</a> 
END:VEVENT
BEGIN:VEVENT
UID:UZ_PLZ_20260618_1245_498982
DTSTAMP:20260618T124500
DTSTART:20260618T124500
DTEND:20260618T141000
SUMMARY:Komunikowanie się w biznesie (W): 11FiR-ARF-SD
CATEGORIES:W
LOCATION:03b A-0
DESCRIPTION:<a href="https://classroom.google.com/c/ODUxMDk1NTI4MDYx">Google Classroom</a> 
END:VEVENT
BEGIN:VEVENT
UID:UZ_PLZ_20260618_1430_497831
DTSTAMP:20260618T143000
DTSTART:20260618T143000
DTEND:20260618T160500
SUMMARY:Zarządzanie zasobami ludzkimi (W): 11ZARZ-SP\; 12ZARZ-SP
CATEGORIES:W
LOCATION:123 A-29
DESCRIPTION:<a href="https://classroom.google.com/c/ODUxMDk3MDA0MDE3">Google Classroom</a> 
END:VEVENT
BEGIN:VEVENT
UID:UZ_PLZ_20260618_1615_498057
DTSTAMP:20260618T161500
DTSTART:20260618T161500
DTEND:20260618T175000
SUMMARY:Negocjacje w biznesie (W): 11ZARZ-SP\; 12ZARZ-SP
CATEGORIES:W
LOCATION:123 A-29
DESCRIPTION:<a href="https://classroom.google.com/c/ODUxMDkwODgxNDQz">Google Classroom</a> 
END:VEVENT
BEGIN:VEVENT
UID:UZ_PLZ_20260620_1000_508638
DTSTAMP:20260620T100000
DTSTART:20260620T100000
DTEND:20260620T104500
SUMMARY:Komunikowanie się w biznesie (E): 11FiR-ARF-ND\; 12FiR-FP-ND
CATEGORIES:E
LOCATION:3 A-29
END:VEVENT
BEGIN:VEVENT
UID:UZ_PLZ_20260622_1000_508637
DTSTAMP:20260622T100000
DTSTART:20260622T100000
DTEND:20260622T104500
SUMMARY:Komunikowanie się w biznesie (E): 11FiR-ARF-SD
CATEGORIES:E
LOCATION:223 A-29
END:VEVENT
BEGIN:VEVENT
UID:UZ_PLZ_20260902_1700_508638
DTSTAMP:20260902T170000
DTSTART:20260902T170000
DTEND:20260902T174500
SUMMARY:Komunikowanie się w biznesie (E): 11FiR-ARF-ND\; 12FiR-FP-ND
CATEGORIES:E
LOCATION:3 A-29
END:VEVENT
BEGIN:VEVENT
UID:UZ_PLZ_20260903_1200_508637
DTSTAMP:20260903T120000
DTSTART:20260903T120000
DTEND:20260903T124500
SUMMARY:Komunikowanie się w biznesie (E): 11FiR-ARF-SD
CATEGORIES:E
LOCATION:223 A-29
END:VEVENT
END:VCALENDAR
