BEGIN:VCALENDAR
TZID:Europe/Warsaw
X-WR-TIMEZONE:Europe/Warsaw
VERSION:2.0
PRODID:-//Uniwersytet Zielonogórski//NONSGML Plan zajęć v1.0//EN
NAME:Plan zajęć - semestr letni 2025/2026
X-WR-CALNAME:Plan zajęć - semestr letni 2025/2026
COLOR:green
CALSCALE:GREGORIAN
BEGIN:VEVENT
UID:UZ_PLZ_20260303_1330_503427
DTSTAMP:20260303T133000
DTSTART:20260303T133000
DTEND:20260303T171500
SUMMARY:Cytofizjologia (L): 21B-SP 24/25
CATEGORIES:L
LOCATION:210 A-8
ATTACH:https://classroom.google.com/c/ODQ2MDY4MzE0NDUz
END:VEVENT
BEGIN:VEVENT
UID:UZ_PLZ_20260304_1100_503369
DTSTAMP:20260304T110000
DTSTART:20260304T110000
DTEND:20260304T130000
SUMMARY:Dyżur pracowniczy (I)
CATEGORIES:I
LOCATION:115 A-8
END:VEVENT
BEGIN:VEVENT
UID:UZ_PLZ_20260304_1315_503421
DTSTAMP:20260304T131500
DTSTART:20260304T131500
DTEND:20260304T153000
SUMMARY:Biomedyczne bazy danych (L): 21B-SP 24/25
CATEGORIES:L
LOCATION:216 A-8
ATTACH:https://classroom.google.com/c/ODQ2MDY5NDU5ODg1
END:VEVENT
BEGIN:VEVENT
UID:UZ_PLZ_20260304_1545_507021
DTSTAMP:20260304T154500
DTSTART:20260304T154500
DTEND:20260304T180000
SUMMARY:Biological databases (L)
CATEGORIES:L
LOCATION:216 A-8
END:VEVENT
BEGIN:VEVENT
UID:UZ_PLZ_20260310_1330_503427
DTSTAMP:20260310T133000
DTSTART:20260310T133000
DTEND:20260310T171500
SUMMARY:Cytofizjologia (L): 21B-SP 24/25
CATEGORIES:L
LOCATION:210 A-8
ATTACH:https://classroom.google.com/c/ODQ2MDY4MzE0NDUz
END:VEVENT
BEGIN:VEVENT
UID:UZ_PLZ_20260311_1100_503369
DTSTAMP:20260311T110000
DTSTART:20260311T110000
DTEND:20260311T130000
SUMMARY:Dyżur pracowniczy (I)
CATEGORIES:I
LOCATION:115 A-8
END:VEVENT
BEGIN:VEVENT
UID:UZ_PLZ_20260311_1105_507175
DTSTAMP:20260311T110500
DTSTART:20260311T110500
DTEND:20260311T125500
SUMMARY:Seminarium dyplomowe - Pracownia Biochemii i Biologii Komórki (I): 21BT-MA-SD 24/25\; 31BT-SP 23/24
CATEGORIES:I
LOCATION:221/221a A-8
END:VEVENT
BEGIN:VEVENT
UID:UZ_PLZ_20260311_1315_503421
DTSTAMP:20260311T131500
DTSTART:20260311T131500
DTEND:20260311T153000
SUMMARY:Biomedyczne bazy danych (L): 21B-SP 24/25
CATEGORIES:L
LOCATION:216 A-8
ATTACH:https://classroom.google.com/c/ODQ2MDY5NDU5ODg1
END:VEVENT
BEGIN:VEVENT
UID:UZ_PLZ_20260311_1545_507021
DTSTAMP:20260311T154500
DTSTART:20260311T154500
DTEND:20260311T180000
SUMMARY:Biological databases (L)
CATEGORIES:L
LOCATION:216 A-8
END:VEVENT
BEGIN:VEVENT
UID:UZ_PLZ_20260312_1300_503506
DTSTAMP:20260312T130000
DTSTART:20260312T130000
DTEND:20260312T164500
SUMMARY:Biotechnologia w badaniach biologicznych i medycznych (L): 31BT-SP 23/24/A
CATEGORIES:L
LOCATION:210 A-8
ATTACH:https://classroom.google.com/c/ODQ2MDY5NjM0ODEz
END:VEVENT
BEGIN:VEVENT
UID:UZ_PLZ_20260312_1650_503482
DTSTAMP:20260312T165000
DTSTART:20260312T165000
DTEND:20260312T203500
SUMMARY:Biotechnologia w badaniach biologicznych i medycznych (L): 31BT-SP 23/24/B
CATEGORIES:L
LOCATION:210 A-8
ATTACH:https://classroom.google.com/c/ODQ2MDY5NjcxNjgy
END:VEVENT
BEGIN:VEVENT
UID:UZ_PLZ_20260317_1330_503427
DTSTAMP:20260317T133000
DTSTART:20260317T133000
DTEND:20260317T171500
SUMMARY:Cytofizjologia (L): 21B-SP 24/25
CATEGORIES:L
LOCATION:210 A-8
ATTACH:https://classroom.google.com/c/ODQ2MDY4MzE0NDUz
END:VEVENT
BEGIN:VEVENT
UID:UZ_PLZ_20260318_1100_503369
DTSTAMP:20260318T110000
DTSTART:20260318T110000
DTEND:20260318T130000
SUMMARY:Dyżur pracowniczy (I)
CATEGORIES:I
LOCATION:115 A-8
END:VEVENT
BEGIN:VEVENT
UID:UZ_PLZ_20260318_1315_503421
DTSTAMP:20260318T131500
DTSTART:20260318T131500
DTEND:20260318T153000
SUMMARY:Biomedyczne bazy danych (L): 21B-SP 24/25
CATEGORIES:L
LOCATION:216 A-8
ATTACH:https://classroom.google.com/c/ODQ2MDY5NDU5ODg1
END:VEVENT
BEGIN:VEVENT
UID:UZ_PLZ_20260318_1545_507021
DTSTAMP:20260318T154500
DTSTART:20260318T154500
DTEND:20260318T180000
SUMMARY:Biological databases (L)
CATEGORIES:L
LOCATION:216 A-8
END:VEVENT
BEGIN:VEVENT
UID:UZ_PLZ_20260319_1300_503506
DTSTAMP:20260319T130000
DTSTART:20260319T130000
DTEND:20260319T164500
SUMMARY:Biotechnologia w badaniach biologicznych i medycznych (L): 31BT-SP 23/24/A
CATEGORIES:L
ATTACH:https://classroom.google.com/c/ODQ2MDY5NjM0ODEz
END:VEVENT
BEGIN:VEVENT
UID:UZ_PLZ_20260319_1650_503482
DTSTAMP:20260319T165000
DTSTART:20260319T165000
DTEND:20260319T203500
SUMMARY:Biotechnologia w badaniach biologicznych i medycznych (L): 31BT-SP 23/24/B
CATEGORIES:L
ATTACH:https://classroom.google.com/c/ODQ2MDY5NjcxNjgy
END:VEVENT
BEGIN:VEVENT
UID:UZ_PLZ_20260324_1330_503427
DTSTAMP:20260324T133000
DTSTART:20260324T133000
DTEND:20260324T171500
SUMMARY:Cytofizjologia (L): 21B-SP 24/25
CATEGORIES:L
LOCATION:210 A-8
ATTACH:https://classroom.google.com/c/ODQ2MDY4MzE0NDUz
END:VEVENT
BEGIN:VEVENT
UID:UZ_PLZ_20260325_0959_507972
DTSTAMP:20260325T095900
DTSTART:20260325T095900
DTEND:20260325T105900
SUMMARY:Konsultacje (I)
CATEGORIES:I
LOCATION:513 A-8
END:VEVENT
BEGIN:VEVENT
UID:UZ_PLZ_20260325_1100_503369
DTSTAMP:20260325T110000
DTSTART:20260325T110000
DTEND:20260325T130000
SUMMARY:Dyżur pracowniczy (I)
CATEGORIES:I
LOCATION:115 A-8
END:VEVENT
BEGIN:VEVENT
UID:UZ_PLZ_20260325_1315_503421
DTSTAMP:20260325T131500
DTSTART:20260325T131500
DTEND:20260325T153000
SUMMARY:Biomedyczne bazy danych (L): 21B-SP 24/25
CATEGORIES:L
LOCATION:216 A-8
ATTACH:https://classroom.google.com/c/ODQ2MDY5NDU5ODg1
END:VEVENT
BEGIN:VEVENT
UID:UZ_PLZ_20260325_1545_507021
DTSTAMP:20260325T154500
DTSTART:20260325T154500
DTEND:20260325T180000
SUMMARY:Biological databases (L)
CATEGORIES:L
LOCATION:216 A-8
END:VEVENT
BEGIN:VEVENT
UID:UZ_PLZ_20260326_1000_503506
DTSTAMP:20260326T100000
DTSTART:20260326T100000
DTEND:20260326T121500
SUMMARY:Biotechnologia w badaniach biologicznych i medycznych (L): 31BT-SP 23/24/A
CATEGORIES:L
LOCATION:215 A-8
ATTACH:https://classroom.google.com/c/ODQ2MDY5NjM0ODEz
END:VEVENT
BEGIN:VEVENT
UID:UZ_PLZ_20260326_1230_503482
DTSTAMP:20260326T123000
DTSTART:20260326T123000
DTEND:20260326T144500
SUMMARY:Biotechnologia w badaniach biologicznych i medycznych (L): 31BT-SP 23/24/B
CATEGORIES:L
LOCATION:221/221a A-8
ATTACH:https://classroom.google.com/c/ODQ2MDY5NjcxNjgy
END:VEVENT
BEGIN:VEVENT
UID:UZ_PLZ_20260330_0815_503506
DTSTAMP:20260330T081500
DTSTART:20260330T081500
DTEND:20260330T094500
SUMMARY:Biotechnologia w badaniach biologicznych i medycznych (L): 31BT-SP 23/24/A
CATEGORIES:L
LOCATION:107 A-8
ATTACH:https://classroom.google.com/c/ODQ2MDY5NjM0ODEz
END:VEVENT
BEGIN:VEVENT
UID:UZ_PLZ_20260330_1300_503482
DTSTAMP:20260330T130000
DTSTART:20260330T130000
DTEND:20260330T143000
SUMMARY:Biotechnologia w badaniach biologicznych i medycznych (L): 31BT-SP 23/24/B
CATEGORIES:L
LOCATION:107 A-8
ATTACH:https://classroom.google.com/c/ODQ2MDY5NjcxNjgy
END:VEVENT
BEGIN:VEVENT
UID:UZ_PLZ_20260331_1330_503427
DTSTAMP:20260331T133000
DTSTART:20260331T133000
DTEND:20260331T171500
SUMMARY:Cytofizjologia (L): 21B-SP 24/25
CATEGORIES:L
LOCATION:210 A-8
ATTACH:https://classroom.google.com/c/ODQ2MDY4MzE0NDUz
END:VEVENT
BEGIN:VEVENT
UID:UZ_PLZ_20260401_0959_507972
DTSTAMP:20260401T095900
DTSTART:20260401T095900
DTEND:20260401T105900
SUMMARY:Konsultacje (I)
CATEGORIES:I
LOCATION:513 A-8
END:VEVENT
BEGIN:VEVENT
UID:UZ_PLZ_20260401_1100_503369
DTSTAMP:20260401T110000
DTSTART:20260401T110000
DTEND:20260401T130000
SUMMARY:Dyżur pracowniczy (I)
CATEGORIES:I
LOCATION:115 A-8
END:VEVENT
BEGIN:VEVENT
UID:UZ_PLZ_20260401_1105_507175
DTSTAMP:20260401T110500
DTSTART:20260401T110500
DTEND:20260401T125500
SUMMARY:Seminarium dyplomowe - Pracownia Biochemii i Biologii Komórki (I): 21BT-MA-SD 24/25\; 31BT-SP 23/24
CATEGORIES:I
LOCATION:221/221a A-8
END:VEVENT
BEGIN:VEVENT
UID:UZ_PLZ_20260401_1315_503421
DTSTAMP:20260401T131500
DTSTART:20260401T131500
DTEND:20260401T153000
SUMMARY:Biomedyczne bazy danych (L): 21B-SP 24/25
CATEGORIES:L
LOCATION:216 A-8
ATTACH:https://classroom.google.com/c/ODQ2MDY5NDU5ODg1
END:VEVENT
BEGIN:VEVENT
UID:UZ_PLZ_20260401_1545_507021
DTSTAMP:20260401T154500
DTSTART:20260401T154500
DTEND:20260401T180000
SUMMARY:Biological databases (L)
CATEGORIES:L
LOCATION:216 A-8
END:VEVENT
BEGIN:VEVENT
UID:UZ_PLZ_20260408_0959_507972
DTSTAMP:20260408T095900
DTSTART:20260408T095900
DTEND:20260408T105900
SUMMARY:Konsultacje (I)
CATEGORIES:I
LOCATION:513 A-8
END:VEVENT
BEGIN:VEVENT
UID:UZ_PLZ_20260408_1100_503369
DTSTAMP:20260408T110000
DTSTART:20260408T110000
DTEND:20260408T130000
SUMMARY:Dyżur pracowniczy (I)
CATEGORIES:I
LOCATION:115 A-8
END:VEVENT
BEGIN:VEVENT
UID:UZ_PLZ_20260408_1315_503421
DTSTAMP:20260408T131500
DTSTART:20260408T131500
DTEND:20260408T153000
SUMMARY:Biomedyczne bazy danych (L): 21B-SP 24/25
CATEGORIES:L
LOCATION:216 A-8
ATTACH:https://classroom.google.com/c/ODQ2MDY5NDU5ODg1
END:VEVENT
BEGIN:VEVENT
UID:UZ_PLZ_20260408_1545_507021
DTSTAMP:20260408T154500
DTSTART:20260408T154500
DTEND:20260408T180000
SUMMARY:Biological databases (L)
CATEGORIES:L
LOCATION:216 A-8
END:VEVENT
BEGIN:VEVENT
UID:UZ_PLZ_20260415_0959_507972
DTSTAMP:20260415T095900
DTSTART:20260415T095900
DTEND:20260415T105900
SUMMARY:Konsultacje (I)
CATEGORIES:I
LOCATION:513 A-8
END:VEVENT
BEGIN:VEVENT
UID:UZ_PLZ_20260415_1100_503369
DTSTAMP:20260415T110000
DTSTART:20260415T110000
DTEND:20260415T130000
SUMMARY:Dyżur pracowniczy (I)
CATEGORIES:I
LOCATION:115 A-8
END:VEVENT
BEGIN:VEVENT
UID:UZ_PLZ_20260415_1105_507175
DTSTAMP:20260415T110500
DTSTART:20260415T110500
DTEND:20260415T125500
SUMMARY:Seminarium dyplomowe - Pracownia Biochemii i Biologii Komórki (I): 21BT-MA-SD 24/25\; 31BT-SP 23/24
CATEGORIES:I
LOCATION:221/221a A-8
END:VEVENT
BEGIN:VEVENT
UID:UZ_PLZ_20260421_1330_503427
DTSTAMP:20260421T133000
DTSTART:20260421T133000
DTEND:20260421T171500
SUMMARY:Cytofizjologia (L): 21B-SP 24/25
CATEGORIES:L
LOCATION:210 A-8
ATTACH:https://classroom.google.com/c/ODQ2MDY4MzE0NDUz
END:VEVENT
BEGIN:VEVENT
UID:UZ_PLZ_20260422_0959_507972
DTSTAMP:20260422T095900
DTSTART:20260422T095900
DTEND:20260422T105900
SUMMARY:Konsultacje (I)
CATEGORIES:I
LOCATION:513 A-8
END:VEVENT
BEGIN:VEVENT
UID:UZ_PLZ_20260422_1100_503369
DTSTAMP:20260422T110000
DTSTART:20260422T110000
DTEND:20260422T130000
SUMMARY:Dyżur pracowniczy (I)
CATEGORIES:I
LOCATION:115 A-8
END:VEVENT
BEGIN:VEVENT
UID:UZ_PLZ_20260422_1105_507175
DTSTAMP:20260422T110500
DTSTART:20260422T110500
DTEND:20260422T125500
SUMMARY:Seminarium dyplomowe - Pracownia Biochemii i Biologii Komórki (I): 21BT-MA-SD 24/25\; 31BT-SP 23/24
CATEGORIES:I
LOCATION:221/221a A-8
END:VEVENT
BEGIN:VEVENT
UID:UZ_PLZ_20260422_1315_503421
DTSTAMP:20260422T131500
DTSTART:20260422T131500
DTEND:20260422T153000
SUMMARY:Biomedyczne bazy danych (L): 21B-SP 24/25
CATEGORIES:L
LOCATION:216 A-8
ATTACH:https://classroom.google.com/c/ODQ2MDY5NDU5ODg1
END:VEVENT
BEGIN:VEVENT
UID:UZ_PLZ_20260422_1545_507021
DTSTAMP:20260422T154500
DTSTART:20260422T154500
DTEND:20260422T180000
SUMMARY:Biological databases (L)
CATEGORIES:L
LOCATION:216 A-8
END:VEVENT
BEGIN:VEVENT
UID:UZ_PLZ_20260430_1015_503461
DTSTAMP:20260430T101500
DTSTART:20260430T101500
DTEND:20260430T140000
SUMMARY:Molekularna organizacja komórki (L): 21BT-SP 24/25/B
CATEGORIES:L
LOCATION:208 A-8
ATTACH:https://classroom.google.com/c/ODQ2MDY3MTU1MjE3
END:VEVENT
BEGIN:VEVENT
UID:UZ_PLZ_20260504_0930_503489
DTSTAMP:20260504T093000
DTSTART:20260504T093000
DTEND:20260504T131500
SUMMARY:Molekularna organizacja komórki (L): 21BT-SP 24/25/C
CATEGORIES:L
LOCATION:210 A-8
ATTACH:https://classroom.google.com/c/NzkzOTkzNjY3MDcx
END:VEVENT
BEGIN:VEVENT
UID:UZ_PLZ_20260504_1335_503488
DTSTAMP:20260504T133500
DTSTART:20260504T133500
DTEND:20260504T172000
SUMMARY:Molekularna organizacja komórki (L): 21BT-SP 24/25/A
CATEGORIES:L
LOCATION:210 A-8
ATTACH:https://classroom.google.com/c/NzkzOTkzNDg3OTE3
END:VEVENT
BEGIN:VEVENT
UID:UZ_PLZ_20260506_0959_507972
DTSTAMP:20260506T095900
DTSTART:20260506T095900
DTEND:20260506T105900
SUMMARY:Konsultacje (I)
CATEGORIES:I
LOCATION:513 A-8
END:VEVENT
BEGIN:VEVENT
UID:UZ_PLZ_20260506_1100_503369
DTSTAMP:20260506T110000
DTSTART:20260506T110000
DTEND:20260506T130000
SUMMARY:Dyżur pracowniczy (I)
CATEGORIES:I
LOCATION:115 A-8
END:VEVENT
BEGIN:VEVENT
UID:UZ_PLZ_20260506_1105_507175
DTSTAMP:20260506T110500
DTSTART:20260506T110500
DTEND:20260506T125500
SUMMARY:Seminarium dyplomowe - Pracownia Biochemii i Biologii Komórki (I): 21BT-MA-SD 24/25\; 31BT-SP 23/24
CATEGORIES:I
LOCATION:221/221a A-8
END:VEVENT
BEGIN:VEVENT
UID:UZ_PLZ_20260506_1315_503421
DTSTAMP:20260506T131500
DTSTART:20260506T131500
DTEND:20260506T153000
SUMMARY:Biomedyczne bazy danych (L): 21B-SP 24/25
CATEGORIES:L
LOCATION:216 A-8
ATTACH:https://classroom.google.com/c/ODQ2MDY5NDU5ODg1
END:VEVENT
BEGIN:VEVENT
UID:UZ_PLZ_20260506_1545_507021
DTSTAMP:20260506T154500
DTSTART:20260506T154500
DTEND:20260506T180000
SUMMARY:Biological databases (L)
CATEGORIES:L
LOCATION:216 A-8
END:VEVENT
BEGIN:VEVENT
UID:UZ_PLZ_20260507_1505_503461
DTSTAMP:20260507T150500
DTSTART:20260507T150500
DTEND:20260507T185000
SUMMARY:Molekularna organizacja komórki (L): 21BT-SP 24/25/B
CATEGORIES:L
LOCATION:210 A-8
ATTACH:https://classroom.google.com/c/ODQ2MDY3MTU1MjE3
END:VEVENT
BEGIN:VEVENT
UID:UZ_PLZ_20260511_0930_503489
DTSTAMP:20260511T093000
DTSTART:20260511T093000
DTEND:20260511T131500
SUMMARY:Molekularna organizacja komórki (L): 21BT-SP 24/25/C
CATEGORIES:L
LOCATION:210 A-8
ATTACH:https://classroom.google.com/c/NzkzOTkzNjY3MDcx
END:VEVENT
BEGIN:VEVENT
UID:UZ_PLZ_20260511_1335_503488
DTSTAMP:20260511T133500
DTSTART:20260511T133500
DTEND:20260511T172000
SUMMARY:Molekularna organizacja komórki (L): 21BT-SP 24/25/A
CATEGORIES:L
LOCATION:210 A-8
ATTACH:https://classroom.google.com/c/NzkzOTkzNDg3OTE3
END:VEVENT
BEGIN:VEVENT
UID:UZ_PLZ_20260513_0959_507972
DTSTAMP:20260513T095900
DTSTART:20260513T095900
DTEND:20260513T105900
SUMMARY:Konsultacje (I)
CATEGORIES:I
LOCATION:513 A-8
END:VEVENT
BEGIN:VEVENT
UID:UZ_PLZ_20260513_1100_503369
DTSTAMP:20260513T110000
DTSTART:20260513T110000
DTEND:20260513T130000
SUMMARY:Dyżur pracowniczy (I)
CATEGORIES:I
LOCATION:115 A-8
END:VEVENT
BEGIN:VEVENT
UID:UZ_PLZ_20260513_1105_507175
DTSTAMP:20260513T110500
DTSTART:20260513T110500
DTEND:20260513T125500
SUMMARY:Seminarium dyplomowe - Pracownia Biochemii i Biologii Komórki (I): 21BT-MA-SD 24/25\; 31BT-SP 23/24
CATEGORIES:I
LOCATION:221/221a A-8
END:VEVENT
BEGIN:VEVENT
UID:UZ_PLZ_20260513_1315_503421
DTSTAMP:20260513T131500
DTSTART:20260513T131500
DTEND:20260513T153000
SUMMARY:Biomedyczne bazy danych (L): 21B-SP 24/25
CATEGORIES:L
LOCATION:216 A-8
ATTACH:https://classroom.google.com/c/ODQ2MDY5NDU5ODg1
END:VEVENT
BEGIN:VEVENT
UID:UZ_PLZ_20260513_1545_507021
DTSTAMP:20260513T154500
DTSTART:20260513T154500
DTEND:20260513T180000
SUMMARY:Biological databases (L)
CATEGORIES:L
LOCATION:216 A-8
END:VEVENT
BEGIN:VEVENT
UID:UZ_PLZ_20260514_1505_503461
DTSTAMP:20260514T150500
DTSTART:20260514T150500
DTEND:20260514T185000
SUMMARY:Molekularna organizacja komórki (L): 21BT-SP 24/25/B
CATEGORIES:L
LOCATION:210 A-8
ATTACH:https://classroom.google.com/c/ODQ2MDY3MTU1MjE3
END:VEVENT
BEGIN:VEVENT
UID:UZ_PLZ_20260518_0930_503489
DTSTAMP:20260518T093000
DTSTART:20260518T093000
DTEND:20260518T131500
SUMMARY:Molekularna organizacja komórki (L): 21BT-SP 24/25/C
CATEGORIES:L
LOCATION:210 A-8
ATTACH:https://classroom.google.com/c/NzkzOTkzNjY3MDcx
END:VEVENT
BEGIN:VEVENT
UID:UZ_PLZ_20260518_1335_503488
DTSTAMP:20260518T133500
DTSTART:20260518T133500
DTEND:20260518T172000
SUMMARY:Molekularna organizacja komórki (L): 21BT-SP 24/25/A
CATEGORIES:L
LOCATION:210 A-8
ATTACH:https://classroom.google.com/c/NzkzOTkzNDg3OTE3
END:VEVENT
BEGIN:VEVENT
UID:UZ_PLZ_20260520_0959_507972
DTSTAMP:20260520T095900
DTSTART:20260520T095900
DTEND:20260520T105900
SUMMARY:Konsultacje (I)
CATEGORIES:I
LOCATION:513 A-8
END:VEVENT
BEGIN:VEVENT
UID:UZ_PLZ_20260520_1100_503369
DTSTAMP:20260520T110000
DTSTART:20260520T110000
DTEND:20260520T130000
SUMMARY:Dyżur pracowniczy (I)
CATEGORIES:I
LOCATION:115 A-8
END:VEVENT
BEGIN:VEVENT
UID:UZ_PLZ_20260520_1105_507175
DTSTAMP:20260520T110500
DTSTART:20260520T110500
DTEND:20260520T125500
SUMMARY:Seminarium dyplomowe - Pracownia Biochemii i Biologii Komórki (I): 21BT-MA-SD 24/25\; 31BT-SP 23/24
CATEGORIES:I
LOCATION:221/221a A-8
END:VEVENT
BEGIN:VEVENT
UID:UZ_PLZ_20260520_1315_503421
DTSTAMP:20260520T131500
DTSTART:20260520T131500
DTEND:20260520T153000
SUMMARY:Biomedyczne bazy danych (L): 21B-SP 24/25
CATEGORIES:L
LOCATION:216 A-8
ATTACH:https://classroom.google.com/c/ODQ2MDY5NDU5ODg1
END:VEVENT
BEGIN:VEVENT
UID:UZ_PLZ_20260520_1545_507021
DTSTAMP:20260520T154500
DTSTART:20260520T154500
DTEND:20260520T180000
SUMMARY:Biological databases (L)
CATEGORIES:L
LOCATION:216 A-8
END:VEVENT
BEGIN:VEVENT
UID:UZ_PLZ_20260525_0930_503489
DTSTAMP:20260525T093000
DTSTART:20260525T093000
DTEND:20260525T131500
SUMMARY:Molekularna organizacja komórki (L): 21BT-SP 24/25/C
CATEGORIES:L
LOCATION:210 A-8
ATTACH:https://classroom.google.com/c/NzkzOTkzNjY3MDcx
END:VEVENT
BEGIN:VEVENT
UID:UZ_PLZ_20260525_1335_503488
DTSTAMP:20260525T133500
DTSTART:20260525T133500
DTEND:20260525T172000
SUMMARY:Molekularna organizacja komórki (L): 21BT-SP 24/25/A
CATEGORIES:L
LOCATION:210 A-8
ATTACH:https://classroom.google.com/c/NzkzOTkzNDg3OTE3
END:VEVENT
BEGIN:VEVENT
UID:UZ_PLZ_20260527_0959_507972
DTSTAMP:20260527T095900
DTSTART:20260527T095900
DTEND:20260527T105900
SUMMARY:Konsultacje (I)
CATEGORIES:I
LOCATION:513 A-8
END:VEVENT
BEGIN:VEVENT
UID:UZ_PLZ_20260527_1100_503369
DTSTAMP:20260527T110000
DTSTART:20260527T110000
DTEND:20260527T130000
SUMMARY:Dyżur pracowniczy (I)
CATEGORIES:I
LOCATION:115 A-8
END:VEVENT
BEGIN:VEVENT
UID:UZ_PLZ_20260528_0800_503461
DTSTAMP:20260528T080000
DTSTART:20260528T080000
DTEND:20260528T114500
SUMMARY:Molekularna organizacja komórki (L): 21BT-SP 24/25/B
CATEGORIES:L
LOCATION:210 A-8
ATTACH:https://classroom.google.com/c/ODQ2MDY3MTU1MjE3
END:VEVENT
BEGIN:VEVENT
UID:UZ_PLZ_20260601_0930_503489
DTSTAMP:20260601T093000
DTSTART:20260601T093000
DTEND:20260601T131500
SUMMARY:Molekularna organizacja komórki (L): 21BT-SP 24/25/C
CATEGORIES:L
LOCATION:210 A-8
ATTACH:https://classroom.google.com/c/NzkzOTkzNjY3MDcx
END:VEVENT
BEGIN:VEVENT
UID:UZ_PLZ_20260601_1335_503488
DTSTAMP:20260601T133500
DTSTART:20260601T133500
DTEND:20260601T172000
SUMMARY:Molekularna organizacja komórki (L): 21BT-SP 24/25/A
CATEGORIES:L
LOCATION:210 A-8
ATTACH:https://classroom.google.com/c/NzkzOTkzNDg3OTE3
END:VEVENT
BEGIN:VEVENT
UID:UZ_PLZ_20260603_0959_507972
DTSTAMP:20260603T095900
DTSTART:20260603T095900
DTEND:20260603T105900
SUMMARY:Konsultacje (I)
CATEGORIES:I
LOCATION:513 A-8
END:VEVENT
BEGIN:VEVENT
UID:UZ_PLZ_20260603_1100_503369
DTSTAMP:20260603T110000
DTSTART:20260603T110000
DTEND:20260603T130000
SUMMARY:Dyżur pracowniczy (I)
CATEGORIES:I
LOCATION:115 A-8
END:VEVENT
BEGIN:VEVENT
UID:UZ_PLZ_20260608_0930_503489
DTSTAMP:20260608T093000
DTSTART:20260608T093000
DTEND:20260608T131500
SUMMARY:Molekularna organizacja komórki (L): 21BT-SP 24/25/C
CATEGORIES:L
LOCATION:210 A-8
ATTACH:https://classroom.google.com/c/NzkzOTkzNjY3MDcx
END:VEVENT
BEGIN:VEVENT
UID:UZ_PLZ_20260608_1335_503488
DTSTAMP:20260608T133500
DTSTART:20260608T133500
DTEND:20260608T172000
SUMMARY:Molekularna organizacja komórki (L): 21BT-SP 24/25/A
CATEGORIES:L
LOCATION:210 A-8
ATTACH:https://classroom.google.com/c/NzkzOTkzNDg3OTE3
END:VEVENT
BEGIN:VEVENT
UID:UZ_PLZ_20260610_0959_507972
DTSTAMP:20260610T095900
DTSTART:20260610T095900
DTEND:20260610T105900
SUMMARY:Konsultacje (I)
CATEGORIES:I
LOCATION:513 A-8
END:VEVENT
BEGIN:VEVENT
UID:UZ_PLZ_20260610_1100_503369
DTSTAMP:20260610T110000
DTSTART:20260610T110000
DTEND:20260610T130000
SUMMARY:Dyżur pracowniczy (I)
CATEGORIES:I
LOCATION:115 A-8
END:VEVENT
BEGIN:VEVENT
UID:UZ_PLZ_20260611_0800_503461
DTSTAMP:20260611T080000
DTSTART:20260611T080000
DTEND:20260611T114500
SUMMARY:Molekularna organizacja komórki (L): 21BT-SP 24/25/B
CATEGORIES:L
LOCATION:210 A-8
ATTACH:https://classroom.google.com/c/ODQ2MDY3MTU1MjE3
END:VEVENT
BEGIN:VEVENT
UID:UZ_PLZ_20260617_0959_507972
DTSTAMP:20260617T095900
DTSTART:20260617T095900
DTEND:20260617T105900
SUMMARY:Konsultacje (I)
CATEGORIES:I
LOCATION:513 A-8
END:VEVENT
BEGIN:VEVENT
UID:UZ_PLZ_20260617_1100_503369
DTSTAMP:20260617T110000
DTSTART:20260617T110000
DTEND:20260617T130000
SUMMARY:Dyżur pracowniczy (I)
CATEGORIES:I
LOCATION:115 A-8
END:VEVENT
BEGIN:VEVENT
UID:UZ_PLZ_20260618_0800_503461
DTSTAMP:20260618T080000
DTSTART:20260618T080000
DTEND:20260618T114500
SUMMARY:Molekularna organizacja komórki (L): 21BT-SP 24/25/B
CATEGORIES:L
LOCATION:210 A-8
ATTACH:https://classroom.google.com/c/ODQ2MDY3MTU1MjE3
END:VEVENT
END:VCALENDAR
