BEGIN:VCALENDAR
TZID:Europe/Warsaw
X-WR-TIMEZONE:Europe/Warsaw
VERSION:2.0
PRODID:-//Uniwersytet Zielonogórski//NONSGML Plan zajęć v1.0//EN
NAME:Plan zajęć - semestr letni 2025/2026
X-WR-CALNAME:Plan zajęć - semestr letni 2025/2026
COLOR:green
CALSCALE:GREGORIAN
BEGIN:VEVENT
UID:UZ_PLZ_20260422_0915_503456
DTSTAMP:20260422T091500
DTSTART:20260422T091500
DTEND:20260422T105000
SUMMARY:Analiza zmienności genetycznej (W): 11BT-SD 25/26
CATEGORIES:W
LOCATION:117 A-8
END:VEVENT
BEGIN:VEVENT
UID:UZ_PLZ_20260422_1100_503369
DTSTAMP:20260422T110000
DTSTART:20260422T110000
DTEND:20260422T130000
SUMMARY:Dyżur pracowniczy (I)
CATEGORIES:I
LOCATION:115 A-8
END:VEVENT
BEGIN:VEVENT
UID:UZ_PLZ_20260422_1105_507175
DTSTAMP:20260422T110500
DTSTART:20260422T110500
DTEND:20260422T125500
SUMMARY:Seminarium dyplomowe - Pracownia Biochemii i Biologii Komórki (I): 21BT-MA-SD 24/25\; 31BT-SP 23/24
CATEGORIES:I
LOCATION:221/221a A-8
END:VEVENT
BEGIN:VEVENT
UID:UZ_PLZ_20260422_1315_507934
DTSTAMP:20260422T131500
DTSTART:20260422T131500
DTEND:20260422T141500
SUMMARY:Konsultacje (I)
CATEGORIES:I
LOCATION:123 A-8\; 503 A-8
END:VEVENT
BEGIN:VEVENT
UID:UZ_PLZ_20260427_1015_505565
DTSTAMP:20260427T101500
DTSTART:20260427T101500
DTEND:20260427T123000
SUMMARY:Analiza zróżnicowania międzyosobniczego na podstawie profilu genetycznego - PW12b (W): 31BT-SP 23/24
CATEGORIES:W
LOCATION:309 A-8
END:VEVENT
BEGIN:VEVENT
UID:UZ_PLZ_20260427_1300_503472
DTSTAMP:20260427T130000
DTSTART:20260427T130000
DTEND:20260427T151500
SUMMARY:Charakterystyka wektorów wybranych zoonoz - PW13a (L): 31BT-SP 23/24/A
CATEGORIES:L
LOCATION:210 A-8
END:VEVENT
BEGIN:VEVENT
UID:UZ_PLZ_20260427_1530_503507
DTSTAMP:20260427T153000
DTSTART:20260427T153000
DTEND:20260427T174500
SUMMARY:Charakterystyka wektorów wybranych zoonoz - PW13a (L): 31BT-SP 23/24/B
CATEGORIES:L
LOCATION:210 A-8
END:VEVENT
BEGIN:VEVENT
UID:UZ_PLZ_20260429_1315_508508
DTSTAMP:20260429T131500
DTSTART:20260429T131500
DTEND:20260429T145000
SUMMARY:Rezerwacja (R): 11BT-SD 25/26
CATEGORIES:R
LOCATION:18 A-8
END:VEVENT
BEGIN:VEVENT
UID:UZ_PLZ_20260506_1100_503369
DTSTAMP:20260506T110000
DTSTART:20260506T110000
DTEND:20260506T130000
SUMMARY:Dyżur pracowniczy (I)
CATEGORIES:I
LOCATION:115 A-8
END:VEVENT
BEGIN:VEVENT
UID:UZ_PLZ_20260506_1105_507175
DTSTAMP:20260506T110500
DTSTART:20260506T110500
DTEND:20260506T125500
SUMMARY:Seminarium dyplomowe - Pracownia Biochemii i Biologii Komórki (I): 21BT-MA-SD 24/25\; 31BT-SP 23/24
CATEGORIES:I
LOCATION:221/221a A-8
END:VEVENT
BEGIN:VEVENT
UID:UZ_PLZ_20260506_1315_507934
DTSTAMP:20260506T131500
DTSTART:20260506T131500
DTEND:20260506T141500
SUMMARY:Konsultacje (I)
CATEGORIES:I
LOCATION:123 A-8\; 503 A-8
END:VEVENT
BEGIN:VEVENT
UID:UZ_PLZ_20260513_1100_503369
DTSTAMP:20260513T110000
DTSTART:20260513T110000
DTEND:20260513T130000
SUMMARY:Dyżur pracowniczy (I)
CATEGORIES:I
LOCATION:115 A-8
END:VEVENT
BEGIN:VEVENT
UID:UZ_PLZ_20260513_1105_507175
DTSTAMP:20260513T110500
DTSTART:20260513T110500
DTEND:20260513T125500
SUMMARY:Seminarium dyplomowe - Pracownia Biochemii i Biologii Komórki (I): 21BT-MA-SD 24/25\; 31BT-SP 23/24
CATEGORIES:I
LOCATION:221/221a A-8
END:VEVENT
BEGIN:VEVENT
UID:UZ_PLZ_20260513_1315_507934
DTSTAMP:20260513T131500
DTSTART:20260513T131500
DTEND:20260513T141500
SUMMARY:Konsultacje (I)
CATEGORIES:I
LOCATION:123 A-8\; 503 A-8
END:VEVENT
BEGIN:VEVENT
UID:UZ_PLZ_20260520_1100_503369
DTSTAMP:20260520T110000
DTSTART:20260520T110000
DTEND:20260520T130000
SUMMARY:Dyżur pracowniczy (I)
CATEGORIES:I
LOCATION:115 A-8
END:VEVENT
BEGIN:VEVENT
UID:UZ_PLZ_20260520_1105_507175
DTSTAMP:20260520T110500
DTSTART:20260520T110500
DTEND:20260520T125500
SUMMARY:Seminarium dyplomowe - Pracownia Biochemii i Biologii Komórki (I): 21BT-MA-SD 24/25\; 31BT-SP 23/24
CATEGORIES:I
LOCATION:221/221a A-8
END:VEVENT
BEGIN:VEVENT
UID:UZ_PLZ_20260520_1315_507934
DTSTAMP:20260520T131500
DTSTART:20260520T131500
DTEND:20260520T141500
SUMMARY:Konsultacje (I)
CATEGORIES:I
LOCATION:123 A-8\; 503 A-8
END:VEVENT
BEGIN:VEVENT
UID:UZ_PLZ_20260527_1100_503369
DTSTAMP:20260527T110000
DTSTART:20260527T110000
DTEND:20260527T130000
SUMMARY:Dyżur pracowniczy (I)
CATEGORIES:I
LOCATION:115 A-8
END:VEVENT
BEGIN:VEVENT
UID:UZ_PLZ_20260527_1315_507934
DTSTAMP:20260527T131500
DTSTART:20260527T131500
DTEND:20260527T141500
SUMMARY:Konsultacje (I)
CATEGORIES:I
LOCATION:123 A-8\; 503 A-8
END:VEVENT
BEGIN:VEVENT
UID:UZ_PLZ_20260603_1100_503369
DTSTAMP:20260603T110000
DTSTART:20260603T110000
DTEND:20260603T130000
SUMMARY:Dyżur pracowniczy (I)
CATEGORIES:I
LOCATION:115 A-8
END:VEVENT
BEGIN:VEVENT
UID:UZ_PLZ_20260603_1315_507934
DTSTAMP:20260603T131500
DTSTART:20260603T131500
DTEND:20260603T141500
SUMMARY:Konsultacje (I)
CATEGORIES:I
LOCATION:123 A-8\; 503 A-8
END:VEVENT
BEGIN:VEVENT
UID:UZ_PLZ_20260610_1100_503369
DTSTAMP:20260610T110000
DTSTART:20260610T110000
DTEND:20260610T130000
SUMMARY:Dyżur pracowniczy (I)
CATEGORIES:I
LOCATION:115 A-8
END:VEVENT
BEGIN:VEVENT
UID:UZ_PLZ_20260610_1315_507934
DTSTAMP:20260610T131500
DTSTART:20260610T131500
DTEND:20260610T141500
SUMMARY:Konsultacje (I)
CATEGORIES:I
LOCATION:123 A-8\; 503 A-8
END:VEVENT
BEGIN:VEVENT
UID:UZ_PLZ_20260617_1100_503369
DTSTAMP:20260617T110000
DTSTART:20260617T110000
DTEND:20260617T130000
SUMMARY:Dyżur pracowniczy (I)
CATEGORIES:I
LOCATION:115 A-8
END:VEVENT
BEGIN:VEVENT
UID:UZ_PLZ_20260617_1315_507934
DTSTAMP:20260617T131500
DTSTART:20260617T131500
DTEND:20260617T141500
SUMMARY:Konsultacje (I)
CATEGORIES:I
LOCATION:123 A-8\; 503 A-8
END:VEVENT
END:VCALENDAR
