BEGIN:VCALENDAR
TZID:Europe/Warsaw
X-WR-TIMEZONE:Europe/Warsaw
VERSION:2.0
PRODID:-//Uniwersytet Zielonogórski//NONSGML Plan zajęć v1.0//EN
NAME:Plan zajęć - semestr zimowy 2025/2026
X-WR-CALNAME:Plan zajęć - semestr zimowy 2025/2026
COLOR:green
CALSCALE:GREGORIAN
BEGIN:VEVENT
UID:UZ_PLZ_20251001_1100_487088
DTSTAMP:20251001T110000
DTSTART:20251001T110000
DTEND:20251001T130000
SUMMARY:Dyżur pracowniczy (I)
CATEGORIES:I
LOCATION:115 A-8
END:VEVENT
BEGIN:VEVENT
UID:UZ_PLZ_20251001_1315_486903
DTSTAMP:20251001T131500
DTSTART:20251001T131500
DTEND:20251001T145000
SUMMARY:Genetycznie modyfikowane organizmy (W): 31BT-SP 23/24
CATEGORIES:W
LOCATION:117 A-8
END:VEVENT
BEGIN:VEVENT
UID:UZ_PLZ_20251003_1245_486896
DTSTAMP:20251003T124500
DTSTART:20251003T124500
DTEND:20251003T150000
SUMMARY:Identyfikacja osobnicza z wykorzystaniem msDNA - PW11b (L): 31BT-SP 23/24/B
CATEGORIES:L
LOCATION:210 A-8
DESCRIPTION:<a href="https://classroom.google.com/c/ODA5ODk2NzU5NTMy">Google Classroom</a> 
END:VEVENT
BEGIN:VEVENT
UID:UZ_PLZ_20251003_1515_486837
DTSTAMP:20251003T151500
DTSTART:20251003T151500
DTEND:20251003T173000
SUMMARY:Identyfikacja osobnicza z wykorzystaniem msDNA - PW11b (L): 31BT-SP 23/24/A
CATEGORIES:L
LOCATION:210 A-8
END:VEVENT
BEGIN:VEVENT
UID:UZ_PLZ_20251006_0930_486837
DTSTAMP:20251006T093000
DTSTART:20251006T093000
DTEND:20251006T114500
SUMMARY:Identyfikacja osobnicza z wykorzystaniem msDNA - PW11b (L): 31BT-SP 23/24/A
CATEGORIES:L
LOCATION:210 A-8
END:VEVENT
BEGIN:VEVENT
UID:UZ_PLZ_20251006_1400_486896
DTSTAMP:20251006T140000
DTSTART:20251006T140000
DTEND:20251006T161500
SUMMARY:Identyfikacja osobnicza z wykorzystaniem msDNA - PW11b (L): 31BT-SP 23/24/B
CATEGORIES:L
LOCATION:210 A-8
DESCRIPTION:<a href="https://classroom.google.com/c/ODA5ODk2NzU5NTMy">Google Classroom</a> 
END:VEVENT
BEGIN:VEVENT
UID:UZ_PLZ_20251008_1100_487088
DTSTAMP:20251008T110000
DTSTART:20251008T110000
DTEND:20251008T130000
SUMMARY:Dyżur pracowniczy (I)
CATEGORIES:I
LOCATION:115 A-8
END:VEVENT
BEGIN:VEVENT
UID:UZ_PLZ_20251008_1315_486903
DTSTAMP:20251008T131500
DTSTART:20251008T131500
DTEND:20251008T145000
SUMMARY:Genetycznie modyfikowane organizmy (W): 31BT-SP 23/24
CATEGORIES:W
LOCATION:117 A-8
END:VEVENT
BEGIN:VEVENT
UID:UZ_PLZ_20251010_1245_486896
DTSTAMP:20251010T124500
DTSTART:20251010T124500
DTEND:20251010T150000
SUMMARY:Identyfikacja osobnicza z wykorzystaniem msDNA - PW11b (L): 31BT-SP 23/24/B
CATEGORIES:L
LOCATION:210 A-8
DESCRIPTION:<a href="https://classroom.google.com/c/ODA5ODk2NzU5NTMy">Google Classroom</a> 
END:VEVENT
BEGIN:VEVENT
UID:UZ_PLZ_20251010_1515_486837
DTSTAMP:20251010T151500
DTSTART:20251010T151500
DTEND:20251010T173000
SUMMARY:Identyfikacja osobnicza z wykorzystaniem msDNA - PW11b (L): 31BT-SP 23/24/A
CATEGORIES:L
LOCATION:210 A-8
END:VEVENT
BEGIN:VEVENT
UID:UZ_PLZ_20251013_0930_486837
DTSTAMP:20251013T093000
DTSTART:20251013T093000
DTEND:20251013T114500
SUMMARY:Identyfikacja osobnicza z wykorzystaniem msDNA - PW11b (L): 31BT-SP 23/24/A
CATEGORIES:L
LOCATION:210 A-8
END:VEVENT
BEGIN:VEVENT
UID:UZ_PLZ_20251013_1400_486896
DTSTAMP:20251013T140000
DTSTART:20251013T140000
DTEND:20251013T161500
SUMMARY:Identyfikacja osobnicza z wykorzystaniem msDNA - PW11b (L): 31BT-SP 23/24/B
CATEGORIES:L
LOCATION:210 A-8
DESCRIPTION:<a href="https://classroom.google.com/c/ODA5ODk2NzU5NTMy">Google Classroom</a> 
END:VEVENT
BEGIN:VEVENT
UID:UZ_PLZ_20251015_1100_487088
DTSTAMP:20251015T110000
DTSTART:20251015T110000
DTEND:20251015T130000
SUMMARY:Dyżur pracowniczy (I)
CATEGORIES:I
LOCATION:115 A-8
END:VEVENT
BEGIN:VEVENT
UID:UZ_PLZ_20251015_1315_486903
DTSTAMP:20251015T131500
DTSTART:20251015T131500
DTEND:20251015T145000
SUMMARY:Genetycznie modyfikowane organizmy (W): 31BT-SP 23/24
CATEGORIES:W
LOCATION:117 A-8
END:VEVENT
BEGIN:VEVENT
UID:UZ_PLZ_20251017_1245_486873
DTSTAMP:20251017T124500
DTSTART:20251017T124500
DTEND:20251017T150000
SUMMARY:Genetycznie modyfikowane organizmy (L): 31BT-SP 23/24/B
CATEGORIES:L
LOCATION:210 A-8
END:VEVENT
BEGIN:VEVENT
UID:UZ_PLZ_20251017_1515_486882
DTSTAMP:20251017T151500
DTSTART:20251017T151500
DTEND:20251017T173000
SUMMARY:Genetycznie modyfikowane organizmy (L): 31BT-SP 23/24/A
CATEGORIES:L
LOCATION:210 A-8
DESCRIPTION:<a href="https://classroom.google.com/c/ODA5ODk3MDI4MTE3">Google Classroom</a> 
END:VEVENT
BEGIN:VEVENT
UID:UZ_PLZ_20251020_0930_486837
DTSTAMP:20251020T093000
DTSTART:20251020T093000
DTEND:20251020T114500
SUMMARY:Identyfikacja osobnicza z wykorzystaniem msDNA - PW11b (L): 31BT-SP 23/24/A
CATEGORIES:L
LOCATION:210 A-8
END:VEVENT
BEGIN:VEVENT
UID:UZ_PLZ_20251020_1215_493526
DTSTAMP:20251020T121500
DTSTART:20251020T121500
DTEND:20251020T131500
SUMMARY:Konsultacje (I)
CATEGORIES:I
LOCATION:123 A-8\; 503 A-8
END:VEVENT
BEGIN:VEVENT
UID:UZ_PLZ_20251020_1400_486896
DTSTAMP:20251020T140000
DTSTART:20251020T140000
DTEND:20251020T161500
SUMMARY:Identyfikacja osobnicza z wykorzystaniem msDNA - PW11b (L): 31BT-SP 23/24/B
CATEGORIES:L
LOCATION:210 A-8
DESCRIPTION:<a href="https://classroom.google.com/c/ODA5ODk2NzU5NTMy">Google Classroom</a> 
END:VEVENT
BEGIN:VEVENT
UID:UZ_PLZ_20251022_1100_487088
DTSTAMP:20251022T110000
DTSTART:20251022T110000
DTEND:20251022T130000
SUMMARY:Dyżur pracowniczy (I)
CATEGORIES:I
LOCATION:115 A-8
END:VEVENT
BEGIN:VEVENT
UID:UZ_PLZ_20251022_1315_486903
DTSTAMP:20251022T131500
DTSTART:20251022T131500
DTEND:20251022T145000
SUMMARY:Genetycznie modyfikowane organizmy (W): 31BT-SP 23/24
CATEGORIES:W
LOCATION:117 A-8
END:VEVENT
BEGIN:VEVENT
UID:UZ_PLZ_20251024_1245_486873
DTSTAMP:20251024T124500
DTSTART:20251024T124500
DTEND:20251024T150000
SUMMARY:Genetycznie modyfikowane organizmy (L): 31BT-SP 23/24/B
CATEGORIES:L
LOCATION:210 A-8
END:VEVENT
BEGIN:VEVENT
UID:UZ_PLZ_20251024_1515_486882
DTSTAMP:20251024T151500
DTSTART:20251024T151500
DTEND:20251024T173000
SUMMARY:Genetycznie modyfikowane organizmy (L): 31BT-SP 23/24/A
CATEGORIES:L
LOCATION:210 A-8
DESCRIPTION:<a href="https://classroom.google.com/c/ODA5ODk3MDI4MTE3">Google Classroom</a> 
END:VEVENT
BEGIN:VEVENT
UID:UZ_PLZ_20251027_0930_486882
DTSTAMP:20251027T093000
DTSTART:20251027T093000
DTEND:20251027T114500
SUMMARY:Genetycznie modyfikowane organizmy (L): 31BT-SP 23/24/A
CATEGORIES:L
LOCATION:210 A-8
DESCRIPTION:<a href="https://classroom.google.com/c/ODA5ODk3MDI4MTE3">Google Classroom</a> 
END:VEVENT
BEGIN:VEVENT
UID:UZ_PLZ_20251027_1215_493526
DTSTAMP:20251027T121500
DTSTART:20251027T121500
DTEND:20251027T131500
SUMMARY:Konsultacje (I)
CATEGORIES:I
LOCATION:123 A-8\; 503 A-8
END:VEVENT
BEGIN:VEVENT
UID:UZ_PLZ_20251027_1400_486873
DTSTAMP:20251027T140000
DTSTART:20251027T140000
DTEND:20251027T161500
SUMMARY:Genetycznie modyfikowane organizmy (L): 31BT-SP 23/24/B
CATEGORIES:L
LOCATION:210 A-8
END:VEVENT
BEGIN:VEVENT
UID:UZ_PLZ_20251029_1100_487088
DTSTAMP:20251029T110000
DTSTART:20251029T110000
DTEND:20251029T130000
SUMMARY:Dyżur pracowniczy (I)
CATEGORIES:I
LOCATION:115 A-8
END:VEVENT
BEGIN:VEVENT
UID:UZ_PLZ_20251029_1315_486903
DTSTAMP:20251029T131500
DTSTART:20251029T131500
DTEND:20251029T145000
SUMMARY:Genetycznie modyfikowane organizmy (W): 31BT-SP 23/24
CATEGORIES:W
LOCATION:117 A-8
END:VEVENT
BEGIN:VEVENT
UID:UZ_PLZ_20251103_0930_486882
DTSTAMP:20251103T093000
DTSTART:20251103T093000
DTEND:20251103T114500
SUMMARY:Genetycznie modyfikowane organizmy (L): 31BT-SP 23/24/A
CATEGORIES:L
LOCATION:210 A-8
DESCRIPTION:<a href="https://classroom.google.com/c/ODA5ODk3MDI4MTE3">Google Classroom</a> 
END:VEVENT
BEGIN:VEVENT
UID:UZ_PLZ_20251103_1215_493526
DTSTAMP:20251103T121500
DTSTART:20251103T121500
DTEND:20251103T131500
SUMMARY:Konsultacje (I)
CATEGORIES:I
LOCATION:123 A-8\; 503 A-8
END:VEVENT
BEGIN:VEVENT
UID:UZ_PLZ_20251103_1400_486873
DTSTAMP:20251103T140000
DTSTART:20251103T140000
DTEND:20251103T161500
SUMMARY:Genetycznie modyfikowane organizmy (L): 31BT-SP 23/24/B
CATEGORIES:L
LOCATION:210 A-8
END:VEVENT
BEGIN:VEVENT
UID:UZ_PLZ_20251105_1100_487088
DTSTAMP:20251105T110000
DTSTART:20251105T110000
DTEND:20251105T130000
SUMMARY:Dyżur pracowniczy (I)
CATEGORIES:I
LOCATION:115 A-8
END:VEVENT
BEGIN:VEVENT
UID:UZ_PLZ_20251105_1315_486903
DTSTAMP:20251105T131500
DTSTART:20251105T131500
DTEND:20251105T145000
SUMMARY:Genetycznie modyfikowane organizmy (W): 31BT-SP 23/24
CATEGORIES:W
LOCATION:117 A-8
END:VEVENT
BEGIN:VEVENT
UID:UZ_PLZ_20251112_1100_487088
DTSTAMP:20251112T110000
DTSTART:20251112T110000
DTEND:20251112T130000
SUMMARY:Dyżur pracowniczy (I)
CATEGORIES:I
LOCATION:115 A-8
END:VEVENT
BEGIN:VEVENT
UID:UZ_PLZ_20251113_0930_486882
DTSTAMP:20251113T093000
DTSTART:20251113T093000
DTEND:20251113T114500
SUMMARY:Genetycznie modyfikowane organizmy (L): 31BT-SP 23/24/A
CATEGORIES:L
LOCATION:210 A-8
DESCRIPTION:<a href="https://classroom.google.com/c/ODA5ODk3MDI4MTE3">Google Classroom</a> 
END:VEVENT
BEGIN:VEVENT
UID:UZ_PLZ_20251113_1100_494384
DTSTAMP:20251113T110000
DTSTART:20251113T110000
DTEND:20251113T120000
SUMMARY:Rezerwacja (R)
CATEGORIES:R
LOCATION:215 A-8
END:VEVENT
BEGIN:VEVENT
UID:UZ_PLZ_20251113_1205_486903
DTSTAMP:20251113T120500
DTSTART:20251113T120500
DTEND:20251113T134000
SUMMARY:Genetycznie modyfikowane organizmy (W): 31BT-SP 23/24
CATEGORIES:W
LOCATION:215 A-8
END:VEVENT
BEGIN:VEVENT
UID:UZ_PLZ_20251113_1215_493526
DTSTAMP:20251113T121500
DTSTART:20251113T121500
DTEND:20251113T131500
SUMMARY:Konsultacje (I)
CATEGORIES:I
LOCATION:123 A-8\; 503 A-8
END:VEVENT
BEGIN:VEVENT
UID:UZ_PLZ_20251113_1400_486873
DTSTAMP:20251113T140000
DTSTART:20251113T140000
DTEND:20251113T161500
SUMMARY:Genetycznie modyfikowane organizmy (L): 31BT-SP 23/24/B
CATEGORIES:L
LOCATION:210 A-8
END:VEVENT
BEGIN:VEVENT
UID:UZ_PLZ_20251117_1215_493526
DTSTAMP:20251117T121500
DTSTART:20251117T121500
DTEND:20251117T131500
SUMMARY:Konsultacje (I)
CATEGORIES:I
LOCATION:123 A-8\; 503 A-8
END:VEVENT
BEGIN:VEVENT
UID:UZ_PLZ_20251119_1100_487088
DTSTAMP:20251119T110000
DTSTART:20251119T110000
DTEND:20251119T130000
SUMMARY:Dyżur pracowniczy (I)
CATEGORIES:I
LOCATION:115 A-8
END:VEVENT
BEGIN:VEVENT
UID:UZ_PLZ_20251124_1215_493526
DTSTAMP:20251124T121500
DTSTART:20251124T121500
DTEND:20251124T131500
SUMMARY:Konsultacje (I)
CATEGORIES:I
LOCATION:123 A-8\; 503 A-8
END:VEVENT
BEGIN:VEVENT
UID:UZ_PLZ_20251126_1000_494384
DTSTAMP:20251126T100000
DTSTART:20251126T100000
DTEND:20251126T105900
SUMMARY:Rezerwacja (R)
CATEGORIES:R
LOCATION:221/221a A-8
END:VEVENT
BEGIN:VEVENT
UID:UZ_PLZ_20251126_1100_487088
DTSTAMP:20251126T110000
DTSTART:20251126T110000
DTEND:20251126T130000
SUMMARY:Dyżur pracowniczy (I)
CATEGORIES:I
LOCATION:115 A-8
END:VEVENT
BEGIN:VEVENT
UID:UZ_PLZ_20251201_1215_493526
DTSTAMP:20251201T121500
DTSTART:20251201T121500
DTEND:20251201T131500
SUMMARY:Konsultacje (I)
CATEGORIES:I
LOCATION:123 A-8\; 503 A-8
END:VEVENT
BEGIN:VEVENT
UID:UZ_PLZ_20251208_1215_493526
DTSTAMP:20251208T121500
DTSTART:20251208T121500
DTEND:20251208T131500
SUMMARY:Konsultacje (I)
CATEGORIES:I
LOCATION:123 A-8\; 503 A-8
END:VEVENT
BEGIN:VEVENT
UID:UZ_PLZ_20251210_1100_487088
DTSTAMP:20251210T110000
DTSTART:20251210T110000
DTEND:20251210T130000
SUMMARY:Dyżur pracowniczy (I)
CATEGORIES:I
LOCATION:115 A-8
END:VEVENT
BEGIN:VEVENT
UID:UZ_PLZ_20251215_1215_493526
DTSTAMP:20251215T121500
DTSTART:20251215T121500
DTEND:20251215T131500
SUMMARY:Konsultacje (I)
CATEGORIES:I
LOCATION:123 A-8\; 503 A-8
END:VEVENT
BEGIN:VEVENT
UID:UZ_PLZ_20251217_1000_494384
DTSTAMP:20251217T100000
DTSTART:20251217T100000
DTEND:20251217T105900
SUMMARY:Rezerwacja (R)
CATEGORIES:R
LOCATION:116 A-8
END:VEVENT
BEGIN:VEVENT
UID:UZ_PLZ_20251217_1100_487088
DTSTAMP:20251217T110000
DTSTART:20251217T110000
DTEND:20251217T130000
SUMMARY:Dyżur pracowniczy (I)
CATEGORIES:I
LOCATION:115 A-8
END:VEVENT
BEGIN:VEVENT
UID:UZ_PLZ_20260112_1215_493526
DTSTAMP:20260112T121500
DTSTART:20260112T121500
DTEND:20260112T131500
SUMMARY:Konsultacje (I)
CATEGORIES:I
LOCATION:123 A-8\; 503 A-8
END:VEVENT
BEGIN:VEVENT
UID:UZ_PLZ_20260114_1100_487088
DTSTAMP:20260114T110000
DTSTART:20260114T110000
DTEND:20260114T130000
SUMMARY:Dyżur pracowniczy (I)
CATEGORIES:I
LOCATION:115 A-8
END:VEVENT
BEGIN:VEVENT
UID:UZ_PLZ_20260119_1215_493526
DTSTAMP:20260119T121500
DTSTART:20260119T121500
DTEND:20260119T131500
SUMMARY:Konsultacje (I)
CATEGORIES:I
LOCATION:123 A-8\; 503 A-8
END:VEVENT
BEGIN:VEVENT
UID:UZ_PLZ_20260121_1100_487088
DTSTAMP:20260121T110000
DTSTART:20260121T110000
DTEND:20260121T130000
SUMMARY:Dyżur pracowniczy (I)
CATEGORIES:I
LOCATION:115 A-8
END:VEVENT
BEGIN:VEVENT
UID:UZ_PLZ_20260126_1215_493526
DTSTAMP:20260126T121500
DTSTART:20260126T121500
DTEND:20260126T131500
SUMMARY:Konsultacje (I)
CATEGORIES:I
LOCATION:123 A-8\; 503 A-8
END:VEVENT
BEGIN:VEVENT
UID:UZ_PLZ_20260128_1100_487088
DTSTAMP:20260128T110000
DTSTART:20260128T110000
DTEND:20260128T130000
SUMMARY:Dyżur pracowniczy (I)
CATEGORIES:I
LOCATION:115 A-8
END:VEVENT
BEGIN:VEVENT
UID:UZ_PLZ_20260202_1215_493526
DTSTAMP:20260202T121500
DTSTART:20260202T121500
DTEND:20260202T131500
SUMMARY:Konsultacje (I)
CATEGORIES:I
LOCATION:123 A-8\; 503 A-8
END:VEVENT
END:VCALENDAR
