BEGIN:VCALENDAR
TZID:Europe/Warsaw
X-WR-TIMEZONE:Europe/Warsaw
VERSION:2.0
PRODID:-//Uniwersytet Zielonogórski//NONSGML Plan zajęć v1.0//EN
NAME:Plan zajęć - semestr letni 2025/2026
X-WR-CALNAME:Plan zajęć - semestr letni 2025/2026
COLOR:green
CALSCALE:GREGORIAN
BEGIN:VEVENT
UID:UZ_PLZ_20260430_0730_505222
DTSTAMP:20260430T073000
DTSTART:20260430T073000
DTEND:20260430T090000
SUMMARY:Kurs wyrównawczy z matematyki dla IŚ-SP-WNIT (Ć): 15IS-SP
CATEGORIES:Ć
LOCATION:104 A-12
END:VEVENT
BEGIN:VEVENT
UID:UZ_PLZ_20260430_0915_506764
DTSTAMP:20260430T091500
DTSTART:20260430T091500
DTEND:20260430T104500
SUMMARY:Seminarium zakładowe (I)
CATEGORIES:I
LOCATION:118 A-29
END:VEVENT
BEGIN:VEVENT
UID:UZ_PLZ_20260506_0915_499697
DTSTAMP:20260506T091500
DTSTART:20260506T091500
DTEND:20260506T104500
SUMMARY:Matematyka II (Ć): 11IL-SP
CATEGORIES:Ć
LOCATION:B312 A-11
END:VEVENT
BEGIN:VEVENT
UID:UZ_PLZ_20260506_1245_506748
DTSTAMP:20260506T124500
DTSTART:20260506T124500
DTEND:20260506T141500
SUMMARY:Dyżur pracowniczy (I)
CATEGORIES:I
END:VEVENT
BEGIN:VEVENT
UID:UZ_PLZ_20260507_0730_505222
DTSTAMP:20260507T073000
DTSTART:20260507T073000
DTEND:20260507T090000
SUMMARY:Kurs wyrównawczy z matematyki dla IŚ-SP-WNIT (Ć): 15IS-SP
CATEGORIES:Ć
LOCATION:104 A-12
END:VEVENT
BEGIN:VEVENT
UID:UZ_PLZ_20260507_0915_506764
DTSTAMP:20260507T091500
DTSTART:20260507T091500
DTEND:20260507T104500
SUMMARY:Seminarium zakładowe (I)
CATEGORIES:I
LOCATION:118 A-29
END:VEVENT
BEGIN:VEVENT
UID:UZ_PLZ_20260508_0915_499697
DTSTAMP:20260508T091500
DTSTART:20260508T091500
DTEND:20260508T104500
SUMMARY:Matematyka II (Ć): 11IL-SP
CATEGORIES:Ć
LOCATION:B312 A-11
END:VEVENT
BEGIN:VEVENT
UID:UZ_PLZ_20260513_0915_499697
DTSTAMP:20260513T091500
DTSTART:20260513T091500
DTEND:20260513T104500
SUMMARY:Matematyka II (Ć): 11IL-SP
CATEGORIES:Ć
LOCATION:B312 A-11
END:VEVENT
BEGIN:VEVENT
UID:UZ_PLZ_20260513_1245_506748
DTSTAMP:20260513T124500
DTSTART:20260513T124500
DTEND:20260513T141500
SUMMARY:Dyżur pracowniczy (I)
CATEGORIES:I
END:VEVENT
BEGIN:VEVENT
UID:UZ_PLZ_20260514_0730_505222
DTSTAMP:20260514T073000
DTSTART:20260514T073000
DTEND:20260514T090000
SUMMARY:Kurs wyrównawczy z matematyki dla IŚ-SP-WNIT (Ć): 15IS-SP
CATEGORIES:Ć
LOCATION:104 A-12
END:VEVENT
BEGIN:VEVENT
UID:UZ_PLZ_20260514_0915_506764
DTSTAMP:20260514T091500
DTSTART:20260514T091500
DTEND:20260514T104500
SUMMARY:Seminarium zakładowe (I)
CATEGORIES:I
LOCATION:118 A-29
END:VEVENT
BEGIN:VEVENT
UID:UZ_PLZ_20260515_0915_499697
DTSTAMP:20260515T091500
DTSTART:20260515T091500
DTEND:20260515T104500
SUMMARY:Matematyka II (Ć): 11IL-SP
CATEGORIES:Ć
LOCATION:B213 A-11
END:VEVENT
BEGIN:VEVENT
UID:UZ_PLZ_20260520_0915_499697
DTSTAMP:20260520T091500
DTSTART:20260520T091500
DTEND:20260520T104500
SUMMARY:Matematyka II (Ć): 11IL-SP
CATEGORIES:Ć
LOCATION:B312 A-11
END:VEVENT
BEGIN:VEVENT
UID:UZ_PLZ_20260520_1245_506748
DTSTAMP:20260520T124500
DTSTART:20260520T124500
DTEND:20260520T141500
SUMMARY:Dyżur pracowniczy (I)
CATEGORIES:I
END:VEVENT
BEGIN:VEVENT
UID:UZ_PLZ_20260521_0730_505222
DTSTAMP:20260521T073000
DTSTART:20260521T073000
DTEND:20260521T090000
SUMMARY:Kurs wyrównawczy z matematyki dla IŚ-SP-WNIT (Ć): 15IS-SP
CATEGORIES:Ć
LOCATION:104 A-12
END:VEVENT
BEGIN:VEVENT
UID:UZ_PLZ_20260521_0915_506764
DTSTAMP:20260521T091500
DTSTART:20260521T091500
DTEND:20260521T104500
SUMMARY:Seminarium zakładowe (I)
CATEGORIES:I
LOCATION:118 A-29
END:VEVENT
BEGIN:VEVENT
UID:UZ_PLZ_20260527_0915_499697
DTSTAMP:20260527T091500
DTSTART:20260527T091500
DTEND:20260527T104500
SUMMARY:Matematyka II (Ć): 11IL-SP
CATEGORIES:Ć
LOCATION:B312 A-11
END:VEVENT
BEGIN:VEVENT
UID:UZ_PLZ_20260527_1245_506748
DTSTAMP:20260527T124500
DTSTART:20260527T124500
DTEND:20260527T141500
SUMMARY:Dyżur pracowniczy (I)
CATEGORIES:I
END:VEVENT
BEGIN:VEVENT
UID:UZ_PLZ_20260528_0730_505222
DTSTAMP:20260528T073000
DTSTART:20260528T073000
DTEND:20260528T090000
SUMMARY:Kurs wyrównawczy z matematyki dla IŚ-SP-WNIT (Ć): 15IS-SP
CATEGORIES:Ć
LOCATION:104 A-12
END:VEVENT
BEGIN:VEVENT
UID:UZ_PLZ_20260528_0915_506764
DTSTAMP:20260528T091500
DTSTART:20260528T091500
DTEND:20260528T104500
SUMMARY:Seminarium zakładowe (I)
CATEGORIES:I
LOCATION:118 A-29
END:VEVENT
BEGIN:VEVENT
UID:UZ_PLZ_20260603_0915_499697
DTSTAMP:20260603T091500
DTSTART:20260603T091500
DTEND:20260603T104500
SUMMARY:Matematyka II (Ć): 11IL-SP
CATEGORIES:Ć
LOCATION:B312 A-11
END:VEVENT
BEGIN:VEVENT
UID:UZ_PLZ_20260603_1245_506748
DTSTAMP:20260603T124500
DTSTART:20260603T124500
DTEND:20260603T141500
SUMMARY:Dyżur pracowniczy (I)
CATEGORIES:I
END:VEVENT
BEGIN:VEVENT
UID:UZ_PLZ_20260610_0915_499697
DTSTAMP:20260610T091500
DTSTART:20260610T091500
DTEND:20260610T104500
SUMMARY:Matematyka II (Ć): 11IL-SP
CATEGORIES:Ć
LOCATION:B312 A-11
END:VEVENT
BEGIN:VEVENT
UID:UZ_PLZ_20260610_1245_506748
DTSTAMP:20260610T124500
DTSTART:20260610T124500
DTEND:20260610T141500
SUMMARY:Dyżur pracowniczy (I)
CATEGORIES:I
END:VEVENT
BEGIN:VEVENT
UID:UZ_PLZ_20260611_0730_505222
DTSTAMP:20260611T073000
DTSTART:20260611T073000
DTEND:20260611T090000
SUMMARY:Kurs wyrównawczy z matematyki dla IŚ-SP-WNIT (Ć): 15IS-SP
CATEGORIES:Ć
LOCATION:104 A-12
END:VEVENT
BEGIN:VEVENT
UID:UZ_PLZ_20260611_0915_506764
DTSTAMP:20260611T091500
DTSTART:20260611T091500
DTEND:20260611T104500
SUMMARY:Seminarium zakładowe (I)
CATEGORIES:I
LOCATION:118 A-29
END:VEVENT
BEGIN:VEVENT
UID:UZ_PLZ_20260617_0915_499697
DTSTAMP:20260617T091500
DTSTART:20260617T091500
DTEND:20260617T104500
SUMMARY:Matematyka II (Ć): 11IL-SP
CATEGORIES:Ć
LOCATION:B312 A-11
END:VEVENT
BEGIN:VEVENT
UID:UZ_PLZ_20260617_1245_506748
DTSTAMP:20260617T124500
DTSTART:20260617T124500
DTEND:20260617T141500
SUMMARY:Dyżur pracowniczy (I)
CATEGORIES:I
END:VEVENT
BEGIN:VEVENT
UID:UZ_PLZ_20260618_0730_505222
DTSTAMP:20260618T073000
DTSTART:20260618T073000
DTEND:20260618T090000
SUMMARY:Kurs wyrównawczy z matematyki dla IŚ-SP-WNIT (Ć): 15IS-SP
CATEGORIES:Ć
LOCATION:104 A-12
END:VEVENT
BEGIN:VEVENT
UID:UZ_PLZ_20260618_0915_506764
DTSTAMP:20260618T091500
DTSTART:20260618T091500
DTEND:20260618T104500
SUMMARY:Seminarium zakładowe (I)
CATEGORIES:I
LOCATION:118 A-29
END:VEVENT
END:VCALENDAR
