BEGIN:VCALENDAR
TZID:Europe/Warsaw
X-WR-TIMEZONE:Europe/Warsaw
VERSION:2.0
PRODID:-//Uniwersytet Zielonogórski//NONSGML Plan zajęć v1.0//EN
NAME:Plan zajęć - semestr letni 2025/2026
X-WR-CALNAME:Plan zajęć - semestr letni 2025/2026
COLOR:green
CALSCALE:GREGORIAN
BEGIN:VEVENT
UID:UZ_PLZ_20260423_0800_506549
DTSTAMP:20260423T080000
DTSTART:20260423T080000
DTEND:20260423T110000
SUMMARY:Fizjologia z elementami fizjologii klinicznej (L): 2 LEK-JMS 24/25/L3
CATEGORIES:L
LOCATION:210 A-29
END:VEVENT
BEGIN:VEVENT
UID:UZ_PLZ_20260423_1115_503018
DTSTAMP:20260423T111500
DTSTART:20260423T111500
DTEND:20260423T141500
SUMMARY:Fizjologia z elementami fizjologii klinicznej (L): 2 LEK-JMN 24/25/L10
CATEGORIES:L
LOCATION:210 A-29
END:VEVENT
BEGIN:VEVENT
UID:UZ_PLZ_20260423_1430_506546
DTSTAMP:20260423T143000
DTSTART:20260423T143000
DTEND:20260423T173000
SUMMARY:Fizjologia z elementami fizjologii klinicznej (L): 2 LEK-JMN 24/25/L12
CATEGORIES:L
LOCATION:210 A-29
END:VEVENT
BEGIN:VEVENT
UID:UZ_PLZ_20260424_0800_506550
DTSTAMP:20260424T080000
DTSTART:20260424T080000
DTEND:20260424T110000
SUMMARY:Fizjologia z elementami fizjologii klinicznej (L): 2 LEK-JMS 24/25/L4
CATEGORIES:L
LOCATION:210 A-29
END:VEVENT
BEGIN:VEVENT
UID:UZ_PLZ_20260424_1115_506551
DTSTAMP:20260424T111500
DTSTART:20260424T111500
DTEND:20260424T141500
SUMMARY:Fizjologia z elementami fizjologii klinicznej (L): 2 LEK-JMS 24/25/L5
CATEGORIES:L
LOCATION:210 A-29
END:VEVENT
BEGIN:VEVENT
UID:UZ_PLZ_20260427_0915_506543
DTSTAMP:20260427T091500
DTSTART:20260427T091500
DTEND:20260427T104500
SUMMARY:Fizjologia z elementami fizjologii klinicznej (W): 2 LEK-JMN 24/25
CATEGORIES:W
LOCATION:5/5a A-22
END:VEVENT
BEGIN:VEVENT
UID:UZ_PLZ_20260427_1100_496671
DTSTAMP:20260427T110000
DTSTART:20260427T110000
DTEND:20260427T123000
SUMMARY:Fizjologia z elementami fizjologii klinicznej (W): 2 LEK-JMS 24/25
CATEGORIES:W
LOCATION:5/5a A-22
END:VEVENT
BEGIN:VEVENT
UID:UZ_PLZ_20260427_1245_506547
DTSTAMP:20260427T124500
DTSTART:20260427T124500
DTEND:20260427T154500
SUMMARY:Fizjologia z elementami fizjologii klinicznej (L): 2 LEK-JMS 24/25/L1
CATEGORIES:L
LOCATION:204/204a A-22
END:VEVENT
BEGIN:VEVENT
UID:UZ_PLZ_20260428_0800_506554
DTSTAMP:20260428T080000
DTSTART:20260428T080000
DTEND:20260428T110000
SUMMARY:Fizjologia z elementami fizjologii klinicznej (L): 2 LEK-JMS 24/25/L8
CATEGORIES:L
LOCATION:204/204a A-22
END:VEVENT
BEGIN:VEVENT
UID:UZ_PLZ_20260428_1115_503018
DTSTAMP:20260428T111500
DTSTART:20260428T111500
DTEND:20260428T141500
SUMMARY:Fizjologia z elementami fizjologii klinicznej (L): 2 LEK-JMN 24/25/L10
CATEGORIES:L
LOCATION:204/204a A-22
END:VEVENT
BEGIN:VEVENT
UID:UZ_PLZ_20260428_1430_506552
DTSTAMP:20260428T143000
DTSTART:20260428T143000
DTEND:20260428T173000
SUMMARY:Fizjologia z elementami fizjologii klinicznej (L): 2 LEK-JMS 24/25/L6
CATEGORIES:L
LOCATION:204/204a A-22
END:VEVENT
BEGIN:VEVENT
UID:UZ_PLZ_20260428_1745_506550
DTSTAMP:20260428T174500
DTSTART:20260428T174500
DTEND:20260428T204500
SUMMARY:Fizjologia z elementami fizjologii klinicznej (L): 2 LEK-JMS 24/25/L4
CATEGORIES:L
LOCATION:204/204a A-22
END:VEVENT
BEGIN:VEVENT
UID:UZ_PLZ_20260429_0800_506546
DTSTAMP:20260429T080000
DTSTART:20260429T080000
DTEND:20260429T110000
SUMMARY:Fizjologia z elementami fizjologii klinicznej (L): 2 LEK-JMN 24/25/L12
CATEGORIES:L
LOCATION:204/204a A-22
END:VEVENT
BEGIN:VEVENT
UID:UZ_PLZ_20260429_1115_506545
DTSTAMP:20260429T111500
DTSTART:20260429T111500
DTEND:20260429T141500
SUMMARY:Fizjologia z elementami fizjologii klinicznej (L): 2 LEK-JMN 24/25/L11
CATEGORIES:L
LOCATION:204/204a A-22
END:VEVENT
BEGIN:VEVENT
UID:UZ_PLZ_20260429_1430_506553
DTSTAMP:20260429T143000
DTSTART:20260429T143000
DTEND:20260429T173000
SUMMARY:Fizjologia z elementami fizjologii klinicznej (L): 2 LEK-JMS 24/25/L7
CATEGORIES:L
LOCATION:204/204a A-22
END:VEVENT
BEGIN:VEVENT
UID:UZ_PLZ_20260430_0800_506549
DTSTAMP:20260430T080000
DTSTART:20260430T080000
DTEND:20260430T110000
SUMMARY:Fizjologia z elementami fizjologii klinicznej (L): 2 LEK-JMS 24/25/L3
CATEGORIES:L
LOCATION:204/204a A-22
END:VEVENT
BEGIN:VEVENT
UID:UZ_PLZ_20260430_1115_506551
DTSTAMP:20260430T111500
DTSTART:20260430T111500
DTEND:20260430T141500
SUMMARY:Fizjologia z elementami fizjologii klinicznej (L): 2 LEK-JMS 24/25/L5
CATEGORIES:L
LOCATION:204/204a A-22
END:VEVENT
BEGIN:VEVENT
UID:UZ_PLZ_20260430_1430_506544
DTSTAMP:20260430T143000
DTSTART:20260430T143000
DTEND:20260430T173000
SUMMARY:Fizjologia z elementami fizjologii klinicznej (L): 2 LEK-JMN 24/25/L9
CATEGORIES:L
LOCATION:204/204a A-22
END:VEVENT
BEGIN:VEVENT
UID:UZ_PLZ_20260430_1745_506548
DTSTAMP:20260430T174500
DTSTART:20260430T174500
DTEND:20260430T204500
SUMMARY:Fizjologia z elementami fizjologii klinicznej (L): 2 LEK-JMS 24/25/L2
CATEGORIES:L
LOCATION:204/204a A-22
END:VEVENT
BEGIN:VEVENT
UID:UZ_PLZ_20260511_0730_508457
DTSTAMP:20260511T073000
DTSTART:20260511T073000
DTEND:20260511T080000
SUMMARY:Fizjologia z elementami fizjologi klinicznej (R): 2 LEK-JMN 24/25
CATEGORIES:R
LOCATION:101 A-22
END:VEVENT
BEGIN:VEVENT
UID:UZ_PLZ_20260511_0730_506717
DTSTAMP:20260511T073000
DTSTART:20260511T073000
DTEND:20260511T080000
SUMMARY:Fizjologia z elementami fizjologii klinicznej - test 2 (I): 2 LEK-JMS 24/25
CATEGORIES:I
LOCATION:CEN EGZ A-23
END:VEVENT
END:VCALENDAR
