BEGIN:VCALENDAR
TZID:Europe/Warsaw
X-WR-TIMEZONE:Europe/Warsaw
VERSION:2.0
PRODID:-//Uniwersytet Zielonogórski//NONSGML Plan zajęć v1.0//EN
NAME:Plan zajęć - semestr zimowy 2025/2026
X-WR-CALNAME:Plan zajęć - semestr zimowy 2025/2026
COLOR:green
CALSCALE:GREGORIAN
BEGIN:VEVENT
UID:UZ_PLZ_20251006_1130_482554
DTSTAMP:20251006T113000
DTSTART:20251006T113000
DTEND:20251006T130000
SUMMARY:Podstawy pracy grupowej i komunikacja interpersonalna (L): 14PSYCH-JMS/lab.8
CATEGORIES:L
LOCATION:P103 A-16
END:VEVENT
BEGIN:VEVENT
UID:UZ_PLZ_20251006_1315_482598
DTSTAMP:20251006T131500
DTSTART:20251006T131500
DTEND:20251006T144500
SUMMARY:Podstawy pracy grupowej i komunikacja interpersonalna (L): 15PSYCH-JMS/lab. 9
CATEGORIES:L
LOCATION:P103 A-16
END:VEVENT
BEGIN:VEVENT
UID:UZ_PLZ_20251006_1645_482771
DTSTAMP:20251006T164500
DTSTART:20251006T164500
DTEND:20251006T181500
SUMMARY:Podstawy pracy grupowej i komunikacja interpersonalna (L): 15PSYCH-JMS/lab.10
CATEGORIES:L
LOCATION:P103 A-16
END:VEVENT
BEGIN:VEVENT
UID:UZ_PLZ_20251013_0945_482771
DTSTAMP:20251013T094500
DTSTART:20251013T094500
DTEND:20251013T111500
SUMMARY:Podstawy pracy grupowej i komunikacja interpersonalna (L): 15PSYCH-JMS/lab.10
CATEGORIES:L
LOCATION:P103 A-16
END:VEVENT
BEGIN:VEVENT
UID:UZ_PLZ_20251013_1130_482554
DTSTAMP:20251013T113000
DTSTART:20251013T113000
DTEND:20251013T130000
SUMMARY:Podstawy pracy grupowej i komunikacja interpersonalna (L): 14PSYCH-JMS/lab.8
CATEGORIES:L
LOCATION:P103 A-16
END:VEVENT
BEGIN:VEVENT
UID:UZ_PLZ_20251013_1315_482598
DTSTAMP:20251013T131500
DTSTART:20251013T131500
DTEND:20251013T144500
SUMMARY:Podstawy pracy grupowej i komunikacja interpersonalna (L): 15PSYCH-JMS/lab. 9
CATEGORIES:L
LOCATION:P103 A-16
END:VEVENT
BEGIN:VEVENT
UID:UZ_PLZ_20251020_1130_482554
DTSTAMP:20251020T113000
DTSTART:20251020T113000
DTEND:20251020T130000
SUMMARY:Podstawy pracy grupowej i komunikacja interpersonalna (L): 14PSYCH-JMS/lab.8
CATEGORIES:L
LOCATION:P103 A-16
END:VEVENT
BEGIN:VEVENT
UID:UZ_PLZ_20251020_1315_482598
DTSTAMP:20251020T131500
DTSTART:20251020T131500
DTEND:20251020T144500
SUMMARY:Podstawy pracy grupowej i komunikacja interpersonalna (L): 15PSYCH-JMS/lab. 9
CATEGORIES:L
LOCATION:P103 A-16
END:VEVENT
BEGIN:VEVENT
UID:UZ_PLZ_20251020_1645_482771
DTSTAMP:20251020T164500
DTSTART:20251020T164500
DTEND:20251020T181500
SUMMARY:Podstawy pracy grupowej i komunikacja interpersonalna (L): 15PSYCH-JMS/lab.10
CATEGORIES:L
LOCATION:P103 A-16
END:VEVENT
BEGIN:VEVENT
UID:UZ_PLZ_20251027_0945_482771
DTSTAMP:20251027T094500
DTSTART:20251027T094500
DTEND:20251027T111500
SUMMARY:Podstawy pracy grupowej i komunikacja interpersonalna (L): 15PSYCH-JMS/lab.10
CATEGORIES:L
LOCATION:P103 A-16
END:VEVENT
BEGIN:VEVENT
UID:UZ_PLZ_20251027_1130_482554
DTSTAMP:20251027T113000
DTSTART:20251027T113000
DTEND:20251027T130000
SUMMARY:Podstawy pracy grupowej i komunikacja interpersonalna (L): 14PSYCH-JMS/lab.8
CATEGORIES:L
LOCATION:P103 A-16
END:VEVENT
BEGIN:VEVENT
UID:UZ_PLZ_20251027_1315_482598
DTSTAMP:20251027T131500
DTSTART:20251027T131500
DTEND:20251027T144500
SUMMARY:Podstawy pracy grupowej i komunikacja interpersonalna (L): 15PSYCH-JMS/lab. 9
CATEGORIES:L
LOCATION:P103 A-16
END:VEVENT
BEGIN:VEVENT
UID:UZ_PLZ_20251029_1800_493955
DTSTAMP:20251029T180000
DTSTART:20251029T180000
DTEND:20251029T184500
SUMMARY:Konsultacje (I)
CATEGORIES:I
END:VEVENT
BEGIN:VEVENT
UID:UZ_PLZ_20251103_1130_482554
DTSTAMP:20251103T113000
DTSTART:20251103T113000
DTEND:20251103T130000
SUMMARY:Podstawy pracy grupowej i komunikacja interpersonalna (L): 14PSYCH-JMS/lab.8
CATEGORIES:L
LOCATION:P103 A-16
END:VEVENT
BEGIN:VEVENT
UID:UZ_PLZ_20251103_1315_482598
DTSTAMP:20251103T131500
DTSTART:20251103T131500
DTEND:20251103T144500
SUMMARY:Podstawy pracy grupowej i komunikacja interpersonalna (L): 15PSYCH-JMS/lab. 9
CATEGORIES:L
LOCATION:P103 A-16
END:VEVENT
BEGIN:VEVENT
UID:UZ_PLZ_20251103_1645_482771
DTSTAMP:20251103T164500
DTSTART:20251103T164500
DTEND:20251103T181500
SUMMARY:Podstawy pracy grupowej i komunikacja interpersonalna (L): 15PSYCH-JMS/lab.10
CATEGORIES:L
LOCATION:P103 A-16
END:VEVENT
BEGIN:VEVENT
UID:UZ_PLZ_20251105_1800_493955
DTSTAMP:20251105T180000
DTSTART:20251105T180000
DTEND:20251105T184500
SUMMARY:Konsultacje (I)
CATEGORIES:I
END:VEVENT
BEGIN:VEVENT
UID:UZ_PLZ_20251112_1800_493955
DTSTAMP:20251112T180000
DTSTART:20251112T180000
DTEND:20251112T184500
SUMMARY:Konsultacje (I)
CATEGORIES:I
END:VEVENT
BEGIN:VEVENT
UID:UZ_PLZ_20251113_0945_482771
DTSTAMP:20251113T094500
DTSTART:20251113T094500
DTEND:20251113T111500
SUMMARY:Podstawy pracy grupowej i komunikacja interpersonalna (L): 15PSYCH-JMS/lab.10
CATEGORIES:L
LOCATION:P103 A-16
END:VEVENT
BEGIN:VEVENT
UID:UZ_PLZ_20251113_1130_482554
DTSTAMP:20251113T113000
DTSTART:20251113T113000
DTEND:20251113T130000
SUMMARY:Podstawy pracy grupowej i komunikacja interpersonalna (L): 14PSYCH-JMS/lab.8
CATEGORIES:L
LOCATION:P103 A-16
END:VEVENT
BEGIN:VEVENT
UID:UZ_PLZ_20251113_1315_482598
DTSTAMP:20251113T131500
DTSTART:20251113T131500
DTEND:20251113T144500
SUMMARY:Podstawy pracy grupowej i komunikacja interpersonalna (L): 15PSYCH-JMS/lab. 9
CATEGORIES:L
LOCATION:P103 A-16
END:VEVENT
BEGIN:VEVENT
UID:UZ_PLZ_20251117_1130_482554
DTSTAMP:20251117T113000
DTSTART:20251117T113000
DTEND:20251117T130000
SUMMARY:Podstawy pracy grupowej i komunikacja interpersonalna (L): 14PSYCH-JMS/lab.8
CATEGORIES:L
LOCATION:P103 A-16
END:VEVENT
BEGIN:VEVENT
UID:UZ_PLZ_20251117_1315_482598
DTSTAMP:20251117T131500
DTSTART:20251117T131500
DTEND:20251117T144500
SUMMARY:Podstawy pracy grupowej i komunikacja interpersonalna (L): 15PSYCH-JMS/lab. 9
CATEGORIES:L
LOCATION:P103 A-16
END:VEVENT
BEGIN:VEVENT
UID:UZ_PLZ_20251117_1645_482771
DTSTAMP:20251117T164500
DTSTART:20251117T164500
DTEND:20251117T181500
SUMMARY:Podstawy pracy grupowej i komunikacja interpersonalna (L): 15PSYCH-JMS/lab.10
CATEGORIES:L
LOCATION:P103 A-16
END:VEVENT
BEGIN:VEVENT
UID:UZ_PLZ_20251119_1800_493955
DTSTAMP:20251119T180000
DTSTART:20251119T180000
DTEND:20251119T184500
SUMMARY:Konsultacje (I)
CATEGORIES:I
END:VEVENT
BEGIN:VEVENT
UID:UZ_PLZ_20251124_0945_482771
DTSTAMP:20251124T094500
DTSTART:20251124T094500
DTEND:20251124T111500
SUMMARY:Podstawy pracy grupowej i komunikacja interpersonalna (L): 15PSYCH-JMS/lab.10
CATEGORIES:L
LOCATION:P103 A-16
END:VEVENT
BEGIN:VEVENT
UID:UZ_PLZ_20251124_1130_482554
DTSTAMP:20251124T113000
DTSTART:20251124T113000
DTEND:20251124T130000
SUMMARY:Podstawy pracy grupowej i komunikacja interpersonalna (L): 14PSYCH-JMS/lab.8
CATEGORIES:L
LOCATION:P103 A-16
END:VEVENT
BEGIN:VEVENT
UID:UZ_PLZ_20251124_1315_482598
DTSTAMP:20251124T131500
DTSTART:20251124T131500
DTEND:20251124T144500
SUMMARY:Podstawy pracy grupowej i komunikacja interpersonalna (L): 15PSYCH-JMS/lab. 9
CATEGORIES:L
LOCATION:P103 A-16
END:VEVENT
BEGIN:VEVENT
UID:UZ_PLZ_20251126_1800_493955
DTSTAMP:20251126T180000
DTSTART:20251126T180000
DTEND:20251126T184500
SUMMARY:Konsultacje (I)
CATEGORIES:I
END:VEVENT
BEGIN:VEVENT
UID:UZ_PLZ_20251201_1130_482554
DTSTAMP:20251201T113000
DTSTART:20251201T113000
DTEND:20251201T130000
SUMMARY:Podstawy pracy grupowej i komunikacja interpersonalna (L): 14PSYCH-JMS/lab.8
CATEGORIES:L
LOCATION:P103 A-16
END:VEVENT
BEGIN:VEVENT
UID:UZ_PLZ_20251201_1315_482598
DTSTAMP:20251201T131500
DTSTART:20251201T131500
DTEND:20251201T144500
SUMMARY:Podstawy pracy grupowej i komunikacja interpersonalna (L): 15PSYCH-JMS/lab. 9
CATEGORIES:L
LOCATION:P103 A-16
END:VEVENT
BEGIN:VEVENT
UID:UZ_PLZ_20251201_1645_482771
DTSTAMP:20251201T164500
DTSTART:20251201T164500
DTEND:20251201T181500
SUMMARY:Podstawy pracy grupowej i komunikacja interpersonalna (L): 15PSYCH-JMS/lab.10
CATEGORIES:L
LOCATION:P103 A-16
END:VEVENT
BEGIN:VEVENT
UID:UZ_PLZ_20251203_1800_493955
DTSTAMP:20251203T180000
DTSTART:20251203T180000
DTEND:20251203T184500
SUMMARY:Konsultacje (I)
CATEGORIES:I
END:VEVENT
BEGIN:VEVENT
UID:UZ_PLZ_20251208_0945_482771
DTSTAMP:20251208T094500
DTSTART:20251208T094500
DTEND:20251208T111500
SUMMARY:Podstawy pracy grupowej i komunikacja interpersonalna (L): 15PSYCH-JMS/lab.10
CATEGORIES:L
LOCATION:P103 A-16
END:VEVENT
BEGIN:VEVENT
UID:UZ_PLZ_20251208_1130_482554
DTSTAMP:20251208T113000
DTSTART:20251208T113000
DTEND:20251208T130000
SUMMARY:Podstawy pracy grupowej i komunikacja interpersonalna (L): 14PSYCH-JMS/lab.8
CATEGORIES:L
LOCATION:P103 A-16
END:VEVENT
BEGIN:VEVENT
UID:UZ_PLZ_20251208_1315_482598
DTSTAMP:20251208T131500
DTSTART:20251208T131500
DTEND:20251208T144500
SUMMARY:Podstawy pracy grupowej i komunikacja interpersonalna (L): 15PSYCH-JMS/lab. 9
CATEGORIES:L
LOCATION:P103 A-16
END:VEVENT
BEGIN:VEVENT
UID:UZ_PLZ_20251210_1800_493955
DTSTAMP:20251210T180000
DTSTART:20251210T180000
DTEND:20251210T184500
SUMMARY:Konsultacje (I)
CATEGORIES:I
END:VEVENT
BEGIN:VEVENT
UID:UZ_PLZ_20251215_1130_482554
DTSTAMP:20251215T113000
DTSTART:20251215T113000
DTEND:20251215T130000
SUMMARY:Podstawy pracy grupowej i komunikacja interpersonalna (L): 14PSYCH-JMS/lab.8
CATEGORIES:L
LOCATION:P103 A-16
END:VEVENT
BEGIN:VEVENT
UID:UZ_PLZ_20251215_1315_482598
DTSTAMP:20251215T131500
DTSTART:20251215T131500
DTEND:20251215T144500
SUMMARY:Podstawy pracy grupowej i komunikacja interpersonalna (L): 15PSYCH-JMS/lab. 9
CATEGORIES:L
LOCATION:P103 A-16
END:VEVENT
BEGIN:VEVENT
UID:UZ_PLZ_20251215_1645_482771
DTSTAMP:20251215T164500
DTSTART:20251215T164500
DTEND:20251215T181500
SUMMARY:Podstawy pracy grupowej i komunikacja interpersonalna (L): 15PSYCH-JMS/lab.10
CATEGORIES:L
LOCATION:P103 A-16
END:VEVENT
BEGIN:VEVENT
UID:UZ_PLZ_20251217_1800_493955
DTSTAMP:20251217T180000
DTSTART:20251217T180000
DTEND:20251217T184500
SUMMARY:Konsultacje (I)
CATEGORIES:I
END:VEVENT
BEGIN:VEVENT
UID:UZ_PLZ_20260112_1130_482554
DTSTAMP:20260112T113000
DTSTART:20260112T113000
DTEND:20260112T130000
SUMMARY:Podstawy pracy grupowej i komunikacja interpersonalna (L): 14PSYCH-JMS/lab.8
CATEGORIES:L
LOCATION:P103 A-16
END:VEVENT
BEGIN:VEVENT
UID:UZ_PLZ_20260112_1315_482598
DTSTAMP:20260112T131500
DTSTART:20260112T131500
DTEND:20260112T144500
SUMMARY:Podstawy pracy grupowej i komunikacja interpersonalna (L): 15PSYCH-JMS/lab. 9
CATEGORIES:L
LOCATION:P103 A-16
END:VEVENT
BEGIN:VEVENT
UID:UZ_PLZ_20260112_1645_482771
DTSTAMP:20260112T164500
DTSTART:20260112T164500
DTEND:20260112T181500
SUMMARY:Podstawy pracy grupowej i komunikacja interpersonalna (L): 15PSYCH-JMS/lab.10
CATEGORIES:L
LOCATION:P103 A-16
END:VEVENT
BEGIN:VEVENT
UID:UZ_PLZ_20260114_1800_493955
DTSTAMP:20260114T180000
DTSTART:20260114T180000
DTEND:20260114T184500
SUMMARY:Konsultacje (I)
CATEGORIES:I
END:VEVENT
BEGIN:VEVENT
UID:UZ_PLZ_20260119_0945_482771
DTSTAMP:20260119T094500
DTSTART:20260119T094500
DTEND:20260119T111500
SUMMARY:Podstawy pracy grupowej i komunikacja interpersonalna (L): 15PSYCH-JMS/lab.10
CATEGORIES:L
LOCATION:P103 A-16
END:VEVENT
BEGIN:VEVENT
UID:UZ_PLZ_20260119_1130_482554
DTSTAMP:20260119T113000
DTSTART:20260119T113000
DTEND:20260119T130000
SUMMARY:Podstawy pracy grupowej i komunikacja interpersonalna (L): 14PSYCH-JMS/lab.8
CATEGORIES:L
LOCATION:P103 A-16
END:VEVENT
BEGIN:VEVENT
UID:UZ_PLZ_20260119_1315_482598
DTSTAMP:20260119T131500
DTSTART:20260119T131500
DTEND:20260119T144500
SUMMARY:Podstawy pracy grupowej i komunikacja interpersonalna (L): 15PSYCH-JMS/lab. 9
CATEGORIES:L
LOCATION:P103 A-16
END:VEVENT
BEGIN:VEVENT
UID:UZ_PLZ_20260121_1800_493955
DTSTAMP:20260121T180000
DTSTART:20260121T180000
DTEND:20260121T184500
SUMMARY:Konsultacje (I)
CATEGORIES:I
END:VEVENT
BEGIN:VEVENT
UID:UZ_PLZ_20260126_0945_482771
DTSTAMP:20260126T094500
DTSTART:20260126T094500
DTEND:20260126T111500
SUMMARY:Podstawy pracy grupowej i komunikacja interpersonalna (L): 15PSYCH-JMS/lab.10
CATEGORIES:L
LOCATION:P103 A-16
END:VEVENT
BEGIN:VEVENT
UID:UZ_PLZ_20260126_1130_482554
DTSTAMP:20260126T113000
DTSTART:20260126T113000
DTEND:20260126T130000
SUMMARY:Podstawy pracy grupowej i komunikacja interpersonalna (L): 14PSYCH-JMS/lab.8
CATEGORIES:L
LOCATION:P103 A-16
END:VEVENT
BEGIN:VEVENT
UID:UZ_PLZ_20260126_1315_482598
DTSTAMP:20260126T131500
DTSTART:20260126T131500
DTEND:20260126T144500
SUMMARY:Podstawy pracy grupowej i komunikacja interpersonalna (L): 15PSYCH-JMS/lab. 9
CATEGORIES:L
LOCATION:P103 A-16
END:VEVENT
BEGIN:VEVENT
UID:UZ_PLZ_20260128_1800_493955
DTSTAMP:20260128T180000
DTSTART:20260128T180000
DTEND:20260128T184500
SUMMARY:Konsultacje (I)
CATEGORIES:I
END:VEVENT
BEGIN:VEVENT
UID:UZ_PLZ_20260202_0945_482771
DTSTAMP:20260202T094500
DTSTART:20260202T094500
DTEND:20260202T111500
SUMMARY:Podstawy pracy grupowej i komunikacja interpersonalna (L): 15PSYCH-JMS/lab.10
CATEGORIES:L
LOCATION:P103 A-16
END:VEVENT
BEGIN:VEVENT
UID:UZ_PLZ_20260202_1130_482554
DTSTAMP:20260202T113000
DTSTART:20260202T113000
DTEND:20260202T130000
SUMMARY:Podstawy pracy grupowej i komunikacja interpersonalna (L): 14PSYCH-JMS/lab.8
CATEGORIES:L
LOCATION:P103 A-16
END:VEVENT
BEGIN:VEVENT
UID:UZ_PLZ_20260202_1315_482598
DTSTAMP:20260202T131500
DTSTART:20260202T131500
DTEND:20260202T144500
SUMMARY:Podstawy pracy grupowej i komunikacja interpersonalna (L): 15PSYCH-JMS/lab. 9
CATEGORIES:L
LOCATION:P103 A-16
END:VEVENT
END:VCALENDAR
