BEGIN:VCALENDAR
TZID:Europe/Warsaw
X-WR-TIMEZONE:Europe/Warsaw
VERSION:2.0
PRODID:-//Uniwersytet Zielonogórski//NONSGML Plan zajęć v1.0//EN
NAME:Plan zajęć - semestr letni 2025/2026
X-WR-CALNAME:Plan zajęć - semestr letni 2025/2026
COLOR:green
CALSCALE:GREGORIAN
BEGIN:VEVENT
UID:UZ_PLZ_20260423_0800_496411
DTSTAMP:20260423T080000
DTSTART:20260423T080000
DTEND:20260423T093000
SUMMARY:Psychologia rozwoju człowieka w cyklu życia 1 (Ć): 11PSYCH-JMS
CATEGORIES:Ć
LOCATION:P4 A-16
DESCRIPTION:<a href="https://classroom.google.com/c/ODUwNDk3MTg5NTAz">Google Classroom</a> 
END:VEVENT
BEGIN:VEVENT
UID:UZ_PLZ_20260428_0800_496412
DTSTAMP:20260428T080000
DTSTART:20260428T080000
DTEND:20260428T093000
SUMMARY:Psychologia rozwoju człowieka w cyklu życia 1 (Ć): 14PSYCH-JMS
CATEGORIES:Ć
LOCATION:217 A-16
DESCRIPTION:<a href="https://classroom.google.com/c/ODUwNDkzODk4NzQx">Google Classroom</a> 
END:VEVENT
BEGIN:VEVENT
UID:UZ_PLZ_20260428_0945_496433
DTSTAMP:20260428T094500
DTSTART:20260428T094500
DTEND:20260428T111500
SUMMARY:Psychologia rozwoju człowieka w cyklu życia 1 (Ć): 13PSYCH-JMS
CATEGORIES:Ć
LOCATION:217 A-16
DESCRIPTION:<a href="https://classroom.google.com/c/ODUwNDk4MDM1MTEz">Google Classroom</a> 
END:VEVENT
BEGIN:VEVENT
UID:UZ_PLZ_20260428_1130_496514
DTSTAMP:20260428T113000
DTSTART:20260428T113000
DTEND:20260428T130000
SUMMARY:Psychologia rozwoju człowieka w cyklu życia 1 (Ć): 15PSYCH-JMS
CATEGORIES:Ć
LOCATION:217 A-16
DESCRIPTION:<a href="https://classroom.google.com/c/ODUwNDk1OTc2Nzgx">Google Classroom</a> 
END:VEVENT
BEGIN:VEVENT
UID:UZ_PLZ_20260430_0800_496411
DTSTAMP:20260430T080000
DTSTART:20260430T080000
DTEND:20260430T093000
SUMMARY:Psychologia rozwoju człowieka w cyklu życia 1 (Ć): 11PSYCH-JMS
CATEGORIES:Ć
LOCATION:P4 A-16
DESCRIPTION:<a href="https://classroom.google.com/c/ODUwNDk3MTg5NTAz">Google Classroom</a> 
END:VEVENT
BEGIN:VEVENT
UID:UZ_PLZ_20260505_0800_496412
DTSTAMP:20260505T080000
DTSTART:20260505T080000
DTEND:20260505T093000
SUMMARY:Psychologia rozwoju człowieka w cyklu życia 1 (Ć): 14PSYCH-JMS
CATEGORIES:Ć
LOCATION:217 A-16
DESCRIPTION:<a href="https://classroom.google.com/c/ODUwNDkzODk4NzQx">Google Classroom</a> 
END:VEVENT
BEGIN:VEVENT
UID:UZ_PLZ_20260505_0945_496433
DTSTAMP:20260505T094500
DTSTART:20260505T094500
DTEND:20260505T111500
SUMMARY:Psychologia rozwoju człowieka w cyklu życia 1 (Ć): 13PSYCH-JMS
CATEGORIES:Ć
LOCATION:217 A-16
DESCRIPTION:<a href="https://classroom.google.com/c/ODUwNDk4MDM1MTEz">Google Classroom</a> 
END:VEVENT
BEGIN:VEVENT
UID:UZ_PLZ_20260505_1130_496514
DTSTAMP:20260505T113000
DTSTART:20260505T113000
DTEND:20260505T130000
SUMMARY:Psychologia rozwoju człowieka w cyklu życia 1 (Ć): 15PSYCH-JMS
CATEGORIES:Ć
LOCATION:217 A-16
DESCRIPTION:<a href="https://classroom.google.com/c/ODUwNDk1OTc2Nzgx">Google Classroom</a> 
END:VEVENT
BEGIN:VEVENT
UID:UZ_PLZ_20260506_1130_498600
DTSTAMP:20260506T113000
DTSTART:20260506T113000
DTEND:20260506T130000
SUMMARY:Dyżur pracowniczy (I)
CATEGORIES:I
END:VEVENT
BEGIN:VEVENT
UID:UZ_PLZ_20260506_1315_496363
DTSTAMP:20260506T131500
DTSTART:20260506T131500
DTEND:20260506T144500
SUMMARY:Psychologia rozwoju człowieka w cyklu życia 1 (Ć): 12PSYCH-JMS
CATEGORIES:Ć
LOCATION:324 A-16
DESCRIPTION:<a href="https://classroom.google.com/c/ODUwNDk4NTU1MzYy">Google Classroom</a> 
END:VEVENT
BEGIN:VEVENT
UID:UZ_PLZ_20260506_1500_507719
DTSTAMP:20260506T150000
DTSTART:20260506T150000
DTEND:20260506T154500
SUMMARY:Konsultacje (I)
CATEGORIES:I
LOCATION:P107 A-16
END:VEVENT
BEGIN:VEVENT
UID:UZ_PLZ_20260506_1600_503301
DTSTAMP:20260506T160000
DTSTART:20260506T160000
DTEND:20260506T173000
SUMMARY:Przedmiot do wyboru B2: Psychologia rozwoju człowieka (Ć): 11CiDF-SP25
CATEGORIES:Ć
LOCATION:221 A-20
DESCRIPTION:<a href="https://classroom.google.com/c/ODUwNDk5MDk1NjU3">Google Classroom</a> 
END:VEVENT
BEGIN:VEVENT
UID:UZ_PLZ_20260507_0800_496411
DTSTAMP:20260507T080000
DTSTART:20260507T080000
DTEND:20260507T093000
SUMMARY:Psychologia rozwoju człowieka w cyklu życia 1 (Ć): 11PSYCH-JMS
CATEGORIES:Ć
LOCATION:P4 A-16
DESCRIPTION:<a href="https://classroom.google.com/c/ODUwNDk3MTg5NTAz">Google Classroom</a> 
END:VEVENT
BEGIN:VEVENT
UID:UZ_PLZ_20260512_0800_496412
DTSTAMP:20260512T080000
DTSTART:20260512T080000
DTEND:20260512T093000
SUMMARY:Psychologia rozwoju człowieka w cyklu życia 1 (Ć): 14PSYCH-JMS
CATEGORIES:Ć
LOCATION:217 A-16
DESCRIPTION:<a href="https://classroom.google.com/c/ODUwNDkzODk4NzQx">Google Classroom</a> 
END:VEVENT
BEGIN:VEVENT
UID:UZ_PLZ_20260512_0945_496433
DTSTAMP:20260512T094500
DTSTART:20260512T094500
DTEND:20260512T111500
SUMMARY:Psychologia rozwoju człowieka w cyklu życia 1 (Ć): 13PSYCH-JMS
CATEGORIES:Ć
LOCATION:217 A-16
DESCRIPTION:<a href="https://classroom.google.com/c/ODUwNDk4MDM1MTEz">Google Classroom</a> 
END:VEVENT
BEGIN:VEVENT
UID:UZ_PLZ_20260512_1130_496514
DTSTAMP:20260512T113000
DTSTART:20260512T113000
DTEND:20260512T130000
SUMMARY:Psychologia rozwoju człowieka w cyklu życia 1 (Ć): 15PSYCH-JMS
CATEGORIES:Ć
LOCATION:217 A-16
DESCRIPTION:<a href="https://classroom.google.com/c/ODUwNDk1OTc2Nzgx">Google Classroom</a> 
END:VEVENT
BEGIN:VEVENT
UID:UZ_PLZ_20260513_1130_498600
DTSTAMP:20260513T113000
DTSTART:20260513T113000
DTEND:20260513T130000
SUMMARY:Dyżur pracowniczy (I)
CATEGORIES:I
END:VEVENT
BEGIN:VEVENT
UID:UZ_PLZ_20260513_1315_496363
DTSTAMP:20260513T131500
DTSTART:20260513T131500
DTEND:20260513T144500
SUMMARY:Psychologia rozwoju człowieka w cyklu życia 1 (Ć): 12PSYCH-JMS
CATEGORIES:Ć
LOCATION:324 A-16
DESCRIPTION:<a href="https://classroom.google.com/c/ODUwNDk4NTU1MzYy">Google Classroom</a> 
END:VEVENT
BEGIN:VEVENT
UID:UZ_PLZ_20260513_1500_507719
DTSTAMP:20260513T150000
DTSTART:20260513T150000
DTEND:20260513T154500
SUMMARY:Konsultacje (I)
CATEGORIES:I
LOCATION:P107 A-16
END:VEVENT
BEGIN:VEVENT
UID:UZ_PLZ_20260513_1600_503301
DTSTAMP:20260513T160000
DTSTART:20260513T160000
DTEND:20260513T173000
SUMMARY:Przedmiot do wyboru B2: Psychologia rozwoju człowieka (Ć): 11CiDF-SP25
CATEGORIES:Ć
LOCATION:221 A-20
DESCRIPTION:<a href="https://classroom.google.com/c/ODUwNDk5MDk1NjU3">Google Classroom</a> 
END:VEVENT
BEGIN:VEVENT
UID:UZ_PLZ_20260514_0800_496411
DTSTAMP:20260514T080000
DTSTART:20260514T080000
DTEND:20260514T093000
SUMMARY:Psychologia rozwoju człowieka w cyklu życia 1 (Ć): 11PSYCH-JMS
CATEGORIES:Ć
LOCATION:P4 A-16
DESCRIPTION:<a href="https://classroom.google.com/c/ODUwNDk3MTg5NTAz">Google Classroom</a> 
END:VEVENT
BEGIN:VEVENT
UID:UZ_PLZ_20260519_0800_496412
DTSTAMP:20260519T080000
DTSTART:20260519T080000
DTEND:20260519T093000
SUMMARY:Psychologia rozwoju człowieka w cyklu życia 1 (Ć): 14PSYCH-JMS
CATEGORIES:Ć
LOCATION:217 A-16
DESCRIPTION:<a href="https://classroom.google.com/c/ODUwNDkzODk4NzQx">Google Classroom</a> 
END:VEVENT
BEGIN:VEVENT
UID:UZ_PLZ_20260519_0945_496433
DTSTAMP:20260519T094500
DTSTART:20260519T094500
DTEND:20260519T111500
SUMMARY:Psychologia rozwoju człowieka w cyklu życia 1 (Ć): 13PSYCH-JMS
CATEGORIES:Ć
LOCATION:217 A-16
DESCRIPTION:<a href="https://classroom.google.com/c/ODUwNDk4MDM1MTEz">Google Classroom</a> 
END:VEVENT
BEGIN:VEVENT
UID:UZ_PLZ_20260519_1130_496514
DTSTAMP:20260519T113000
DTSTART:20260519T113000
DTEND:20260519T130000
SUMMARY:Psychologia rozwoju człowieka w cyklu życia 1 (Ć): 15PSYCH-JMS
CATEGORIES:Ć
LOCATION:217 A-16
DESCRIPTION:<a href="https://classroom.google.com/c/ODUwNDk1OTc2Nzgx">Google Classroom</a> 
END:VEVENT
BEGIN:VEVENT
UID:UZ_PLZ_20260520_1130_498600
DTSTAMP:20260520T113000
DTSTART:20260520T113000
DTEND:20260520T130000
SUMMARY:Dyżur pracowniczy (I)
CATEGORIES:I
END:VEVENT
BEGIN:VEVENT
UID:UZ_PLZ_20260520_1315_496363
DTSTAMP:20260520T131500
DTSTART:20260520T131500
DTEND:20260520T144500
SUMMARY:Psychologia rozwoju człowieka w cyklu życia 1 (Ć): 12PSYCH-JMS
CATEGORIES:Ć
LOCATION:324 A-16
DESCRIPTION:<a href="https://classroom.google.com/c/ODUwNDk4NTU1MzYy">Google Classroom</a> 
END:VEVENT
BEGIN:VEVENT
UID:UZ_PLZ_20260520_1500_507719
DTSTAMP:20260520T150000
DTSTART:20260520T150000
DTEND:20260520T154500
SUMMARY:Konsultacje (I)
CATEGORIES:I
LOCATION:P107 A-16
END:VEVENT
BEGIN:VEVENT
UID:UZ_PLZ_20260520_1600_503301
DTSTAMP:20260520T160000
DTSTART:20260520T160000
DTEND:20260520T173000
SUMMARY:Przedmiot do wyboru B2: Psychologia rozwoju człowieka (Ć): 11CiDF-SP25
CATEGORIES:Ć
LOCATION:221 A-20
DESCRIPTION:<a href="https://classroom.google.com/c/ODUwNDk5MDk1NjU3">Google Classroom</a> 
END:VEVENT
BEGIN:VEVENT
UID:UZ_PLZ_20260521_0800_496411
DTSTAMP:20260521T080000
DTSTART:20260521T080000
DTEND:20260521T093000
SUMMARY:Psychologia rozwoju człowieka w cyklu życia 1 (Ć): 11PSYCH-JMS
CATEGORIES:Ć
LOCATION:P4 A-16
DESCRIPTION:<a href="https://classroom.google.com/c/ODUwNDk3MTg5NTAz">Google Classroom</a> 
END:VEVENT
BEGIN:VEVENT
UID:UZ_PLZ_20260526_0800_496412
DTSTAMP:20260526T080000
DTSTART:20260526T080000
DTEND:20260526T093000
SUMMARY:Psychologia rozwoju człowieka w cyklu życia 1 (Ć): 14PSYCH-JMS
CATEGORIES:Ć
LOCATION:217 A-16
DESCRIPTION:<a href="https://classroom.google.com/c/ODUwNDkzODk4NzQx">Google Classroom</a> 
END:VEVENT
BEGIN:VEVENT
UID:UZ_PLZ_20260526_0945_496433
DTSTAMP:20260526T094500
DTSTART:20260526T094500
DTEND:20260526T111500
SUMMARY:Psychologia rozwoju człowieka w cyklu życia 1 (Ć): 13PSYCH-JMS
CATEGORIES:Ć
LOCATION:217 A-16
DESCRIPTION:<a href="https://classroom.google.com/c/ODUwNDk4MDM1MTEz">Google Classroom</a> 
END:VEVENT
BEGIN:VEVENT
UID:UZ_PLZ_20260526_1130_496514
DTSTAMP:20260526T113000
DTSTART:20260526T113000
DTEND:20260526T130000
SUMMARY:Psychologia rozwoju człowieka w cyklu życia 1 (Ć): 15PSYCH-JMS
CATEGORIES:Ć
LOCATION:217 A-16
DESCRIPTION:<a href="https://classroom.google.com/c/ODUwNDk1OTc2Nzgx">Google Classroom</a> 
END:VEVENT
BEGIN:VEVENT
UID:UZ_PLZ_20260527_1130_498600
DTSTAMP:20260527T113000
DTSTART:20260527T113000
DTEND:20260527T130000
SUMMARY:Dyżur pracowniczy (I)
CATEGORIES:I
END:VEVENT
BEGIN:VEVENT
UID:UZ_PLZ_20260527_1315_496363
DTSTAMP:20260527T131500
DTSTART:20260527T131500
DTEND:20260527T144500
SUMMARY:Psychologia rozwoju człowieka w cyklu życia 1 (Ć): 12PSYCH-JMS
CATEGORIES:Ć
LOCATION:324 A-16
DESCRIPTION:<a href="https://classroom.google.com/c/ODUwNDk4NTU1MzYy">Google Classroom</a> 
END:VEVENT
BEGIN:VEVENT
UID:UZ_PLZ_20260527_1500_507719
DTSTAMP:20260527T150000
DTSTART:20260527T150000
DTEND:20260527T154500
SUMMARY:Konsultacje (I)
CATEGORIES:I
LOCATION:P107 A-16
END:VEVENT
BEGIN:VEVENT
UID:UZ_PLZ_20260527_1600_503301
DTSTAMP:20260527T160000
DTSTART:20260527T160000
DTEND:20260527T173000
SUMMARY:Przedmiot do wyboru B2: Psychologia rozwoju człowieka (Ć): 11CiDF-SP25
CATEGORIES:Ć
LOCATION:221 A-20
DESCRIPTION:<a href="https://classroom.google.com/c/ODUwNDk5MDk1NjU3">Google Classroom</a> 
END:VEVENT
BEGIN:VEVENT
UID:UZ_PLZ_20260528_0800_496411
DTSTAMP:20260528T080000
DTSTART:20260528T080000
DTEND:20260528T093000
SUMMARY:Psychologia rozwoju człowieka w cyklu życia 1 (Ć): 11PSYCH-JMS
CATEGORIES:Ć
LOCATION:P4 A-16
DESCRIPTION:<a href="https://classroom.google.com/c/ODUwNDk3MTg5NTAz">Google Classroom</a> 
END:VEVENT
BEGIN:VEVENT
UID:UZ_PLZ_20260602_0800_496412
DTSTAMP:20260602T080000
DTSTART:20260602T080000
DTEND:20260602T093000
SUMMARY:Psychologia rozwoju człowieka w cyklu życia 1 (Ć): 14PSYCH-JMS
CATEGORIES:Ć
LOCATION:217 A-16
DESCRIPTION:<a href="https://classroom.google.com/c/ODUwNDkzODk4NzQx">Google Classroom</a> 
END:VEVENT
BEGIN:VEVENT
UID:UZ_PLZ_20260602_0945_496433
DTSTAMP:20260602T094500
DTSTART:20260602T094500
DTEND:20260602T111500
SUMMARY:Psychologia rozwoju człowieka w cyklu życia 1 (Ć): 13PSYCH-JMS
CATEGORIES:Ć
LOCATION:217 A-16
DESCRIPTION:<a href="https://classroom.google.com/c/ODUwNDk4MDM1MTEz">Google Classroom</a> 
END:VEVENT
BEGIN:VEVENT
UID:UZ_PLZ_20260602_1130_496514
DTSTAMP:20260602T113000
DTSTART:20260602T113000
DTEND:20260602T130000
SUMMARY:Psychologia rozwoju człowieka w cyklu życia 1 (Ć): 15PSYCH-JMS
CATEGORIES:Ć
LOCATION:217 A-16
DESCRIPTION:<a href="https://classroom.google.com/c/ODUwNDk1OTc2Nzgx">Google Classroom</a> 
END:VEVENT
BEGIN:VEVENT
UID:UZ_PLZ_20260603_1130_498600
DTSTAMP:20260603T113000
DTSTART:20260603T113000
DTEND:20260603T130000
SUMMARY:Dyżur pracowniczy (I)
CATEGORIES:I
END:VEVENT
BEGIN:VEVENT
UID:UZ_PLZ_20260603_1315_496363
DTSTAMP:20260603T131500
DTSTART:20260603T131500
DTEND:20260603T144500
SUMMARY:Psychologia rozwoju człowieka w cyklu życia 1 (Ć): 12PSYCH-JMS
CATEGORIES:Ć
LOCATION:324 A-16
DESCRIPTION:<a href="https://classroom.google.com/c/ODUwNDk4NTU1MzYy">Google Classroom</a> 
END:VEVENT
BEGIN:VEVENT
UID:UZ_PLZ_20260603_1500_507719
DTSTAMP:20260603T150000
DTSTART:20260603T150000
DTEND:20260603T154500
SUMMARY:Konsultacje (I)
CATEGORIES:I
LOCATION:P107 A-16
END:VEVENT
BEGIN:VEVENT
UID:UZ_PLZ_20260603_1600_503301
DTSTAMP:20260603T160000
DTSTART:20260603T160000
DTEND:20260603T173000
SUMMARY:Przedmiot do wyboru B2: Psychologia rozwoju człowieka (Ć): 11CiDF-SP25
CATEGORIES:Ć
LOCATION:221 A-20
DESCRIPTION:<a href="https://classroom.google.com/c/ODUwNDk5MDk1NjU3">Google Classroom</a> 
END:VEVENT
BEGIN:VEVENT
UID:UZ_PLZ_20260609_0800_496412
DTSTAMP:20260609T080000
DTSTART:20260609T080000
DTEND:20260609T093000
SUMMARY:Psychologia rozwoju człowieka w cyklu życia 1 (Ć): 14PSYCH-JMS
CATEGORIES:Ć
LOCATION:217 A-16
DESCRIPTION:<a href="https://classroom.google.com/c/ODUwNDkzODk4NzQx">Google Classroom</a> 
END:VEVENT
BEGIN:VEVENT
UID:UZ_PLZ_20260609_0945_496433
DTSTAMP:20260609T094500
DTSTART:20260609T094500
DTEND:20260609T111500
SUMMARY:Psychologia rozwoju człowieka w cyklu życia 1 (Ć): 13PSYCH-JMS
CATEGORIES:Ć
LOCATION:217 A-16
DESCRIPTION:<a href="https://classroom.google.com/c/ODUwNDk4MDM1MTEz">Google Classroom</a> 
END:VEVENT
BEGIN:VEVENT
UID:UZ_PLZ_20260609_1130_496514
DTSTAMP:20260609T113000
DTSTART:20260609T113000
DTEND:20260609T130000
SUMMARY:Psychologia rozwoju człowieka w cyklu życia 1 (Ć): 15PSYCH-JMS
CATEGORIES:Ć
LOCATION:217 A-16
DESCRIPTION:<a href="https://classroom.google.com/c/ODUwNDk1OTc2Nzgx">Google Classroom</a> 
END:VEVENT
BEGIN:VEVENT
UID:UZ_PLZ_20260610_1130_498600
DTSTAMP:20260610T113000
DTSTART:20260610T113000
DTEND:20260610T130000
SUMMARY:Dyżur pracowniczy (I)
CATEGORIES:I
END:VEVENT
BEGIN:VEVENT
UID:UZ_PLZ_20260610_1315_496363
DTSTAMP:20260610T131500
DTSTART:20260610T131500
DTEND:20260610T144500
SUMMARY:Psychologia rozwoju człowieka w cyklu życia 1 (Ć): 12PSYCH-JMS
CATEGORIES:Ć
LOCATION:324 A-16
DESCRIPTION:<a href="https://classroom.google.com/c/ODUwNDk4NTU1MzYy">Google Classroom</a> 
END:VEVENT
BEGIN:VEVENT
UID:UZ_PLZ_20260610_1500_507719
DTSTAMP:20260610T150000
DTSTART:20260610T150000
DTEND:20260610T154500
SUMMARY:Konsultacje (I)
CATEGORIES:I
LOCATION:P107 A-16
END:VEVENT
BEGIN:VEVENT
UID:UZ_PLZ_20260610_1600_503301
DTSTAMP:20260610T160000
DTSTART:20260610T160000
DTEND:20260610T173000
SUMMARY:Przedmiot do wyboru B2: Psychologia rozwoju człowieka (Ć): 11CiDF-SP25
CATEGORIES:Ć
LOCATION:221 A-20
DESCRIPTION:<a href="https://classroom.google.com/c/ODUwNDk5MDk1NjU3">Google Classroom</a> 
END:VEVENT
BEGIN:VEVENT
UID:UZ_PLZ_20260611_0800_496411
DTSTAMP:20260611T080000
DTSTART:20260611T080000
DTEND:20260611T093000
SUMMARY:Psychologia rozwoju człowieka w cyklu życia 1 (Ć): 11PSYCH-JMS
CATEGORIES:Ć
LOCATION:P4 A-16
DESCRIPTION:<a href="https://classroom.google.com/c/ODUwNDk3MTg5NTAz">Google Classroom</a> 
END:VEVENT
BEGIN:VEVENT
UID:UZ_PLZ_20260616_0800_496412
DTSTAMP:20260616T080000
DTSTART:20260616T080000
DTEND:20260616T093000
SUMMARY:Psychologia rozwoju człowieka w cyklu życia 1 (Ć): 14PSYCH-JMS
CATEGORIES:Ć
LOCATION:217 A-16
DESCRIPTION:<a href="https://classroom.google.com/c/ODUwNDkzODk4NzQx">Google Classroom</a> 
END:VEVENT
BEGIN:VEVENT
UID:UZ_PLZ_20260616_0945_496433
DTSTAMP:20260616T094500
DTSTART:20260616T094500
DTEND:20260616T111500
SUMMARY:Psychologia rozwoju człowieka w cyklu życia 1 (Ć): 13PSYCH-JMS
CATEGORIES:Ć
LOCATION:217 A-16
DESCRIPTION:<a href="https://classroom.google.com/c/ODUwNDk4MDM1MTEz">Google Classroom</a> 
END:VEVENT
BEGIN:VEVENT
UID:UZ_PLZ_20260616_1130_496514
DTSTAMP:20260616T113000
DTSTART:20260616T113000
DTEND:20260616T130000
SUMMARY:Psychologia rozwoju człowieka w cyklu życia 1 (Ć): 15PSYCH-JMS
CATEGORIES:Ć
LOCATION:217 A-16
DESCRIPTION:<a href="https://classroom.google.com/c/ODUwNDk1OTc2Nzgx">Google Classroom</a> 
END:VEVENT
BEGIN:VEVENT
UID:UZ_PLZ_20260617_1130_498600
DTSTAMP:20260617T113000
DTSTART:20260617T113000
DTEND:20260617T130000
SUMMARY:Dyżur pracowniczy (I)
CATEGORIES:I
END:VEVENT
BEGIN:VEVENT
UID:UZ_PLZ_20260617_1315_496363
DTSTAMP:20260617T131500
DTSTART:20260617T131500
DTEND:20260617T144500
SUMMARY:Psychologia rozwoju człowieka w cyklu życia 1 (Ć): 12PSYCH-JMS
CATEGORIES:Ć
LOCATION:324 A-16
DESCRIPTION:<a href="https://classroom.google.com/c/ODUwNDk4NTU1MzYy">Google Classroom</a> 
END:VEVENT
BEGIN:VEVENT
UID:UZ_PLZ_20260617_1500_507719
DTSTAMP:20260617T150000
DTSTART:20260617T150000
DTEND:20260617T154500
SUMMARY:Konsultacje (I)
CATEGORIES:I
LOCATION:P107 A-16
END:VEVENT
BEGIN:VEVENT
UID:UZ_PLZ_20260617_1600_503301
DTSTAMP:20260617T160000
DTSTART:20260617T160000
DTEND:20260617T173000
SUMMARY:Przedmiot do wyboru B2: Psychologia rozwoju człowieka (Ć): 11CiDF-SP25
CATEGORIES:Ć
LOCATION:221 A-20
DESCRIPTION:<a href="https://classroom.google.com/c/ODUwNDk5MDk1NjU3">Google Classroom</a> 
END:VEVENT
BEGIN:VEVENT
UID:UZ_PLZ_20260618_0800_496411
DTSTAMP:20260618T080000
DTSTART:20260618T080000
DTEND:20260618T093000
SUMMARY:Psychologia rozwoju człowieka w cyklu życia 1 (Ć): 11PSYCH-JMS
CATEGORIES:Ć
LOCATION:P4 A-16
DESCRIPTION:<a href="https://classroom.google.com/c/ODUwNDk3MTg5NTAz">Google Classroom</a> 
END:VEVENT
END:VCALENDAR
