BEGIN:VCALENDAR
TZID:Europe/Warsaw
X-WR-TIMEZONE:Europe/Warsaw
VERSION:2.0
PRODID:-//Uniwersytet Zielonogórski//NONSGML Plan zajęć v1.0//EN
NAME:Plan zajęć - semestr letni 2025/2026
X-WR-CALNAME:Plan zajęć - semestr letni 2025/2026
COLOR:green
CALSCALE:GREGORIAN
BEGIN:VEVENT
UID:UZ_PLZ_20260303_0945_502292
DTSTAMP:20260303T094500
DTSTART:20260303T094500
DTEND:20260303T111500
SUMMARY:Socjotrendy (Ć): 3 SOC-SP 23/24
CATEGORIES:Ć
LOCATION:302R A-17
END:VEVENT
BEGIN:VEVENT
UID:UZ_PLZ_20260310_0945_502292
DTSTAMP:20260310T094500
DTSTART:20260310T094500
DTEND:20260310T111500
SUMMARY:Socjotrendy (Ć): 3 SOC-SP 23/24
CATEGORIES:Ć
LOCATION:302R A-17
END:VEVENT
BEGIN:VEVENT
UID:UZ_PLZ_20260317_0945_502292
DTSTAMP:20260317T094500
DTSTART:20260317T094500
DTEND:20260317T111500
SUMMARY:Socjotrendy (Ć): 3 SOC-SP 23/24
CATEGORIES:Ć
LOCATION:302R A-17
END:VEVENT
BEGIN:VEVENT
UID:UZ_PLZ_20260324_0945_502292
DTSTAMP:20260324T094500
DTSTART:20260324T094500
DTEND:20260324T111500
SUMMARY:Socjotrendy (Ć): 3 SOC-SP 23/24
CATEGORIES:Ć
LOCATION:302R A-17
END:VEVENT
BEGIN:VEVENT
UID:UZ_PLZ_20260331_0945_502292
DTSTAMP:20260331T094500
DTSTART:20260331T094500
DTEND:20260331T111500
SUMMARY:Socjotrendy (Ć): 3 SOC-SP 23/24
CATEGORIES:Ć
LOCATION:302R A-17
END:VEVENT
BEGIN:VEVENT
UID:UZ_PLZ_20260414_0945_502292
DTSTAMP:20260414T094500
DTSTART:20260414T094500
DTEND:20260414T111500
SUMMARY:Socjotrendy (Ć): 3 SOC-SP 23/24
CATEGORIES:Ć
LOCATION:302R A-17
END:VEVENT
BEGIN:VEVENT
UID:UZ_PLZ_20260421_0945_502292
DTSTAMP:20260421T094500
DTSTART:20260421T094500
DTEND:20260421T111500
SUMMARY:Socjotrendy (Ć): 3 SOC-SP 23/24
CATEGORIES:Ć
LOCATION:302R A-17
END:VEVENT
BEGIN:VEVENT
UID:UZ_PLZ_20260616_0945_502292
DTSTAMP:20260616T094500
DTSTART:20260616T094500
DTEND:20260616T111500
SUMMARY:Socjotrendy (Ć): 3 SOC-SP 23/24
CATEGORIES:Ć
LOCATION:302R A-17
END:VEVENT
END:VCALENDAR
