BEGIN:VCALENDAR
TZID:Europe/Warsaw
X-WR-TIMEZONE:Europe/Warsaw
VERSION:2.0
PRODID:-//Uniwersytet Zielonogórski//NONSGML Plan zajęć v1.0//EN
NAME:Plan zajęć - semestr letni 2025/2026
X-WR-CALNAME:Plan zajęć - semestr letni 2025/2026
COLOR:green
CALSCALE:GREGORIAN
BEGIN:VEVENT
UID:UZ_PLZ_20260302_1545_502278
DTSTAMP:20260302T154500
DTSTART:20260302T154500
DTEND:20260302T171500
SUMMARY:Zarządzanie projektami społecznymi (W): 1 PS SD 25/26
CATEGORIES:W
LOCATION:302R A-17
END:VEVENT
BEGIN:VEVENT
UID:UZ_PLZ_20260302_1725_502278
DTSTAMP:20260302T172500
DTSTART:20260302T172500
DTEND:20260302T200000
SUMMARY:Zarządzanie projektami społecznymi (W): 1 PS SD 25/26
CATEGORIES:W
LOCATION:302R A-17
END:VEVENT
BEGIN:VEVENT
UID:UZ_PLZ_20260309_1545_502278
DTSTAMP:20260309T154500
DTSTART:20260309T154500
DTEND:20260309T164000
SUMMARY:Zarządzanie projektami społecznymi (W): 1 PS SD 25/26
CATEGORIES:W
LOCATION:302R A-17
END:VEVENT
BEGIN:VEVENT
UID:UZ_PLZ_20260309_1645_502295
DTSTAMP:20260309T164500
DTSTART:20260309T164500
DTEND:20260309T182500
SUMMARY:Zarządzanie projektami społecznymi (Ć): 1 PS SD 25/26
CATEGORIES:Ć
LOCATION:302R A-17
END:VEVENT
BEGIN:VEVENT
UID:UZ_PLZ_20260309_1830_502295
DTSTAMP:20260309T183000
DTSTART:20260309T183000
DTEND:20260309T200000
SUMMARY:Zarządzanie projektami społecznymi (Ć): 1 PS SD 25/26
CATEGORIES:Ć
LOCATION:302R A-17
END:VEVENT
BEGIN:VEVENT
UID:UZ_PLZ_20260323_1545_502278
DTSTAMP:20260323T154500
DTSTART:20260323T154500
DTEND:20260323T164000
SUMMARY:Zarządzanie projektami społecznymi (W): 1 PS SD 25/26
CATEGORIES:W
LOCATION:302R A-17
END:VEVENT
BEGIN:VEVENT
UID:UZ_PLZ_20260323_1645_502295
DTSTAMP:20260323T164500
DTSTART:20260323T164500
DTEND:20260323T182500
SUMMARY:Zarządzanie projektami społecznymi (Ć): 1 PS SD 25/26
CATEGORIES:Ć
LOCATION:302R A-17
END:VEVENT
BEGIN:VEVENT
UID:UZ_PLZ_20260323_1830_502295
DTSTAMP:20260323T183000
DTSTART:20260323T183000
DTEND:20260323T200000
SUMMARY:Zarządzanie projektami społecznymi (Ć): 1 PS SD 25/26
CATEGORIES:Ć
LOCATION:302R A-17
END:VEVENT
BEGIN:VEVENT
UID:UZ_PLZ_20260420_1545_502278
DTSTAMP:20260420T154500
DTSTART:20260420T154500
DTEND:20260420T164000
SUMMARY:Zarządzanie projektami społecznymi (W): 1 PS SD 25/26
CATEGORIES:W
LOCATION:302R A-17
END:VEVENT
BEGIN:VEVENT
UID:UZ_PLZ_20260420_1645_502295
DTSTAMP:20260420T164500
DTSTART:20260420T164500
DTEND:20260420T182500
SUMMARY:Zarządzanie projektami społecznymi (Ć): 1 PS SD 25/26
CATEGORIES:Ć
LOCATION:302R A-17
END:VEVENT
BEGIN:VEVENT
UID:UZ_PLZ_20260420_1830_502295
DTSTAMP:20260420T183000
DTSTART:20260420T183000
DTEND:20260420T200000
SUMMARY:Zarządzanie projektami społecznymi (Ć): 1 PS SD 25/26
CATEGORIES:Ć
LOCATION:302R A-17
END:VEVENT
BEGIN:VEVENT
UID:UZ_PLZ_20260504_1545_502278
DTSTAMP:20260504T154500
DTSTART:20260504T154500
DTEND:20260504T164000
SUMMARY:Zarządzanie projektami społecznymi (W): 1 PS SD 25/26
CATEGORIES:W
LOCATION:302R A-17
END:VEVENT
BEGIN:VEVENT
UID:UZ_PLZ_20260504_1645_502295
DTSTAMP:20260504T164500
DTSTART:20260504T164500
DTEND:20260504T182500
SUMMARY:Zarządzanie projektami społecznymi (Ć): 1 PS SD 25/26
CATEGORIES:Ć
LOCATION:302R A-17
END:VEVENT
BEGIN:VEVENT
UID:UZ_PLZ_20260504_1830_502295
DTSTAMP:20260504T183000
DTSTART:20260504T183000
DTEND:20260504T200000
SUMMARY:Zarządzanie projektami społecznymi (Ć): 1 PS SD 25/26
CATEGORIES:Ć
LOCATION:302R A-17
END:VEVENT
BEGIN:VEVENT
UID:UZ_PLZ_20260518_1545_502278
DTSTAMP:20260518T154500
DTSTART:20260518T154500
DTEND:20260518T164000
SUMMARY:Zarządzanie projektami społecznymi (W): 1 PS SD 25/26
CATEGORIES:W
LOCATION:302R A-17
END:VEVENT
BEGIN:VEVENT
UID:UZ_PLZ_20260518_1645_502295
DTSTAMP:20260518T164500
DTSTART:20260518T164500
DTEND:20260518T182500
SUMMARY:Zarządzanie projektami społecznymi (Ć): 1 PS SD 25/26
CATEGORIES:Ć
LOCATION:302R A-17
END:VEVENT
BEGIN:VEVENT
UID:UZ_PLZ_20260518_1830_502295
DTSTAMP:20260518T183000
DTSTART:20260518T183000
DTEND:20260518T200000
SUMMARY:Zarządzanie projektami społecznymi (Ć): 1 PS SD 25/26
CATEGORIES:Ć
LOCATION:302R A-17
END:VEVENT
BEGIN:VEVENT
UID:UZ_PLZ_20260601_1545_502278
DTSTAMP:20260601T154500
DTSTART:20260601T154500
DTEND:20260601T164000
SUMMARY:Zarządzanie projektami społecznymi (W): 1 PS SD 25/26
CATEGORIES:W
LOCATION:302R A-17
END:VEVENT
BEGIN:VEVENT
UID:UZ_PLZ_20260601_1645_502295
DTSTAMP:20260601T164500
DTSTART:20260601T164500
DTEND:20260601T182500
SUMMARY:Zarządzanie projektami społecznymi (Ć): 1 PS SD 25/26
CATEGORIES:Ć
LOCATION:302R A-17
END:VEVENT
BEGIN:VEVENT
UID:UZ_PLZ_20260601_1830_502295
DTSTAMP:20260601T183000
DTSTART:20260601T183000
DTEND:20260601T200000
SUMMARY:Zarządzanie projektami społecznymi (Ć): 1 PS SD 25/26
CATEGORIES:Ć
LOCATION:302R A-17
END:VEVENT
BEGIN:VEVENT
UID:UZ_PLZ_20260615_1545_502278
DTSTAMP:20260615T154500
DTSTART:20260615T154500
DTEND:20260615T164000
SUMMARY:Zarządzanie projektami społecznymi (W): 1 PS SD 25/26
CATEGORIES:W
LOCATION:302R A-17
END:VEVENT
BEGIN:VEVENT
UID:UZ_PLZ_20260615_1645_502295
DTSTAMP:20260615T164500
DTSTART:20260615T164500
DTEND:20260615T182500
SUMMARY:Zarządzanie projektami społecznymi (Ć): 1 PS SD 25/26
CATEGORIES:Ć
LOCATION:302R A-17
END:VEVENT
BEGIN:VEVENT
UID:UZ_PLZ_20260615_1830_502295
DTSTAMP:20260615T183000
DTSTART:20260615T183000
DTEND:20260615T200000
SUMMARY:Zarządzanie projektami społecznymi (Ć): 1 PS SD 25/26
CATEGORIES:Ć
LOCATION:302R A-17
END:VEVENT
END:VCALENDAR
