BEGIN:VCALENDAR
TZID:Europe/Warsaw
X-WR-TIMEZONE:Europe/Warsaw
VERSION:2.0
PRODID:-//Uniwersytet Zielonogórski//NONSGML Plan zajęć v1.0//EN
NAME:Plan zajęć - semestr zimowy 2025/2026
X-WR-CALNAME:Plan zajęć - semestr zimowy 2025/2026
COLOR:green
CALSCALE:GREGORIAN
BEGIN:VEVENT
UID:UZ_PLZ_20251007_0900_490382
DTSTAMP:20251007T090000
DTSTART:20251007T090000
DTEND:20251007T105500
SUMMARY:Badania naukowe w położnictwie (W): 2 POŁ-SP 24/25
CATEGORIES:W
LOCATION:10 A-22
END:VEVENT
BEGIN:VEVENT
UID:UZ_PLZ_20251007_1115_490418
DTSTAMP:20251007T111500
DTSTART:20251007T111500
DTEND:20251007T133000
SUMMARY:Ginekologia i opieka ginekologiczna (Ć): 2 POŁ-SP 24/25/ćwA
CATEGORIES:Ć
LOCATION:10 A-22
END:VEVENT
BEGIN:VEVENT
UID:UZ_PLZ_20251007_1400_490377
DTSTAMP:20251007T140000
DTSTART:20251007T140000
DTEND:20251007T161500
SUMMARY:Seminarium dyplomowe (S): 3 POŁ-SP 23/24/sem1
CATEGORIES:S
LOCATION:109 A-22
ATTACH:https://classroom.google.com/c/ODE3MjM5NzMzODIz
END:VEVENT
BEGIN:VEVENT
UID:UZ_PLZ_20251010_0800_490382
DTSTAMP:20251010T080000
DTSTART:20251010T080000
DTEND:20251010T095500
SUMMARY:Badania naukowe w położnictwie (W): 2 POŁ-SP 24/25
CATEGORIES:W
LOCATION:10 A-22
END:VEVENT
BEGIN:VEVENT
UID:UZ_PLZ_20251010_1015_490418
DTSTAMP:20251010T101500
DTSTART:20251010T101500
DTEND:20251010T123000
SUMMARY:Ginekologia i opieka ginekologiczna (Ć): 2 POŁ-SP 24/25/ćwA
CATEGORIES:Ć
LOCATION:10 A-22
END:VEVENT
BEGIN:VEVENT
UID:UZ_PLZ_20251010_1305_490461
DTSTAMP:20251010T130500
DTSTART:20251010T130500
DTEND:20251010T150000
SUMMARY:Zdrowie publiczne (Ć): 1 POŁ-SP 25/26/ćwA
CATEGORIES:Ć
LOCATION:10 A-22
END:VEVENT
BEGIN:VEVENT
UID:UZ_PLZ_20251010_1515_490377
DTSTAMP:20251010T151500
DTSTART:20251010T151500
DTEND:20251010T173000
SUMMARY:Seminarium dyplomowe (S): 3 POŁ-SP 23/24/sem1
CATEGORIES:S
LOCATION:10 A-22
ATTACH:https://classroom.google.com/c/ODE3MjM5NzMzODIz
END:VEVENT
BEGIN:VEVENT
UID:UZ_PLZ_20251023_1100_490377
DTSTAMP:20251023T110000
DTSTART:20251023T110000
DTEND:20251023T150000
SUMMARY:Seminarium dyplomowe (S): 3 POŁ-SP 23/24/sem1
CATEGORIES:S
LOCATION:304 A-22
ATTACH:https://classroom.google.com/c/ODE3MjM5NzMzODIz
END:VEVENT
BEGIN:VEVENT
UID:UZ_PLZ_20251023_1720_490461
DTSTAMP:20251023T172000
DTSTART:20251023T172000
DTEND:20251023T194000
SUMMARY:Zdrowie publiczne (Ć): 1 POŁ-SP 25/26/ćwA
CATEGORIES:Ć
LOCATION:10 A-22
END:VEVENT
BEGIN:VEVENT
UID:UZ_PLZ_20251107_0800_490396
DTSTAMP:20251107T080000
DTSTART:20251107T080000
DTEND:20251107T103000
SUMMARY:Badania naukowe w położnictwie (Ć): 2 POŁ-SP 24/25/ćwA
CATEGORIES:Ć
LOCATION:10 A-22
END:VEVENT
BEGIN:VEVENT
UID:UZ_PLZ_20251107_1045_490418
DTSTAMP:20251107T104500
DTSTART:20251107T104500
DTEND:20251107T130000
SUMMARY:Ginekologia i opieka ginekologiczna (Ć): 2 POŁ-SP 24/25/ćwA
CATEGORIES:Ć
LOCATION:10 A-22
END:VEVENT
BEGIN:VEVENT
UID:UZ_PLZ_20251107_1300_490461
DTSTAMP:20251107T130000
DTSTART:20251107T130000
DTEND:20251107T150000
SUMMARY:Zdrowie publiczne (Ć): 1 POŁ-SP 25/26/ćwA
CATEGORIES:Ć
LOCATION:104 A-22
END:VEVENT
BEGIN:VEVENT
UID:UZ_PLZ_20251112_0800_490377
DTSTAMP:20251112T080000
DTSTART:20251112T080000
DTEND:20251112T105000
SUMMARY:Seminarium dyplomowe (S): 3 POŁ-SP 23/24/sem1
CATEGORIES:S
LOCATION:103/103a A-22
ATTACH:https://classroom.google.com/c/ODE3MjM5NzMzODIz
END:VEVENT
BEGIN:VEVENT
UID:UZ_PLZ_20251112_1100_490461
DTSTAMP:20251112T110000
DTSTART:20251112T110000
DTEND:20251112T135000
SUMMARY:Zdrowie publiczne (Ć): 1 POŁ-SP 25/26/ćwA
CATEGORIES:Ć
LOCATION:10 A-22
END:VEVENT
BEGIN:VEVENT
UID:UZ_PLZ_20251119_1720_490377
DTSTAMP:20251119T172000
DTSTART:20251119T172000
DTEND:20251119T193000
SUMMARY:Seminarium dyplomowe (S): 3 POŁ-SP 23/24/sem1
CATEGORIES:S
ATTACH:https://classroom.google.com/c/ODE3MjM5NzMzODIz
END:VEVENT
BEGIN:VEVENT
UID:UZ_PLZ_20251205_0800_490396
DTSTAMP:20251205T080000
DTSTART:20251205T080000
DTEND:20251205T103000
SUMMARY:Badania naukowe w położnictwie (Ć): 2 POŁ-SP 24/25/ćwA
CATEGORIES:Ć
LOCATION:10 A-22
END:VEVENT
BEGIN:VEVENT
UID:UZ_PLZ_20251205_1045_490418
DTSTAMP:20251205T104500
DTSTART:20251205T104500
DTEND:20251205T130000
SUMMARY:Ginekologia i opieka ginekologiczna (Ć): 2 POŁ-SP 24/25/ćwA
CATEGORIES:Ć
LOCATION:10 A-22
END:VEVENT
BEGIN:VEVENT
UID:UZ_PLZ_20251205_1305_490461
DTSTAMP:20251205T130500
DTSTART:20251205T130500
DTEND:20251205T150000
SUMMARY:Zdrowie publiczne (Ć): 1 POŁ-SP 25/26/ćwA
CATEGORIES:Ć
LOCATION:10 A-22
END:VEVENT
BEGIN:VEVENT
UID:UZ_PLZ_20251205_1515_490377
DTSTAMP:20251205T151500
DTSTART:20251205T151500
DTEND:20251205T173000
SUMMARY:Seminarium dyplomowe (S): 3 POŁ-SP 23/24/sem1
CATEGORIES:S
LOCATION:10 A-22
ATTACH:https://classroom.google.com/c/ODE3MjM5NzMzODIz
END:VEVENT
BEGIN:VEVENT
UID:UZ_PLZ_20251208_1600_490377
DTSTAMP:20251208T160000
DTSTART:20251208T160000
DTEND:20251208T185500
SUMMARY:Seminarium dyplomowe (S): 3 POŁ-SP 23/24/sem1
CATEGORIES:S
LOCATION:10 A-22
ATTACH:https://classroom.google.com/c/ODE3MjM5NzMzODIz
END:VEVENT
BEGIN:VEVENT
UID:UZ_PLZ_20260112_0945_490396
DTSTAMP:20260112T094500
DTSTART:20260112T094500
DTEND:20260112T120000
SUMMARY:Badania naukowe w położnictwie (Ć): 2 POŁ-SP 24/25/ćwA
CATEGORIES:Ć
LOCATION:10 A-22
END:VEVENT
BEGIN:VEVENT
UID:UZ_PLZ_20260112_1215_490418
DTSTAMP:20260112T121500
DTSTART:20260112T121500
DTEND:20260112T143000
SUMMARY:Ginekologia i opieka ginekologiczna (Ć): 2 POŁ-SP 24/25/ćwA
CATEGORIES:Ć
LOCATION:10 A-22
END:VEVENT
END:VCALENDAR
