BEGIN:VCALENDAR
TZID:Europe/Warsaw
X-WR-TIMEZONE:Europe/Warsaw
VERSION:2.0
PRODID:-//Uniwersytet Zielonogórski//NONSGML Plan zajęć v1.0//EN
NAME:Plan zajęć - semestr letni 2025/2026
X-WR-CALNAME:Plan zajęć - semestr letni 2025/2026
COLOR:green
CALSCALE:GREGORIAN
BEGIN:VEVENT
UID:UZ_PLZ_20260428_1800_504381
DTSTAMP:20260428T180000
DTSTART:20260428T180000
DTEND:20260428T201500
SUMMARY:Seminarium dyplomowe (S): 3 POŁ-SP 23/24/sem1
CATEGORIES:S
END:VEVENT
BEGIN:VEVENT
UID:UZ_PLZ_20260504_1700_504381
DTSTAMP:20260504T170000
DTSTART:20260504T170000
DTEND:20260504T200000
SUMMARY:Seminarium dyplomowe (S): 3 POŁ-SP 23/24/sem1
CATEGORIES:S
END:VEVENT
BEGIN:VEVENT
UID:UZ_PLZ_20260514_1730_504381
DTSTAMP:20260514T173000
DTSTART:20260514T173000
DTEND:20260514T203000
SUMMARY:Seminarium dyplomowe (S): 3 POŁ-SP 23/24/sem1
CATEGORIES:S
END:VEVENT
BEGIN:VEVENT
UID:UZ_PLZ_20260518_0845_504387
DTSTAMP:20260518T084500
DTSTART:20260518T084500
DTEND:20260518T124500
SUMMARY:Ginekologia i opieka ginekologiczna (Ć): 2 POŁ-SP 24/25/ćwA
CATEGORIES:Ć
LOCATION:10 A-22
END:VEVENT
BEGIN:VEVENT
UID:UZ_PLZ_20260518_1300_504337
DTSTAMP:20260518T130000
DTSTART:20260518T130000
DTEND:20260518T160000
SUMMARY:Podstawowa opieka zdrowotna (Zp): 3 POŁ-SP 23/24/ZP1
CATEGORIES:Zp
LOCATION:309 A-22
END:VEVENT
BEGIN:VEVENT
UID:UZ_PLZ_20260518_1605_504315
DTSTAMP:20260518T160500
DTSTART:20260518T160500
DTEND:20260518T190500
SUMMARY:Podstawowa opieka zdrowotna (Zp): 3 POŁ-SP 23/24/ZP2
CATEGORIES:Zp
LOCATION:309 A-22
END:VEVENT
BEGIN:VEVENT
UID:UZ_PLZ_20260518_1915_504381
DTSTAMP:20260518T191500
DTSTART:20260518T191500
DTEND:20260518T204500
SUMMARY:Seminarium dyplomowe (S): 3 POŁ-SP 23/24/sem1
CATEGORIES:S
LOCATION:10 A-22
END:VEVENT
BEGIN:VEVENT
UID:UZ_PLZ_20260519_0800_504301
DTSTAMP:20260519T080000
DTSTART:20260519T080000
DTEND:20260519T110000
SUMMARY:Podstawowa opieka zdrowotna (Zp): 3 POŁ-SP 23/24/ZP3
CATEGORIES:Zp
LOCATION:309 A-22
END:VEVENT
BEGIN:VEVENT
UID:UZ_PLZ_20260519_1105_504389
DTSTAMP:20260519T110500
DTSTART:20260519T110500
DTEND:20260519T140500
SUMMARY:Podstawowa opieka zdrowotna (Zp): 3 POŁ-SP 23/24/ZP4
CATEGORIES:Zp
LOCATION:309 A-22
END:VEVENT
BEGIN:VEVENT
UID:UZ_PLZ_20260519_1410_504376
DTSTAMP:20260519T141000
DTSTART:20260519T141000
DTEND:20260519T171000
SUMMARY:Podstawowa opieka zdrowotna (Zp): 3 POŁ-SP 23/24/ZP5
CATEGORIES:Zp
LOCATION:309 A-22
END:VEVENT
BEGIN:VEVENT
UID:UZ_PLZ_20260519_1715_504390
DTSTAMP:20260519T171500
DTSTART:20260519T171500
DTEND:20260519T201500
SUMMARY:Podstawowa opieka zdrowotna (Zp): 3 POŁ-SP 23/24/ZP6
CATEGORIES:Zp
LOCATION:309 A-22
END:VEVENT
BEGIN:VEVENT
UID:UZ_PLZ_20260526_0800_504387
DTSTAMP:20260526T080000
DTSTART:20260526T080000
DTEND:20260526T113000
SUMMARY:Ginekologia i opieka ginekologiczna (Ć): 2 POŁ-SP 24/25/ćwA
CATEGORIES:Ć
LOCATION:10 A-22
END:VEVENT
BEGIN:VEVENT
UID:UZ_PLZ_20260526_1145_504381
DTSTAMP:20260526T114500
DTSTART:20260526T114500
DTEND:20260526T144500
SUMMARY:Seminarium dyplomowe (S): 3 POŁ-SP 23/24/sem1
CATEGORIES:S
LOCATION:10 A-22
END:VEVENT
BEGIN:VEVENT
UID:UZ_PLZ_20260528_0800_504371
DTSTAMP:20260528T080000
DTSTART:20260528T080000
DTEND:20260528T123000
SUMMARY:Ginekologia i opieka ginekologiczna (Zp): 2 POŁ-SP 24/25/zp1
CATEGORIES:Zp
LOCATION:309 A-22
END:VEVENT
BEGIN:VEVENT
UID:UZ_PLZ_20260528_1245_504354
DTSTAMP:20260528T124500
DTSTART:20260528T124500
DTEND:20260528T171500
SUMMARY:Ginekologia i opieka ginekologiczna (Zp): 2 POŁ-SP 24/25/zp2
CATEGORIES:Zp
LOCATION:309 A-22
END:VEVENT
BEGIN:VEVENT
UID:UZ_PLZ_20260528_1730_504381
DTSTAMP:20260528T173000
DTSTART:20260528T173000
DTEND:20260528T194500
SUMMARY:Seminarium dyplomowe (S): 3 POŁ-SP 23/24/sem1
CATEGORIES:S
LOCATION:10 A-22
END:VEVENT
BEGIN:VEVENT
UID:UZ_PLZ_20260529_0800_504297
DTSTAMP:20260529T080000
DTSTART:20260529T080000
DTEND:20260529T123000
SUMMARY:Ginekologia i opieka ginekologiczna (Zp): 2 POŁ-SP 24/25/zp3
CATEGORIES:Zp
LOCATION:309 A-22
END:VEVENT
BEGIN:VEVENT
UID:UZ_PLZ_20260529_1245_504298
DTSTAMP:20260529T124500
DTSTART:20260529T124500
DTEND:20260529T171500
SUMMARY:Ginekologia i opieka ginekologiczna (Zp): 2 POŁ-SP 24/25/zp4
CATEGORIES:Zp
LOCATION:309 A-22
END:VEVENT
BEGIN:VEVENT
UID:UZ_PLZ_20260529_1730_504381
DTSTAMP:20260529T173000
DTSTART:20260529T173000
DTEND:20260529T194500
SUMMARY:Seminarium dyplomowe (S): 3 POŁ-SP 23/24/sem1
CATEGORIES:S
LOCATION:10 A-22
END:VEVENT
BEGIN:VEVENT
UID:UZ_PLZ_20260601_1700_504381
DTSTAMP:20260601T170000
DTSTART:20260601T170000
DTEND:20260601T200000
SUMMARY:Seminarium dyplomowe (S): 3 POŁ-SP 23/24/sem1
CATEGORIES:S
LOCATION:10 A-22
END:VEVENT
END:VCALENDAR
