BEGIN:VCALENDAR
TZID:Europe/Warsaw
X-WR-TIMEZONE:Europe/Warsaw
VERSION:2.0
PRODID:-//Uniwersytet Zielonogórski//NONSGML Plan zajęć v1.0//EN
NAME:Plan zajęć - semestr letni 2025/2026
X-WR-CALNAME:Plan zajęć - semestr letni 2025/2026
COLOR:green
CALSCALE:GREGORIAN
BEGIN:VEVENT
UID:UZ_PLZ_20260312_0800_504314
DTSTAMP:20260312T080000
DTSTART:20260312T080000
DTEND:20260312T114500
SUMMARY:Podstawowa opieka zdrowotna (W): 3 POŁ-SP 23/24
CATEGORIES:W
LOCATION:303 A-22
END:VEVENT
BEGIN:VEVENT
UID:UZ_PLZ_20260312_1200_504388
DTSTAMP:20260312T120000
DTSTART:20260312T120000
DTEND:20260312T133000
SUMMARY:Podstawowa opieka zdrowotna (Ć): 3 POŁ-SP 23/24/ćwA
CATEGORIES:Ć
LOCATION:303 A-22
END:VEVENT
BEGIN:VEVENT
UID:UZ_PLZ_20260312_1345_504305
DTSTAMP:20260312T134500
DTSTART:20260312T134500
DTEND:20260312T154500
SUMMARY:Promocja zdrowia (W): 3 POŁ-SP 23/24
CATEGORIES:W
LOCATION:303 A-22
END:VEVENT
BEGIN:VEVENT
UID:UZ_PLZ_20260312_1600_504361
DTSTAMP:20260312T160000
DTSTART:20260312T160000
DTEND:20260312T181500
SUMMARY:Promocja zdrowia (Ć): 3 POŁ-SP 23/24/ćwA
CATEGORIES:Ć
LOCATION:303 A-22
END:VEVENT
BEGIN:VEVENT
UID:UZ_PLZ_20260312_1830_504381
DTSTAMP:20260312T183000
DTSTART:20260312T183000
DTEND:20260312T204500
SUMMARY:Seminarium dyplomowe (S): 3 POŁ-SP 23/24/sem1
CATEGORIES:S
LOCATION:303 A-22
END:VEVENT
BEGIN:VEVENT
UID:UZ_PLZ_20260319_0800_504361
DTSTAMP:20260319T080000
DTSTART:20260319T080000
DTEND:20260319T101500
SUMMARY:Promocja zdrowia (Ć): 3 POŁ-SP 23/24/ćwA
CATEGORIES:Ć
LOCATION:303 A-22
END:VEVENT
BEGIN:VEVENT
UID:UZ_PLZ_20260319_1030_504388
DTSTAMP:20260319T103000
DTSTART:20260319T103000
DTEND:20260319T133000
SUMMARY:Podstawowa opieka zdrowotna (Ć): 3 POŁ-SP 23/24/ćwA
CATEGORIES:Ć
LOCATION:303 A-22
END:VEVENT
BEGIN:VEVENT
UID:UZ_PLZ_20260319_1345_504314
DTSTAMP:20260319T134500
DTSTART:20260319T134500
DTEND:20260319T151500
SUMMARY:Podstawowa opieka zdrowotna (W): 3 POŁ-SP 23/24
CATEGORIES:W
LOCATION:304 A-22
END:VEVENT
BEGIN:VEVENT
UID:UZ_PLZ_20260319_1530_504387
DTSTAMP:20260319T153000
DTSTART:20260319T153000
DTEND:20260319T191500
SUMMARY:Ginekologia i opieka ginekologiczna (Ć): 2 POŁ-SP 24/25/ćwA
CATEGORIES:Ć
LOCATION:10 A-22
END:VEVENT
BEGIN:VEVENT
UID:UZ_PLZ_20260323_1730_504381
DTSTAMP:20260323T173000
DTSTART:20260323T173000
DTEND:20260323T194500
SUMMARY:Seminarium dyplomowe (S): 3 POŁ-SP 23/24/sem1
CATEGORIES:S
END:VEVENT
BEGIN:VEVENT
UID:UZ_PLZ_20260326_1730_504381
DTSTAMP:20260326T173000
DTSTART:20260326T173000
DTEND:20260326T194500
SUMMARY:Seminarium dyplomowe (S): 3 POŁ-SP 23/24/sem1
CATEGORIES:S
END:VEVENT
BEGIN:VEVENT
UID:UZ_PLZ_20260401_1730_504381
DTSTAMP:20260401T173000
DTSTART:20260401T173000
DTEND:20260401T194500
SUMMARY:Seminarium dyplomowe (S): 3 POŁ-SP 23/24/sem1
CATEGORIES:S
END:VEVENT
BEGIN:VEVENT
UID:UZ_PLZ_20260402_0800_504305
DTSTAMP:20260402T080000
DTSTART:20260402T080000
DTEND:20260402T094500
SUMMARY:Promocja zdrowia (W): 3 POŁ-SP 23/24
CATEGORIES:W
LOCATION:303 A-22
END:VEVENT
BEGIN:VEVENT
UID:UZ_PLZ_20260402_1000_504361
DTSTAMP:20260402T100000
DTSTART:20260402T100000
DTEND:20260402T130000
SUMMARY:Promocja zdrowia (Ć): 3 POŁ-SP 23/24/ćwA
CATEGORIES:Ć
LOCATION:303 A-22
END:VEVENT
BEGIN:VEVENT
UID:UZ_PLZ_20260402_1315_504314
DTSTAMP:20260402T131500
DTSTART:20260402T131500
DTEND:20260402T153000
SUMMARY:Podstawowa opieka zdrowotna (W): 3 POŁ-SP 23/24
CATEGORIES:W
LOCATION:104 A-22
END:VEVENT
BEGIN:VEVENT
UID:UZ_PLZ_20260402_1545_504388
DTSTAMP:20260402T154500
DTSTART:20260402T154500
DTEND:20260402T201500
SUMMARY:Podstawowa opieka zdrowotna (Ć): 3 POŁ-SP 23/24/ćwA
CATEGORIES:Ć
LOCATION:104 A-22
END:VEVENT
BEGIN:VEVENT
UID:UZ_PLZ_20260403_0800_504388
DTSTAMP:20260403T080000
DTSTART:20260403T080000
DTEND:20260403T101500
SUMMARY:Podstawowa opieka zdrowotna (Ć): 3 POŁ-SP 23/24/ćwA
CATEGORIES:Ć
LOCATION:303 A-22
END:VEVENT
BEGIN:VEVENT
UID:UZ_PLZ_20260403_1020_504319
DTSTAMP:20260403T102000
DTSTART:20260403T102000
DTEND:20260403T115000
SUMMARY:Promocja zdrowia (Zp): 3 POŁ-SP 23/24/ZP6
CATEGORIES:Zp
LOCATION:309 A-22
END:VEVENT
BEGIN:VEVENT
UID:UZ_PLZ_20260403_1200_504341
DTSTAMP:20260403T120000
DTSTART:20260403T120000
DTEND:20260403T133000
SUMMARY:Promocja zdrowia (Zp): 3 POŁ-SP 23/24/ZP1
CATEGORIES:Zp
LOCATION:309 A-22
END:VEVENT
BEGIN:VEVENT
UID:UZ_PLZ_20260403_1335_504330
DTSTAMP:20260403T133500
DTSTART:20260403T133500
DTEND:20260403T150500
SUMMARY:Promocja zdrowia (Zp): 3 POŁ-SP 23/24/ZP2
CATEGORIES:Zp
LOCATION:309 A-22
END:VEVENT
BEGIN:VEVENT
UID:UZ_PLZ_20260403_1510_504362
DTSTAMP:20260403T151000
DTSTART:20260403T151000
DTEND:20260403T164000
SUMMARY:Promocja zdrowia (Zp): 3 POŁ-SP 23/24/ZP3
CATEGORIES:Zp
LOCATION:309 A-22
END:VEVENT
BEGIN:VEVENT
UID:UZ_PLZ_20260403_1645_504393
DTSTAMP:20260403T164500
DTSTART:20260403T164500
DTEND:20260403T181500
SUMMARY:Promocja zdrowia (Zp): 3 POŁ-SP 23/24/ZP4
CATEGORIES:Zp
LOCATION:309 A-22
END:VEVENT
BEGIN:VEVENT
UID:UZ_PLZ_20260403_1820_504306
DTSTAMP:20260403T182000
DTSTART:20260403T182000
DTEND:20260403T195000
SUMMARY:Promocja zdrowia (Zp): 3 POŁ-SP 23/24/ZP5
CATEGORIES:Zp
LOCATION:309 A-22
END:VEVENT
BEGIN:VEVENT
UID:UZ_PLZ_20260403_2000_504381
DTSTAMP:20260403T200000
DTSTART:20260403T200000
DTEND:20260403T204500
SUMMARY:Seminarium dyplomowe (S): 3 POŁ-SP 23/24/sem1
CATEGORIES:S
LOCATION:10 A-22
END:VEVENT
BEGIN:VEVENT
UID:UZ_PLZ_20260428_1800_504381
DTSTAMP:20260428T180000
DTSTART:20260428T180000
DTEND:20260428T201500
SUMMARY:Seminarium dyplomowe (S): 3 POŁ-SP 23/24/sem1
CATEGORIES:S
END:VEVENT
BEGIN:VEVENT
UID:UZ_PLZ_20260504_1700_504381
DTSTAMP:20260504T170000
DTSTART:20260504T170000
DTEND:20260504T200000
SUMMARY:Seminarium dyplomowe (S): 3 POŁ-SP 23/24/sem1
CATEGORIES:S
END:VEVENT
BEGIN:VEVENT
UID:UZ_PLZ_20260514_1730_504381
DTSTAMP:20260514T173000
DTSTART:20260514T173000
DTEND:20260514T203000
SUMMARY:Seminarium dyplomowe (S): 3 POŁ-SP 23/24/sem1
CATEGORIES:S
END:VEVENT
BEGIN:VEVENT
UID:UZ_PLZ_20260518_0845_504387
DTSTAMP:20260518T084500
DTSTART:20260518T084500
DTEND:20260518T124500
SUMMARY:Ginekologia i opieka ginekologiczna (Ć): 2 POŁ-SP 24/25/ćwA
CATEGORIES:Ć
LOCATION:10 A-22
END:VEVENT
BEGIN:VEVENT
UID:UZ_PLZ_20260518_1300_504337
DTSTAMP:20260518T130000
DTSTART:20260518T130000
DTEND:20260518T160000
SUMMARY:Podstawowa opieka zdrowotna (Zp): 3 POŁ-SP 23/24/ZP1
CATEGORIES:Zp
LOCATION:309 A-22
END:VEVENT
BEGIN:VEVENT
UID:UZ_PLZ_20260518_1605_504315
DTSTAMP:20260518T160500
DTSTART:20260518T160500
DTEND:20260518T190500
SUMMARY:Podstawowa opieka zdrowotna (Zp): 3 POŁ-SP 23/24/ZP2
CATEGORIES:Zp
LOCATION:309 A-22
END:VEVENT
BEGIN:VEVENT
UID:UZ_PLZ_20260518_1915_504381
DTSTAMP:20260518T191500
DTSTART:20260518T191500
DTEND:20260518T204500
SUMMARY:Seminarium dyplomowe (S): 3 POŁ-SP 23/24/sem1
CATEGORIES:S
LOCATION:10 A-22
END:VEVENT
BEGIN:VEVENT
UID:UZ_PLZ_20260519_0800_504301
DTSTAMP:20260519T080000
DTSTART:20260519T080000
DTEND:20260519T110000
SUMMARY:Podstawowa opieka zdrowotna (Zp): 3 POŁ-SP 23/24/ZP3
CATEGORIES:Zp
LOCATION:309 A-22
END:VEVENT
BEGIN:VEVENT
UID:UZ_PLZ_20260519_1105_504389
DTSTAMP:20260519T110500
DTSTART:20260519T110500
DTEND:20260519T140500
SUMMARY:Podstawowa opieka zdrowotna (Zp): 3 POŁ-SP 23/24/ZP4
CATEGORIES:Zp
LOCATION:309 A-22
END:VEVENT
BEGIN:VEVENT
UID:UZ_PLZ_20260519_1410_504376
DTSTAMP:20260519T141000
DTSTART:20260519T141000
DTEND:20260519T171000
SUMMARY:Podstawowa opieka zdrowotna (Zp): 3 POŁ-SP 23/24/ZP5
CATEGORIES:Zp
LOCATION:309 A-22
END:VEVENT
BEGIN:VEVENT
UID:UZ_PLZ_20260519_1715_504390
DTSTAMP:20260519T171500
DTSTART:20260519T171500
DTEND:20260519T201500
SUMMARY:Podstawowa opieka zdrowotna (Zp): 3 POŁ-SP 23/24/ZP6
CATEGORIES:Zp
LOCATION:309 A-22
END:VEVENT
BEGIN:VEVENT
UID:UZ_PLZ_20260526_0800_504387
DTSTAMP:20260526T080000
DTSTART:20260526T080000
DTEND:20260526T113000
SUMMARY:Ginekologia i opieka ginekologiczna (Ć): 2 POŁ-SP 24/25/ćwA
CATEGORIES:Ć
LOCATION:10 A-22
END:VEVENT
BEGIN:VEVENT
UID:UZ_PLZ_20260526_1145_504381
DTSTAMP:20260526T114500
DTSTART:20260526T114500
DTEND:20260526T144500
SUMMARY:Seminarium dyplomowe (S): 3 POŁ-SP 23/24/sem1
CATEGORIES:S
LOCATION:10 A-22
END:VEVENT
BEGIN:VEVENT
UID:UZ_PLZ_20260528_0800_504371
DTSTAMP:20260528T080000
DTSTART:20260528T080000
DTEND:20260528T123000
SUMMARY:Ginekologia i opieka ginekologiczna (Zp): 2 POŁ-SP 24/25/zp1
CATEGORIES:Zp
LOCATION:309 A-22
END:VEVENT
BEGIN:VEVENT
UID:UZ_PLZ_20260528_1245_504354
DTSTAMP:20260528T124500
DTSTART:20260528T124500
DTEND:20260528T171500
SUMMARY:Ginekologia i opieka ginekologiczna (Zp): 2 POŁ-SP 24/25/zp2
CATEGORIES:Zp
LOCATION:309 A-22
END:VEVENT
BEGIN:VEVENT
UID:UZ_PLZ_20260528_1730_504381
DTSTAMP:20260528T173000
DTSTART:20260528T173000
DTEND:20260528T194500
SUMMARY:Seminarium dyplomowe (S): 3 POŁ-SP 23/24/sem1
CATEGORIES:S
LOCATION:10 A-22
END:VEVENT
BEGIN:VEVENT
UID:UZ_PLZ_20260529_0800_504297
DTSTAMP:20260529T080000
DTSTART:20260529T080000
DTEND:20260529T123000
SUMMARY:Ginekologia i opieka ginekologiczna (Zp): 2 POŁ-SP 24/25/zp3
CATEGORIES:Zp
LOCATION:309 A-22
END:VEVENT
BEGIN:VEVENT
UID:UZ_PLZ_20260529_1245_504298
DTSTAMP:20260529T124500
DTSTART:20260529T124500
DTEND:20260529T171500
SUMMARY:Ginekologia i opieka ginekologiczna (Zp): 2 POŁ-SP 24/25/zp4
CATEGORIES:Zp
LOCATION:309 A-22
END:VEVENT
BEGIN:VEVENT
UID:UZ_PLZ_20260529_1730_504381
DTSTAMP:20260529T173000
DTSTART:20260529T173000
DTEND:20260529T194500
SUMMARY:Seminarium dyplomowe (S): 3 POŁ-SP 23/24/sem1
CATEGORIES:S
LOCATION:10 A-22
END:VEVENT
BEGIN:VEVENT
UID:UZ_PLZ_20260601_1700_504381
DTSTAMP:20260601T170000
DTSTART:20260601T170000
DTEND:20260601T200000
SUMMARY:Seminarium dyplomowe (S): 3 POŁ-SP 23/24/sem1
CATEGORIES:S
LOCATION:10 A-22
END:VEVENT
END:VCALENDAR
