BEGIN:VCALENDAR
TZID:Europe/Warsaw
X-WR-TIMEZONE:Europe/Warsaw
VERSION:2.0
PRODID:-//Uniwersytet Zielonogórski//NONSGML Plan zajęć v1.0//EN
NAME:Plan zajęć - semestr letni 2025/2026
X-WR-CALNAME:Plan zajęć - semestr letni 2025/2026
COLOR:green
CALSCALE:GREGORIAN
BEGIN:VEVENT
UID:UZ_PLZ_20260430_1000_508417
DTSTAMP:20260430T100000
DTSTART:20260430T100000
DTEND:20260430T130000
SUMMARY:Spotkanie Erasmus (R)
CATEGORIES:R
LOCATION:6 F
END:VEVENT
BEGIN:VEVENT
UID:UZ_PLZ_20260430_1745_504171
DTSTAMP:20260430T174500
DTSTART:20260430T174500
DTEND:20260430T191500
SUMMARY:Zajęcia fakultatywne - Telemedycyna i e-zdrowie (Ć): 1 PIEL-SP 25/26/f2
CATEGORIES:Ć
LOCATION:103/103a A-22\; 305/305a A-22
ATTACH:https://classroom.google.com/c/ODUwOTgwNDcyNTI5
END:VEVENT
BEGIN:VEVENT
UID:UZ_PLZ_20260505_1600_504286
DTSTAMP:20260505T160000
DTSTART:20260505T160000
DTEND:20260505T203000
SUMMARY:Podstawy pielęgniarstwa (L): 1 PIEL-SP 25/26/lab6
CATEGORIES:L
LOCATION:308/308a A-22
END:VEVENT
BEGIN:VEVENT
UID:UZ_PLZ_20260506_1530_504286
DTSTAMP:20260506T153000
DTSTART:20260506T153000
DTEND:20260506T203000
SUMMARY:Podstawy pielęgniarstwa (L): 1 PIEL-SP 25/26/lab6
CATEGORIES:L
LOCATION:307 A-22
END:VEVENT
BEGIN:VEVENT
UID:UZ_PLZ_20260507_1745_504171
DTSTAMP:20260507T174500
DTSTART:20260507T174500
DTEND:20260507T191500
SUMMARY:Zajęcia fakultatywne - Telemedycyna i e-zdrowie (Ć): 1 PIEL-SP 25/26/f2
CATEGORIES:Ć
LOCATION:305/305a A-22
ATTACH:https://classroom.google.com/c/ODUwOTgwNDcyNTI5
END:VEVENT
BEGIN:VEVENT
UID:UZ_PLZ_20260511_1730_504171
DTSTAMP:20260511T173000
DTSTART:20260511T173000
DTEND:20260511T194500
SUMMARY:Zajęcia fakultatywne - Telemedycyna i e-zdrowie (Ć): 1 PIEL-SP 25/26/f2
CATEGORIES:Ć
LOCATION:305/305a A-22
ATTACH:https://classroom.google.com/c/ODUwOTgwNDcyNTI5
END:VEVENT
BEGIN:VEVENT
UID:UZ_PLZ_20260513_1530_504286
DTSTAMP:20260513T153000
DTSTART:20260513T153000
DTEND:20260513T203000
SUMMARY:Podstawy pielęgniarstwa (L): 1 PIEL-SP 25/26/lab6
CATEGORIES:L
LOCATION:308/308a A-22
END:VEVENT
BEGIN:VEVENT
UID:UZ_PLZ_20260520_1530_504286
DTSTAMP:20260520T153000
DTSTART:20260520T153000
DTEND:20260520T203000
SUMMARY:Podstawy pielęgniarstwa (L): 1 PIEL-SP 25/26/lab6
CATEGORIES:L
LOCATION:308/308a A-22
END:VEVENT
BEGIN:VEVENT
UID:UZ_PLZ_20260521_1730_504171
DTSTAMP:20260521T173000
DTSTART:20260521T173000
DTEND:20260521T193000
SUMMARY:Zajęcia fakultatywne - Telemedycyna i e-zdrowie (Ć): 1 PIEL-SP 25/26/f2
CATEGORIES:Ć
LOCATION:305/305a A-22
ATTACH:https://classroom.google.com/c/ODUwOTgwNDcyNTI5
END:VEVENT
BEGIN:VEVENT
UID:UZ_PLZ_20260522_1530_504286
DTSTAMP:20260522T153000
DTSTART:20260522T153000
DTEND:20260522T203000
SUMMARY:Podstawy pielęgniarstwa (L): 1 PIEL-SP 25/26/lab6
CATEGORIES:L
LOCATION:308/308a A-22
END:VEVENT
BEGIN:VEVENT
UID:UZ_PLZ_20260527_1530_504286
DTSTAMP:20260527T153000
DTSTART:20260527T153000
DTEND:20260527T203000
SUMMARY:Podstawy pielęgniarstwa (L): 1 PIEL-SP 25/26/lab6
CATEGORIES:L
LOCATION:308/308a A-22
END:VEVENT
BEGIN:VEVENT
UID:UZ_PLZ_20260528_1730_504171
DTSTAMP:20260528T173000
DTSTART:20260528T173000
DTEND:20260528T193000
SUMMARY:Zajęcia fakultatywne - Telemedycyna i e-zdrowie (Ć): 1 PIEL-SP 25/26/f2
CATEGORIES:Ć
LOCATION:305/305a A-22
ATTACH:https://classroom.google.com/c/ODUwOTgwNDcyNTI5
END:VEVENT
BEGIN:VEVENT
UID:UZ_PLZ_20260603_1530_504286
DTSTAMP:20260603T153000
DTSTART:20260603T153000
DTEND:20260603T204500
SUMMARY:Podstawy pielęgniarstwa (L): 1 PIEL-SP 25/26/lab6
CATEGORIES:L
LOCATION:308/308a A-22
END:VEVENT
BEGIN:VEVENT
UID:UZ_PLZ_20260610_1530_504286
DTSTAMP:20260610T153000
DTSTART:20260610T153000
DTEND:20260610T204500
SUMMARY:Podstawy pielęgniarstwa (L): 1 PIEL-SP 25/26/lab6
CATEGORIES:L
LOCATION:308/308a A-22
END:VEVENT
BEGIN:VEVENT
UID:UZ_PLZ_20260611_1730_504171
DTSTAMP:20260611T173000
DTSTART:20260611T173000
DTEND:20260611T193000
SUMMARY:Zajęcia fakultatywne - Telemedycyna i e-zdrowie (Ć): 1 PIEL-SP 25/26/f2
CATEGORIES:Ć
LOCATION:305/305a A-22
ATTACH:https://classroom.google.com/c/ODUwOTgwNDcyNTI5
END:VEVENT
BEGIN:VEVENT
UID:UZ_PLZ_20260617_1530_504286
DTSTAMP:20260617T153000
DTSTART:20260617T153000
DTEND:20260617T204500
SUMMARY:Podstawy pielęgniarstwa (L): 1 PIEL-SP 25/26/lab6
CATEGORIES:L
LOCATION:308/308a A-22
END:VEVENT
END:VCALENDAR
