BEGIN:VCALENDAR
TZID:Europe/Warsaw
X-WR-TIMEZONE:Europe/Warsaw
VERSION:2.0
PRODID:-//Uniwersytet Zielonogórski//NONSGML Plan zajęć v1.0//EN
NAME:Plan zajęć - semestr letni 2025/2026
X-WR-CALNAME:Plan zajęć - semestr letni 2025/2026
COLOR:green
CALSCALE:GREGORIAN
BEGIN:VEVENT
UID:UZ_PLZ_20260424_1100_495197
DTSTAMP:20260424T110000
DTSTART:20260424T110000
DTEND:20260424T123000
SUMMARY:Język angielski II/Język niemiecki II (L): 22AiR-SP/B
CATEGORIES:L
LOCATION:127 A-2
END:VEVENT
BEGIN:VEVENT
UID:UZ_PLZ_20260424_1245_506797
DTSTAMP:20260424T124500
DTSTART:20260424T124500
DTEND:20260424T141500
SUMMARY:Język angielski 1 (L): 11ID-SP\; 11MAT-SP
CATEGORIES:L
LOCATION:127 A-2
END:VEVENT
BEGIN:VEVENT
UID:UZ_PLZ_20260425_0740_498288
DTSTAMP:20260425T074000
DTSTART:20260425T074000
DTEND:20260425T090000
SUMMARY:Język angielski I (L): 11LOG-ND(L)
CATEGORIES:L
LOCATION:122 A-29
END:VEVENT
BEGIN:VEVENT
UID:UZ_PLZ_20260425_1100_498785
DTSTAMP:20260425T110000
DTSTART:20260425T110000
DTEND:20260425T123000
SUMMARY:Język angielski 2 (L): 21LOG-NP\; 22LOG-NP
CATEGORIES:L
LOCATION:122 A-29
END:VEVENT
BEGIN:VEVENT
UID:UZ_PLZ_20260425_1245_499200
DTSTAMP:20260425T124500
DTSTART:20260425T124500
DTEND:20260425T141500
SUMMARY:Język angielski 4 (L): 21EK-NP
CATEGORIES:L
LOCATION:122 A-29
END:VEVENT
BEGIN:VEVENT
UID:UZ_PLZ_20260426_0730_499289
DTSTAMP:20260426T073000
DTSTART:20260426T073000
DTEND:20260426T090000
SUMMARY:Język angielski 1 (L): 11FiR-NP
CATEGORIES:L
LOCATION:122 A-29
END:VEVENT
BEGIN:VEVENT
UID:UZ_PLZ_20260426_0915_498245
DTSTAMP:20260426T091500
DTSTART:20260426T091500
DTEND:20260426T104500
SUMMARY:Język angielski 4 (L): 31LOG-ZLP-NP\; 32LOG-TS-NP\; 33LOG-TS-NP
CATEGORIES:L
LOCATION:122 A-29
END:VEVENT
BEGIN:VEVENT
UID:UZ_PLZ_20260426_1430_500832
DTSTAMP:20260426T143000
DTSTART:20260426T143000
DTEND:20260426T160000
SUMMARY:Język angielski 3 (L): 21FiR-FB-NP\; 22FiR-RPG-NP
CATEGORIES:L
LOCATION:122 A-29
END:VEVENT
BEGIN:VEVENT
UID:UZ_PLZ_20260427_0915_505371
DTSTAMP:20260427T091500
DTSTART:20260427T091500
DTEND:20260427T104500
SUMMARY:Język angielski 2 (L): 21LOG-SP\; 22LOG-SP\; 23LOG-SP
CATEGORIES:L
LOCATION:02a C-2
END:VEVENT
BEGIN:VEVENT
UID:UZ_PLZ_20260427_1100_498806
DTSTAMP:20260427T110000
DTSTART:20260427T110000
DTEND:20260427T123000
SUMMARY:Język angielski 2 (L): 21LOG-SP\; 22LOG-SP\; 23LOG-SP
CATEGORIES:L
LOCATION:02a C-2
END:VEVENT
BEGIN:VEVENT
UID:UZ_PLZ_20260427_1245_499583
DTSTAMP:20260427T124500
DTSTART:20260427T124500
DTEND:20260427T141500
SUMMARY:Język angielski I (L): 11MiBM-SP/A
CATEGORIES:L
LOCATION:02a C-2
END:VEVENT
BEGIN:VEVENT
UID:UZ_PLZ_20260427_1430_499246
DTSTAMP:20260427T143000
DTSTART:20260427T143000
DTEND:20260427T160000
SUMMARY:Język angielski 1 (L): 11FiR-SP\; 12FiR-SP\; 13FiR-SP
CATEGORIES:L
LOCATION:02a C-2
END:VEVENT
BEGIN:VEVENT
UID:UZ_PLZ_20260428_0730_505638
DTSTAMP:20260428T073000
DTSTART:20260428T073000
DTEND:20260428T090000
SUMMARY:Język angielski 3 (L): 21FiR-FB-SP\; 22FiR-RPG-SP
CATEGORIES:L
LOCATION:1 C-2
END:VEVENT
BEGIN:VEVENT
UID:UZ_PLZ_20260428_0915_503261
DTSTAMP:20260428T091500
DTSTART:20260428T091500
DTEND:20260428T104500
SUMMARY:Język angielski (Ć): 10BUD-SP/B
CATEGORIES:Ć
LOCATION:1 C-2
END:VEVENT
BEGIN:VEVENT
UID:UZ_PLZ_20260429_1100_495197
DTSTAMP:20260429T110000
DTSTART:20260429T110000
DTEND:20260429T123000
SUMMARY:Język angielski II/Język niemiecki II (L): 22AiR-SP/B
CATEGORIES:L
LOCATION:127 A-2
END:VEVENT
BEGIN:VEVENT
UID:UZ_PLZ_20260429_1245_506797
DTSTAMP:20260429T124500
DTSTART:20260429T124500
DTEND:20260429T141500
SUMMARY:Język angielski 1 (L): 11ID-SP\; 11MAT-SP
CATEGORIES:L
LOCATION:127 A-2
END:VEVENT
BEGIN:VEVENT
UID:UZ_PLZ_20260504_0915_505371
DTSTAMP:20260504T091500
DTSTART:20260504T091500
DTEND:20260504T104500
SUMMARY:Język angielski 2 (L): 21LOG-SP\; 22LOG-SP\; 23LOG-SP
CATEGORIES:L
LOCATION:02a C-2
END:VEVENT
BEGIN:VEVENT
UID:UZ_PLZ_20260504_1100_498806
DTSTAMP:20260504T110000
DTSTART:20260504T110000
DTEND:20260504T123000
SUMMARY:Język angielski 2 (L): 21LOG-SP\; 22LOG-SP\; 23LOG-SP
CATEGORIES:L
LOCATION:02a C-2
END:VEVENT
BEGIN:VEVENT
UID:UZ_PLZ_20260504_1245_499583
DTSTAMP:20260504T124500
DTSTART:20260504T124500
DTEND:20260504T141500
SUMMARY:Język angielski I (L): 11MiBM-SP/A
CATEGORIES:L
LOCATION:02a C-2
END:VEVENT
BEGIN:VEVENT
UID:UZ_PLZ_20260504_1430_499246
DTSTAMP:20260504T143000
DTSTART:20260504T143000
DTEND:20260504T160000
SUMMARY:Język angielski 1 (L): 11FiR-SP\; 12FiR-SP\; 13FiR-SP
CATEGORIES:L
LOCATION:02a C-2
END:VEVENT
BEGIN:VEVENT
UID:UZ_PLZ_20260505_0730_505638
DTSTAMP:20260505T073000
DTSTART:20260505T073000
DTEND:20260505T090000
SUMMARY:Język angielski 3 (L): 21FiR-FB-SP\; 22FiR-RPG-SP
CATEGORIES:L
LOCATION:1 C-2
END:VEVENT
BEGIN:VEVENT
UID:UZ_PLZ_20260505_0915_503261
DTSTAMP:20260505T091500
DTSTART:20260505T091500
DTEND:20260505T104500
SUMMARY:Język angielski (Ć): 10BUD-SP/B
CATEGORIES:Ć
LOCATION:1 C-2
END:VEVENT
BEGIN:VEVENT
UID:UZ_PLZ_20260506_0730_498781
DTSTAMP:20260506T073000
DTSTART:20260506T073000
DTEND:20260506T090000
SUMMARY:Język angielski 2 (L): 11ZARZ-SP\; 12ZARZ-SP
CATEGORIES:L
LOCATION:03b A-0
END:VEVENT
BEGIN:VEVENT
UID:UZ_PLZ_20260506_0915_500754
DTSTAMP:20260506T091500
DTSTART:20260506T091500
DTEND:20260506T104500
SUMMARY:Język angielski I (L): 11BHP-SP/A
CATEGORIES:L
LOCATION:15 A-5
END:VEVENT
BEGIN:VEVENT
UID:UZ_PLZ_20260506_1100_506302
DTSTAMP:20260506T110000
DTSTART:20260506T110000
DTEND:20260506T123000
SUMMARY:Język obcy (Ć): 11ARCH-SD/A
CATEGORIES:Ć
LOCATION:12 A-5
END:VEVENT
BEGIN:VEVENT
UID:UZ_PLZ_20260506_1245_506870
DTSTAMP:20260506T124500
DTSTART:20260506T124500
DTEND:20260506T141500
SUMMARY:English 3/Język angielski 3 (L): 21ID-SP\; 21IiE-SP\; 21MAT-SP
CATEGORIES:L
LOCATION:12 A-5
END:VEVENT
BEGIN:VEVENT
UID:UZ_PLZ_20260508_1100_495197
DTSTAMP:20260508T110000
DTSTART:20260508T110000
DTEND:20260508T123000
SUMMARY:Język angielski II/Język niemiecki II (L): 22AiR-SP/B
CATEGORIES:L
LOCATION:127 A-2
END:VEVENT
BEGIN:VEVENT
UID:UZ_PLZ_20260508_1245_506797
DTSTAMP:20260508T124500
DTSTART:20260508T124500
DTEND:20260508T141500
SUMMARY:Język angielski 1 (L): 11ID-SP\; 11MAT-SP
CATEGORIES:L
LOCATION:127 A-2
END:VEVENT
BEGIN:VEVENT
UID:UZ_PLZ_20260509_1100_498785
DTSTAMP:20260509T110000
DTSTART:20260509T110000
DTEND:20260509T123000
SUMMARY:Język angielski 2 (L): 21LOG-NP\; 22LOG-NP
CATEGORIES:L
LOCATION:122 A-29
END:VEVENT
BEGIN:VEVENT
UID:UZ_PLZ_20260509_1245_499200
DTSTAMP:20260509T124500
DTSTART:20260509T124500
DTEND:20260509T141500
SUMMARY:Język angielski 4 (L): 21EK-NP
CATEGORIES:L
LOCATION:122 A-29
END:VEVENT
BEGIN:VEVENT
UID:UZ_PLZ_20260510_0730_499289
DTSTAMP:20260510T073000
DTSTART:20260510T073000
DTEND:20260510T090000
SUMMARY:Język angielski 1 (L): 11FiR-NP
CATEGORIES:L
LOCATION:122 A-29
END:VEVENT
BEGIN:VEVENT
UID:UZ_PLZ_20260510_0915_498245
DTSTAMP:20260510T091500
DTSTART:20260510T091500
DTEND:20260510T104500
SUMMARY:Język angielski 4 (L): 31LOG-ZLP-NP\; 32LOG-TS-NP\; 33LOG-TS-NP
CATEGORIES:L
LOCATION:122 A-29
END:VEVENT
BEGIN:VEVENT
UID:UZ_PLZ_20260510_1430_500832
DTSTAMP:20260510T143000
DTSTART:20260510T143000
DTEND:20260510T160000
SUMMARY:Język angielski 3 (L): 21FiR-FB-NP\; 22FiR-RPG-NP
CATEGORIES:L
LOCATION:122 A-29
END:VEVENT
BEGIN:VEVENT
UID:UZ_PLZ_20260511_0915_505371
DTSTAMP:20260511T091500
DTSTART:20260511T091500
DTEND:20260511T104500
SUMMARY:Język angielski 2 (L): 21LOG-SP\; 22LOG-SP\; 23LOG-SP
CATEGORIES:L
LOCATION:02a C-2
END:VEVENT
BEGIN:VEVENT
UID:UZ_PLZ_20260511_1100_498806
DTSTAMP:20260511T110000
DTSTART:20260511T110000
DTEND:20260511T123000
SUMMARY:Język angielski 2 (L): 21LOG-SP\; 22LOG-SP\; 23LOG-SP
CATEGORIES:L
LOCATION:02a C-2
END:VEVENT
BEGIN:VEVENT
UID:UZ_PLZ_20260511_1245_499583
DTSTAMP:20260511T124500
DTSTART:20260511T124500
DTEND:20260511T141500
SUMMARY:Język angielski I (L): 11MiBM-SP/A
CATEGORIES:L
LOCATION:02a C-2
END:VEVENT
BEGIN:VEVENT
UID:UZ_PLZ_20260511_1430_499246
DTSTAMP:20260511T143000
DTSTART:20260511T143000
DTEND:20260511T160000
SUMMARY:Język angielski 1 (L): 11FiR-SP\; 12FiR-SP\; 13FiR-SP
CATEGORIES:L
LOCATION:02a C-2
END:VEVENT
BEGIN:VEVENT
UID:UZ_PLZ_20260512_0730_505638
DTSTAMP:20260512T073000
DTSTART:20260512T073000
DTEND:20260512T090000
SUMMARY:Język angielski 3 (L): 21FiR-FB-SP\; 22FiR-RPG-SP
CATEGORIES:L
LOCATION:1 C-2
END:VEVENT
BEGIN:VEVENT
UID:UZ_PLZ_20260512_0915_503261
DTSTAMP:20260512T091500
DTSTART:20260512T091500
DTEND:20260512T104500
SUMMARY:Język angielski (Ć): 10BUD-SP/B
CATEGORIES:Ć
LOCATION:1 C-2
END:VEVENT
BEGIN:VEVENT
UID:UZ_PLZ_20260513_0730_498781
DTSTAMP:20260513T073000
DTSTART:20260513T073000
DTEND:20260513T090000
SUMMARY:Język angielski 2 (L): 11ZARZ-SP\; 12ZARZ-SP
CATEGORIES:L
LOCATION:03b A-0
END:VEVENT
BEGIN:VEVENT
UID:UZ_PLZ_20260513_0915_500754
DTSTAMP:20260513T091500
DTSTART:20260513T091500
DTEND:20260513T104500
SUMMARY:Język angielski I (L): 11BHP-SP/A
CATEGORIES:L
LOCATION:15 A-5
END:VEVENT
BEGIN:VEVENT
UID:UZ_PLZ_20260513_1100_506302
DTSTAMP:20260513T110000
DTSTART:20260513T110000
DTEND:20260513T123000
SUMMARY:Język obcy (Ć): 11ARCH-SD/A
CATEGORIES:Ć
LOCATION:12 A-5
END:VEVENT
BEGIN:VEVENT
UID:UZ_PLZ_20260513_1245_506870
DTSTAMP:20260513T124500
DTSTART:20260513T124500
DTEND:20260513T141500
SUMMARY:English 3/Język angielski 3 (L): 21ID-SP\; 21IiE-SP\; 21MAT-SP
CATEGORIES:L
LOCATION:12 A-5
END:VEVENT
BEGIN:VEVENT
UID:UZ_PLZ_20260515_1100_495197
DTSTAMP:20260515T110000
DTSTART:20260515T110000
DTEND:20260515T123000
SUMMARY:Język angielski II/Język niemiecki II (L): 22AiR-SP/B
CATEGORIES:L
LOCATION:127 A-2
END:VEVENT
BEGIN:VEVENT
UID:UZ_PLZ_20260515_1245_506797
DTSTAMP:20260515T124500
DTSTART:20260515T124500
DTEND:20260515T141500
SUMMARY:Język angielski 1 (L): 11ID-SP\; 11MAT-SP
CATEGORIES:L
LOCATION:127 A-2
END:VEVENT
BEGIN:VEVENT
UID:UZ_PLZ_20260516_0740_498288
DTSTAMP:20260516T074000
DTSTART:20260516T074000
DTEND:20260516T090000
SUMMARY:Język angielski I (L): 11LOG-ND(L)
CATEGORIES:L
LOCATION:122 A-29
END:VEVENT
BEGIN:VEVENT
UID:UZ_PLZ_20260516_1100_498785
DTSTAMP:20260516T110000
DTSTART:20260516T110000
DTEND:20260516T123000
SUMMARY:Język angielski 2 (L): 21LOG-NP\; 22LOG-NP
CATEGORIES:L
LOCATION:122 A-29
END:VEVENT
BEGIN:VEVENT
UID:UZ_PLZ_20260516_1245_499200
DTSTAMP:20260516T124500
DTSTART:20260516T124500
DTEND:20260516T141500
SUMMARY:Język angielski 4 (L): 21EK-NP
CATEGORIES:L
LOCATION:122 A-29
END:VEVENT
BEGIN:VEVENT
UID:UZ_PLZ_20260517_0730_499289
DTSTAMP:20260517T073000
DTSTART:20260517T073000
DTEND:20260517T090000
SUMMARY:Język angielski 1 (L): 11FiR-NP
CATEGORIES:L
LOCATION:122 A-29
END:VEVENT
BEGIN:VEVENT
UID:UZ_PLZ_20260517_0915_498245
DTSTAMP:20260517T091500
DTSTART:20260517T091500
DTEND:20260517T104500
SUMMARY:Język angielski 4 (L): 31LOG-ZLP-NP\; 32LOG-TS-NP\; 33LOG-TS-NP
CATEGORIES:L
LOCATION:122 A-29
END:VEVENT
BEGIN:VEVENT
UID:UZ_PLZ_20260517_1430_500832
DTSTAMP:20260517T143000
DTSTART:20260517T143000
DTEND:20260517T160000
SUMMARY:Język angielski 3 (L): 21FiR-FB-NP\; 22FiR-RPG-NP
CATEGORIES:L
LOCATION:122 A-29
END:VEVENT
BEGIN:VEVENT
UID:UZ_PLZ_20260518_0915_505371
DTSTAMP:20260518T091500
DTSTART:20260518T091500
DTEND:20260518T104500
SUMMARY:Język angielski 2 (L): 21LOG-SP\; 22LOG-SP\; 23LOG-SP
CATEGORIES:L
LOCATION:02a C-2
END:VEVENT
BEGIN:VEVENT
UID:UZ_PLZ_20260518_1100_498806
DTSTAMP:20260518T110000
DTSTART:20260518T110000
DTEND:20260518T123000
SUMMARY:Język angielski 2 (L): 21LOG-SP\; 22LOG-SP\; 23LOG-SP
CATEGORIES:L
LOCATION:02a C-2
END:VEVENT
BEGIN:VEVENT
UID:UZ_PLZ_20260518_1245_499583
DTSTAMP:20260518T124500
DTSTART:20260518T124500
DTEND:20260518T141500
SUMMARY:Język angielski I (L): 11MiBM-SP/A
CATEGORIES:L
LOCATION:02a C-2
END:VEVENT
BEGIN:VEVENT
UID:UZ_PLZ_20260518_1430_499246
DTSTAMP:20260518T143000
DTSTART:20260518T143000
DTEND:20260518T160000
SUMMARY:Język angielski 1 (L): 11FiR-SP\; 12FiR-SP\; 13FiR-SP
CATEGORIES:L
LOCATION:02a C-2
END:VEVENT
BEGIN:VEVENT
UID:UZ_PLZ_20260519_0730_505638
DTSTAMP:20260519T073000
DTSTART:20260519T073000
DTEND:20260519T090000
SUMMARY:Język angielski 3 (L): 21FiR-FB-SP\; 22FiR-RPG-SP
CATEGORIES:L
LOCATION:1 C-2
END:VEVENT
BEGIN:VEVENT
UID:UZ_PLZ_20260519_0915_503261
DTSTAMP:20260519T091500
DTSTART:20260519T091500
DTEND:20260519T104500
SUMMARY:Język angielski (Ć): 10BUD-SP/B
CATEGORIES:Ć
LOCATION:1 C-2
END:VEVENT
BEGIN:VEVENT
UID:UZ_PLZ_20260520_0730_498781
DTSTAMP:20260520T073000
DTSTART:20260520T073000
DTEND:20260520T090000
SUMMARY:Język angielski 2 (L): 11ZARZ-SP\; 12ZARZ-SP
CATEGORIES:L
LOCATION:03b A-0
END:VEVENT
BEGIN:VEVENT
UID:UZ_PLZ_20260520_0915_500754
DTSTAMP:20260520T091500
DTSTART:20260520T091500
DTEND:20260520T104500
SUMMARY:Język angielski I (L): 11BHP-SP/A
CATEGORIES:L
LOCATION:15 A-5
END:VEVENT
BEGIN:VEVENT
UID:UZ_PLZ_20260520_1100_506302
DTSTAMP:20260520T110000
DTSTART:20260520T110000
DTEND:20260520T123000
SUMMARY:Język obcy (Ć): 11ARCH-SD/A
CATEGORIES:Ć
LOCATION:12 A-5
END:VEVENT
BEGIN:VEVENT
UID:UZ_PLZ_20260520_1245_506870
DTSTAMP:20260520T124500
DTSTART:20260520T124500
DTEND:20260520T141500
SUMMARY:English 3/Język angielski 3 (L): 21ID-SP\; 21IiE-SP\; 21MAT-SP
CATEGORIES:L
LOCATION:12 A-5
END:VEVENT
BEGIN:VEVENT
UID:UZ_PLZ_20260522_1100_495197
DTSTAMP:20260522T110000
DTSTART:20260522T110000
DTEND:20260522T123000
SUMMARY:Język angielski II/Język niemiecki II (L): 22AiR-SP/B
CATEGORIES:L
LOCATION:127 A-2
END:VEVENT
BEGIN:VEVENT
UID:UZ_PLZ_20260522_1245_506797
DTSTAMP:20260522T124500
DTSTART:20260522T124500
DTEND:20260522T141500
SUMMARY:Język angielski 1 (L): 11ID-SP\; 11MAT-SP
CATEGORIES:L
LOCATION:127 A-2
END:VEVENT
BEGIN:VEVENT
UID:UZ_PLZ_20260525_0915_505371
DTSTAMP:20260525T091500
DTSTART:20260525T091500
DTEND:20260525T104500
SUMMARY:Język angielski 2 (L): 21LOG-SP\; 22LOG-SP\; 23LOG-SP
CATEGORIES:L
LOCATION:02a C-2
END:VEVENT
BEGIN:VEVENT
UID:UZ_PLZ_20260525_1100_498806
DTSTAMP:20260525T110000
DTSTART:20260525T110000
DTEND:20260525T123000
SUMMARY:Język angielski 2 (L): 21LOG-SP\; 22LOG-SP\; 23LOG-SP
CATEGORIES:L
LOCATION:02a C-2
END:VEVENT
BEGIN:VEVENT
UID:UZ_PLZ_20260525_1245_499583
DTSTAMP:20260525T124500
DTSTART:20260525T124500
DTEND:20260525T141500
SUMMARY:Język angielski I (L): 11MiBM-SP/A
CATEGORIES:L
LOCATION:02a C-2
END:VEVENT
BEGIN:VEVENT
UID:UZ_PLZ_20260525_1430_499246
DTSTAMP:20260525T143000
DTSTART:20260525T143000
DTEND:20260525T160000
SUMMARY:Język angielski 1 (L): 11FiR-SP\; 12FiR-SP\; 13FiR-SP
CATEGORIES:L
LOCATION:02a C-2
END:VEVENT
BEGIN:VEVENT
UID:UZ_PLZ_20260526_0730_505638
DTSTAMP:20260526T073000
DTSTART:20260526T073000
DTEND:20260526T090000
SUMMARY:Język angielski 3 (L): 21FiR-FB-SP\; 22FiR-RPG-SP
CATEGORIES:L
LOCATION:1 C-2
END:VEVENT
BEGIN:VEVENT
UID:UZ_PLZ_20260526_0915_503261
DTSTAMP:20260526T091500
DTSTART:20260526T091500
DTEND:20260526T104500
SUMMARY:Język angielski (Ć): 10BUD-SP/B
CATEGORIES:Ć
LOCATION:1 C-2
END:VEVENT
BEGIN:VEVENT
UID:UZ_PLZ_20260527_0730_498781
DTSTAMP:20260527T073000
DTSTART:20260527T073000
DTEND:20260527T090000
SUMMARY:Język angielski 2 (L): 11ZARZ-SP\; 12ZARZ-SP
CATEGORIES:L
LOCATION:03b A-0
END:VEVENT
BEGIN:VEVENT
UID:UZ_PLZ_20260527_0915_500754
DTSTAMP:20260527T091500
DTSTART:20260527T091500
DTEND:20260527T104500
SUMMARY:Język angielski I (L): 11BHP-SP/A
CATEGORIES:L
LOCATION:15 A-5
END:VEVENT
BEGIN:VEVENT
UID:UZ_PLZ_20260527_1100_506302
DTSTAMP:20260527T110000
DTSTART:20260527T110000
DTEND:20260527T123000
SUMMARY:Język obcy (Ć): 11ARCH-SD/A
CATEGORIES:Ć
LOCATION:12 A-5
END:VEVENT
BEGIN:VEVENT
UID:UZ_PLZ_20260527_1245_506870
DTSTAMP:20260527T124500
DTSTART:20260527T124500
DTEND:20260527T141500
SUMMARY:English 3/Język angielski 3 (L): 21ID-SP\; 21IiE-SP\; 21MAT-SP
CATEGORIES:L
LOCATION:12 A-5
END:VEVENT
BEGIN:VEVENT
UID:UZ_PLZ_20260529_1100_495197
DTSTAMP:20260529T110000
DTSTART:20260529T110000
DTEND:20260529T123000
SUMMARY:Język angielski II/Język niemiecki II (L): 22AiR-SP/B
CATEGORIES:L
LOCATION:127 A-2
END:VEVENT
BEGIN:VEVENT
UID:UZ_PLZ_20260529_1245_506797
DTSTAMP:20260529T124500
DTSTART:20260529T124500
DTEND:20260529T141500
SUMMARY:Język angielski 1 (L): 11ID-SP\; 11MAT-SP
CATEGORIES:L
LOCATION:127 A-2
END:VEVENT
BEGIN:VEVENT
UID:UZ_PLZ_20260530_1100_498785
DTSTAMP:20260530T110000
DTSTART:20260530T110000
DTEND:20260530T123000
SUMMARY:Język angielski 2 (L): 21LOG-NP\; 22LOG-NP
CATEGORIES:L
LOCATION:122 A-29
END:VEVENT
BEGIN:VEVENT
UID:UZ_PLZ_20260530_1245_499200
DTSTAMP:20260530T124500
DTSTART:20260530T124500
DTEND:20260530T141500
SUMMARY:Język angielski 4 (L): 21EK-NP
CATEGORIES:L
LOCATION:122 A-29
END:VEVENT
BEGIN:VEVENT
UID:UZ_PLZ_20260531_0730_499289
DTSTAMP:20260531T073000
DTSTART:20260531T073000
DTEND:20260531T090000
SUMMARY:Język angielski 1 (L): 11FiR-NP
CATEGORIES:L
LOCATION:122 A-29
END:VEVENT
BEGIN:VEVENT
UID:UZ_PLZ_20260531_0915_498245
DTSTAMP:20260531T091500
DTSTART:20260531T091500
DTEND:20260531T104500
SUMMARY:Język angielski 4 (L): 31LOG-ZLP-NP\; 32LOG-TS-NP\; 33LOG-TS-NP
CATEGORIES:L
LOCATION:122 A-29
END:VEVENT
BEGIN:VEVENT
UID:UZ_PLZ_20260531_1430_500832
DTSTAMP:20260531T143000
DTSTART:20260531T143000
DTEND:20260531T160000
SUMMARY:Język angielski 3 (L): 21FiR-FB-NP\; 22FiR-RPG-NP
CATEGORIES:L
LOCATION:122 A-29
END:VEVENT
BEGIN:VEVENT
UID:UZ_PLZ_20260601_0915_505371
DTSTAMP:20260601T091500
DTSTART:20260601T091500
DTEND:20260601T104500
SUMMARY:Język angielski 2 (L): 21LOG-SP\; 22LOG-SP\; 23LOG-SP
CATEGORIES:L
LOCATION:02a C-2
END:VEVENT
BEGIN:VEVENT
UID:UZ_PLZ_20260601_1100_498806
DTSTAMP:20260601T110000
DTSTART:20260601T110000
DTEND:20260601T123000
SUMMARY:Język angielski 2 (L): 21LOG-SP\; 22LOG-SP\; 23LOG-SP
CATEGORIES:L
LOCATION:02a C-2
END:VEVENT
BEGIN:VEVENT
UID:UZ_PLZ_20260601_1245_499583
DTSTAMP:20260601T124500
DTSTART:20260601T124500
DTEND:20260601T141500
SUMMARY:Język angielski I (L): 11MiBM-SP/A
CATEGORIES:L
LOCATION:02a C-2
END:VEVENT
BEGIN:VEVENT
UID:UZ_PLZ_20260601_1430_499246
DTSTAMP:20260601T143000
DTSTART:20260601T143000
DTEND:20260601T160000
SUMMARY:Język angielski 1 (L): 11FiR-SP\; 12FiR-SP\; 13FiR-SP
CATEGORIES:L
LOCATION:02a C-2
END:VEVENT
BEGIN:VEVENT
UID:UZ_PLZ_20260602_0730_505638
DTSTAMP:20260602T073000
DTSTART:20260602T073000
DTEND:20260602T090000
SUMMARY:Język angielski 3 (L): 21FiR-FB-SP\; 22FiR-RPG-SP
CATEGORIES:L
LOCATION:1 C-2
END:VEVENT
BEGIN:VEVENT
UID:UZ_PLZ_20260602_0915_503261
DTSTAMP:20260602T091500
DTSTART:20260602T091500
DTEND:20260602T104500
SUMMARY:Język angielski (Ć): 10BUD-SP/B
CATEGORIES:Ć
LOCATION:1 C-2
END:VEVENT
BEGIN:VEVENT
UID:UZ_PLZ_20260603_0730_498781
DTSTAMP:20260603T073000
DTSTART:20260603T073000
DTEND:20260603T090000
SUMMARY:Język angielski 2 (L): 11ZARZ-SP\; 12ZARZ-SP
CATEGORIES:L
LOCATION:03b A-0
END:VEVENT
BEGIN:VEVENT
UID:UZ_PLZ_20260603_0915_500754
DTSTAMP:20260603T091500
DTSTART:20260603T091500
DTEND:20260603T104500
SUMMARY:Język angielski I (L): 11BHP-SP/A
CATEGORIES:L
LOCATION:15 A-5
END:VEVENT
BEGIN:VEVENT
UID:UZ_PLZ_20260603_1100_506302
DTSTAMP:20260603T110000
DTSTART:20260603T110000
DTEND:20260603T123000
SUMMARY:Język obcy (Ć): 11ARCH-SD/A
CATEGORIES:Ć
LOCATION:12 A-5
END:VEVENT
BEGIN:VEVENT
UID:UZ_PLZ_20260603_1245_506870
DTSTAMP:20260603T124500
DTSTART:20260603T124500
DTEND:20260603T141500
SUMMARY:English 3/Język angielski 3 (L): 21ID-SP\; 21IiE-SP\; 21MAT-SP
CATEGORIES:L
LOCATION:12 A-5
END:VEVENT
BEGIN:VEVENT
UID:UZ_PLZ_20260608_0915_505371
DTSTAMP:20260608T091500
DTSTART:20260608T091500
DTEND:20260608T104500
SUMMARY:Język angielski 2 (L): 21LOG-SP\; 22LOG-SP\; 23LOG-SP
CATEGORIES:L
LOCATION:02a C-2
END:VEVENT
BEGIN:VEVENT
UID:UZ_PLZ_20260608_1100_498806
DTSTAMP:20260608T110000
DTSTART:20260608T110000
DTEND:20260608T123000
SUMMARY:Język angielski 2 (L): 21LOG-SP\; 22LOG-SP\; 23LOG-SP
CATEGORIES:L
LOCATION:02a C-2
END:VEVENT
BEGIN:VEVENT
UID:UZ_PLZ_20260608_1245_499583
DTSTAMP:20260608T124500
DTSTART:20260608T124500
DTEND:20260608T141500
SUMMARY:Język angielski I (L): 11MiBM-SP/A
CATEGORIES:L
LOCATION:02a C-2
END:VEVENT
BEGIN:VEVENT
UID:UZ_PLZ_20260608_1430_499246
DTSTAMP:20260608T143000
DTSTART:20260608T143000
DTEND:20260608T160000
SUMMARY:Język angielski 1 (L): 11FiR-SP\; 12FiR-SP\; 13FiR-SP
CATEGORIES:L
LOCATION:02a C-2
END:VEVENT
BEGIN:VEVENT
UID:UZ_PLZ_20260609_0730_505638
DTSTAMP:20260609T073000
DTSTART:20260609T073000
DTEND:20260609T090000
SUMMARY:Język angielski 3 (L): 21FiR-FB-SP\; 22FiR-RPG-SP
CATEGORIES:L
LOCATION:1 C-2
END:VEVENT
BEGIN:VEVENT
UID:UZ_PLZ_20260609_0915_503261
DTSTAMP:20260609T091500
DTSTART:20260609T091500
DTEND:20260609T104500
SUMMARY:Język angielski (Ć): 10BUD-SP/B
CATEGORIES:Ć
LOCATION:1 C-2
END:VEVENT
BEGIN:VEVENT
UID:UZ_PLZ_20260610_0730_498781
DTSTAMP:20260610T073000
DTSTART:20260610T073000
DTEND:20260610T090000
SUMMARY:Język angielski 2 (L): 11ZARZ-SP\; 12ZARZ-SP
CATEGORIES:L
LOCATION:03b A-0
END:VEVENT
BEGIN:VEVENT
UID:UZ_PLZ_20260610_0915_500754
DTSTAMP:20260610T091500
DTSTART:20260610T091500
DTEND:20260610T104500
SUMMARY:Język angielski I (L): 11BHP-SP/A
CATEGORIES:L
LOCATION:15 A-5
END:VEVENT
BEGIN:VEVENT
UID:UZ_PLZ_20260610_1100_506302
DTSTAMP:20260610T110000
DTSTART:20260610T110000
DTEND:20260610T123000
SUMMARY:Język obcy (Ć): 11ARCH-SD/A
CATEGORIES:Ć
LOCATION:12 A-5
END:VEVENT
BEGIN:VEVENT
UID:UZ_PLZ_20260610_1245_506870
DTSTAMP:20260610T124500
DTSTART:20260610T124500
DTEND:20260610T141500
SUMMARY:English 3/Język angielski 3 (L): 21ID-SP\; 21IiE-SP\; 21MAT-SP
CATEGORIES:L
LOCATION:12 A-5
END:VEVENT
BEGIN:VEVENT
UID:UZ_PLZ_20260612_1100_495197
DTSTAMP:20260612T110000
DTSTART:20260612T110000
DTEND:20260612T123000
SUMMARY:Język angielski II/Język niemiecki II (L): 22AiR-SP/B
CATEGORIES:L
LOCATION:127 A-2
END:VEVENT
BEGIN:VEVENT
UID:UZ_PLZ_20260612_1245_506797
DTSTAMP:20260612T124500
DTSTART:20260612T124500
DTEND:20260612T141500
SUMMARY:Język angielski 1 (L): 11ID-SP\; 11MAT-SP
CATEGORIES:L
LOCATION:127 A-2
END:VEVENT
BEGIN:VEVENT
UID:UZ_PLZ_20260613_0740_498288
DTSTAMP:20260613T074000
DTSTART:20260613T074000
DTEND:20260613T090000
SUMMARY:Język angielski I (L): 11LOG-ND(L)
CATEGORIES:L
LOCATION:122 A-29
END:VEVENT
BEGIN:VEVENT
UID:UZ_PLZ_20260613_1100_498785
DTSTAMP:20260613T110000
DTSTART:20260613T110000
DTEND:20260613T123000
SUMMARY:Język angielski 2 (L): 21LOG-NP\; 22LOG-NP
CATEGORIES:L
LOCATION:122 A-29
END:VEVENT
BEGIN:VEVENT
UID:UZ_PLZ_20260613_1245_499200
DTSTAMP:20260613T124500
DTSTART:20260613T124500
DTEND:20260613T141500
SUMMARY:Język angielski 4 (L): 21EK-NP
CATEGORIES:L
LOCATION:122 A-29
END:VEVENT
BEGIN:VEVENT
UID:UZ_PLZ_20260614_0730_499289
DTSTAMP:20260614T073000
DTSTART:20260614T073000
DTEND:20260614T090000
SUMMARY:Język angielski 1 (L): 11FiR-NP
CATEGORIES:L
LOCATION:122 A-29
END:VEVENT
BEGIN:VEVENT
UID:UZ_PLZ_20260614_0915_498245
DTSTAMP:20260614T091500
DTSTART:20260614T091500
DTEND:20260614T104500
SUMMARY:Język angielski 4 (L): 31LOG-ZLP-NP\; 32LOG-TS-NP\; 33LOG-TS-NP
CATEGORIES:L
LOCATION:122 A-29
END:VEVENT
BEGIN:VEVENT
UID:UZ_PLZ_20260614_1430_500832
DTSTAMP:20260614T143000
DTSTART:20260614T143000
DTEND:20260614T160000
SUMMARY:Język angielski 3 (L): 21FiR-FB-NP\; 22FiR-RPG-NP
CATEGORIES:L
LOCATION:122 A-29
END:VEVENT
BEGIN:VEVENT
UID:UZ_PLZ_20260615_0915_505371
DTSTAMP:20260615T091500
DTSTART:20260615T091500
DTEND:20260615T104500
SUMMARY:Język angielski 2 (L): 21LOG-SP\; 22LOG-SP\; 23LOG-SP
CATEGORIES:L
LOCATION:02a C-2
END:VEVENT
BEGIN:VEVENT
UID:UZ_PLZ_20260615_1100_498806
DTSTAMP:20260615T110000
DTSTART:20260615T110000
DTEND:20260615T123000
SUMMARY:Język angielski 2 (L): 21LOG-SP\; 22LOG-SP\; 23LOG-SP
CATEGORIES:L
LOCATION:02a C-2
END:VEVENT
BEGIN:VEVENT
UID:UZ_PLZ_20260615_1245_499583
DTSTAMP:20260615T124500
DTSTART:20260615T124500
DTEND:20260615T141500
SUMMARY:Język angielski I (L): 11MiBM-SP/A
CATEGORIES:L
LOCATION:02a C-2
END:VEVENT
BEGIN:VEVENT
UID:UZ_PLZ_20260615_1430_499246
DTSTAMP:20260615T143000
DTSTART:20260615T143000
DTEND:20260615T160000
SUMMARY:Język angielski 1 (L): 11FiR-SP\; 12FiR-SP\; 13FiR-SP
CATEGORIES:L
LOCATION:02a C-2
END:VEVENT
BEGIN:VEVENT
UID:UZ_PLZ_20260616_0730_505638
DTSTAMP:20260616T073000
DTSTART:20260616T073000
DTEND:20260616T090000
SUMMARY:Język angielski 3 (L): 21FiR-FB-SP\; 22FiR-RPG-SP
CATEGORIES:L
LOCATION:1 C-2
END:VEVENT
BEGIN:VEVENT
UID:UZ_PLZ_20260616_0915_503261
DTSTAMP:20260616T091500
DTSTART:20260616T091500
DTEND:20260616T104500
SUMMARY:Język angielski (Ć): 10BUD-SP/B
CATEGORIES:Ć
LOCATION:1 C-2
END:VEVENT
BEGIN:VEVENT
UID:UZ_PLZ_20260617_0730_498781
DTSTAMP:20260617T073000
DTSTART:20260617T073000
DTEND:20260617T090000
SUMMARY:Język angielski 2 (L): 11ZARZ-SP\; 12ZARZ-SP
CATEGORIES:L
LOCATION:03b A-0
END:VEVENT
BEGIN:VEVENT
UID:UZ_PLZ_20260617_0915_500754
DTSTAMP:20260617T091500
DTSTART:20260617T091500
DTEND:20260617T104500
SUMMARY:Język angielski I (L): 11BHP-SP/A
CATEGORIES:L
LOCATION:15 A-5
END:VEVENT
BEGIN:VEVENT
UID:UZ_PLZ_20260617_1100_506302
DTSTAMP:20260617T110000
DTSTART:20260617T110000
DTEND:20260617T123000
SUMMARY:Język obcy (Ć): 11ARCH-SD/A
CATEGORIES:Ć
LOCATION:12 A-5
END:VEVENT
BEGIN:VEVENT
UID:UZ_PLZ_20260617_1245_506870
DTSTAMP:20260617T124500
DTSTART:20260617T124500
DTEND:20260617T141500
SUMMARY:English 3/Język angielski 3 (L): 21ID-SP\; 21IiE-SP\; 21MAT-SP
CATEGORIES:L
LOCATION:12 A-5
END:VEVENT
BEGIN:VEVENT
UID:UZ_PLZ_20260619_1100_495197
DTSTAMP:20260619T110000
DTSTART:20260619T110000
DTEND:20260619T123000
SUMMARY:Język angielski II/Język niemiecki II (L): 22AiR-SP/B
CATEGORIES:L
LOCATION:127 A-2
END:VEVENT
BEGIN:VEVENT
UID:UZ_PLZ_20260619_1245_506797
DTSTAMP:20260619T124500
DTSTART:20260619T124500
DTEND:20260619T141500
SUMMARY:Język angielski 1 (L): 11ID-SP\; 11MAT-SP
CATEGORIES:L
LOCATION:127 A-2
END:VEVENT
END:VCALENDAR
