BEGIN:VCALENDAR
TZID:Europe/Warsaw
X-WR-TIMEZONE:Europe/Warsaw
VERSION:2.0
PRODID:-//Uniwersytet Zielonogórski//NONSGML Plan zajęć v1.0//EN
NAME:Plan zajęć - semestr letni 2025/2026
X-WR-CALNAME:Plan zajęć - semestr letni 2025/2026
COLOR:green
CALSCALE:GREGORIAN
BEGIN:VEVENT
UID:UZ_PLZ_20260510_0900_507012
DTSTAMP:20260510T090000
DTSTART:20260510T090000
DTEND:20260510T124500
SUMMARY:Zamówienia sektorowe (W): 11ZPiPPP
CATEGORIES:W
LOCATION:P103 A-16
END:VEVENT
END:VCALENDAR
