BEGIN:VCALENDAR
TZID:Europe/Warsaw
X-WR-TIMEZONE:Europe/Warsaw
VERSION:2.0
PRODID:-//Uniwersytet Zielonogórski//NONSGML Plan zajęć v1.0//EN
NAME:Plan zajęć - semestr zimowy 2025/2026
X-WR-CALNAME:Plan zajęć - semestr zimowy 2025/2026
COLOR:green
CALSCALE:GREGORIAN
BEGIN:VEVENT
UID:UZ_PLZ_20251205_0700_496263
DTSTAMP:20251205T070000
DTSTART:20251205T070000
DTEND:20251205T090000
SUMMARY:Rezerwacja (R)
CATEGORIES:R
LOCATION:C A-16
END:VEVENT
BEGIN:VEVENT
UID:UZ_PLZ_20260211_1400_496263
DTSTAMP:20260211T140000
DTSTART:20260211T140000
DTEND:20260211T150000
SUMMARY:Rezerwacja (R)
CATEGORIES:R
LOCATION:B A-16\; C A-16
END:VEVENT
BEGIN:VEVENT
UID:UZ_PLZ_20260213_0800_496263
DTSTAMP:20260213T080000
DTSTART:20260213T080000
DTEND:20260213T110000
SUMMARY:Rezerwacja (R)
CATEGORIES:R
LOCATION:B A-16\; C A-16
END:VEVENT
END:VCALENDAR
