BEGIN:VCALENDAR
TZID:Europe/Warsaw
X-WR-TIMEZONE:Europe/Warsaw
VERSION:2.0
PRODID:-//Uniwersytet Zielonogórski//NONSGML Plan zajęć v1.0//EN
NAME:Plan zajęć - semestr letni 2025/2026
X-WR-CALNAME:Plan zajęć - semestr letni 2025/2026
COLOR:green
CALSCALE:GREGORIAN
BEGIN:VEVENT
UID:UZ_PLZ_20260426_0900_507013
DTSTAMP:20260426T090000
DTSTART:20260426T090000
DTEND:20260426T124500
SUMMARY:Zamówienia w projektach UE (W): 11ZPiPPP
CATEGORIES:W
LOCATION:P102 A-16
END:VEVENT
BEGIN:VEVENT
UID:UZ_PLZ_20260509_0900_507014
DTSTAMP:20260509T090000
DTSTART:20260509T090000
DTEND:20260509T124500
SUMMARY:System kontroli zamówień publicznych (W): 11ZPiPPP
CATEGORIES:W
LOCATION:P103 A-16
END:VEVENT
BEGIN:VEVENT
UID:UZ_PLZ_20260530_0900_507014
DTSTAMP:20260530T090000
DTSTART:20260530T090000
DTEND:20260530T124500
SUMMARY:System kontroli zamówień publicznych (W): 11ZPiPPP
CATEGORIES:W
LOCATION:P103 A-16
END:VEVENT
BEGIN:VEVENT
UID:UZ_PLZ_20260531_0900_507013
DTSTAMP:20260531T090000
DTSTART:20260531T090000
DTEND:20260531T124500
SUMMARY:Zamówienia w projektach UE (W): 11ZPiPPP
CATEGORIES:W
LOCATION:P103 A-16
END:VEVENT
BEGIN:VEVENT
UID:UZ_PLZ_20260613_0900_507013
DTSTAMP:20260613T090000
DTSTART:20260613T090000
DTEND:20260613T124500
SUMMARY:Zamówienia w projektach UE (W): 11ZPiPPP
CATEGORIES:W
LOCATION:P103 A-16
END:VEVENT
END:VCALENDAR
