BEGIN:VCALENDAR
TZID:Europe/Warsaw
X-WR-TIMEZONE:Europe/Warsaw
VERSION:2.0
PRODID:-//Uniwersytet Zielonogórski//NONSGML Plan zajęć v1.0//EN
NAME:Plan zajęć - semestr letni 2025/2026
X-WR-CALNAME:Plan zajęć - semestr letni 2025/2026
COLOR:green
CALSCALE:GREGORIAN
BEGIN:VEVENT
UID:UZ_PLZ_20260426_0800_501000
DTSTAMP:20260426T080000
DTSTART:20260426T080000
DTEND:20260426T093000
SUMMARY:Teorie uczenia się i nauczania języka (Ć): 11F-ANG-ND25
CATEGORIES:Ć
LOCATION:108 A-20
DESCRIPTION:<a href="https://classroom.google.com/c/ODUwMzQ4Mzc5MzEy">Google Classroom</a> 
END:VEVENT
BEGIN:VEVENT
UID:UZ_PLZ_20260426_0945_500999
DTSTAMP:20260426T094500
DTSTART:20260426T094500
DTEND:20260426T141500
SUMMARY:Dydaktyka języka angielskiego I (Ć): 11F-ANG-ND25/SNA
CATEGORIES:Ć
LOCATION:108 A-20
DESCRIPTION:<a href="https://classroom.google.com/c/ODUwMzUxODM5OTc2">Google Classroom</a> 
END:VEVENT
BEGIN:VEVENT
UID:UZ_PLZ_20260426_1430_500963
DTSTAMP:20260426T143000
DTSTART:20260426T143000
DTEND:20260426T164500
SUMMARY:Dydaktyka języka angielskiego (W): 21F-ANG-NP24/SNA
CATEGORIES:W
LOCATION:108 A-20
DESCRIPTION:<a href="https://classroom.google.com/c/ODUwMzUxMzE2Njk4">Google Classroom</a> 
END:VEVENT
BEGIN:VEVENT
UID:UZ_PLZ_20260427_0800_500913
DTSTAMP:20260427T080000
DTSTART:20260427T080000
DTEND:20260427T093000
SUMMARY:Seminarium licencjackie II (S): 31F-ANG-SP23\; 32F-ANG-SP23\; 33F-ANG-SP23
CATEGORIES:S
LOCATION:218 A-20
DESCRIPTION:<a href="https://classroom.google.com/c/ODQ2NTkzMjI4NzA1">Google Classroom</a> 
END:VEVENT
BEGIN:VEVENT
UID:UZ_PLZ_20260427_0945_500884
DTSTAMP:20260427T094500
DTSTART:20260427T094500
DTEND:20260427T111500
SUMMARY:Gramatyka opisowa języka angielskiego II (Ć): 21F-ANG-SP24
CATEGORIES:Ć
LOCATION:218 A-20
DESCRIPTION:<a href="https://classroom.google.com/c/ODQ2NTcyMzkxMjk1">Google Classroom</a> 
END:VEVENT
BEGIN:VEVENT
UID:UZ_PLZ_20260427_1130_500886
DTSTAMP:20260427T113000
DTSTART:20260427T113000
DTEND:20260427T130000
SUMMARY:Gramatyka opisowa języka angielskiego II (Ć): 22F-ANG-SP24
CATEGORIES:Ć
LOCATION:218 A-20
DESCRIPTION:<a href="https://classroom.google.com/c/ODQ2NTkyOTEyNDA2">Google Classroom</a> 
END:VEVENT
BEGIN:VEVENT
UID:UZ_PLZ_20260427_1315_500983
DTSTAMP:20260427T131500
DTSTART:20260427T131500
DTEND:20260427T144500
SUMMARY:Znaczenie w języku (Ć): 11F-ANG-SD25
CATEGORIES:Ć
LOCATION:Aula H A-20
DESCRIPTION:<a href="https://classroom.google.com/c/ODQ2ODEzMzA2Mzc1">Google Classroom</a> 
END:VEVENT
BEGIN:VEVENT
UID:UZ_PLZ_20260427_1500_500882
DTSTAMP:20260427T150000
DTSTART:20260427T150000
DTEND:20260427T163000
SUMMARY:Gramatyka opisowa języka angielskiego II (Ć): 23F-ANG-SP24
CATEGORIES:Ć
LOCATION:218 A-20
DESCRIPTION:<a href="https://classroom.google.com/c/ODQ2NTk0NjY5NTE2">Google Classroom</a> 
END:VEVENT
BEGIN:VEVENT
UID:UZ_PLZ_20260504_0800_500913
DTSTAMP:20260504T080000
DTSTART:20260504T080000
DTEND:20260504T093000
SUMMARY:Seminarium licencjackie II (S): 31F-ANG-SP23\; 32F-ANG-SP23\; 33F-ANG-SP23
CATEGORIES:S
LOCATION:218 A-20
DESCRIPTION:<a href="https://classroom.google.com/c/ODQ2NTkzMjI4NzA1">Google Classroom</a> 
END:VEVENT
BEGIN:VEVENT
UID:UZ_PLZ_20260504_0945_500884
DTSTAMP:20260504T094500
DTSTART:20260504T094500
DTEND:20260504T111500
SUMMARY:Gramatyka opisowa języka angielskiego II (Ć): 21F-ANG-SP24
CATEGORIES:Ć
LOCATION:218 A-20
DESCRIPTION:<a href="https://classroom.google.com/c/ODQ2NTcyMzkxMjk1">Google Classroom</a> 
END:VEVENT
BEGIN:VEVENT
UID:UZ_PLZ_20260504_1130_500886
DTSTAMP:20260504T113000
DTSTART:20260504T113000
DTEND:20260504T130000
SUMMARY:Gramatyka opisowa języka angielskiego II (Ć): 22F-ANG-SP24
CATEGORIES:Ć
LOCATION:218 A-20
DESCRIPTION:<a href="https://classroom.google.com/c/ODQ2NTkyOTEyNDA2">Google Classroom</a> 
END:VEVENT
BEGIN:VEVENT
UID:UZ_PLZ_20260504_1315_500983
DTSTAMP:20260504T131500
DTSTART:20260504T131500
DTEND:20260504T144500
SUMMARY:Znaczenie w języku (Ć): 11F-ANG-SD25
CATEGORIES:Ć
LOCATION:Aula H A-20
DESCRIPTION:<a href="https://classroom.google.com/c/ODQ2ODEzMzA2Mzc1">Google Classroom</a> 
END:VEVENT
BEGIN:VEVENT
UID:UZ_PLZ_20260504_1500_500882
DTSTAMP:20260504T150000
DTSTART:20260504T150000
DTEND:20260504T163000
SUMMARY:Gramatyka opisowa języka angielskiego II (Ć): 23F-ANG-SP24
CATEGORIES:Ć
LOCATION:218 A-20
DESCRIPTION:<a href="https://classroom.google.com/c/ODQ2NTk0NjY5NTE2">Google Classroom</a> 
END:VEVENT
BEGIN:VEVENT
UID:UZ_PLZ_20260510_0800_501000
DTSTAMP:20260510T080000
DTSTART:20260510T080000
DTEND:20260510T093000
SUMMARY:Teorie uczenia się i nauczania języka (Ć): 11F-ANG-ND25
CATEGORIES:Ć
LOCATION:108 A-20
DESCRIPTION:<a href="https://classroom.google.com/c/ODUwMzQ4Mzc5MzEy">Google Classroom</a> 
END:VEVENT
BEGIN:VEVENT
UID:UZ_PLZ_20260510_0945_500999
DTSTAMP:20260510T094500
DTSTART:20260510T094500
DTEND:20260510T141500
SUMMARY:Dydaktyka języka angielskiego I (Ć): 11F-ANG-ND25/SNA
CATEGORIES:Ć
LOCATION:108 A-20
DESCRIPTION:<a href="https://classroom.google.com/c/ODUwMzUxODM5OTc2">Google Classroom</a> 
END:VEVENT
BEGIN:VEVENT
UID:UZ_PLZ_20260510_1430_500963
DTSTAMP:20260510T143000
DTSTART:20260510T143000
DTEND:20260510T164500
SUMMARY:Dydaktyka języka angielskiego (W): 21F-ANG-NP24/SNA
CATEGORIES:W
LOCATION:108 A-20
DESCRIPTION:<a href="https://classroom.google.com/c/ODUwMzUxMzE2Njk4">Google Classroom</a> 
END:VEVENT
BEGIN:VEVENT
UID:UZ_PLZ_20260511_0800_500913
DTSTAMP:20260511T080000
DTSTART:20260511T080000
DTEND:20260511T093000
SUMMARY:Seminarium licencjackie II (S): 31F-ANG-SP23\; 32F-ANG-SP23\; 33F-ANG-SP23
CATEGORIES:S
LOCATION:218 A-20
DESCRIPTION:<a href="https://classroom.google.com/c/ODQ2NTkzMjI4NzA1">Google Classroom</a> 
END:VEVENT
BEGIN:VEVENT
UID:UZ_PLZ_20260511_0945_500884
DTSTAMP:20260511T094500
DTSTART:20260511T094500
DTEND:20260511T111500
SUMMARY:Gramatyka opisowa języka angielskiego II (Ć): 21F-ANG-SP24
CATEGORIES:Ć
LOCATION:218 A-20
DESCRIPTION:<a href="https://classroom.google.com/c/ODQ2NTcyMzkxMjk1">Google Classroom</a> 
END:VEVENT
BEGIN:VEVENT
UID:UZ_PLZ_20260511_1130_500886
DTSTAMP:20260511T113000
DTSTART:20260511T113000
DTEND:20260511T130000
SUMMARY:Gramatyka opisowa języka angielskiego II (Ć): 22F-ANG-SP24
CATEGORIES:Ć
LOCATION:218 A-20
DESCRIPTION:<a href="https://classroom.google.com/c/ODQ2NTkyOTEyNDA2">Google Classroom</a> 
END:VEVENT
BEGIN:VEVENT
UID:UZ_PLZ_20260511_1315_500983
DTSTAMP:20260511T131500
DTSTART:20260511T131500
DTEND:20260511T144500
SUMMARY:Znaczenie w języku (Ć): 11F-ANG-SD25
CATEGORIES:Ć
LOCATION:Aula H A-20
DESCRIPTION:<a href="https://classroom.google.com/c/ODQ2ODEzMzA2Mzc1">Google Classroom</a> 
END:VEVENT
BEGIN:VEVENT
UID:UZ_PLZ_20260511_1500_500882
DTSTAMP:20260511T150000
DTSTART:20260511T150000
DTEND:20260511T163000
SUMMARY:Gramatyka opisowa języka angielskiego II (Ć): 23F-ANG-SP24
CATEGORIES:Ć
LOCATION:218 A-20
DESCRIPTION:<a href="https://classroom.google.com/c/ODQ2NTk0NjY5NTE2">Google Classroom</a> 
END:VEVENT
BEGIN:VEVENT
UID:UZ_PLZ_20260517_0800_501000
DTSTAMP:20260517T080000
DTSTART:20260517T080000
DTEND:20260517T093000
SUMMARY:Teorie uczenia się i nauczania języka (Ć): 11F-ANG-ND25
CATEGORIES:Ć
LOCATION:108 A-20
DESCRIPTION:<a href="https://classroom.google.com/c/ODUwMzQ4Mzc5MzEy">Google Classroom</a> 
END:VEVENT
BEGIN:VEVENT
UID:UZ_PLZ_20260517_0945_500999
DTSTAMP:20260517T094500
DTSTART:20260517T094500
DTEND:20260517T141500
SUMMARY:Dydaktyka języka angielskiego I (Ć): 11F-ANG-ND25/SNA
CATEGORIES:Ć
LOCATION:108 A-20
DESCRIPTION:<a href="https://classroom.google.com/c/ODUwMzUxODM5OTc2">Google Classroom</a> 
END:VEVENT
BEGIN:VEVENT
UID:UZ_PLZ_20260517_1430_500963
DTSTAMP:20260517T143000
DTSTART:20260517T143000
DTEND:20260517T164500
SUMMARY:Dydaktyka języka angielskiego (W): 21F-ANG-NP24/SNA
CATEGORIES:W
LOCATION:108 A-20
DESCRIPTION:<a href="https://classroom.google.com/c/ODUwMzUxMzE2Njk4">Google Classroom</a> 
END:VEVENT
BEGIN:VEVENT
UID:UZ_PLZ_20260518_0800_500913
DTSTAMP:20260518T080000
DTSTART:20260518T080000
DTEND:20260518T093000
SUMMARY:Seminarium licencjackie II (S): 31F-ANG-SP23\; 32F-ANG-SP23\; 33F-ANG-SP23
CATEGORIES:S
LOCATION:218 A-20
DESCRIPTION:<a href="https://classroom.google.com/c/ODQ2NTkzMjI4NzA1">Google Classroom</a> 
END:VEVENT
BEGIN:VEVENT
UID:UZ_PLZ_20260518_0945_500884
DTSTAMP:20260518T094500
DTSTART:20260518T094500
DTEND:20260518T111500
SUMMARY:Gramatyka opisowa języka angielskiego II (Ć): 21F-ANG-SP24
CATEGORIES:Ć
LOCATION:218 A-20
DESCRIPTION:<a href="https://classroom.google.com/c/ODQ2NTcyMzkxMjk1">Google Classroom</a> 
END:VEVENT
BEGIN:VEVENT
UID:UZ_PLZ_20260518_1130_500886
DTSTAMP:20260518T113000
DTSTART:20260518T113000
DTEND:20260518T130000
SUMMARY:Gramatyka opisowa języka angielskiego II (Ć): 22F-ANG-SP24
CATEGORIES:Ć
LOCATION:218 A-20
DESCRIPTION:<a href="https://classroom.google.com/c/ODQ2NTkyOTEyNDA2">Google Classroom</a> 
END:VEVENT
BEGIN:VEVENT
UID:UZ_PLZ_20260518_1315_500983
DTSTAMP:20260518T131500
DTSTART:20260518T131500
DTEND:20260518T144500
SUMMARY:Znaczenie w języku (Ć): 11F-ANG-SD25
CATEGORIES:Ć
LOCATION:Aula H A-20
DESCRIPTION:<a href="https://classroom.google.com/c/ODQ2ODEzMzA2Mzc1">Google Classroom</a> 
END:VEVENT
BEGIN:VEVENT
UID:UZ_PLZ_20260518_1500_500882
DTSTAMP:20260518T150000
DTSTART:20260518T150000
DTEND:20260518T163000
SUMMARY:Gramatyka opisowa języka angielskiego II (Ć): 23F-ANG-SP24
CATEGORIES:Ć
LOCATION:218 A-20
DESCRIPTION:<a href="https://classroom.google.com/c/ODQ2NTk0NjY5NTE2">Google Classroom</a> 
END:VEVENT
BEGIN:VEVENT
UID:UZ_PLZ_20260525_0800_500913
DTSTAMP:20260525T080000
DTSTART:20260525T080000
DTEND:20260525T093000
SUMMARY:Seminarium licencjackie II (S): 31F-ANG-SP23\; 32F-ANG-SP23\; 33F-ANG-SP23
CATEGORIES:S
LOCATION:218 A-20
DESCRIPTION:<a href="https://classroom.google.com/c/ODQ2NTkzMjI4NzA1">Google Classroom</a> 
END:VEVENT
BEGIN:VEVENT
UID:UZ_PLZ_20260525_0945_500884
DTSTAMP:20260525T094500
DTSTART:20260525T094500
DTEND:20260525T111500
SUMMARY:Gramatyka opisowa języka angielskiego II (Ć): 21F-ANG-SP24
CATEGORIES:Ć
LOCATION:218 A-20
DESCRIPTION:<a href="https://classroom.google.com/c/ODQ2NTcyMzkxMjk1">Google Classroom</a> 
END:VEVENT
BEGIN:VEVENT
UID:UZ_PLZ_20260525_1130_500886
DTSTAMP:20260525T113000
DTSTART:20260525T113000
DTEND:20260525T130000
SUMMARY:Gramatyka opisowa języka angielskiego II (Ć): 22F-ANG-SP24
CATEGORIES:Ć
LOCATION:218 A-20
DESCRIPTION:<a href="https://classroom.google.com/c/ODQ2NTkyOTEyNDA2">Google Classroom</a> 
END:VEVENT
BEGIN:VEVENT
UID:UZ_PLZ_20260525_1315_500983
DTSTAMP:20260525T131500
DTSTART:20260525T131500
DTEND:20260525T144500
SUMMARY:Znaczenie w języku (Ć): 11F-ANG-SD25
CATEGORIES:Ć
LOCATION:Aula H A-20
DESCRIPTION:<a href="https://classroom.google.com/c/ODQ2ODEzMzA2Mzc1">Google Classroom</a> 
END:VEVENT
BEGIN:VEVENT
UID:UZ_PLZ_20260525_1500_500882
DTSTAMP:20260525T150000
DTSTART:20260525T150000
DTEND:20260525T163000
SUMMARY:Gramatyka opisowa języka angielskiego II (Ć): 23F-ANG-SP24
CATEGORIES:Ć
LOCATION:218 A-20
DESCRIPTION:<a href="https://classroom.google.com/c/ODQ2NTk0NjY5NTE2">Google Classroom</a> 
END:VEVENT
BEGIN:VEVENT
UID:UZ_PLZ_20260531_0800_501000
DTSTAMP:20260531T080000
DTSTART:20260531T080000
DTEND:20260531T093000
SUMMARY:Teorie uczenia się i nauczania języka (Ć): 11F-ANG-ND25
CATEGORIES:Ć
LOCATION:108 A-20
DESCRIPTION:<a href="https://classroom.google.com/c/ODUwMzQ4Mzc5MzEy">Google Classroom</a> 
END:VEVENT
BEGIN:VEVENT
UID:UZ_PLZ_20260531_0945_500999
DTSTAMP:20260531T094500
DTSTART:20260531T094500
DTEND:20260531T141500
SUMMARY:Dydaktyka języka angielskiego I (Ć): 11F-ANG-ND25/SNA
CATEGORIES:Ć
LOCATION:108 A-20
DESCRIPTION:<a href="https://classroom.google.com/c/ODUwMzUxODM5OTc2">Google Classroom</a> 
END:VEVENT
BEGIN:VEVENT
UID:UZ_PLZ_20260531_1430_500963
DTSTAMP:20260531T143000
DTSTART:20260531T143000
DTEND:20260531T164500
SUMMARY:Dydaktyka języka angielskiego (W): 21F-ANG-NP24/SNA
CATEGORIES:W
LOCATION:108 A-20
DESCRIPTION:<a href="https://classroom.google.com/c/ODUwMzUxMzE2Njk4">Google Classroom</a> 
END:VEVENT
BEGIN:VEVENT
UID:UZ_PLZ_20260601_0800_500913
DTSTAMP:20260601T080000
DTSTART:20260601T080000
DTEND:20260601T093000
SUMMARY:Seminarium licencjackie II (S): 31F-ANG-SP23\; 32F-ANG-SP23\; 33F-ANG-SP23
CATEGORIES:S
LOCATION:218 A-20
DESCRIPTION:<a href="https://classroom.google.com/c/ODQ2NTkzMjI4NzA1">Google Classroom</a> 
END:VEVENT
BEGIN:VEVENT
UID:UZ_PLZ_20260601_0945_500884
DTSTAMP:20260601T094500
DTSTART:20260601T094500
DTEND:20260601T111500
SUMMARY:Gramatyka opisowa języka angielskiego II (Ć): 21F-ANG-SP24
CATEGORIES:Ć
LOCATION:218 A-20
DESCRIPTION:<a href="https://classroom.google.com/c/ODQ2NTcyMzkxMjk1">Google Classroom</a> 
END:VEVENT
BEGIN:VEVENT
UID:UZ_PLZ_20260601_1130_500886
DTSTAMP:20260601T113000
DTSTART:20260601T113000
DTEND:20260601T130000
SUMMARY:Gramatyka opisowa języka angielskiego II (Ć): 22F-ANG-SP24
CATEGORIES:Ć
LOCATION:218 A-20
DESCRIPTION:<a href="https://classroom.google.com/c/ODQ2NTkyOTEyNDA2">Google Classroom</a> 
END:VEVENT
BEGIN:VEVENT
UID:UZ_PLZ_20260601_1315_500983
DTSTAMP:20260601T131500
DTSTART:20260601T131500
DTEND:20260601T144500
SUMMARY:Znaczenie w języku (Ć): 11F-ANG-SD25
CATEGORIES:Ć
LOCATION:Aula H A-20
DESCRIPTION:<a href="https://classroom.google.com/c/ODQ2ODEzMzA2Mzc1">Google Classroom</a> 
END:VEVENT
BEGIN:VEVENT
UID:UZ_PLZ_20260601_1500_500882
DTSTAMP:20260601T150000
DTSTART:20260601T150000
DTEND:20260601T163000
SUMMARY:Gramatyka opisowa języka angielskiego II (Ć): 23F-ANG-SP24
CATEGORIES:Ć
LOCATION:218 A-20
DESCRIPTION:<a href="https://classroom.google.com/c/ODQ2NTk0NjY5NTE2">Google Classroom</a> 
END:VEVENT
BEGIN:VEVENT
UID:UZ_PLZ_20260608_0800_500913
DTSTAMP:20260608T080000
DTSTART:20260608T080000
DTEND:20260608T093000
SUMMARY:Seminarium licencjackie II (S): 31F-ANG-SP23\; 32F-ANG-SP23\; 33F-ANG-SP23
CATEGORIES:S
LOCATION:218 A-20
DESCRIPTION:<a href="https://classroom.google.com/c/ODQ2NTkzMjI4NzA1">Google Classroom</a> 
END:VEVENT
BEGIN:VEVENT
UID:UZ_PLZ_20260608_0945_500884
DTSTAMP:20260608T094500
DTSTART:20260608T094500
DTEND:20260608T111500
SUMMARY:Gramatyka opisowa języka angielskiego II (Ć): 21F-ANG-SP24
CATEGORIES:Ć
LOCATION:218 A-20
DESCRIPTION:<a href="https://classroom.google.com/c/ODQ2NTcyMzkxMjk1">Google Classroom</a> 
END:VEVENT
BEGIN:VEVENT
UID:UZ_PLZ_20260608_1130_500886
DTSTAMP:20260608T113000
DTSTART:20260608T113000
DTEND:20260608T130000
SUMMARY:Gramatyka opisowa języka angielskiego II (Ć): 22F-ANG-SP24
CATEGORIES:Ć
LOCATION:218 A-20
DESCRIPTION:<a href="https://classroom.google.com/c/ODQ2NTkyOTEyNDA2">Google Classroom</a> 
END:VEVENT
BEGIN:VEVENT
UID:UZ_PLZ_20260608_1315_500983
DTSTAMP:20260608T131500
DTSTART:20260608T131500
DTEND:20260608T144500
SUMMARY:Znaczenie w języku (Ć): 11F-ANG-SD25
CATEGORIES:Ć
LOCATION:Aula H A-20
DESCRIPTION:<a href="https://classroom.google.com/c/ODQ2ODEzMzA2Mzc1">Google Classroom</a> 
END:VEVENT
BEGIN:VEVENT
UID:UZ_PLZ_20260608_1500_500882
DTSTAMP:20260608T150000
DTSTART:20260608T150000
DTEND:20260608T163000
SUMMARY:Gramatyka opisowa języka angielskiego II (Ć): 23F-ANG-SP24
CATEGORIES:Ć
LOCATION:218 A-20
DESCRIPTION:<a href="https://classroom.google.com/c/ODQ2NTk0NjY5NTE2">Google Classroom</a> 
END:VEVENT
BEGIN:VEVENT
UID:UZ_PLZ_20260614_0945_500999
DTSTAMP:20260614T094500
DTSTART:20260614T094500
DTEND:20260614T141500
SUMMARY:Dydaktyka języka angielskiego I (Ć): 11F-ANG-ND25/SNA
CATEGORIES:Ć
LOCATION:108 A-20
DESCRIPTION:<a href="https://classroom.google.com/c/ODUwMzUxODM5OTc2">Google Classroom</a> 
END:VEVENT
BEGIN:VEVENT
UID:UZ_PLZ_20260614_1430_500963
DTSTAMP:20260614T143000
DTSTART:20260614T143000
DTEND:20260614T164500
SUMMARY:Dydaktyka języka angielskiego (W): 21F-ANG-NP24/SNA
CATEGORIES:W
LOCATION:108 A-20
DESCRIPTION:<a href="https://classroom.google.com/c/ODUwMzUxMzE2Njk4">Google Classroom</a> 
END:VEVENT
BEGIN:VEVENT
UID:UZ_PLZ_20260615_0800_500913
DTSTAMP:20260615T080000
DTSTART:20260615T080000
DTEND:20260615T093000
SUMMARY:Seminarium licencjackie II (S): 31F-ANG-SP23\; 32F-ANG-SP23\; 33F-ANG-SP23
CATEGORIES:S
LOCATION:218 A-20
DESCRIPTION:<a href="https://classroom.google.com/c/ODQ2NTkzMjI4NzA1">Google Classroom</a> 
END:VEVENT
BEGIN:VEVENT
UID:UZ_PLZ_20260615_0945_500884
DTSTAMP:20260615T094500
DTSTART:20260615T094500
DTEND:20260615T111500
SUMMARY:Gramatyka opisowa języka angielskiego II (Ć): 21F-ANG-SP24
CATEGORIES:Ć
LOCATION:218 A-20
DESCRIPTION:<a href="https://classroom.google.com/c/ODQ2NTcyMzkxMjk1">Google Classroom</a> 
END:VEVENT
BEGIN:VEVENT
UID:UZ_PLZ_20260615_1130_500886
DTSTAMP:20260615T113000
DTSTART:20260615T113000
DTEND:20260615T130000
SUMMARY:Gramatyka opisowa języka angielskiego II (Ć): 22F-ANG-SP24
CATEGORIES:Ć
LOCATION:218 A-20
DESCRIPTION:<a href="https://classroom.google.com/c/ODQ2NTkyOTEyNDA2">Google Classroom</a> 
END:VEVENT
BEGIN:VEVENT
UID:UZ_PLZ_20260615_1315_500983
DTSTAMP:20260615T131500
DTSTART:20260615T131500
DTEND:20260615T144500
SUMMARY:Znaczenie w języku (Ć): 11F-ANG-SD25
CATEGORIES:Ć
LOCATION:Aula H A-20
DESCRIPTION:<a href="https://classroom.google.com/c/ODQ2ODEzMzA2Mzc1">Google Classroom</a> 
END:VEVENT
BEGIN:VEVENT
UID:UZ_PLZ_20260615_1500_500882
DTSTAMP:20260615T150000
DTSTART:20260615T150000
DTEND:20260615T163000
SUMMARY:Gramatyka opisowa języka angielskiego II (Ć): 23F-ANG-SP24
CATEGORIES:Ć
LOCATION:218 A-20
DESCRIPTION:<a href="https://classroom.google.com/c/ODQ2NTk0NjY5NTE2">Google Classroom</a> 
END:VEVENT
BEGIN:VEVENT
UID:UZ_PLZ_20260620_0900_508771
DTSTAMP:20260620T090000
DTSTART:20260620T090000
DTEND:20260620T103000
SUMMARY:Dydaktyka języka angielskiego (E): 21F-ANG-NP24/SNA
CATEGORIES:E
LOCATION:108 A-20
END:VEVENT
BEGIN:VEVENT
UID:UZ_PLZ_20260913_0900_508771
DTSTAMP:20260913T090000
DTSTART:20260913T090000
DTEND:20260913T103000
SUMMARY:Dydaktyka języka angielskiego (E): 21F-ANG-NP24/SNA
CATEGORIES:E
LOCATION:108 A-20
END:VEVENT
END:VCALENDAR
