BEGIN:VCALENDAR
TZID:Europe/Warsaw
X-WR-TIMEZONE:Europe/Warsaw
VERSION:2.0
PRODID:-//Uniwersytet Zielonogórski//NONSGML Plan zajęć v1.0//EN
NAME:Plan zajęć - semestr letni 2025/2026
X-WR-CALNAME:Plan zajęć - semestr letni 2025/2026
COLOR:green
CALSCALE:GREGORIAN
BEGIN:VEVENT
UID:UZ_PLZ_20260302_1105_504666
DTSTAMP:20260302T110500
DTSTART:20260302T110500
DTEND:20260302T123000
SUMMARY:Filozofia (W): 11WF-SP 25/26
CATEGORIES:W
LOCATION:117 A-8
END:VEVENT
BEGIN:VEVENT
UID:UZ_PLZ_20260303_1130_504401
DTSTAMP:20260303T113000
DTSTART:20260303T113000
DTEND:20260303T130000
SUMMARY:Dyżur instytutowy (I)
CATEGORIES:I
END:VEVENT
BEGIN:VEVENT
UID:UZ_PLZ_20260303_1600_502397
DTSTAMP:20260303T160000
DTSTART:20260303T160000
DTEND:20260303T173000
SUMMARY:Kultura filozoficzna (Ć): 21FILOZ-SP24
CATEGORIES:Ć
LOCATION:221 A-20
END:VEVENT
BEGIN:VEVENT
UID:UZ_PLZ_20260303_1740_502354
DTSTAMP:20260303T174000
DTSTART:20260303T174000
DTEND:20260303T191000
SUMMARY:Doradztwo filozoficzne (Ć): 21FILOZ-SP24
CATEGORIES:Ć
LOCATION:221 A-20
END:VEVENT
BEGIN:VEVENT
UID:UZ_PLZ_20260303_1915_502415
DTSTAMP:20260303T191500
DTSTART:20260303T191500
DTEND:20260303T204500
SUMMARY:Historia filozofii starożytnej (Ć): 11CiDF-SP25\; 11FILOZ-SP25
CATEGORIES:Ć
LOCATION:221 A-20
END:VEVENT
BEGIN:VEVENT
UID:UZ_PLZ_20260305_1600_502372
DTSTAMP:20260305T160000
DTSTART:20260305T160000
DTEND:20260305T173000
SUMMARY:Problemy filozofii (Ć): 11FILOZ-SP25
CATEGORIES:Ć
LOCATION:221 A-20
END:VEVENT
BEGIN:VEVENT
UID:UZ_PLZ_20260305_1740_502382
DTSTAMP:20260305T174000
DTSTART:20260305T174000
DTEND:20260305T191000
SUMMARY:Kultura filozoficzna (Ć): 11FILOZ-SD25
CATEGORIES:Ć
LOCATION:221 A-20
END:VEVENT
BEGIN:VEVENT
UID:UZ_PLZ_20260305_1915_502427
DTSTAMP:20260305T191500
DTSTART:20260305T191500
DTEND:20260305T204500
SUMMARY:Filozofia szczęścia (Ć): 21CiDF-SP24
CATEGORIES:Ć
LOCATION:221 A-20
END:VEVENT
BEGIN:VEVENT
UID:UZ_PLZ_20260307_1130_502195
DTSTAMP:20260307T113000
DTSTART:20260307T113000
DTEND:20260307T144500
SUMMARY:Filozofia szczęścia (Ć): 21CiDF-NP24
CATEGORIES:Ć
LOCATION:216 A-20
END:VEVENT
BEGIN:VEVENT
UID:UZ_PLZ_20260308_1615_504779
DTSTAMP:20260308T161500
DTSTART:20260308T161500
DTEND:20260308T183000
SUMMARY:Filozofia (W): 11WF-NP
CATEGORIES:W
LOCATION:221/221a A-8
END:VEVENT
BEGIN:VEVENT
UID:UZ_PLZ_20260310_1130_504401
DTSTAMP:20260310T113000
DTSTART:20260310T113000
DTEND:20260310T130000
SUMMARY:Dyżur instytutowy (I)
CATEGORIES:I
END:VEVENT
BEGIN:VEVENT
UID:UZ_PLZ_20260310_1600_502397
DTSTAMP:20260310T160000
DTSTART:20260310T160000
DTEND:20260310T173000
SUMMARY:Kultura filozoficzna (Ć): 21FILOZ-SP24
CATEGORIES:Ć
LOCATION:221 A-20
END:VEVENT
BEGIN:VEVENT
UID:UZ_PLZ_20260310_1740_502354
DTSTAMP:20260310T174000
DTSTART:20260310T174000
DTEND:20260310T191000
SUMMARY:Doradztwo filozoficzne (Ć): 21FILOZ-SP24
CATEGORIES:Ć
LOCATION:221 A-20
END:VEVENT
BEGIN:VEVENT
UID:UZ_PLZ_20260310_1915_502415
DTSTAMP:20260310T191500
DTSTART:20260310T191500
DTEND:20260310T204500
SUMMARY:Historia filozofii starożytnej (Ć): 11CiDF-SP25\; 11FILOZ-SP25
CATEGORIES:Ć
LOCATION:221 A-20
END:VEVENT
BEGIN:VEVENT
UID:UZ_PLZ_20260312_1600_502372
DTSTAMP:20260312T160000
DTSTART:20260312T160000
DTEND:20260312T173000
SUMMARY:Problemy filozofii (Ć): 11FILOZ-SP25
CATEGORIES:Ć
LOCATION:221 A-20
END:VEVENT
BEGIN:VEVENT
UID:UZ_PLZ_20260312_1740_502382
DTSTAMP:20260312T174000
DTSTART:20260312T174000
DTEND:20260312T191000
SUMMARY:Kultura filozoficzna (Ć): 11FILOZ-SD25
CATEGORIES:Ć
LOCATION:221 A-20
END:VEVENT
BEGIN:VEVENT
UID:UZ_PLZ_20260312_1915_502427
DTSTAMP:20260312T191500
DTSTART:20260312T191500
DTEND:20260312T204500
SUMMARY:Filozofia szczęścia (Ć): 21CiDF-SP24
CATEGORIES:Ć
LOCATION:221 A-20
END:VEVENT
BEGIN:VEVENT
UID:UZ_PLZ_20260316_1105_504666
DTSTAMP:20260316T110500
DTSTART:20260316T110500
DTEND:20260316T123000
SUMMARY:Filozofia (W): 11WF-SP 25/26
CATEGORIES:W
LOCATION:117 A-8
END:VEVENT
BEGIN:VEVENT
UID:UZ_PLZ_20260317_1130_504401
DTSTAMP:20260317T113000
DTSTART:20260317T113000
DTEND:20260317T130000
SUMMARY:Dyżur instytutowy (I)
CATEGORIES:I
END:VEVENT
BEGIN:VEVENT
UID:UZ_PLZ_20260317_1600_502397
DTSTAMP:20260317T160000
DTSTART:20260317T160000
DTEND:20260317T173000
SUMMARY:Kultura filozoficzna (Ć): 21FILOZ-SP24
CATEGORIES:Ć
LOCATION:221 A-20
END:VEVENT
BEGIN:VEVENT
UID:UZ_PLZ_20260317_1740_502354
DTSTAMP:20260317T174000
DTSTART:20260317T174000
DTEND:20260317T191000
SUMMARY:Doradztwo filozoficzne (Ć): 21FILOZ-SP24
CATEGORIES:Ć
LOCATION:221 A-20
END:VEVENT
BEGIN:VEVENT
UID:UZ_PLZ_20260317_1915_502415
DTSTAMP:20260317T191500
DTSTART:20260317T191500
DTEND:20260317T204500
SUMMARY:Historia filozofii starożytnej (Ć): 11CiDF-SP25\; 11FILOZ-SP25
CATEGORIES:Ć
LOCATION:221 A-20
END:VEVENT
BEGIN:VEVENT
UID:UZ_PLZ_20260319_1600_502372
DTSTAMP:20260319T160000
DTSTART:20260319T160000
DTEND:20260319T173000
SUMMARY:Problemy filozofii (Ć): 11FILOZ-SP25
CATEGORIES:Ć
LOCATION:221 A-20
END:VEVENT
BEGIN:VEVENT
UID:UZ_PLZ_20260319_1740_502382
DTSTAMP:20260319T174000
DTSTART:20260319T174000
DTEND:20260319T191000
SUMMARY:Kultura filozoficzna (Ć): 11FILOZ-SD25
CATEGORIES:Ć
LOCATION:221 A-20
END:VEVENT
BEGIN:VEVENT
UID:UZ_PLZ_20260319_1915_502427
DTSTAMP:20260319T191500
DTSTART:20260319T191500
DTEND:20260319T204500
SUMMARY:Filozofia szczęścia (Ć): 21CiDF-SP24
CATEGORIES:Ć
LOCATION:221 A-20
END:VEVENT
BEGIN:VEVENT
UID:UZ_PLZ_20260321_1130_502195
DTSTAMP:20260321T113000
DTSTART:20260321T113000
DTEND:20260321T144500
SUMMARY:Filozofia szczęścia (Ć): 21CiDF-NP24
CATEGORIES:Ć
LOCATION:216 A-20
END:VEVENT
BEGIN:VEVENT
UID:UZ_PLZ_20260324_1130_504401
DTSTAMP:20260324T113000
DTSTART:20260324T113000
DTEND:20260324T130000
SUMMARY:Dyżur instytutowy (I)
CATEGORIES:I
END:VEVENT
BEGIN:VEVENT
UID:UZ_PLZ_20260324_1600_502397
DTSTAMP:20260324T160000
DTSTART:20260324T160000
DTEND:20260324T173000
SUMMARY:Kultura filozoficzna (Ć): 21FILOZ-SP24
CATEGORIES:Ć
LOCATION:221 A-20
END:VEVENT
BEGIN:VEVENT
UID:UZ_PLZ_20260324_1740_502354
DTSTAMP:20260324T174000
DTSTART:20260324T174000
DTEND:20260324T191000
SUMMARY:Doradztwo filozoficzne (Ć): 21FILOZ-SP24
CATEGORIES:Ć
LOCATION:221 A-20
END:VEVENT
BEGIN:VEVENT
UID:UZ_PLZ_20260324_1915_502415
DTSTAMP:20260324T191500
DTSTART:20260324T191500
DTEND:20260324T204500
SUMMARY:Historia filozofii starożytnej (Ć): 11CiDF-SP25\; 11FILOZ-SP25
CATEGORIES:Ć
LOCATION:221 A-20
END:VEVENT
BEGIN:VEVENT
UID:UZ_PLZ_20260326_1600_502372
DTSTAMP:20260326T160000
DTSTART:20260326T160000
DTEND:20260326T173000
SUMMARY:Problemy filozofii (Ć): 11FILOZ-SP25
CATEGORIES:Ć
LOCATION:221 A-20
END:VEVENT
BEGIN:VEVENT
UID:UZ_PLZ_20260326_1740_502382
DTSTAMP:20260326T174000
DTSTART:20260326T174000
DTEND:20260326T191000
SUMMARY:Kultura filozoficzna (Ć): 11FILOZ-SD25
CATEGORIES:Ć
LOCATION:221 A-20
END:VEVENT
BEGIN:VEVENT
UID:UZ_PLZ_20260326_1915_502427
DTSTAMP:20260326T191500
DTSTART:20260326T191500
DTEND:20260326T204500
SUMMARY:Filozofia szczęścia (Ć): 21CiDF-SP24
CATEGORIES:Ć
LOCATION:221 A-20
END:VEVENT
BEGIN:VEVENT
UID:UZ_PLZ_20260330_1105_504666
DTSTAMP:20260330T110500
DTSTART:20260330T110500
DTEND:20260330T123000
SUMMARY:Filozofia (W): 11WF-SP 25/26
CATEGORIES:W
LOCATION:117 A-8
END:VEVENT
BEGIN:VEVENT
UID:UZ_PLZ_20260331_1130_504401
DTSTAMP:20260331T113000
DTSTART:20260331T113000
DTEND:20260331T130000
SUMMARY:Dyżur instytutowy (I)
CATEGORIES:I
END:VEVENT
BEGIN:VEVENT
UID:UZ_PLZ_20260331_1600_502397
DTSTAMP:20260331T160000
DTSTART:20260331T160000
DTEND:20260331T173000
SUMMARY:Kultura filozoficzna (Ć): 21FILOZ-SP24
CATEGORIES:Ć
LOCATION:221 A-20
END:VEVENT
BEGIN:VEVENT
UID:UZ_PLZ_20260331_1740_502354
DTSTAMP:20260331T174000
DTSTART:20260331T174000
DTEND:20260331T191000
SUMMARY:Doradztwo filozoficzne (Ć): 21FILOZ-SP24
CATEGORIES:Ć
LOCATION:221 A-20
END:VEVENT
BEGIN:VEVENT
UID:UZ_PLZ_20260331_1915_502415
DTSTAMP:20260331T191500
DTSTART:20260331T191500
DTEND:20260331T204500
SUMMARY:Historia filozofii starożytnej (Ć): 11CiDF-SP25\; 11FILOZ-SP25
CATEGORIES:Ć
LOCATION:221 A-20
END:VEVENT
BEGIN:VEVENT
UID:UZ_PLZ_20260402_1600_502372
DTSTAMP:20260402T160000
DTSTART:20260402T160000
DTEND:20260402T173000
SUMMARY:Problemy filozofii (Ć): 11FILOZ-SP25
CATEGORIES:Ć
LOCATION:221 A-20
END:VEVENT
BEGIN:VEVENT
UID:UZ_PLZ_20260402_1740_502382
DTSTAMP:20260402T174000
DTSTART:20260402T174000
DTEND:20260402T191000
SUMMARY:Kultura filozoficzna (Ć): 11FILOZ-SD25
CATEGORIES:Ć
LOCATION:221 A-20
END:VEVENT
BEGIN:VEVENT
UID:UZ_PLZ_20260402_1915_502427
DTSTAMP:20260402T191500
DTSTART:20260402T191500
DTEND:20260402T204500
SUMMARY:Filozofia szczęścia (Ć): 21CiDF-SP24
CATEGORIES:Ć
LOCATION:221 A-20
END:VEVENT
BEGIN:VEVENT
UID:UZ_PLZ_20260409_1600_502372
DTSTAMP:20260409T160000
DTSTART:20260409T160000
DTEND:20260409T173000
SUMMARY:Problemy filozofii (Ć): 11FILOZ-SP25
CATEGORIES:Ć
LOCATION:221 A-20
END:VEVENT
BEGIN:VEVENT
UID:UZ_PLZ_20260409_1740_502382
DTSTAMP:20260409T174000
DTSTART:20260409T174000
DTEND:20260409T191000
SUMMARY:Kultura filozoficzna (Ć): 11FILOZ-SD25
CATEGORIES:Ć
LOCATION:221 A-20
END:VEVENT
BEGIN:VEVENT
UID:UZ_PLZ_20260409_1915_502427
DTSTAMP:20260409T191500
DTSTART:20260409T191500
DTEND:20260409T204500
SUMMARY:Filozofia szczęścia (Ć): 21CiDF-SP24
CATEGORIES:Ć
LOCATION:221 A-20
END:VEVENT
BEGIN:VEVENT
UID:UZ_PLZ_20260413_1105_504666
DTSTAMP:20260413T110500
DTSTART:20260413T110500
DTEND:20260413T123000
SUMMARY:Filozofia (W): 11WF-SP 25/26
CATEGORIES:W
LOCATION:117 A-8
END:VEVENT
BEGIN:VEVENT
UID:UZ_PLZ_20260414_1130_504401
DTSTAMP:20260414T113000
DTSTART:20260414T113000
DTEND:20260414T130000
SUMMARY:Dyżur instytutowy (I)
CATEGORIES:I
END:VEVENT
BEGIN:VEVENT
UID:UZ_PLZ_20260414_1305_508253
DTSTAMP:20260414T130500
DTSTART:20260414T130500
DTEND:20260414T140500
SUMMARY:Konsultacje (I)
CATEGORIES:I
END:VEVENT
BEGIN:VEVENT
UID:UZ_PLZ_20260414_1600_502397
DTSTAMP:20260414T160000
DTSTART:20260414T160000
DTEND:20260414T173000
SUMMARY:Kultura filozoficzna (Ć): 21FILOZ-SP24
CATEGORIES:Ć
LOCATION:221 A-20
END:VEVENT
BEGIN:VEVENT
UID:UZ_PLZ_20260414_1740_502354
DTSTAMP:20260414T174000
DTSTART:20260414T174000
DTEND:20260414T191000
SUMMARY:Doradztwo filozoficzne (Ć): 21FILOZ-SP24
CATEGORIES:Ć
LOCATION:221 A-20
END:VEVENT
BEGIN:VEVENT
UID:UZ_PLZ_20260414_1915_502415
DTSTAMP:20260414T191500
DTSTART:20260414T191500
DTEND:20260414T204500
SUMMARY:Historia filozofii starożytnej (Ć): 11CiDF-SP25\; 11FILOZ-SP25
CATEGORIES:Ć
LOCATION:221 A-20
END:VEVENT
BEGIN:VEVENT
UID:UZ_PLZ_20260416_1600_502372
DTSTAMP:20260416T160000
DTSTART:20260416T160000
DTEND:20260416T173000
SUMMARY:Problemy filozofii (Ć): 11FILOZ-SP25
CATEGORIES:Ć
LOCATION:221 A-20
END:VEVENT
BEGIN:VEVENT
UID:UZ_PLZ_20260416_1740_502382
DTSTAMP:20260416T174000
DTSTART:20260416T174000
DTEND:20260416T191000
SUMMARY:Kultura filozoficzna (Ć): 11FILOZ-SD25
CATEGORIES:Ć
LOCATION:221 A-20
END:VEVENT
BEGIN:VEVENT
UID:UZ_PLZ_20260416_1915_502427
DTSTAMP:20260416T191500
DTSTART:20260416T191500
DTEND:20260416T204500
SUMMARY:Filozofia szczęścia (Ć): 21CiDF-SP24
CATEGORIES:Ć
LOCATION:221 A-20
END:VEVENT
BEGIN:VEVENT
UID:UZ_PLZ_20260418_0945_502195
DTSTAMP:20260418T094500
DTSTART:20260418T094500
DTEND:20260418T130000
SUMMARY:Filozofia szczęścia (Ć): 21CiDF-NP24
CATEGORIES:Ć
LOCATION:216 A-20
END:VEVENT
BEGIN:VEVENT
UID:UZ_PLZ_20260421_1130_504401
DTSTAMP:20260421T113000
DTSTART:20260421T113000
DTEND:20260421T130000
SUMMARY:Dyżur instytutowy (I)
CATEGORIES:I
END:VEVENT
BEGIN:VEVENT
UID:UZ_PLZ_20260421_1305_508253
DTSTAMP:20260421T130500
DTSTART:20260421T130500
DTEND:20260421T140500
SUMMARY:Konsultacje (I)
CATEGORIES:I
END:VEVENT
BEGIN:VEVENT
UID:UZ_PLZ_20260421_1600_502397
DTSTAMP:20260421T160000
DTSTART:20260421T160000
DTEND:20260421T173000
SUMMARY:Kultura filozoficzna (Ć): 21FILOZ-SP24
CATEGORIES:Ć
LOCATION:221 A-20
END:VEVENT
BEGIN:VEVENT
UID:UZ_PLZ_20260421_1740_502354
DTSTAMP:20260421T174000
DTSTART:20260421T174000
DTEND:20260421T191000
SUMMARY:Doradztwo filozoficzne (Ć): 21FILOZ-SP24
CATEGORIES:Ć
LOCATION:221 A-20
END:VEVENT
BEGIN:VEVENT
UID:UZ_PLZ_20260421_1915_502415
DTSTAMP:20260421T191500
DTSTART:20260421T191500
DTEND:20260421T204500
SUMMARY:Historia filozofii starożytnej (Ć): 11CiDF-SP25\; 11FILOZ-SP25
CATEGORIES:Ć
LOCATION:221 A-20
END:VEVENT
BEGIN:VEVENT
UID:UZ_PLZ_20260423_1600_502372
DTSTAMP:20260423T160000
DTSTART:20260423T160000
DTEND:20260423T173000
SUMMARY:Problemy filozofii (Ć): 11FILOZ-SP25
CATEGORIES:Ć
LOCATION:221 A-20
END:VEVENT
BEGIN:VEVENT
UID:UZ_PLZ_20260423_1740_502382
DTSTAMP:20260423T174000
DTSTART:20260423T174000
DTEND:20260423T191000
SUMMARY:Kultura filozoficzna (Ć): 11FILOZ-SD25
CATEGORIES:Ć
LOCATION:221 A-20
END:VEVENT
BEGIN:VEVENT
UID:UZ_PLZ_20260423_1915_502427
DTSTAMP:20260423T191500
DTSTART:20260423T191500
DTEND:20260423T204500
SUMMARY:Filozofia szczęścia (Ć): 21CiDF-SP24
CATEGORIES:Ć
LOCATION:221 A-20
END:VEVENT
BEGIN:VEVENT
UID:UZ_PLZ_20260427_1105_504666
DTSTAMP:20260427T110500
DTSTART:20260427T110500
DTEND:20260427T123000
SUMMARY:Filozofia (W): 11WF-SP 25/26
CATEGORIES:W
LOCATION:117 A-8
END:VEVENT
BEGIN:VEVENT
UID:UZ_PLZ_20260428_1130_504401
DTSTAMP:20260428T113000
DTSTART:20260428T113000
DTEND:20260428T130000
SUMMARY:Dyżur instytutowy (I)
CATEGORIES:I
END:VEVENT
BEGIN:VEVENT
UID:UZ_PLZ_20260428_1305_508253
DTSTAMP:20260428T130500
DTSTART:20260428T130500
DTEND:20260428T140500
SUMMARY:Konsultacje (I)
CATEGORIES:I
END:VEVENT
BEGIN:VEVENT
UID:UZ_PLZ_20260428_1600_502397
DTSTAMP:20260428T160000
DTSTART:20260428T160000
DTEND:20260428T173000
SUMMARY:Kultura filozoficzna (Ć): 21FILOZ-SP24
CATEGORIES:Ć
LOCATION:221 A-20
END:VEVENT
BEGIN:VEVENT
UID:UZ_PLZ_20260428_1740_502354
DTSTAMP:20260428T174000
DTSTART:20260428T174000
DTEND:20260428T191000
SUMMARY:Doradztwo filozoficzne (Ć): 21FILOZ-SP24
CATEGORIES:Ć
LOCATION:221 A-20
END:VEVENT
BEGIN:VEVENT
UID:UZ_PLZ_20260428_1915_502415
DTSTAMP:20260428T191500
DTSTART:20260428T191500
DTEND:20260428T204500
SUMMARY:Historia filozofii starożytnej (Ć): 11CiDF-SP25\; 11FILOZ-SP25
CATEGORIES:Ć
LOCATION:221 A-20
END:VEVENT
BEGIN:VEVENT
UID:UZ_PLZ_20260430_1600_502372
DTSTAMP:20260430T160000
DTSTART:20260430T160000
DTEND:20260430T173000
SUMMARY:Problemy filozofii (Ć): 11FILOZ-SP25
CATEGORIES:Ć
LOCATION:221 A-20
END:VEVENT
BEGIN:VEVENT
UID:UZ_PLZ_20260430_1740_502382
DTSTAMP:20260430T174000
DTSTART:20260430T174000
DTEND:20260430T191000
SUMMARY:Kultura filozoficzna (Ć): 11FILOZ-SD25
CATEGORIES:Ć
LOCATION:221 A-20
END:VEVENT
BEGIN:VEVENT
UID:UZ_PLZ_20260430_1915_502427
DTSTAMP:20260430T191500
DTSTART:20260430T191500
DTEND:20260430T204500
SUMMARY:Filozofia szczęścia (Ć): 21CiDF-SP24
CATEGORIES:Ć
LOCATION:221 A-20
END:VEVENT
BEGIN:VEVENT
UID:UZ_PLZ_20260505_1130_504401
DTSTAMP:20260505T113000
DTSTART:20260505T113000
DTEND:20260505T130000
SUMMARY:Dyżur instytutowy (I)
CATEGORIES:I
END:VEVENT
BEGIN:VEVENT
UID:UZ_PLZ_20260505_1305_508253
DTSTAMP:20260505T130500
DTSTART:20260505T130500
DTEND:20260505T140500
SUMMARY:Konsultacje (I)
CATEGORIES:I
END:VEVENT
BEGIN:VEVENT
UID:UZ_PLZ_20260505_1600_502397
DTSTAMP:20260505T160000
DTSTART:20260505T160000
DTEND:20260505T173000
SUMMARY:Kultura filozoficzna (Ć): 21FILOZ-SP24
CATEGORIES:Ć
LOCATION:221 A-20
END:VEVENT
BEGIN:VEVENT
UID:UZ_PLZ_20260505_1740_502354
DTSTAMP:20260505T174000
DTSTART:20260505T174000
DTEND:20260505T191000
SUMMARY:Doradztwo filozoficzne (Ć): 21FILOZ-SP24
CATEGORIES:Ć
LOCATION:221 A-20
END:VEVENT
BEGIN:VEVENT
UID:UZ_PLZ_20260505_1915_502415
DTSTAMP:20260505T191500
DTSTART:20260505T191500
DTEND:20260505T204500
SUMMARY:Historia filozofii starożytnej (Ć): 11CiDF-SP25\; 11FILOZ-SP25
CATEGORIES:Ć
LOCATION:221 A-20
END:VEVENT
BEGIN:VEVENT
UID:UZ_PLZ_20260507_1600_502372
DTSTAMP:20260507T160000
DTSTART:20260507T160000
DTEND:20260507T173000
SUMMARY:Problemy filozofii (Ć): 11FILOZ-SP25
CATEGORIES:Ć
LOCATION:221 A-20
END:VEVENT
BEGIN:VEVENT
UID:UZ_PLZ_20260507_1740_502382
DTSTAMP:20260507T174000
DTSTART:20260507T174000
DTEND:20260507T191000
SUMMARY:Kultura filozoficzna (Ć): 11FILOZ-SD25
CATEGORIES:Ć
LOCATION:221 A-20
END:VEVENT
BEGIN:VEVENT
UID:UZ_PLZ_20260507_1915_502427
DTSTAMP:20260507T191500
DTSTART:20260507T191500
DTEND:20260507T204500
SUMMARY:Filozofia szczęścia (Ć): 21CiDF-SP24
CATEGORIES:Ć
LOCATION:221 A-20
END:VEVENT
BEGIN:VEVENT
UID:UZ_PLZ_20260511_1105_504666
DTSTAMP:20260511T110500
DTSTART:20260511T110500
DTEND:20260511T123000
SUMMARY:Filozofia (W): 11WF-SP 25/26
CATEGORIES:W
LOCATION:117 A-8
END:VEVENT
BEGIN:VEVENT
UID:UZ_PLZ_20260512_1130_504401
DTSTAMP:20260512T113000
DTSTART:20260512T113000
DTEND:20260512T130000
SUMMARY:Dyżur instytutowy (I)
CATEGORIES:I
END:VEVENT
BEGIN:VEVENT
UID:UZ_PLZ_20260512_1305_508253
DTSTAMP:20260512T130500
DTSTART:20260512T130500
DTEND:20260512T140500
SUMMARY:Konsultacje (I)
CATEGORIES:I
END:VEVENT
BEGIN:VEVENT
UID:UZ_PLZ_20260512_1600_502397
DTSTAMP:20260512T160000
DTSTART:20260512T160000
DTEND:20260512T173000
SUMMARY:Kultura filozoficzna (Ć): 21FILOZ-SP24
CATEGORIES:Ć
LOCATION:221 A-20
END:VEVENT
BEGIN:VEVENT
UID:UZ_PLZ_20260512_1740_502354
DTSTAMP:20260512T174000
DTSTART:20260512T174000
DTEND:20260512T191000
SUMMARY:Doradztwo filozoficzne (Ć): 21FILOZ-SP24
CATEGORIES:Ć
LOCATION:221 A-20
END:VEVENT
BEGIN:VEVENT
UID:UZ_PLZ_20260512_1915_502415
DTSTAMP:20260512T191500
DTSTART:20260512T191500
DTEND:20260512T204500
SUMMARY:Historia filozofii starożytnej (Ć): 11CiDF-SP25\; 11FILOZ-SP25
CATEGORIES:Ć
LOCATION:221 A-20
END:VEVENT
BEGIN:VEVENT
UID:UZ_PLZ_20260514_1600_502372
DTSTAMP:20260514T160000
DTSTART:20260514T160000
DTEND:20260514T173000
SUMMARY:Problemy filozofii (Ć): 11FILOZ-SP25
CATEGORIES:Ć
LOCATION:221 A-20
END:VEVENT
BEGIN:VEVENT
UID:UZ_PLZ_20260514_1740_502382
DTSTAMP:20260514T174000
DTSTART:20260514T174000
DTEND:20260514T191000
SUMMARY:Kultura filozoficzna (Ć): 11FILOZ-SD25
CATEGORIES:Ć
LOCATION:221 A-20
END:VEVENT
BEGIN:VEVENT
UID:UZ_PLZ_20260514_1915_502427
DTSTAMP:20260514T191500
DTSTART:20260514T191500
DTEND:20260514T204500
SUMMARY:Filozofia szczęścia (Ć): 21CiDF-SP24
CATEGORIES:Ć
LOCATION:221 A-20
END:VEVENT
BEGIN:VEVENT
UID:UZ_PLZ_20260516_1130_502195
DTSTAMP:20260516T113000
DTSTART:20260516T113000
DTEND:20260516T144500
SUMMARY:Filozofia szczęścia (Ć): 21CiDF-NP24
CATEGORIES:Ć
LOCATION:216 A-20
END:VEVENT
BEGIN:VEVENT
UID:UZ_PLZ_20260519_1130_504401
DTSTAMP:20260519T113000
DTSTART:20260519T113000
DTEND:20260519T130000
SUMMARY:Dyżur instytutowy (I)
CATEGORIES:I
END:VEVENT
BEGIN:VEVENT
UID:UZ_PLZ_20260519_1305_508253
DTSTAMP:20260519T130500
DTSTART:20260519T130500
DTEND:20260519T140500
SUMMARY:Konsultacje (I)
CATEGORIES:I
END:VEVENT
BEGIN:VEVENT
UID:UZ_PLZ_20260519_1600_502397
DTSTAMP:20260519T160000
DTSTART:20260519T160000
DTEND:20260519T173000
SUMMARY:Kultura filozoficzna (Ć): 21FILOZ-SP24
CATEGORIES:Ć
LOCATION:221 A-20
END:VEVENT
BEGIN:VEVENT
UID:UZ_PLZ_20260519_1740_502354
DTSTAMP:20260519T174000
DTSTART:20260519T174000
DTEND:20260519T191000
SUMMARY:Doradztwo filozoficzne (Ć): 21FILOZ-SP24
CATEGORIES:Ć
LOCATION:221 A-20
END:VEVENT
BEGIN:VEVENT
UID:UZ_PLZ_20260519_1915_502415
DTSTAMP:20260519T191500
DTSTART:20260519T191500
DTEND:20260519T204500
SUMMARY:Historia filozofii starożytnej (Ć): 11CiDF-SP25\; 11FILOZ-SP25
CATEGORIES:Ć
LOCATION:221 A-20
END:VEVENT
BEGIN:VEVENT
UID:UZ_PLZ_20260521_1600_502372
DTSTAMP:20260521T160000
DTSTART:20260521T160000
DTEND:20260521T173000
SUMMARY:Problemy filozofii (Ć): 11FILOZ-SP25
CATEGORIES:Ć
LOCATION:221 A-20
END:VEVENT
BEGIN:VEVENT
UID:UZ_PLZ_20260521_1740_502382
DTSTAMP:20260521T174000
DTSTART:20260521T174000
DTEND:20260521T191000
SUMMARY:Kultura filozoficzna (Ć): 11FILOZ-SD25
CATEGORIES:Ć
LOCATION:221 A-20
END:VEVENT
BEGIN:VEVENT
UID:UZ_PLZ_20260521_1915_502427
DTSTAMP:20260521T191500
DTSTART:20260521T191500
DTEND:20260521T204500
SUMMARY:Filozofia szczęścia (Ć): 21CiDF-SP24
CATEGORIES:Ć
LOCATION:221 A-20
END:VEVENT
BEGIN:VEVENT
UID:UZ_PLZ_20260525_1105_504666
DTSTAMP:20260525T110500
DTSTART:20260525T110500
DTEND:20260525T123000
SUMMARY:Filozofia (W): 11WF-SP 25/26
CATEGORIES:W
LOCATION:117 A-8
END:VEVENT
BEGIN:VEVENT
UID:UZ_PLZ_20260526_1130_504401
DTSTAMP:20260526T113000
DTSTART:20260526T113000
DTEND:20260526T130000
SUMMARY:Dyżur instytutowy (I)
CATEGORIES:I
END:VEVENT
BEGIN:VEVENT
UID:UZ_PLZ_20260526_1305_508253
DTSTAMP:20260526T130500
DTSTART:20260526T130500
DTEND:20260526T140500
SUMMARY:Konsultacje (I)
CATEGORIES:I
END:VEVENT
BEGIN:VEVENT
UID:UZ_PLZ_20260526_1600_502397
DTSTAMP:20260526T160000
DTSTART:20260526T160000
DTEND:20260526T173000
SUMMARY:Kultura filozoficzna (Ć): 21FILOZ-SP24
CATEGORIES:Ć
LOCATION:221 A-20
END:VEVENT
BEGIN:VEVENT
UID:UZ_PLZ_20260526_1740_502354
DTSTAMP:20260526T174000
DTSTART:20260526T174000
DTEND:20260526T191000
SUMMARY:Doradztwo filozoficzne (Ć): 21FILOZ-SP24
CATEGORIES:Ć
LOCATION:221 A-20
END:VEVENT
BEGIN:VEVENT
UID:UZ_PLZ_20260526_1915_502415
DTSTAMP:20260526T191500
DTSTART:20260526T191500
DTEND:20260526T204500
SUMMARY:Historia filozofii starożytnej (Ć): 11CiDF-SP25\; 11FILOZ-SP25
CATEGORIES:Ć
LOCATION:221 A-20
END:VEVENT
BEGIN:VEVENT
UID:UZ_PLZ_20260528_1600_502372
DTSTAMP:20260528T160000
DTSTART:20260528T160000
DTEND:20260528T173000
SUMMARY:Problemy filozofii (Ć): 11FILOZ-SP25
CATEGORIES:Ć
LOCATION:221 A-20
END:VEVENT
BEGIN:VEVENT
UID:UZ_PLZ_20260528_1740_502382
DTSTAMP:20260528T174000
DTSTART:20260528T174000
DTEND:20260528T191000
SUMMARY:Kultura filozoficzna (Ć): 11FILOZ-SD25
CATEGORIES:Ć
LOCATION:221 A-20
END:VEVENT
BEGIN:VEVENT
UID:UZ_PLZ_20260528_1915_502427
DTSTAMP:20260528T191500
DTSTART:20260528T191500
DTEND:20260528T204500
SUMMARY:Filozofia szczęścia (Ć): 21CiDF-SP24
CATEGORIES:Ć
LOCATION:221 A-20
END:VEVENT
BEGIN:VEVENT
UID:UZ_PLZ_20260530_1130_502195
DTSTAMP:20260530T113000
DTSTART:20260530T113000
DTEND:20260530T130000
SUMMARY:Filozofia szczęścia (Ć): 21CiDF-NP24
CATEGORIES:Ć
LOCATION:216 A-20
END:VEVENT
BEGIN:VEVENT
UID:UZ_PLZ_20260531_1700_504779
DTSTAMP:20260531T170000
DTSTART:20260531T170000
DTEND:20260531T191500
SUMMARY:Filozofia (W): 11WF-NP
CATEGORIES:W
LOCATION:221/221a A-8
END:VEVENT
BEGIN:VEVENT
UID:UZ_PLZ_20260602_1130_504401
DTSTAMP:20260602T113000
DTSTART:20260602T113000
DTEND:20260602T130000
SUMMARY:Dyżur instytutowy (I)
CATEGORIES:I
END:VEVENT
BEGIN:VEVENT
UID:UZ_PLZ_20260602_1305_508253
DTSTAMP:20260602T130500
DTSTART:20260602T130500
DTEND:20260602T140500
SUMMARY:Konsultacje (I)
CATEGORIES:I
END:VEVENT
BEGIN:VEVENT
UID:UZ_PLZ_20260602_1600_502397
DTSTAMP:20260602T160000
DTSTART:20260602T160000
DTEND:20260602T173000
SUMMARY:Kultura filozoficzna (Ć): 21FILOZ-SP24
CATEGORIES:Ć
LOCATION:221 A-20
END:VEVENT
BEGIN:VEVENT
UID:UZ_PLZ_20260602_1740_502354
DTSTAMP:20260602T174000
DTSTART:20260602T174000
DTEND:20260602T191000
SUMMARY:Doradztwo filozoficzne (Ć): 21FILOZ-SP24
CATEGORIES:Ć
LOCATION:221 A-20
END:VEVENT
BEGIN:VEVENT
UID:UZ_PLZ_20260602_1915_502415
DTSTAMP:20260602T191500
DTSTART:20260602T191500
DTEND:20260602T204500
SUMMARY:Historia filozofii starożytnej (Ć): 11CiDF-SP25\; 11FILOZ-SP25
CATEGORIES:Ć
LOCATION:221 A-20
END:VEVENT
BEGIN:VEVENT
UID:UZ_PLZ_20260608_1105_504666
DTSTAMP:20260608T110500
DTSTART:20260608T110500
DTEND:20260608T123000
SUMMARY:Filozofia (W): 11WF-SP 25/26
CATEGORIES:W
LOCATION:117 A-8
END:VEVENT
BEGIN:VEVENT
UID:UZ_PLZ_20260609_1130_504401
DTSTAMP:20260609T113000
DTSTART:20260609T113000
DTEND:20260609T130000
SUMMARY:Dyżur instytutowy (I)
CATEGORIES:I
END:VEVENT
BEGIN:VEVENT
UID:UZ_PLZ_20260609_1305_508253
DTSTAMP:20260609T130500
DTSTART:20260609T130500
DTEND:20260609T140500
SUMMARY:Konsultacje (I)
CATEGORIES:I
END:VEVENT
BEGIN:VEVENT
UID:UZ_PLZ_20260609_1600_502397
DTSTAMP:20260609T160000
DTSTART:20260609T160000
DTEND:20260609T173000
SUMMARY:Kultura filozoficzna (Ć): 21FILOZ-SP24
CATEGORIES:Ć
LOCATION:221 A-20
END:VEVENT
BEGIN:VEVENT
UID:UZ_PLZ_20260609_1740_502354
DTSTAMP:20260609T174000
DTSTART:20260609T174000
DTEND:20260609T191000
SUMMARY:Doradztwo filozoficzne (Ć): 21FILOZ-SP24
CATEGORIES:Ć
LOCATION:221 A-20
END:VEVENT
BEGIN:VEVENT
UID:UZ_PLZ_20260609_1915_502415
DTSTAMP:20260609T191500
DTSTART:20260609T191500
DTEND:20260609T204500
SUMMARY:Historia filozofii starożytnej (Ć): 11CiDF-SP25\; 11FILOZ-SP25
CATEGORIES:Ć
LOCATION:221 A-20
END:VEVENT
BEGIN:VEVENT
UID:UZ_PLZ_20260611_1600_502372
DTSTAMP:20260611T160000
DTSTART:20260611T160000
DTEND:20260611T173000
SUMMARY:Problemy filozofii (Ć): 11FILOZ-SP25
CATEGORIES:Ć
LOCATION:221 A-20
END:VEVENT
BEGIN:VEVENT
UID:UZ_PLZ_20260611_1740_502382
DTSTAMP:20260611T174000
DTSTART:20260611T174000
DTEND:20260611T191000
SUMMARY:Kultura filozoficzna (Ć): 11FILOZ-SD25
CATEGORIES:Ć
LOCATION:221 A-20
END:VEVENT
BEGIN:VEVENT
UID:UZ_PLZ_20260611_1915_502427
DTSTAMP:20260611T191500
DTSTART:20260611T191500
DTEND:20260611T204500
SUMMARY:Filozofia szczęścia (Ć): 21CiDF-SP24
CATEGORIES:Ć
LOCATION:221 A-20
END:VEVENT
BEGIN:VEVENT
UID:UZ_PLZ_20260614_1700_504779
DTSTAMP:20260614T170000
DTSTART:20260614T170000
DTEND:20260614T191500
SUMMARY:Filozofia (W): 11WF-NP
CATEGORIES:W
LOCATION:221/221a A-8
END:VEVENT
BEGIN:VEVENT
UID:UZ_PLZ_20260616_1130_504401
DTSTAMP:20260616T113000
DTSTART:20260616T113000
DTEND:20260616T130000
SUMMARY:Dyżur instytutowy (I)
CATEGORIES:I
END:VEVENT
BEGIN:VEVENT
UID:UZ_PLZ_20260616_1305_508253
DTSTAMP:20260616T130500
DTSTART:20260616T130500
DTEND:20260616T140500
SUMMARY:Konsultacje (I)
CATEGORIES:I
END:VEVENT
BEGIN:VEVENT
UID:UZ_PLZ_20260616_1600_502397
DTSTAMP:20260616T160000
DTSTART:20260616T160000
DTEND:20260616T173000
SUMMARY:Kultura filozoficzna (Ć): 21FILOZ-SP24
CATEGORIES:Ć
LOCATION:221 A-20
END:VEVENT
BEGIN:VEVENT
UID:UZ_PLZ_20260616_1740_502354
DTSTAMP:20260616T174000
DTSTART:20260616T174000
DTEND:20260616T191000
SUMMARY:Doradztwo filozoficzne (Ć): 21FILOZ-SP24
CATEGORIES:Ć
LOCATION:221 A-20
END:VEVENT
BEGIN:VEVENT
UID:UZ_PLZ_20260616_1915_502415
DTSTAMP:20260616T191500
DTSTART:20260616T191500
DTEND:20260616T204500
SUMMARY:Historia filozofii starożytnej (Ć): 11CiDF-SP25\; 11FILOZ-SP25
CATEGORIES:Ć
LOCATION:221 A-20
END:VEVENT
BEGIN:VEVENT
UID:UZ_PLZ_20260618_1600_502372
DTSTAMP:20260618T160000
DTSTART:20260618T160000
DTEND:20260618T173000
SUMMARY:Problemy filozofii (Ć): 11FILOZ-SP25
CATEGORIES:Ć
LOCATION:221 A-20
END:VEVENT
BEGIN:VEVENT
UID:UZ_PLZ_20260618_1740_502382
DTSTAMP:20260618T174000
DTSTART:20260618T174000
DTEND:20260618T191000
SUMMARY:Kultura filozoficzna (Ć): 11FILOZ-SD25
CATEGORIES:Ć
LOCATION:221 A-20
END:VEVENT
BEGIN:VEVENT
UID:UZ_PLZ_20260618_1915_502427
DTSTAMP:20260618T191500
DTSTART:20260618T191500
DTEND:20260618T204500
SUMMARY:Filozofia szczęścia (Ć): 21CiDF-SP24
CATEGORIES:Ć
LOCATION:221 A-20
END:VEVENT
END:VCALENDAR
