BEGIN:VCALENDAR
TZID:Europe/Warsaw
X-WR-TIMEZONE:Europe/Warsaw
VERSION:2.0
PRODID:-//Uniwersytet Zielonogórski//NONSGML Plan zajęć v1.0//EN
NAME:Plan zajęć - semestr letni 2025/2026
X-WR-CALNAME:Plan zajęć - semestr letni 2025/2026
COLOR:green
CALSCALE:GREGORIAN
BEGIN:VEVENT
UID:UZ_PLZ_20260428_0730_505160
DTSTAMP:20260428T073000
DTSTART:20260428T073000
DTEND:20260428T090000
SUMMARY:Algorithms and Data Structures 1/Algorytmy i struktury danych 1 (W): 11ID-SP
CATEGORIES:W
LOCATION:207 A-29
DESCRIPTION:<a href="https://classroom.google.com/c/ODQ5NzMyNjI0Mzgw">Google Classroom</a> 
END:VEVENT
BEGIN:VEVENT
UID:UZ_PLZ_20260428_0915_505015
DTSTAMP:20260428T091500
DTSTART:20260428T091500
DTEND:20260428T104500
SUMMARY:Algorithms and Data Structures 1/Algorytmy i struktury danych 1 (L): 11ID-SP/ B
CATEGORIES:L
LOCATION:112 A-29
END:VEVENT
BEGIN:VEVENT
UID:UZ_PLZ_20260428_1100_505068
DTSTAMP:20260428T110000
DTSTART:20260428T110000
DTEND:20260428T123000
SUMMARY:Algorithms and Data Structures 1/Algorytmy i struktury danych 1 (L): 11ID-SP/ A
CATEGORIES:L
LOCATION:205 A-29
END:VEVENT
BEGIN:VEVENT
UID:UZ_PLZ_20260428_1245_507441
DTSTAMP:20260428T124500
DTSTART:20260428T124500
DTEND:20260428T141500
SUMMARY:Konsultacje (I)
CATEGORIES:I
LOCATION:414 A-29
END:VEVENT
BEGIN:VEVENT
UID:UZ_PLZ_20260430_1100_504985
DTSTAMP:20260430T110000
DTSTART:20260430T110000
DTEND:20260430T123000
SUMMARY:Algebra liniowa i geometria analityczna/Linear Algebra and Analytic Geometry (Ć): 11ID-SP
CATEGORIES:Ć
LOCATION:108 A-29
END:VEVENT
BEGIN:VEVENT
UID:UZ_PLZ_20260430_1100_506802
DTSTAMP:20260430T110000
DTSTART:20260430T110000
DTEND:20260430T123000
SUMMARY:Seminarium zakładowe (I)
CATEGORIES:I
LOCATION:219 A-29
END:VEVENT
BEGIN:VEVENT
UID:UZ_PLZ_20260505_0730_505160
DTSTAMP:20260505T073000
DTSTART:20260505T073000
DTEND:20260505T090000
SUMMARY:Algorithms and Data Structures 1/Algorytmy i struktury danych 1 (W): 11ID-SP
CATEGORIES:W
LOCATION:207 A-29
DESCRIPTION:<a href="https://classroom.google.com/c/ODQ5NzMyNjI0Mzgw">Google Classroom</a> 
END:VEVENT
BEGIN:VEVENT
UID:UZ_PLZ_20260505_0915_505015
DTSTAMP:20260505T091500
DTSTART:20260505T091500
DTEND:20260505T104500
SUMMARY:Algorithms and Data Structures 1/Algorytmy i struktury danych 1 (L): 11ID-SP/ B
CATEGORIES:L
LOCATION:112 A-29
END:VEVENT
BEGIN:VEVENT
UID:UZ_PLZ_20260505_1100_505068
DTSTAMP:20260505T110000
DTSTART:20260505T110000
DTEND:20260505T123000
SUMMARY:Algorithms and Data Structures 1/Algorytmy i struktury danych 1 (L): 11ID-SP/ A
CATEGORIES:L
LOCATION:205 A-29
END:VEVENT
BEGIN:VEVENT
UID:UZ_PLZ_20260505_1245_507441
DTSTAMP:20260505T124500
DTSTART:20260505T124500
DTEND:20260505T141500
SUMMARY:Konsultacje (I)
CATEGORIES:I
LOCATION:414 A-29
END:VEVENT
BEGIN:VEVENT
UID:UZ_PLZ_20260506_0730_505067
DTSTAMP:20260506T073000
DTSTART:20260506T073000
DTEND:20260506T090000
SUMMARY:Algebra liniowa i geometria analityczna/Linear Algebra and Analytic Geometry (W): 11ID-SP
CATEGORIES:W
LOCATION:207 A-29
DESCRIPTION:<a href="https://classroom.google.com/c/ODQ5NzMyNTc1NDk1">Google Classroom</a> 
END:VEVENT
BEGIN:VEVENT
UID:UZ_PLZ_20260506_0915_504985
DTSTAMP:20260506T091500
DTSTART:20260506T091500
DTEND:20260506T104500
SUMMARY:Algebra liniowa i geometria analityczna/Linear Algebra and Analytic Geometry (Ć): 11ID-SP
CATEGORIES:Ć
LOCATION:214 A-29
END:VEVENT
BEGIN:VEVENT
UID:UZ_PLZ_20260506_1100_506755
DTSTAMP:20260506T110000
DTSTART:20260506T110000
DTEND:20260506T123000
SUMMARY:Posiedzenie Rady Dyscypliny (I)
CATEGORIES:I
END:VEVENT
BEGIN:VEVENT
UID:UZ_PLZ_20260506_1245_506748
DTSTAMP:20260506T124500
DTSTART:20260506T124500
DTEND:20260506T141500
SUMMARY:Dyżur pracowniczy (I)
CATEGORIES:I
END:VEVENT
BEGIN:VEVENT
UID:UZ_PLZ_20260507_1100_506802
DTSTAMP:20260507T110000
DTSTART:20260507T110000
DTEND:20260507T123000
SUMMARY:Seminarium zakładowe (I)
CATEGORIES:I
LOCATION:219 A-29
END:VEVENT
BEGIN:VEVENT
UID:UZ_PLZ_20260507_1245_508500
DTSTAMP:20260507T124500
DTSTART:20260507T124500
DTEND:20260507T141500
SUMMARY:Rezerwacja (R)
CATEGORIES:R
END:VEVENT
BEGIN:VEVENT
UID:UZ_PLZ_20260512_0730_505160
DTSTAMP:20260512T073000
DTSTART:20260512T073000
DTEND:20260512T090000
SUMMARY:Algorithms and Data Structures 1/Algorytmy i struktury danych 1 (W): 11ID-SP
CATEGORIES:W
LOCATION:207 A-29
DESCRIPTION:<a href="https://classroom.google.com/c/ODQ5NzMyNjI0Mzgw">Google Classroom</a> 
END:VEVENT
BEGIN:VEVENT
UID:UZ_PLZ_20260512_0915_505015
DTSTAMP:20260512T091500
DTSTART:20260512T091500
DTEND:20260512T104500
SUMMARY:Algorithms and Data Structures 1/Algorytmy i struktury danych 1 (L): 11ID-SP/ B
CATEGORIES:L
LOCATION:112 A-29
END:VEVENT
BEGIN:VEVENT
UID:UZ_PLZ_20260512_1100_505068
DTSTAMP:20260512T110000
DTSTART:20260512T110000
DTEND:20260512T123000
SUMMARY:Algorithms and Data Structures 1/Algorytmy i struktury danych 1 (L): 11ID-SP/ A
CATEGORIES:L
LOCATION:205 A-29
END:VEVENT
BEGIN:VEVENT
UID:UZ_PLZ_20260512_1245_507441
DTSTAMP:20260512T124500
DTSTART:20260512T124500
DTEND:20260512T141500
SUMMARY:Konsultacje (I)
CATEGORIES:I
LOCATION:414 A-29
END:VEVENT
BEGIN:VEVENT
UID:UZ_PLZ_20260513_0730_505067
DTSTAMP:20260513T073000
DTSTART:20260513T073000
DTEND:20260513T090000
SUMMARY:Algebra liniowa i geometria analityczna/Linear Algebra and Analytic Geometry (W): 11ID-SP
CATEGORIES:W
LOCATION:207 A-29
DESCRIPTION:<a href="https://classroom.google.com/c/ODQ5NzMyNTc1NDk1">Google Classroom</a> 
END:VEVENT
BEGIN:VEVENT
UID:UZ_PLZ_20260513_0915_504985
DTSTAMP:20260513T091500
DTSTART:20260513T091500
DTEND:20260513T104500
SUMMARY:Algebra liniowa i geometria analityczna/Linear Algebra and Analytic Geometry (Ć): 11ID-SP
CATEGORIES:Ć
LOCATION:214 A-29
END:VEVENT
BEGIN:VEVENT
UID:UZ_PLZ_20260513_1100_506755
DTSTAMP:20260513T110000
DTSTART:20260513T110000
DTEND:20260513T123000
SUMMARY:Posiedzenie Rady Dyscypliny (I)
CATEGORIES:I
END:VEVENT
BEGIN:VEVENT
UID:UZ_PLZ_20260513_1245_506748
DTSTAMP:20260513T124500
DTSTART:20260513T124500
DTEND:20260513T141500
SUMMARY:Dyżur pracowniczy (I)
CATEGORIES:I
END:VEVENT
BEGIN:VEVENT
UID:UZ_PLZ_20260514_1100_506802
DTSTAMP:20260514T110000
DTSTART:20260514T110000
DTEND:20260514T123000
SUMMARY:Seminarium zakładowe (I)
CATEGORIES:I
LOCATION:219 A-29
END:VEVENT
BEGIN:VEVENT
UID:UZ_PLZ_20260519_0730_505160
DTSTAMP:20260519T073000
DTSTART:20260519T073000
DTEND:20260519T090000
SUMMARY:Algorithms and Data Structures 1/Algorytmy i struktury danych 1 (W): 11ID-SP
CATEGORIES:W
LOCATION:207 A-29
DESCRIPTION:<a href="https://classroom.google.com/c/ODQ5NzMyNjI0Mzgw">Google Classroom</a> 
END:VEVENT
BEGIN:VEVENT
UID:UZ_PLZ_20260519_0915_505015
DTSTAMP:20260519T091500
DTSTART:20260519T091500
DTEND:20260519T104500
SUMMARY:Algorithms and Data Structures 1/Algorytmy i struktury danych 1 (L): 11ID-SP/ B
CATEGORIES:L
LOCATION:112 A-29
END:VEVENT
BEGIN:VEVENT
UID:UZ_PLZ_20260519_1100_505068
DTSTAMP:20260519T110000
DTSTART:20260519T110000
DTEND:20260519T123000
SUMMARY:Algorithms and Data Structures 1/Algorytmy i struktury danych 1 (L): 11ID-SP/ A
CATEGORIES:L
LOCATION:205 A-29
END:VEVENT
BEGIN:VEVENT
UID:UZ_PLZ_20260519_1245_507441
DTSTAMP:20260519T124500
DTSTART:20260519T124500
DTEND:20260519T141500
SUMMARY:Konsultacje (I)
CATEGORIES:I
LOCATION:414 A-29
END:VEVENT
BEGIN:VEVENT
UID:UZ_PLZ_20260520_0730_505067
DTSTAMP:20260520T073000
DTSTART:20260520T073000
DTEND:20260520T090000
SUMMARY:Algebra liniowa i geometria analityczna/Linear Algebra and Analytic Geometry (W): 11ID-SP
CATEGORIES:W
LOCATION:207 A-29
DESCRIPTION:<a href="https://classroom.google.com/c/ODQ5NzMyNTc1NDk1">Google Classroom</a> 
END:VEVENT
BEGIN:VEVENT
UID:UZ_PLZ_20260520_0915_504985
DTSTAMP:20260520T091500
DTSTART:20260520T091500
DTEND:20260520T104500
SUMMARY:Algebra liniowa i geometria analityczna/Linear Algebra and Analytic Geometry (Ć): 11ID-SP
CATEGORIES:Ć
LOCATION:214 A-29
END:VEVENT
BEGIN:VEVENT
UID:UZ_PLZ_20260520_1100_506755
DTSTAMP:20260520T110000
DTSTART:20260520T110000
DTEND:20260520T123000
SUMMARY:Posiedzenie Rady Dyscypliny (I)
CATEGORIES:I
END:VEVENT
BEGIN:VEVENT
UID:UZ_PLZ_20260520_1245_506748
DTSTAMP:20260520T124500
DTSTART:20260520T124500
DTEND:20260520T141500
SUMMARY:Dyżur pracowniczy (I)
CATEGORIES:I
END:VEVENT
BEGIN:VEVENT
UID:UZ_PLZ_20260521_1100_506802
DTSTAMP:20260521T110000
DTSTART:20260521T110000
DTEND:20260521T123000
SUMMARY:Seminarium zakładowe (I)
CATEGORIES:I
LOCATION:219 A-29
END:VEVENT
BEGIN:VEVENT
UID:UZ_PLZ_20260526_0730_505160
DTSTAMP:20260526T073000
DTSTART:20260526T073000
DTEND:20260526T090000
SUMMARY:Algorithms and Data Structures 1/Algorytmy i struktury danych 1 (W): 11ID-SP
CATEGORIES:W
LOCATION:207 A-29
DESCRIPTION:<a href="https://classroom.google.com/c/ODQ5NzMyNjI0Mzgw">Google Classroom</a> 
END:VEVENT
BEGIN:VEVENT
UID:UZ_PLZ_20260526_0915_505015
DTSTAMP:20260526T091500
DTSTART:20260526T091500
DTEND:20260526T104500
SUMMARY:Algorithms and Data Structures 1/Algorytmy i struktury danych 1 (L): 11ID-SP/ B
CATEGORIES:L
LOCATION:112 A-29
END:VEVENT
BEGIN:VEVENT
UID:UZ_PLZ_20260526_1100_505068
DTSTAMP:20260526T110000
DTSTART:20260526T110000
DTEND:20260526T123000
SUMMARY:Algorithms and Data Structures 1/Algorytmy i struktury danych 1 (L): 11ID-SP/ A
CATEGORIES:L
LOCATION:205 A-29
END:VEVENT
BEGIN:VEVENT
UID:UZ_PLZ_20260526_1245_507441
DTSTAMP:20260526T124500
DTSTART:20260526T124500
DTEND:20260526T141500
SUMMARY:Konsultacje (I)
CATEGORIES:I
LOCATION:414 A-29
END:VEVENT
BEGIN:VEVENT
UID:UZ_PLZ_20260527_0730_505067
DTSTAMP:20260527T073000
DTSTART:20260527T073000
DTEND:20260527T090000
SUMMARY:Algebra liniowa i geometria analityczna/Linear Algebra and Analytic Geometry (W): 11ID-SP
CATEGORIES:W
LOCATION:207 A-29
DESCRIPTION:<a href="https://classroom.google.com/c/ODQ5NzMyNTc1NDk1">Google Classroom</a> 
END:VEVENT
BEGIN:VEVENT
UID:UZ_PLZ_20260527_0915_504985
DTSTAMP:20260527T091500
DTSTART:20260527T091500
DTEND:20260527T104500
SUMMARY:Algebra liniowa i geometria analityczna/Linear Algebra and Analytic Geometry (Ć): 11ID-SP
CATEGORIES:Ć
LOCATION:214 A-29
END:VEVENT
BEGIN:VEVENT
UID:UZ_PLZ_20260527_1100_506755
DTSTAMP:20260527T110000
DTSTART:20260527T110000
DTEND:20260527T123000
SUMMARY:Posiedzenie Rady Dyscypliny (I)
CATEGORIES:I
END:VEVENT
BEGIN:VEVENT
UID:UZ_PLZ_20260527_1245_506748
DTSTAMP:20260527T124500
DTSTART:20260527T124500
DTEND:20260527T141500
SUMMARY:Dyżur pracowniczy (I)
CATEGORIES:I
END:VEVENT
BEGIN:VEVENT
UID:UZ_PLZ_20260528_1100_506802
DTSTAMP:20260528T110000
DTSTART:20260528T110000
DTEND:20260528T123000
SUMMARY:Seminarium zakładowe (I)
CATEGORIES:I
LOCATION:219 A-29
END:VEVENT
BEGIN:VEVENT
UID:UZ_PLZ_20260602_0730_505160
DTSTAMP:20260602T073000
DTSTART:20260602T073000
DTEND:20260602T090000
SUMMARY:Algorithms and Data Structures 1/Algorytmy i struktury danych 1 (W): 11ID-SP
CATEGORIES:W
LOCATION:207 A-29
DESCRIPTION:<a href="https://classroom.google.com/c/ODQ5NzMyNjI0Mzgw">Google Classroom</a> 
END:VEVENT
BEGIN:VEVENT
UID:UZ_PLZ_20260602_0915_505015
DTSTAMP:20260602T091500
DTSTART:20260602T091500
DTEND:20260602T104500
SUMMARY:Algorithms and Data Structures 1/Algorytmy i struktury danych 1 (L): 11ID-SP/ B
CATEGORIES:L
LOCATION:112 A-29
END:VEVENT
BEGIN:VEVENT
UID:UZ_PLZ_20260602_1100_505068
DTSTAMP:20260602T110000
DTSTART:20260602T110000
DTEND:20260602T123000
SUMMARY:Algorithms and Data Structures 1/Algorytmy i struktury danych 1 (L): 11ID-SP/ A
CATEGORIES:L
LOCATION:205 A-29
END:VEVENT
BEGIN:VEVENT
UID:UZ_PLZ_20260602_1245_507441
DTSTAMP:20260602T124500
DTSTART:20260602T124500
DTEND:20260602T141500
SUMMARY:Konsultacje (I)
CATEGORIES:I
LOCATION:414 A-29
END:VEVENT
BEGIN:VEVENT
UID:UZ_PLZ_20260603_0730_505067
DTSTAMP:20260603T073000
DTSTART:20260603T073000
DTEND:20260603T090000
SUMMARY:Algebra liniowa i geometria analityczna/Linear Algebra and Analytic Geometry (W): 11ID-SP
CATEGORIES:W
LOCATION:207 A-29
DESCRIPTION:<a href="https://classroom.google.com/c/ODQ5NzMyNTc1NDk1">Google Classroom</a> 
END:VEVENT
BEGIN:VEVENT
UID:UZ_PLZ_20260603_0915_504985
DTSTAMP:20260603T091500
DTSTART:20260603T091500
DTEND:20260603T104500
SUMMARY:Algebra liniowa i geometria analityczna/Linear Algebra and Analytic Geometry (Ć): 11ID-SP
CATEGORIES:Ć
LOCATION:214 A-29
END:VEVENT
BEGIN:VEVENT
UID:UZ_PLZ_20260603_1100_506755
DTSTAMP:20260603T110000
DTSTART:20260603T110000
DTEND:20260603T123000
SUMMARY:Posiedzenie Rady Dyscypliny (I)
CATEGORIES:I
END:VEVENT
BEGIN:VEVENT
UID:UZ_PLZ_20260603_1245_506748
DTSTAMP:20260603T124500
DTSTART:20260603T124500
DTEND:20260603T141500
SUMMARY:Dyżur pracowniczy (I)
CATEGORIES:I
END:VEVENT
BEGIN:VEVENT
UID:UZ_PLZ_20260609_0730_505160
DTSTAMP:20260609T073000
DTSTART:20260609T073000
DTEND:20260609T090000
SUMMARY:Algorithms and Data Structures 1/Algorytmy i struktury danych 1 (W): 11ID-SP
CATEGORIES:W
LOCATION:207 A-29
DESCRIPTION:<a href="https://classroom.google.com/c/ODQ5NzMyNjI0Mzgw">Google Classroom</a> 
END:VEVENT
BEGIN:VEVENT
UID:UZ_PLZ_20260609_0915_505015
DTSTAMP:20260609T091500
DTSTART:20260609T091500
DTEND:20260609T104500
SUMMARY:Algorithms and Data Structures 1/Algorytmy i struktury danych 1 (L): 11ID-SP/ B
CATEGORIES:L
LOCATION:112 A-29
END:VEVENT
BEGIN:VEVENT
UID:UZ_PLZ_20260609_1100_505068
DTSTAMP:20260609T110000
DTSTART:20260609T110000
DTEND:20260609T123000
SUMMARY:Algorithms and Data Structures 1/Algorytmy i struktury danych 1 (L): 11ID-SP/ A
CATEGORIES:L
LOCATION:205 A-29
END:VEVENT
BEGIN:VEVENT
UID:UZ_PLZ_20260609_1245_507441
DTSTAMP:20260609T124500
DTSTART:20260609T124500
DTEND:20260609T141500
SUMMARY:Konsultacje (I)
CATEGORIES:I
LOCATION:414 A-29
END:VEVENT
BEGIN:VEVENT
UID:UZ_PLZ_20260610_0730_505067
DTSTAMP:20260610T073000
DTSTART:20260610T073000
DTEND:20260610T090000
SUMMARY:Algebra liniowa i geometria analityczna/Linear Algebra and Analytic Geometry (W): 11ID-SP
CATEGORIES:W
LOCATION:207 A-29
DESCRIPTION:<a href="https://classroom.google.com/c/ODQ5NzMyNTc1NDk1">Google Classroom</a> 
END:VEVENT
BEGIN:VEVENT
UID:UZ_PLZ_20260610_0915_504985
DTSTAMP:20260610T091500
DTSTART:20260610T091500
DTEND:20260610T104500
SUMMARY:Algebra liniowa i geometria analityczna/Linear Algebra and Analytic Geometry (Ć): 11ID-SP
CATEGORIES:Ć
LOCATION:214 A-29
END:VEVENT
BEGIN:VEVENT
UID:UZ_PLZ_20260610_1100_506755
DTSTAMP:20260610T110000
DTSTART:20260610T110000
DTEND:20260610T123000
SUMMARY:Posiedzenie Rady Dyscypliny (I)
CATEGORIES:I
END:VEVENT
BEGIN:VEVENT
UID:UZ_PLZ_20260610_1245_506748
DTSTAMP:20260610T124500
DTSTART:20260610T124500
DTEND:20260610T141500
SUMMARY:Dyżur pracowniczy (I)
CATEGORIES:I
END:VEVENT
BEGIN:VEVENT
UID:UZ_PLZ_20260611_1100_506802
DTSTAMP:20260611T110000
DTSTART:20260611T110000
DTEND:20260611T123000
SUMMARY:Seminarium zakładowe (I)
CATEGORIES:I
LOCATION:219 A-29
END:VEVENT
BEGIN:VEVENT
UID:UZ_PLZ_20260616_0730_505160
DTSTAMP:20260616T073000
DTSTART:20260616T073000
DTEND:20260616T090000
SUMMARY:Algorithms and Data Structures 1/Algorytmy i struktury danych 1 (W): 11ID-SP
CATEGORIES:W
LOCATION:207 A-29
DESCRIPTION:<a href="https://classroom.google.com/c/ODQ5NzMyNjI0Mzgw">Google Classroom</a> 
END:VEVENT
BEGIN:VEVENT
UID:UZ_PLZ_20260616_0915_505015
DTSTAMP:20260616T091500
DTSTART:20260616T091500
DTEND:20260616T104500
SUMMARY:Algorithms and Data Structures 1/Algorytmy i struktury danych 1 (L): 11ID-SP/ B
CATEGORIES:L
LOCATION:112 A-29
END:VEVENT
BEGIN:VEVENT
UID:UZ_PLZ_20260616_1100_505068
DTSTAMP:20260616T110000
DTSTART:20260616T110000
DTEND:20260616T123000
SUMMARY:Algorithms and Data Structures 1/Algorytmy i struktury danych 1 (L): 11ID-SP/ A
CATEGORIES:L
LOCATION:205 A-29
END:VEVENT
BEGIN:VEVENT
UID:UZ_PLZ_20260616_1245_507441
DTSTAMP:20260616T124500
DTSTART:20260616T124500
DTEND:20260616T141500
SUMMARY:Konsultacje (I)
CATEGORIES:I
LOCATION:414 A-29
END:VEVENT
BEGIN:VEVENT
UID:UZ_PLZ_20260617_0730_505067
DTSTAMP:20260617T073000
DTSTART:20260617T073000
DTEND:20260617T090000
SUMMARY:Algebra liniowa i geometria analityczna/Linear Algebra and Analytic Geometry (W): 11ID-SP
CATEGORIES:W
LOCATION:207 A-29
DESCRIPTION:<a href="https://classroom.google.com/c/ODQ5NzMyNTc1NDk1">Google Classroom</a> 
END:VEVENT
BEGIN:VEVENT
UID:UZ_PLZ_20260617_0915_504985
DTSTAMP:20260617T091500
DTSTART:20260617T091500
DTEND:20260617T104500
SUMMARY:Algebra liniowa i geometria analityczna/Linear Algebra and Analytic Geometry (Ć): 11ID-SP
CATEGORIES:Ć
LOCATION:214 A-29
END:VEVENT
BEGIN:VEVENT
UID:UZ_PLZ_20260617_1100_506755
DTSTAMP:20260617T110000
DTSTART:20260617T110000
DTEND:20260617T123000
SUMMARY:Posiedzenie Rady Dyscypliny (I)
CATEGORIES:I
END:VEVENT
BEGIN:VEVENT
UID:UZ_PLZ_20260617_1245_506748
DTSTAMP:20260617T124500
DTSTART:20260617T124500
DTEND:20260617T141500
SUMMARY:Dyżur pracowniczy (I)
CATEGORIES:I
END:VEVENT
BEGIN:VEVENT
UID:UZ_PLZ_20260618_1100_506802
DTSTAMP:20260618T110000
DTSTART:20260618T110000
DTEND:20260618T123000
SUMMARY:Seminarium zakładowe (I)
CATEGORIES:I
LOCATION:219 A-29
END:VEVENT
BEGIN:VEVENT
UID:UZ_PLZ_20260622_1000_508692
DTSTAMP:20260622T100000
DTSTART:20260622T100000
DTEND:20260622T140000
SUMMARY:Algorithms and Data Structures 1/Algorytmy i struktury danych 1 (E): 11ID-SP
CATEGORIES:E
LOCATION:204 A-29
END:VEVENT
BEGIN:VEVENT
UID:UZ_PLZ_20260625_1000_508691
DTSTAMP:20260625T100000
DTSTART:20260625T100000
DTEND:20260625T130000
SUMMARY:Algebra liniowa i geometria analityczna/Linear Algebra and Analytic Geometry (E): 11ID-SP
CATEGORIES:E
LOCATION:202 A-29
END:VEVENT
BEGIN:VEVENT
UID:UZ_PLZ_20260901_1000_508692
DTSTAMP:20260901T100000
DTSTART:20260901T100000
DTEND:20260901T130000
SUMMARY:Algorithms and Data Structures 1/Algorytmy i struktury danych 1 (E): 11ID-SP
CATEGORIES:E
LOCATION:204 A-29
END:VEVENT
BEGIN:VEVENT
UID:UZ_PLZ_20260904_1000_508691
DTSTAMP:20260904T100000
DTSTART:20260904T100000
DTEND:20260904T130000
SUMMARY:Algebra liniowa i geometria analityczna/Linear Algebra and Analytic Geometry (E): 11ID-SP
CATEGORIES:E
LOCATION:202 A-29
END:VEVENT
END:VCALENDAR
