BEGIN:VCALENDAR
TZID:Europe/Warsaw
X-WR-TIMEZONE:Europe/Warsaw
VERSION:2.0
PRODID:-//Uniwersytet Zielonogórski//NONSGML Plan zajęć v1.0//EN
NAME:Plan zajęć - semestr letni 2025/2026
X-WR-CALNAME:Plan zajęć - semestr letni 2025/2026
COLOR:green
CALSCALE:GREGORIAN
BEGIN:VEVENT
UID:UZ_PLZ_20260425_0740_499152
DTSTAMP:20260425T074000
DTSTART:20260425T074000
DTEND:20260425T090000
SUMMARY:Handel i finanse międzynarodowe (W): 21FiR-FB-NP\; 22FiR-RPG-NP
CATEGORIES:W
LOCATION:115 A-29
END:VEVENT
BEGIN:VEVENT
UID:UZ_PLZ_20260425_0915_499121
DTSTAMP:20260425T091500
DTSTART:20260425T091500
DTEND:20260425T103500
SUMMARY:Analiza decyzyjna (W): 11FiR-ARF-ND
CATEGORIES:W
LOCATION:02a C-2
ATTACH:https://classroom.google.com/c/ODQ5ODYyODM1NDQw
END:VEVENT
BEGIN:VEVENT
UID:UZ_PLZ_20260425_1245_499181
DTSTAMP:20260425T124500
DTSTART:20260425T124500
DTEND:20260425T141500
SUMMARY:Przedmiot fakultatywny (Ć): 31EK-NP
CATEGORIES:Ć
LOCATION:03b A-0
END:VEVENT
BEGIN:VEVENT
UID:UZ_PLZ_20260425_1615_499104
DTSTAMP:20260425T161500
DTSTART:20260425T161500
DTEND:20260425T173500
SUMMARY:Handel i finanse międzynarodowe (Ć): 21FiR-FB-NP
CATEGORIES:Ć
LOCATION:F6 A-0
ATTACH:https://classroom.google.com/c/ODUwMzQyMzYzNjM1
END:VEVENT
BEGIN:VEVENT
UID:UZ_PLZ_20260425_1800_499053
DTSTAMP:20260425T180000
DTSTART:20260425T180000
DTEND:20260425T192000
SUMMARY:Handel i finanse międzynarodowe (Ć): 22FiR-RPG-NP
CATEGORIES:Ć
LOCATION:F6 A-0
ATTACH:https://classroom.google.com/c/ODUwMzQzMTc0MDM3
END:VEVENT
BEGIN:VEVENT
UID:UZ_PLZ_20260426_0925_499045
DTSTAMP:20260426T092500
DTSTART:20260426T092500
DTEND:20260426T104500
SUMMARY:Analiza międzynarodowych przepływów kapitałowych (W): 11EK-NP
CATEGORIES:W
LOCATION:110/110a A-0
ATTACH:https://classroom.google.com/c/ODUwNDAwMjA4ODUw
END:VEVENT
BEGIN:VEVENT
UID:UZ_PLZ_20260426_1100_499145
DTSTAMP:20260426T110000
DTSTART:20260426T110000
DTEND:20260426T122000
SUMMARY:Analiza międzynarodowych przepływów kapitałowych (P): 11EK-NP
CATEGORIES:P
LOCATION:110/110a A-0
END:VEVENT
BEGIN:VEVENT
UID:UZ_PLZ_20260427_1100_498880
DTSTAMP:20260427T110000
DTSTART:20260427T110000
DTEND:20260427T123000
SUMMARY:Przedmiot fakultatywny (Ć): 31EK-SP
CATEGORIES:Ć
LOCATION:223 A-29
ATTACH:https://classroom.google.com/c/ODQ3MTE3NTY2NTY5
END:VEVENT
BEGIN:VEVENT
UID:UZ_PLZ_20260427_1430_499015
DTSTAMP:20260427T143000
DTSTART:20260427T143000
DTEND:20260427T160000
SUMMARY:Przedmiot fakultatywny (Ć): 32EK-SP
CATEGORIES:Ć
LOCATION:223 A-29
ATTACH:https://classroom.google.com/c/ODQ3MTEzNzc5NTMw
END:VEVENT
BEGIN:VEVENT
UID:UZ_PLZ_20260430_0915_498897
DTSTAMP:20260430T091500
DTSTART:20260430T091500
DTEND:20260430T104000
SUMMARY:Handel i finanse międzynarodowe (W): 21FiR-FB-SP\; 22FiR-RPG-SP
CATEGORIES:W
LOCATION:1 C-2
END:VEVENT
BEGIN:VEVENT
UID:UZ_PLZ_20260430_1100_498912
DTSTAMP:20260430T110000
DTSTART:20260430T110000
DTEND:20260430T122500
SUMMARY:Analiza decyzyjna (W): 11FiR-ARF-SD
CATEGORIES:W
LOCATION:1 C-2
ATTACH:https://classroom.google.com/c/Nzk2MzkwNTY2OTY2
END:VEVENT
BEGIN:VEVENT
UID:UZ_PLZ_20260430_1245_498980
DTSTAMP:20260430T124500
DTSTART:20260430T124500
DTEND:20260430T141000
SUMMARY:Handel i finanse międzynarodowe (Ć): 21FiR-FB-SP
CATEGORIES:Ć
LOCATION:1 C-2
ATTACH:https://classroom.google.com/c/Nzk0MTQ0NjcyMDM0
END:VEVENT
BEGIN:VEVENT
UID:UZ_PLZ_20260504_1100_498880
DTSTAMP:20260504T110000
DTSTART:20260504T110000
DTEND:20260504T123000
SUMMARY:Przedmiot fakultatywny (Ć): 31EK-SP
CATEGORIES:Ć
LOCATION:223 A-29
ATTACH:https://classroom.google.com/c/ODQ3MTE3NTY2NTY5
END:VEVENT
BEGIN:VEVENT
UID:UZ_PLZ_20260504_1245_498929
DTSTAMP:20260504T124500
DTSTART:20260504T124500
DTEND:20260504T142000
SUMMARY:Przedmiot fakultatywny (W): 31EK-SP\; 32EK-SP
CATEGORIES:W
LOCATION:3 A-29
END:VEVENT
BEGIN:VEVENT
UID:UZ_PLZ_20260504_1430_499015
DTSTAMP:20260504T143000
DTSTART:20260504T143000
DTEND:20260504T160000
SUMMARY:Przedmiot fakultatywny (Ć): 32EK-SP
CATEGORIES:Ć
LOCATION:223 A-29
ATTACH:https://classroom.google.com/c/ODQ3MTEzNzc5NTMw
END:VEVENT
BEGIN:VEVENT
UID:UZ_PLZ_20260506_1245_498978
DTSTAMP:20260506T124500
DTSTART:20260506T124500
DTEND:20260506T141500
SUMMARY:Ekonomia międzynarodowa (Ć): 11EK-RDF-SD
CATEGORIES:Ć
LOCATION:123 A-29
END:VEVENT
BEGIN:VEVENT
UID:UZ_PLZ_20260507_1100_498834
DTSTAMP:20260507T110000
DTSTART:20260507T110000
DTEND:20260507T123500
SUMMARY:Handel i finanse międzynarodowe (Ć): 22FiR-RPG-SP
CATEGORIES:Ć
LOCATION:1 C-2
ATTACH:https://classroom.google.com/c/ODQ3MTE3Nzg3ODMw
END:VEVENT
BEGIN:VEVENT
UID:UZ_PLZ_20260507_1245_498892
DTSTAMP:20260507T124500
DTSTART:20260507T124500
DTEND:20260507T142000
SUMMARY:Analiza międzynarodowych przepływów kapitałowych (W): 11EK-SP
CATEGORIES:W
LOCATION:216 A-29
ATTACH:https://classroom.google.com/c/ODQ5ODU4NDIwODI5
END:VEVENT
BEGIN:VEVENT
UID:UZ_PLZ_20260507_1430_498913
DTSTAMP:20260507T143000
DTSTART:20260507T143000
DTEND:20260507T160500
SUMMARY:Analiza międzynarodowych przepływów kapitałowych (P): 11EK-SP
CATEGORIES:P
LOCATION:214 A-29
END:VEVENT
BEGIN:VEVENT
UID:UZ_PLZ_20260507_1800_498889
DTSTAMP:20260507T180000
DTSTART:20260507T180000
DTEND:20260507T193500
SUMMARY:Wykład monograficzny specjalnościowy - Rachunkowość i doradztwo finansowe (W): 22EK-RDF-SD
CATEGORIES:W
LOCATION:123 A-29
ATTACH:https://classroom.google.com/c/ODUxMzI4NjU4MTUx
END:VEVENT
BEGIN:VEVENT
UID:UZ_PLZ_20260509_0915_499182
DTSTAMP:20260509T091500
DTSTART:20260509T091500
DTEND:20260509T105500
SUMMARY:Przedmiot fakultatywny (W): 31EK-NP
CATEGORIES:W
LOCATION:02a C-2
ATTACH:https://classroom.google.com/c/ODQ5ODU5Njc3ODUz
END:VEVENT
BEGIN:VEVENT
UID:UZ_PLZ_20260509_1245_499181
DTSTAMP:20260509T124500
DTSTART:20260509T124500
DTEND:20260509T141500
SUMMARY:Przedmiot fakultatywny (Ć): 31EK-NP
CATEGORIES:Ć
LOCATION:03b A-0
END:VEVENT
BEGIN:VEVENT
UID:UZ_PLZ_20260511_1100_498880
DTSTAMP:20260511T110000
DTSTART:20260511T110000
DTEND:20260511T123000
SUMMARY:Przedmiot fakultatywny (Ć): 31EK-SP
CATEGORIES:Ć
LOCATION:223 A-29
ATTACH:https://classroom.google.com/c/ODQ3MTE3NTY2NTY5
END:VEVENT
BEGIN:VEVENT
UID:UZ_PLZ_20260511_1430_499015
DTSTAMP:20260511T143000
DTSTART:20260511T143000
DTEND:20260511T160000
SUMMARY:Przedmiot fakultatywny (Ć): 32EK-SP
CATEGORIES:Ć
LOCATION:223 A-29
ATTACH:https://classroom.google.com/c/ODQ3MTEzNzc5NTMw
END:VEVENT
BEGIN:VEVENT
UID:UZ_PLZ_20260513_1100_498866
DTSTAMP:20260513T110000
DTSTART:20260513T110000
DTEND:20260513T122500
SUMMARY:Ekonomia międzynarodowa (W): 11EK-RDF-SD
CATEGORIES:W
LOCATION:123 A-29
ATTACH:https://classroom.google.com/c/ODQ3MTE4MTM1Nzc5
END:VEVENT
BEGIN:VEVENT
UID:UZ_PLZ_20260513_1245_498978
DTSTAMP:20260513T124500
DTSTART:20260513T124500
DTEND:20260513T141500
SUMMARY:Ekonomia międzynarodowa (Ć): 11EK-RDF-SD
CATEGORIES:Ć
LOCATION:123 A-29
END:VEVENT
BEGIN:VEVENT
UID:UZ_PLZ_20260514_0915_498897
DTSTAMP:20260514T091500
DTSTART:20260514T091500
DTEND:20260514T104000
SUMMARY:Handel i finanse międzynarodowe (W): 21FiR-FB-SP\; 22FiR-RPG-SP
CATEGORIES:W
LOCATION:1 C-2
END:VEVENT
BEGIN:VEVENT
UID:UZ_PLZ_20260514_1100_498912
DTSTAMP:20260514T110000
DTSTART:20260514T110000
DTEND:20260514T122500
SUMMARY:Analiza decyzyjna (W): 11FiR-ARF-SD
CATEGORIES:W
LOCATION:1 C-2
ATTACH:https://classroom.google.com/c/Nzk2MzkwNTY2OTY2
END:VEVENT
BEGIN:VEVENT
UID:UZ_PLZ_20260514_1245_498980
DTSTAMP:20260514T124500
DTSTART:20260514T124500
DTEND:20260514T141000
SUMMARY:Handel i finanse międzynarodowe (Ć): 21FiR-FB-SP
CATEGORIES:Ć
LOCATION:1 C-2
ATTACH:https://classroom.google.com/c/Nzk0MTQ0NjcyMDM0
END:VEVENT
BEGIN:VEVENT
UID:UZ_PLZ_20260516_0740_499152
DTSTAMP:20260516T074000
DTSTART:20260516T074000
DTEND:20260516T090000
SUMMARY:Handel i finanse międzynarodowe (W): 21FiR-FB-NP\; 22FiR-RPG-NP
CATEGORIES:W
LOCATION:115 A-29
END:VEVENT
BEGIN:VEVENT
UID:UZ_PLZ_20260516_0915_499121
DTSTAMP:20260516T091500
DTSTART:20260516T091500
DTEND:20260516T103500
SUMMARY:Analiza decyzyjna (W): 11FiR-ARF-ND
CATEGORIES:W
LOCATION:02a C-2
ATTACH:https://classroom.google.com/c/ODQ5ODYyODM1NDQw
END:VEVENT
BEGIN:VEVENT
UID:UZ_PLZ_20260516_1245_499181
DTSTAMP:20260516T124500
DTSTART:20260516T124500
DTEND:20260516T141500
SUMMARY:Przedmiot fakultatywny (Ć): 31EK-NP
CATEGORIES:Ć
LOCATION:03b A-0
END:VEVENT
BEGIN:VEVENT
UID:UZ_PLZ_20260516_1615_499104
DTSTAMP:20260516T161500
DTSTART:20260516T161500
DTEND:20260516T173500
SUMMARY:Handel i finanse międzynarodowe (Ć): 21FiR-FB-NP
CATEGORIES:Ć
LOCATION:F6 A-0
ATTACH:https://classroom.google.com/c/ODUwMzQyMzYzNjM1
END:VEVENT
BEGIN:VEVENT
UID:UZ_PLZ_20260516_1800_499053
DTSTAMP:20260516T180000
DTSTART:20260516T180000
DTEND:20260516T192000
SUMMARY:Handel i finanse międzynarodowe (Ć): 22FiR-RPG-NP
CATEGORIES:Ć
LOCATION:F6 A-0
ATTACH:https://classroom.google.com/c/ODUwMzQzMTc0MDM3
END:VEVENT
BEGIN:VEVENT
UID:UZ_PLZ_20260517_0925_499045
DTSTAMP:20260517T092500
DTSTART:20260517T092500
DTEND:20260517T104500
SUMMARY:Analiza międzynarodowych przepływów kapitałowych (W): 11EK-NP
CATEGORIES:W
LOCATION:110/110a A-0
ATTACH:https://classroom.google.com/c/ODUwNDAwMjA4ODUw
END:VEVENT
BEGIN:VEVENT
UID:UZ_PLZ_20260517_1100_499145
DTSTAMP:20260517T110000
DTSTART:20260517T110000
DTEND:20260517T122000
SUMMARY:Analiza międzynarodowych przepływów kapitałowych (P): 11EK-NP
CATEGORIES:P
LOCATION:110/110a A-0
END:VEVENT
BEGIN:VEVENT
UID:UZ_PLZ_20260518_1100_498880
DTSTAMP:20260518T110000
DTSTART:20260518T110000
DTEND:20260518T123000
SUMMARY:Przedmiot fakultatywny (Ć): 31EK-SP
CATEGORIES:Ć
LOCATION:223 A-29
ATTACH:https://classroom.google.com/c/ODQ3MTE3NTY2NTY5
END:VEVENT
BEGIN:VEVENT
UID:UZ_PLZ_20260518_1245_498929
DTSTAMP:20260518T124500
DTSTART:20260518T124500
DTEND:20260518T142000
SUMMARY:Przedmiot fakultatywny (W): 31EK-SP\; 32EK-SP
CATEGORIES:W
LOCATION:3 A-29
END:VEVENT
BEGIN:VEVENT
UID:UZ_PLZ_20260518_1430_499015
DTSTAMP:20260518T143000
DTSTART:20260518T143000
DTEND:20260518T160000
SUMMARY:Przedmiot fakultatywny (Ć): 32EK-SP
CATEGORIES:Ć
LOCATION:223 A-29
ATTACH:https://classroom.google.com/c/ODQ3MTEzNzc5NTMw
END:VEVENT
BEGIN:VEVENT
UID:UZ_PLZ_20260520_1245_498978
DTSTAMP:20260520T124500
DTSTART:20260520T124500
DTEND:20260520T141500
SUMMARY:Ekonomia międzynarodowa (Ć): 11EK-RDF-SD
CATEGORIES:Ć
LOCATION:123 A-29
END:VEVENT
BEGIN:VEVENT
UID:UZ_PLZ_20260521_1100_498834
DTSTAMP:20260521T110000
DTSTART:20260521T110000
DTEND:20260521T123500
SUMMARY:Handel i finanse międzynarodowe (Ć): 22FiR-RPG-SP
CATEGORIES:Ć
LOCATION:1 C-2
ATTACH:https://classroom.google.com/c/ODQ3MTE3Nzg3ODMw
END:VEVENT
BEGIN:VEVENT
UID:UZ_PLZ_20260521_1245_498892
DTSTAMP:20260521T124500
DTSTART:20260521T124500
DTEND:20260521T142000
SUMMARY:Analiza międzynarodowych przepływów kapitałowych (W): 11EK-SP
CATEGORIES:W
LOCATION:216 A-29
ATTACH:https://classroom.google.com/c/ODQ5ODU4NDIwODI5
END:VEVENT
BEGIN:VEVENT
UID:UZ_PLZ_20260521_1430_498913
DTSTAMP:20260521T143000
DTSTART:20260521T143000
DTEND:20260521T160500
SUMMARY:Analiza międzynarodowych przepływów kapitałowych (P): 11EK-SP
CATEGORIES:P
LOCATION:214 A-29
END:VEVENT
BEGIN:VEVENT
UID:UZ_PLZ_20260521_1800_498889
DTSTAMP:20260521T180000
DTSTART:20260521T180000
DTEND:20260521T193500
SUMMARY:Wykład monograficzny specjalnościowy - Rachunkowość i doradztwo finansowe (W): 22EK-RDF-SD
CATEGORIES:W
LOCATION:123 A-29
ATTACH:https://classroom.google.com/c/ODUxMzI4NjU4MTUx
END:VEVENT
BEGIN:VEVENT
UID:UZ_PLZ_20260525_1100_498880
DTSTAMP:20260525T110000
DTSTART:20260525T110000
DTEND:20260525T123000
SUMMARY:Przedmiot fakultatywny (Ć): 31EK-SP
CATEGORIES:Ć
LOCATION:223 A-29
ATTACH:https://classroom.google.com/c/ODQ3MTE3NTY2NTY5
END:VEVENT
BEGIN:VEVENT
UID:UZ_PLZ_20260525_1430_499015
DTSTAMP:20260525T143000
DTSTART:20260525T143000
DTEND:20260525T160000
SUMMARY:Przedmiot fakultatywny (Ć): 32EK-SP
CATEGORIES:Ć
LOCATION:223 A-29
ATTACH:https://classroom.google.com/c/ODQ3MTEzNzc5NTMw
END:VEVENT
BEGIN:VEVENT
UID:UZ_PLZ_20260527_1100_498866
DTSTAMP:20260527T110000
DTSTART:20260527T110000
DTEND:20260527T122500
SUMMARY:Ekonomia międzynarodowa (W): 11EK-RDF-SD
CATEGORIES:W
LOCATION:123 A-29
ATTACH:https://classroom.google.com/c/ODQ3MTE4MTM1Nzc5
END:VEVENT
BEGIN:VEVENT
UID:UZ_PLZ_20260527_1245_498978
DTSTAMP:20260527T124500
DTSTART:20260527T124500
DTEND:20260527T141500
SUMMARY:Ekonomia międzynarodowa (Ć): 11EK-RDF-SD
CATEGORIES:Ć
LOCATION:123 A-29
END:VEVENT
BEGIN:VEVENT
UID:UZ_PLZ_20260528_0915_498897
DTSTAMP:20260528T091500
DTSTART:20260528T091500
DTEND:20260528T104000
SUMMARY:Handel i finanse międzynarodowe (W): 21FiR-FB-SP\; 22FiR-RPG-SP
CATEGORIES:W
LOCATION:1 C-2
END:VEVENT
BEGIN:VEVENT
UID:UZ_PLZ_20260528_1100_498912
DTSTAMP:20260528T110000
DTSTART:20260528T110000
DTEND:20260528T122500
SUMMARY:Analiza decyzyjna (W): 11FiR-ARF-SD
CATEGORIES:W
LOCATION:1 C-2
ATTACH:https://classroom.google.com/c/Nzk2MzkwNTY2OTY2
END:VEVENT
BEGIN:VEVENT
UID:UZ_PLZ_20260528_1245_498980
DTSTAMP:20260528T124500
DTSTART:20260528T124500
DTEND:20260528T141000
SUMMARY:Handel i finanse międzynarodowe (Ć): 21FiR-FB-SP
CATEGORIES:Ć
LOCATION:1 C-2
ATTACH:https://classroom.google.com/c/Nzk0MTQ0NjcyMDM0
END:VEVENT
BEGIN:VEVENT
UID:UZ_PLZ_20260530_0915_499182
DTSTAMP:20260530T091500
DTSTART:20260530T091500
DTEND:20260530T105500
SUMMARY:Przedmiot fakultatywny (W): 31EK-NP
CATEGORIES:W
LOCATION:02a C-2
ATTACH:https://classroom.google.com/c/ODQ5ODU5Njc3ODUz
END:VEVENT
BEGIN:VEVENT
UID:UZ_PLZ_20260530_1245_499181
DTSTAMP:20260530T124500
DTSTART:20260530T124500
DTEND:20260530T141500
SUMMARY:Przedmiot fakultatywny (Ć): 31EK-NP
CATEGORIES:Ć
LOCATION:03b A-0
END:VEVENT
BEGIN:VEVENT
UID:UZ_PLZ_20260601_1100_498880
DTSTAMP:20260601T110000
DTSTART:20260601T110000
DTEND:20260601T123000
SUMMARY:Przedmiot fakultatywny (Ć): 31EK-SP
CATEGORIES:Ć
LOCATION:223 A-29
ATTACH:https://classroom.google.com/c/ODQ3MTE3NTY2NTY5
END:VEVENT
BEGIN:VEVENT
UID:UZ_PLZ_20260601_1245_498929
DTSTAMP:20260601T124500
DTSTART:20260601T124500
DTEND:20260601T142000
SUMMARY:Przedmiot fakultatywny (W): 31EK-SP\; 32EK-SP
CATEGORIES:W
LOCATION:3 A-29
END:VEVENT
BEGIN:VEVENT
UID:UZ_PLZ_20260601_1430_499015
DTSTAMP:20260601T143000
DTSTART:20260601T143000
DTEND:20260601T160000
SUMMARY:Przedmiot fakultatywny (Ć): 32EK-SP
CATEGORIES:Ć
LOCATION:223 A-29
ATTACH:https://classroom.google.com/c/ODQ3MTEzNzc5NTMw
END:VEVENT
BEGIN:VEVENT
UID:UZ_PLZ_20260603_1245_498978
DTSTAMP:20260603T124500
DTSTART:20260603T124500
DTEND:20260603T141500
SUMMARY:Ekonomia międzynarodowa (Ć): 11EK-RDF-SD
CATEGORIES:Ć
LOCATION:123 A-29
END:VEVENT
BEGIN:VEVENT
UID:UZ_PLZ_20260608_1100_498880
DTSTAMP:20260608T110000
DTSTART:20260608T110000
DTEND:20260608T123000
SUMMARY:Przedmiot fakultatywny (Ć): 31EK-SP
CATEGORIES:Ć
LOCATION:223 A-29
ATTACH:https://classroom.google.com/c/ODQ3MTE3NTY2NTY5
END:VEVENT
BEGIN:VEVENT
UID:UZ_PLZ_20260608_1430_499015
DTSTAMP:20260608T143000
DTSTART:20260608T143000
DTEND:20260608T160000
SUMMARY:Przedmiot fakultatywny (Ć): 32EK-SP
CATEGORIES:Ć
LOCATION:223 A-29
ATTACH:https://classroom.google.com/c/ODQ3MTEzNzc5NTMw
END:VEVENT
BEGIN:VEVENT
UID:UZ_PLZ_20260610_1100_498866
DTSTAMP:20260610T110000
DTSTART:20260610T110000
DTEND:20260610T122500
SUMMARY:Ekonomia międzynarodowa (W): 11EK-RDF-SD
CATEGORIES:W
LOCATION:123 A-29
ATTACH:https://classroom.google.com/c/ODQ3MTE4MTM1Nzc5
END:VEVENT
BEGIN:VEVENT
UID:UZ_PLZ_20260610_1245_498978
DTSTAMP:20260610T124500
DTSTART:20260610T124500
DTEND:20260610T141500
SUMMARY:Ekonomia międzynarodowa (Ć): 11EK-RDF-SD
CATEGORIES:Ć
LOCATION:123 A-29
END:VEVENT
BEGIN:VEVENT
UID:UZ_PLZ_20260611_0915_498897
DTSTAMP:20260611T091500
DTSTART:20260611T091500
DTEND:20260611T104000
SUMMARY:Handel i finanse międzynarodowe (W): 21FiR-FB-SP\; 22FiR-RPG-SP
CATEGORIES:W
LOCATION:1 C-2
END:VEVENT
BEGIN:VEVENT
UID:UZ_PLZ_20260611_1100_498912
DTSTAMP:20260611T110000
DTSTART:20260611T110000
DTEND:20260611T122500
SUMMARY:Analiza decyzyjna (W): 11FiR-ARF-SD
CATEGORIES:W
LOCATION:1 C-2
ATTACH:https://classroom.google.com/c/Nzk2MzkwNTY2OTY2
END:VEVENT
BEGIN:VEVENT
UID:UZ_PLZ_20260611_1245_498980
DTSTAMP:20260611T124500
DTSTART:20260611T124500
DTEND:20260611T141000
SUMMARY:Handel i finanse międzynarodowe (Ć): 21FiR-FB-SP
CATEGORIES:Ć
LOCATION:1 C-2
ATTACH:https://classroom.google.com/c/Nzk0MTQ0NjcyMDM0
END:VEVENT
BEGIN:VEVENT
UID:UZ_PLZ_20260613_0740_499152
DTSTAMP:20260613T074000
DTSTART:20260613T074000
DTEND:20260613T090000
SUMMARY:Handel i finanse międzynarodowe (W): 21FiR-FB-NP\; 22FiR-RPG-NP
CATEGORIES:W
LOCATION:115 A-29
END:VEVENT
BEGIN:VEVENT
UID:UZ_PLZ_20260613_0915_499121
DTSTAMP:20260613T091500
DTSTART:20260613T091500
DTEND:20260613T103500
SUMMARY:Analiza decyzyjna (W): 11FiR-ARF-ND
CATEGORIES:W
LOCATION:02a C-2
ATTACH:https://classroom.google.com/c/ODQ5ODYyODM1NDQw
END:VEVENT
BEGIN:VEVENT
UID:UZ_PLZ_20260613_1245_499181
DTSTAMP:20260613T124500
DTSTART:20260613T124500
DTEND:20260613T141500
SUMMARY:Przedmiot fakultatywny (Ć): 31EK-NP
CATEGORIES:Ć
LOCATION:03b A-0
END:VEVENT
BEGIN:VEVENT
UID:UZ_PLZ_20260613_1615_499104
DTSTAMP:20260613T161500
DTSTART:20260613T161500
DTEND:20260613T173500
SUMMARY:Handel i finanse międzynarodowe (Ć): 21FiR-FB-NP
CATEGORIES:Ć
LOCATION:F6 A-0
ATTACH:https://classroom.google.com/c/ODUwMzQyMzYzNjM1
END:VEVENT
BEGIN:VEVENT
UID:UZ_PLZ_20260613_1800_499053
DTSTAMP:20260613T180000
DTSTART:20260613T180000
DTEND:20260613T192000
SUMMARY:Handel i finanse międzynarodowe (Ć): 22FiR-RPG-NP
CATEGORIES:Ć
LOCATION:F6 A-0
ATTACH:https://classroom.google.com/c/ODUwMzQzMTc0MDM3
END:VEVENT
BEGIN:VEVENT
UID:UZ_PLZ_20260614_0925_499045
DTSTAMP:20260614T092500
DTSTART:20260614T092500
DTEND:20260614T104500
SUMMARY:Analiza międzynarodowych przepływów kapitałowych (W): 11EK-NP
CATEGORIES:W
LOCATION:110/110a A-0
ATTACH:https://classroom.google.com/c/ODUwNDAwMjA4ODUw
END:VEVENT
BEGIN:VEVENT
UID:UZ_PLZ_20260614_1100_499145
DTSTAMP:20260614T110000
DTSTART:20260614T110000
DTEND:20260614T122000
SUMMARY:Analiza międzynarodowych przepływów kapitałowych (P): 11EK-NP
CATEGORIES:P
LOCATION:110/110a A-0
END:VEVENT
BEGIN:VEVENT
UID:UZ_PLZ_20260615_1100_498880
DTSTAMP:20260615T110000
DTSTART:20260615T110000
DTEND:20260615T123000
SUMMARY:Przedmiot fakultatywny (Ć): 31EK-SP
CATEGORIES:Ć
LOCATION:223 A-29
ATTACH:https://classroom.google.com/c/ODQ3MTE3NTY2NTY5
END:VEVENT
BEGIN:VEVENT
UID:UZ_PLZ_20260615_1245_498929
DTSTAMP:20260615T124500
DTSTART:20260615T124500
DTEND:20260615T142000
SUMMARY:Przedmiot fakultatywny (W): 31EK-SP\; 32EK-SP
CATEGORIES:W
LOCATION:3 A-29
END:VEVENT
BEGIN:VEVENT
UID:UZ_PLZ_20260615_1430_499015
DTSTAMP:20260615T143000
DTSTART:20260615T143000
DTEND:20260615T160000
SUMMARY:Przedmiot fakultatywny (Ć): 32EK-SP
CATEGORIES:Ć
LOCATION:223 A-29
ATTACH:https://classroom.google.com/c/ODQ3MTEzNzc5NTMw
END:VEVENT
BEGIN:VEVENT
UID:UZ_PLZ_20260617_1100_498866
DTSTAMP:20260617T110000
DTSTART:20260617T110000
DTEND:20260617T122500
SUMMARY:Ekonomia międzynarodowa (W): 11EK-RDF-SD
CATEGORIES:W
LOCATION:123 A-29
ATTACH:https://classroom.google.com/c/ODQ3MTE4MTM1Nzc5
END:VEVENT
BEGIN:VEVENT
UID:UZ_PLZ_20260617_1245_498978
DTSTAMP:20260617T124500
DTSTART:20260617T124500
DTEND:20260617T141500
SUMMARY:Ekonomia międzynarodowa (Ć): 11EK-RDF-SD
CATEGORIES:Ć
LOCATION:123 A-29
END:VEVENT
BEGIN:VEVENT
UID:UZ_PLZ_20260618_1100_498834
DTSTAMP:20260618T110000
DTSTART:20260618T110000
DTEND:20260618T123500
SUMMARY:Handel i finanse międzynarodowe (Ć): 22FiR-RPG-SP
CATEGORIES:Ć
LOCATION:1 C-2
ATTACH:https://classroom.google.com/c/ODQ3MTE3Nzg3ODMw
END:VEVENT
BEGIN:VEVENT
UID:UZ_PLZ_20260618_1245_498892
DTSTAMP:20260618T124500
DTSTART:20260618T124500
DTEND:20260618T142000
SUMMARY:Analiza międzynarodowych przepływów kapitałowych (W): 11EK-SP
CATEGORIES:W
LOCATION:216 A-29
ATTACH:https://classroom.google.com/c/ODQ5ODU4NDIwODI5
END:VEVENT
BEGIN:VEVENT
UID:UZ_PLZ_20260618_1430_498913
DTSTAMP:20260618T143000
DTSTART:20260618T143000
DTEND:20260618T160500
SUMMARY:Analiza międzynarodowych przepływów kapitałowych (P): 11EK-SP
CATEGORIES:P
LOCATION:214 A-29
END:VEVENT
BEGIN:VEVENT
UID:UZ_PLZ_20260618_1800_498889
DTSTAMP:20260618T180000
DTSTART:20260618T180000
DTEND:20260618T193500
SUMMARY:Wykład monograficzny specjalnościowy - Rachunkowość i doradztwo finansowe (W): 22EK-RDF-SD
CATEGORIES:W
LOCATION:123 A-29
ATTACH:https://classroom.google.com/c/ODUxMzI4NjU4MTUx
END:VEVENT
BEGIN:VEVENT
UID:UZ_PLZ_20260620_1200_508625
DTSTAMP:20260620T120000
DTSTART:20260620T120000
DTEND:20260620T140000
SUMMARY:Handel i finanse międzynarodowe (E): 21FiR-FB-NP\; 22FiR-RPG-NP
CATEGORIES:E
LOCATION:3 A-29
END:VEVENT
BEGIN:VEVENT
UID:UZ_PLZ_20260624_1200_508618
DTSTAMP:20260624T120000
DTSTART:20260624T120000
DTEND:20260624T140000
SUMMARY:Ekonomia międzynarodowa (E): 11EK-RDF-SD
CATEGORIES:E
LOCATION:108 A-29
END:VEVENT
BEGIN:VEVENT
UID:UZ_PLZ_20260629_1000_508626
DTSTAMP:20260629T100000
DTSTART:20260629T100000
DTEND:20260629T120000
SUMMARY:Handel i finanse międzynarodowe (E): 21FiR-FB-SP\; 22FiR-RPG-SP
CATEGORIES:E
LOCATION:1 A-29
END:VEVENT
BEGIN:VEVENT
UID:UZ_PLZ_20260907_0900_508626
DTSTAMP:20260907T090000
DTSTART:20260907T090000
DTEND:20260907T110000
SUMMARY:Handel i finanse międzynarodowe (E): 21FiR-FB-SP\; 22FiR-RPG-SP
CATEGORIES:E
LOCATION:1 A-29
END:VEVENT
BEGIN:VEVENT
UID:UZ_PLZ_20260909_1000_508625
DTSTAMP:20260909T100000
DTSTART:20260909T100000
DTEND:20260909T120000
SUMMARY:Handel i finanse międzynarodowe (E): 21FiR-FB-NP\; 22FiR-RPG-NP
CATEGORIES:E
LOCATION:3 A-29
END:VEVENT
BEGIN:VEVENT
UID:UZ_PLZ_20260910_1200_508618
DTSTAMP:20260910T120000
DTSTART:20260910T120000
DTEND:20260910T140000
SUMMARY:Ekonomia międzynarodowa (E): 11EK-RDF-SD
CATEGORIES:E
LOCATION:108 A-29
END:VEVENT
END:VCALENDAR
