BEGIN:VCALENDAR
TZID:Europe/Warsaw
X-WR-TIMEZONE:Europe/Warsaw
VERSION:2.0
PRODID:-//Uniwersytet Zielonogórski//NONSGML Plan zajęć v1.0//EN
NAME:Plan zajęć - semestr letni 2025/2026
X-WR-CALNAME:Plan zajęć - semestr letni 2025/2026
COLOR:green
CALSCALE:GREGORIAN
BEGIN:VEVENT
UID:UZ_PLZ_20260506_0800_499946
DTSTAMP:20260506T080000
DTSTART:20260506T080000
DTEND:20260506T093000
SUMMARY:Historia literatury popularnej XX i XXI wieku (Ć): 11LPiKŚG-SP25
CATEGORIES:Ć
LOCATION:Aula I A-20
X-ALT-DESC;FMTTYPE=text/html:<html><body><a href="https://classroom.google.com/c/Nzk0MDU4MDEyNTI4">Google Classroom</a> </body></html>
END:VEVENT
BEGIN:VEVENT
UID:UZ_PLZ_20260506_0945_499939
DTSTAMP:20260506T094500
DTSTART:20260506T094500
DTEND:20260506T111500
SUMMARY:Speculative fiction (Ć): 11LPiKŚG-SD25
CATEGORIES:Ć
LOCATION:Aula I A-20
X-ALT-DESC;FMTTYPE=text/html:<html><body><a href="https://classroom.google.com/c/ODQ2NDIzOTM4NDI1">Google Classroom</a> </body></html>
END:VEVENT
BEGIN:VEVENT
UID:UZ_PLZ_20260506_1130_507410
DTSTAMP:20260506T113000
DTSTART:20260506T113000
DTEND:20260506T133000
SUMMARY:Konsultacje (I)
CATEGORIES:I
LOCATION:6 A-20
END:VEVENT
BEGIN:VEVENT
UID:UZ_PLZ_20260513_0800_499946
DTSTAMP:20260513T080000
DTSTART:20260513T080000
DTEND:20260513T093000
SUMMARY:Historia literatury popularnej XX i XXI wieku (Ć): 11LPiKŚG-SP25
CATEGORIES:Ć
LOCATION:Aula I A-20
X-ALT-DESC;FMTTYPE=text/html:<html><body><a href="https://classroom.google.com/c/Nzk0MDU4MDEyNTI4">Google Classroom</a> </body></html>
END:VEVENT
BEGIN:VEVENT
UID:UZ_PLZ_20260513_0945_499939
DTSTAMP:20260513T094500
DTSTART:20260513T094500
DTEND:20260513T111500
SUMMARY:Speculative fiction (Ć): 11LPiKŚG-SD25
CATEGORIES:Ć
LOCATION:Aula I A-20
X-ALT-DESC;FMTTYPE=text/html:<html><body><a href="https://classroom.google.com/c/ODQ2NDIzOTM4NDI1">Google Classroom</a> </body></html>
END:VEVENT
BEGIN:VEVENT
UID:UZ_PLZ_20260513_1130_507410
DTSTAMP:20260513T113000
DTSTART:20260513T113000
DTEND:20260513T133000
SUMMARY:Konsultacje (I)
CATEGORIES:I
LOCATION:6 A-20
END:VEVENT
BEGIN:VEVENT
UID:UZ_PLZ_20260520_0800_499946
DTSTAMP:20260520T080000
DTSTART:20260520T080000
DTEND:20260520T093000
SUMMARY:Historia literatury popularnej XX i XXI wieku (Ć): 11LPiKŚG-SP25
CATEGORIES:Ć
LOCATION:Aula I A-20
X-ALT-DESC;FMTTYPE=text/html:<html><body><a href="https://classroom.google.com/c/Nzk0MDU4MDEyNTI4">Google Classroom</a> </body></html>
END:VEVENT
BEGIN:VEVENT
UID:UZ_PLZ_20260520_0945_499939
DTSTAMP:20260520T094500
DTSTART:20260520T094500
DTEND:20260520T111500
SUMMARY:Speculative fiction (Ć): 11LPiKŚG-SD25
CATEGORIES:Ć
LOCATION:Aula I A-20
X-ALT-DESC;FMTTYPE=text/html:<html><body><a href="https://classroom.google.com/c/ODQ2NDIzOTM4NDI1">Google Classroom</a> </body></html>
END:VEVENT
BEGIN:VEVENT
UID:UZ_PLZ_20260520_1130_507410
DTSTAMP:20260520T113000
DTSTART:20260520T113000
DTEND:20260520T133000
SUMMARY:Konsultacje (I)
CATEGORIES:I
LOCATION:6 A-20
END:VEVENT
BEGIN:VEVENT
UID:UZ_PLZ_20260527_0800_499946
DTSTAMP:20260527T080000
DTSTART:20260527T080000
DTEND:20260527T093000
SUMMARY:Historia literatury popularnej XX i XXI wieku (Ć): 11LPiKŚG-SP25
CATEGORIES:Ć
LOCATION:Aula I A-20
X-ALT-DESC;FMTTYPE=text/html:<html><body><a href="https://classroom.google.com/c/Nzk0MDU4MDEyNTI4">Google Classroom</a> </body></html>
END:VEVENT
BEGIN:VEVENT
UID:UZ_PLZ_20260527_0945_499939
DTSTAMP:20260527T094500
DTSTART:20260527T094500
DTEND:20260527T111500
SUMMARY:Speculative fiction (Ć): 11LPiKŚG-SD25
CATEGORIES:Ć
LOCATION:G A-20
X-ALT-DESC;FMTTYPE=text/html:<html><body><a href="https://classroom.google.com/c/ODQ2NDIzOTM4NDI1">Google Classroom</a> </body></html>
END:VEVENT
BEGIN:VEVENT
UID:UZ_PLZ_20260527_1130_507410
DTSTAMP:20260527T113000
DTSTART:20260527T113000
DTEND:20260527T133000
SUMMARY:Konsultacje (I)
CATEGORIES:I
LOCATION:6 A-20
END:VEVENT
BEGIN:VEVENT
UID:UZ_PLZ_20260603_0800_499946
DTSTAMP:20260603T080000
DTSTART:20260603T080000
DTEND:20260603T093000
SUMMARY:Historia literatury popularnej XX i XXI wieku (Ć): 11LPiKŚG-SP25
CATEGORIES:Ć
LOCATION:Aula I A-20
X-ALT-DESC;FMTTYPE=text/html:<html><body><a href="https://classroom.google.com/c/Nzk0MDU4MDEyNTI4">Google Classroom</a> </body></html>
END:VEVENT
BEGIN:VEVENT
UID:UZ_PLZ_20260603_0945_499939
DTSTAMP:20260603T094500
DTSTART:20260603T094500
DTEND:20260603T111500
SUMMARY:Speculative fiction (Ć): 11LPiKŚG-SD25
CATEGORIES:Ć
LOCATION:Aula I A-20
X-ALT-DESC;FMTTYPE=text/html:<html><body><a href="https://classroom.google.com/c/ODQ2NDIzOTM4NDI1">Google Classroom</a> </body></html>
END:VEVENT
BEGIN:VEVENT
UID:UZ_PLZ_20260603_1130_507410
DTSTAMP:20260603T113000
DTSTART:20260603T113000
DTEND:20260603T133000
SUMMARY:Konsultacje (I)
CATEGORIES:I
LOCATION:6 A-20
END:VEVENT
BEGIN:VEVENT
UID:UZ_PLZ_20260610_0800_499946
DTSTAMP:20260610T080000
DTSTART:20260610T080000
DTEND:20260610T093000
SUMMARY:Historia literatury popularnej XX i XXI wieku (Ć): 11LPiKŚG-SP25
CATEGORIES:Ć
LOCATION:Aula I A-20
X-ALT-DESC;FMTTYPE=text/html:<html><body><a href="https://classroom.google.com/c/Nzk0MDU4MDEyNTI4">Google Classroom</a> </body></html>
END:VEVENT
BEGIN:VEVENT
UID:UZ_PLZ_20260610_0945_499939
DTSTAMP:20260610T094500
DTSTART:20260610T094500
DTEND:20260610T111500
SUMMARY:Speculative fiction (Ć): 11LPiKŚG-SD25
CATEGORIES:Ć
LOCATION:Aula I A-20
X-ALT-DESC;FMTTYPE=text/html:<html><body><a href="https://classroom.google.com/c/ODQ2NDIzOTM4NDI1">Google Classroom</a> </body></html>
END:VEVENT
BEGIN:VEVENT
UID:UZ_PLZ_20260610_1130_507410
DTSTAMP:20260610T113000
DTSTART:20260610T113000
DTEND:20260610T133000
SUMMARY:Konsultacje (I)
CATEGORIES:I
LOCATION:6 A-20
END:VEVENT
BEGIN:VEVENT
UID:UZ_PLZ_20260617_0800_499946
DTSTAMP:20260617T080000
DTSTART:20260617T080000
DTEND:20260617T093000
SUMMARY:Historia literatury popularnej XX i XXI wieku (Ć): 11LPiKŚG-SP25
CATEGORIES:Ć
LOCATION:Aula I A-20
X-ALT-DESC;FMTTYPE=text/html:<html><body><a href="https://classroom.google.com/c/Nzk0MDU4MDEyNTI4">Google Classroom</a> </body></html>
END:VEVENT
BEGIN:VEVENT
UID:UZ_PLZ_20260617_0945_499939
DTSTAMP:20260617T094500
DTSTART:20260617T094500
DTEND:20260617T111500
SUMMARY:Speculative fiction (Ć): 11LPiKŚG-SD25
CATEGORIES:Ć
LOCATION:Aula I A-20
X-ALT-DESC;FMTTYPE=text/html:<html><body><a href="https://classroom.google.com/c/ODQ2NDIzOTM4NDI1">Google Classroom</a> </body></html>
END:VEVENT
BEGIN:VEVENT
UID:UZ_PLZ_20260617_1130_507410
DTSTAMP:20260617T113000
DTSTART:20260617T113000
DTEND:20260617T133000
SUMMARY:Konsultacje (I)
CATEGORIES:I
LOCATION:6 A-20
END:VEVENT
END:VCALENDAR
