BEGIN:VCALENDAR
TZID:Europe/Warsaw
X-WR-TIMEZONE:Europe/Warsaw
VERSION:2.0
PRODID:-//Uniwersytet Zielonogórski//NONSGML Plan zajęć v1.0//EN
NAME:Plan zajęć - semestr letni 2025/2026
X-WR-CALNAME:Plan zajęć - semestr letni 2025/2026
COLOR:green
CALSCALE:GREGORIAN
BEGIN:VEVENT
UID:UZ_PLZ_20260422_1645_496397
DTSTAMP:20260422T164500
DTSTART:20260422T164500
DTEND:20260422T182000
SUMMARY:Psychologiczne problemy kariery zawodowej i doradztwa zawodowego (Ć): 43PSYCH-JMS-PEW
CATEGORIES:Ć
LOCATION:P2 A-16
END:VEVENT
BEGIN:VEVENT
UID:UZ_PLZ_20260422_1825_496462
DTSTAMP:20260422T182500
DTSTART:20260422T182500
DTEND:20260422T200000
SUMMARY:Psychologiczne problemy kariery zawodowej i doradztwa zawodowego (Ć): 44PSYCH-JMS-PEW
CATEGORIES:Ć
LOCATION:P2 A-16
END:VEVENT
BEGIN:VEVENT
UID:UZ_PLZ_20260505_1545_496540
DTSTAMP:20260505T154500
DTSTART:20260505T154500
DTEND:20260505T172000
SUMMARY:Psychologiczne problemy kariery zawodowej i doradztwa zawodowego (W): 43PSYCH-JMS-PEW\; 44PSYCH-JMS-PEW\; 45PSYCH-JMS-PPOZ
CATEGORIES:W
LOCATION:B A-16
END:VEVENT
BEGIN:VEVENT
UID:UZ_PLZ_20260505_1725_496463
DTSTAMP:20260505T172500
DTSTART:20260505T172500
DTEND:20260505T190000
SUMMARY:Psychologiczne problemy kariery zawodowej i doradztwa zawodowego (Ć): 45PSYCH-JMS-PPOZ
CATEGORIES:Ć
LOCATION:P103 A-16
END:VEVENT
BEGIN:VEVENT
UID:UZ_PLZ_20260505_1901_507758
DTSTAMP:20260505T190100
DTSTART:20260505T190100
DTEND:20260505T194500
SUMMARY:Konsultacje (I)
CATEGORIES:I
LOCATION:P103 A-16
END:VEVENT
BEGIN:VEVENT
UID:UZ_PLZ_20260506_1645_496397
DTSTAMP:20260506T164500
DTSTART:20260506T164500
DTEND:20260506T182000
SUMMARY:Psychologiczne problemy kariery zawodowej i doradztwa zawodowego (Ć): 43PSYCH-JMS-PEW
CATEGORIES:Ć
LOCATION:P2 A-16
END:VEVENT
BEGIN:VEVENT
UID:UZ_PLZ_20260506_1825_496462
DTSTAMP:20260506T182500
DTSTART:20260506T182500
DTEND:20260506T200000
SUMMARY:Psychologiczne problemy kariery zawodowej i doradztwa zawodowego (Ć): 44PSYCH-JMS-PEW
CATEGORIES:Ć
LOCATION:P2 A-16
END:VEVENT
BEGIN:VEVENT
UID:UZ_PLZ_20260519_1545_496540
DTSTAMP:20260519T154500
DTSTART:20260519T154500
DTEND:20260519T172000
SUMMARY:Psychologiczne problemy kariery zawodowej i doradztwa zawodowego (W): 43PSYCH-JMS-PEW\; 44PSYCH-JMS-PEW\; 45PSYCH-JMS-PPOZ
CATEGORIES:W
LOCATION:B A-16
END:VEVENT
BEGIN:VEVENT
UID:UZ_PLZ_20260519_1725_496463
DTSTAMP:20260519T172500
DTSTART:20260519T172500
DTEND:20260519T190000
SUMMARY:Psychologiczne problemy kariery zawodowej i doradztwa zawodowego (Ć): 45PSYCH-JMS-PPOZ
CATEGORIES:Ć
LOCATION:P103 A-16
END:VEVENT
BEGIN:VEVENT
UID:UZ_PLZ_20260519_1901_507758
DTSTAMP:20260519T190100
DTSTART:20260519T190100
DTEND:20260519T194500
SUMMARY:Konsultacje (I)
CATEGORIES:I
LOCATION:P103 A-16
END:VEVENT
BEGIN:VEVENT
UID:UZ_PLZ_20260520_1645_496397
DTSTAMP:20260520T164500
DTSTART:20260520T164500
DTEND:20260520T182000
SUMMARY:Psychologiczne problemy kariery zawodowej i doradztwa zawodowego (Ć): 43PSYCH-JMS-PEW
CATEGORIES:Ć
LOCATION:P2 A-16
END:VEVENT
BEGIN:VEVENT
UID:UZ_PLZ_20260520_1825_496462
DTSTAMP:20260520T182500
DTSTART:20260520T182500
DTEND:20260520T200000
SUMMARY:Psychologiczne problemy kariery zawodowej i doradztwa zawodowego (Ć): 44PSYCH-JMS-PEW
CATEGORIES:Ć
LOCATION:P2 A-16
END:VEVENT
BEGIN:VEVENT
UID:UZ_PLZ_20260602_1545_496540
DTSTAMP:20260602T154500
DTSTART:20260602T154500
DTEND:20260602T172000
SUMMARY:Psychologiczne problemy kariery zawodowej i doradztwa zawodowego (W): 43PSYCH-JMS-PEW\; 44PSYCH-JMS-PEW\; 45PSYCH-JMS-PPOZ
CATEGORIES:W
LOCATION:B A-16
END:VEVENT
BEGIN:VEVENT
UID:UZ_PLZ_20260602_1725_496463
DTSTAMP:20260602T172500
DTSTART:20260602T172500
DTEND:20260602T190000
SUMMARY:Psychologiczne problemy kariery zawodowej i doradztwa zawodowego (Ć): 45PSYCH-JMS-PPOZ
CATEGORIES:Ć
LOCATION:P103 A-16
END:VEVENT
BEGIN:VEVENT
UID:UZ_PLZ_20260602_1901_507758
DTSTAMP:20260602T190100
DTSTART:20260602T190100
DTEND:20260602T194500
SUMMARY:Konsultacje (I)
CATEGORIES:I
LOCATION:P103 A-16
END:VEVENT
BEGIN:VEVENT
UID:UZ_PLZ_20260603_1645_496397
DTSTAMP:20260603T164500
DTSTART:20260603T164500
DTEND:20260603T182000
SUMMARY:Psychologiczne problemy kariery zawodowej i doradztwa zawodowego (Ć): 43PSYCH-JMS-PEW
CATEGORIES:Ć
LOCATION:P2 A-16
END:VEVENT
BEGIN:VEVENT
UID:UZ_PLZ_20260603_1825_496462
DTSTAMP:20260603T182500
DTSTART:20260603T182500
DTEND:20260603T200000
SUMMARY:Psychologiczne problemy kariery zawodowej i doradztwa zawodowego (Ć): 44PSYCH-JMS-PEW
CATEGORIES:Ć
LOCATION:P2 A-16
END:VEVENT
BEGIN:VEVENT
UID:UZ_PLZ_20260616_1545_496540
DTSTAMP:20260616T154500
DTSTART:20260616T154500
DTEND:20260616T172000
SUMMARY:Psychologiczne problemy kariery zawodowej i doradztwa zawodowego (W): 43PSYCH-JMS-PEW\; 44PSYCH-JMS-PEW\; 45PSYCH-JMS-PPOZ
CATEGORIES:W
LOCATION:B A-16
END:VEVENT
BEGIN:VEVENT
UID:UZ_PLZ_20260616_1725_496463
DTSTAMP:20260616T172500
DTSTART:20260616T172500
DTEND:20260616T190000
SUMMARY:Psychologiczne problemy kariery zawodowej i doradztwa zawodowego (Ć): 45PSYCH-JMS-PPOZ
CATEGORIES:Ć
LOCATION:P103 A-16
END:VEVENT
BEGIN:VEVENT
UID:UZ_PLZ_20260616_1901_507758
DTSTAMP:20260616T190100
DTSTART:20260616T190100
DTEND:20260616T194500
SUMMARY:Konsultacje (I)
CATEGORIES:I
LOCATION:P103 A-16
END:VEVENT
END:VCALENDAR
