BEGIN:VCALENDAR
TZID:Europe/Warsaw
X-WR-TIMEZONE:Europe/Warsaw
VERSION:2.0
PRODID:-//Uniwersytet Zielonogórski//NONSGML Plan zajęć v1.0//EN
NAME:Plan zajęć - semestr letni 2025/2026
X-WR-CALNAME:Plan zajęć - semestr letni 2025/2026
COLOR:green
CALSCALE:GREGORIAN
BEGIN:VEVENT
UID:UZ_PLZ_20260423_0945_504460
DTSTAMP:20260423T094500
DTSTART:20260423T094500
DTEND:20260423T111500
SUMMARY:Przedmiot DW: International relations in North America (Ć): 31MSP-SP
CATEGORIES:Ć
LOCATION:31 A-16
X-ALT-DESC;FMTTYPE=text/html:<html><body><a href="https://classroom.google.com/c/ODQ3MjcxMjk0MzM5">Google Classroom</a> </body></html>
END:VEVENT
BEGIN:VEVENT
UID:UZ_PLZ_20260428_1130_504837
DTSTAMP:20260428T113000
DTSTART:20260428T113000
DTEND:20260428T130000
SUMMARY:Dyżur pracowniczy (I)
CATEGORIES:I
END:VEVENT
BEGIN:VEVENT
UID:UZ_PLZ_20260428_1300_507923
DTSTAMP:20260428T130000
DTSTART:20260428T130000
DTEND:20260428T143000
SUMMARY:Konsultacje (I)
CATEGORIES:I
LOCATION:303 A-16
END:VEVENT
BEGIN:VEVENT
UID:UZ_PLZ_20260430_0945_504460
DTSTAMP:20260430T094500
DTSTART:20260430T094500
DTEND:20260430T111500
SUMMARY:Przedmiot DW: International relations in North America (Ć): 31MSP-SP
CATEGORIES:Ć
LOCATION:31 A-16
X-ALT-DESC;FMTTYPE=text/html:<html><body><a href="https://classroom.google.com/c/ODQ3MjcxMjk0MzM5">Google Classroom</a> </body></html>
END:VEVENT
BEGIN:VEVENT
UID:UZ_PLZ_20260505_1130_504837
DTSTAMP:20260505T113000
DTSTART:20260505T113000
DTEND:20260505T130000
SUMMARY:Dyżur pracowniczy (I)
CATEGORIES:I
END:VEVENT
BEGIN:VEVENT
UID:UZ_PLZ_20260505_1300_507923
DTSTAMP:20260505T130000
DTSTART:20260505T130000
DTEND:20260505T143000
SUMMARY:Konsultacje (I)
CATEGORIES:I
LOCATION:303 A-16
END:VEVENT
BEGIN:VEVENT
UID:UZ_PLZ_20260506_1130_501266
DTSTAMP:20260506T113000
DTSTART:20260506T113000
DTEND:20260506T130000
SUMMARY:Komunikacja kryzysowa w nowych mediach (L): 11DiNM-SD25/11DiNM-SD25/PR
CATEGORIES:L
LOCATION:117 A-20
X-ALT-DESC;FMTTYPE=text/html:<html><body><a href="https://classroom.google.com/c/ODQ3MjY2MjIwMTk4">Google Classroom</a> </body></html>
END:VEVENT
BEGIN:VEVENT
UID:UZ_PLZ_20260506_1315_501299
DTSTAMP:20260506T131500
DTSTART:20260506T131500
DTEND:20260506T144500
SUMMARY:PDW: Historia wydarzeń medialnych w Polsce i na świecie w XX i XXI w (Ć): 31DiKS-SP23
CATEGORIES:Ć
LOCATION:221 A-20
X-ALT-DESC;FMTTYPE=text/html:<html><body><a href="https://classroom.google.com/c/ODQ3MjY5OTIyNTg2">Google Classroom</a> </body></html>
END:VEVENT
BEGIN:VEVENT
UID:UZ_PLZ_20260506_1500_504490
DTSTAMP:20260506T150000
DTSTART:20260506T150000
DTEND:20260506T163000
SUMMARY:Przedmiot do wyboru: (B) Mniejszości narodowe w polityce państwa (Ć): 11Polit-SD
CATEGORIES:Ć
LOCATION:231 A-16
X-ALT-DESC;FMTTYPE=text/html:<html><body><a href="https://classroom.google.com/c/Nzk0MTcwMzg1MDI5">Google Classroom</a> </body></html>
END:VEVENT
BEGIN:VEVENT
UID:UZ_PLZ_20260507_0945_504460
DTSTAMP:20260507T094500
DTSTART:20260507T094500
DTEND:20260507T111500
SUMMARY:Przedmiot DW: International relations in North America (Ć): 31MSP-SP
CATEGORIES:Ć
LOCATION:31 A-16
X-ALT-DESC;FMTTYPE=text/html:<html><body><a href="https://classroom.google.com/c/ODQ3MjcxMjk0MzM5">Google Classroom</a> </body></html>
END:VEVENT
BEGIN:VEVENT
UID:UZ_PLZ_20260512_1130_504837
DTSTAMP:20260512T113000
DTSTART:20260512T113000
DTEND:20260512T130000
SUMMARY:Dyżur pracowniczy (I)
CATEGORIES:I
END:VEVENT
BEGIN:VEVENT
UID:UZ_PLZ_20260512_1300_507923
DTSTAMP:20260512T130000
DTSTART:20260512T130000
DTEND:20260512T143000
SUMMARY:Konsultacje (I)
CATEGORIES:I
LOCATION:303 A-16
END:VEVENT
BEGIN:VEVENT
UID:UZ_PLZ_20260513_1130_501266
DTSTAMP:20260513T113000
DTSTART:20260513T113000
DTEND:20260513T130000
SUMMARY:Komunikacja kryzysowa w nowych mediach (L): 11DiNM-SD25/11DiNM-SD25/PR
CATEGORIES:L
LOCATION:117 A-20
X-ALT-DESC;FMTTYPE=text/html:<html><body><a href="https://classroom.google.com/c/ODQ3MjY2MjIwMTk4">Google Classroom</a> </body></html>
END:VEVENT
BEGIN:VEVENT
UID:UZ_PLZ_20260513_1315_501299
DTSTAMP:20260513T131500
DTSTART:20260513T131500
DTEND:20260513T144500
SUMMARY:PDW: Historia wydarzeń medialnych w Polsce i na świecie w XX i XXI w (Ć): 31DiKS-SP23
CATEGORIES:Ć
LOCATION:221 A-20
X-ALT-DESC;FMTTYPE=text/html:<html><body><a href="https://classroom.google.com/c/ODQ3MjY5OTIyNTg2">Google Classroom</a> </body></html>
END:VEVENT
BEGIN:VEVENT
UID:UZ_PLZ_20260513_1500_504490
DTSTAMP:20260513T150000
DTSTART:20260513T150000
DTEND:20260513T163000
SUMMARY:Przedmiot do wyboru: (B) Mniejszości narodowe w polityce państwa (Ć): 11Polit-SD
CATEGORIES:Ć
LOCATION:231 A-16
X-ALT-DESC;FMTTYPE=text/html:<html><body><a href="https://classroom.google.com/c/Nzk0MTcwMzg1MDI5">Google Classroom</a> </body></html>
END:VEVENT
BEGIN:VEVENT
UID:UZ_PLZ_20260514_0945_504460
DTSTAMP:20260514T094500
DTSTART:20260514T094500
DTEND:20260514T111500
SUMMARY:Przedmiot DW: International relations in North America (Ć): 31MSP-SP
CATEGORIES:Ć
LOCATION:31 A-16
X-ALT-DESC;FMTTYPE=text/html:<html><body><a href="https://classroom.google.com/c/ODQ3MjcxMjk0MzM5">Google Classroom</a> </body></html>
END:VEVENT
BEGIN:VEVENT
UID:UZ_PLZ_20260519_1130_504837
DTSTAMP:20260519T113000
DTSTART:20260519T113000
DTEND:20260519T130000
SUMMARY:Dyżur pracowniczy (I)
CATEGORIES:I
END:VEVENT
BEGIN:VEVENT
UID:UZ_PLZ_20260519_1300_507923
DTSTAMP:20260519T130000
DTSTART:20260519T130000
DTEND:20260519T143000
SUMMARY:Konsultacje (I)
CATEGORIES:I
LOCATION:303 A-16
END:VEVENT
BEGIN:VEVENT
UID:UZ_PLZ_20260520_1130_501266
DTSTAMP:20260520T113000
DTSTART:20260520T113000
DTEND:20260520T130000
SUMMARY:Komunikacja kryzysowa w nowych mediach (L): 11DiNM-SD25/11DiNM-SD25/PR
CATEGORIES:L
LOCATION:117 A-20
X-ALT-DESC;FMTTYPE=text/html:<html><body><a href="https://classroom.google.com/c/ODQ3MjY2MjIwMTk4">Google Classroom</a> </body></html>
END:VEVENT
BEGIN:VEVENT
UID:UZ_PLZ_20260520_1315_501299
DTSTAMP:20260520T131500
DTSTART:20260520T131500
DTEND:20260520T144500
SUMMARY:PDW: Historia wydarzeń medialnych w Polsce i na świecie w XX i XXI w (Ć): 31DiKS-SP23
CATEGORIES:Ć
LOCATION:221 A-20
X-ALT-DESC;FMTTYPE=text/html:<html><body><a href="https://classroom.google.com/c/ODQ3MjY5OTIyNTg2">Google Classroom</a> </body></html>
END:VEVENT
BEGIN:VEVENT
UID:UZ_PLZ_20260520_1500_504490
DTSTAMP:20260520T150000
DTSTART:20260520T150000
DTEND:20260520T163000
SUMMARY:Przedmiot do wyboru: (B) Mniejszości narodowe w polityce państwa (Ć): 11Polit-SD
CATEGORIES:Ć
LOCATION:231 A-16
X-ALT-DESC;FMTTYPE=text/html:<html><body><a href="https://classroom.google.com/c/Nzk0MTcwMzg1MDI5">Google Classroom</a> </body></html>
END:VEVENT
BEGIN:VEVENT
UID:UZ_PLZ_20260521_0945_504460
DTSTAMP:20260521T094500
DTSTART:20260521T094500
DTEND:20260521T111500
SUMMARY:Przedmiot DW: International relations in North America (Ć): 31MSP-SP
CATEGORIES:Ć
LOCATION:31 A-16
X-ALT-DESC;FMTTYPE=text/html:<html><body><a href="https://classroom.google.com/c/ODQ3MjcxMjk0MzM5">Google Classroom</a> </body></html>
END:VEVENT
BEGIN:VEVENT
UID:UZ_PLZ_20260526_1130_504837
DTSTAMP:20260526T113000
DTSTART:20260526T113000
DTEND:20260526T130000
SUMMARY:Dyżur pracowniczy (I)
CATEGORIES:I
END:VEVENT
BEGIN:VEVENT
UID:UZ_PLZ_20260526_1300_507923
DTSTAMP:20260526T130000
DTSTART:20260526T130000
DTEND:20260526T143000
SUMMARY:Konsultacje (I)
CATEGORIES:I
LOCATION:303 A-16
END:VEVENT
BEGIN:VEVENT
UID:UZ_PLZ_20260527_1130_501266
DTSTAMP:20260527T113000
DTSTART:20260527T113000
DTEND:20260527T130000
SUMMARY:Komunikacja kryzysowa w nowych mediach (L): 11DiNM-SD25/11DiNM-SD25/PR
CATEGORIES:L
LOCATION:117 A-20
X-ALT-DESC;FMTTYPE=text/html:<html><body><a href="https://classroom.google.com/c/ODQ3MjY2MjIwMTk4">Google Classroom</a> </body></html>
END:VEVENT
BEGIN:VEVENT
UID:UZ_PLZ_20260527_1315_501299
DTSTAMP:20260527T131500
DTSTART:20260527T131500
DTEND:20260527T144500
SUMMARY:PDW: Historia wydarzeń medialnych w Polsce i na świecie w XX i XXI w (Ć): 31DiKS-SP23
CATEGORIES:Ć
LOCATION:221 A-20
X-ALT-DESC;FMTTYPE=text/html:<html><body><a href="https://classroom.google.com/c/ODQ3MjY5OTIyNTg2">Google Classroom</a> </body></html>
END:VEVENT
BEGIN:VEVENT
UID:UZ_PLZ_20260527_1500_504490
DTSTAMP:20260527T150000
DTSTART:20260527T150000
DTEND:20260527T163000
SUMMARY:Przedmiot do wyboru: (B) Mniejszości narodowe w polityce państwa (Ć): 11Polit-SD
CATEGORIES:Ć
LOCATION:231 A-16
X-ALT-DESC;FMTTYPE=text/html:<html><body><a href="https://classroom.google.com/c/Nzk0MTcwMzg1MDI5">Google Classroom</a> </body></html>
END:VEVENT
BEGIN:VEVENT
UID:UZ_PLZ_20260528_0945_504460
DTSTAMP:20260528T094500
DTSTART:20260528T094500
DTEND:20260528T111500
SUMMARY:Przedmiot DW: International relations in North America (Ć): 31MSP-SP
CATEGORIES:Ć
LOCATION:31 A-16
X-ALT-DESC;FMTTYPE=text/html:<html><body><a href="https://classroom.google.com/c/ODQ3MjcxMjk0MzM5">Google Classroom</a> </body></html>
END:VEVENT
BEGIN:VEVENT
UID:UZ_PLZ_20260602_1130_504837
DTSTAMP:20260602T113000
DTSTART:20260602T113000
DTEND:20260602T130000
SUMMARY:Dyżur pracowniczy (I)
CATEGORIES:I
END:VEVENT
BEGIN:VEVENT
UID:UZ_PLZ_20260602_1300_507923
DTSTAMP:20260602T130000
DTSTART:20260602T130000
DTEND:20260602T143000
SUMMARY:Konsultacje (I)
CATEGORIES:I
LOCATION:303 A-16
END:VEVENT
BEGIN:VEVENT
UID:UZ_PLZ_20260603_1130_501266
DTSTAMP:20260603T113000
DTSTART:20260603T113000
DTEND:20260603T130000
SUMMARY:Komunikacja kryzysowa w nowych mediach (L): 11DiNM-SD25/11DiNM-SD25/PR
CATEGORIES:L
LOCATION:117 A-20
X-ALT-DESC;FMTTYPE=text/html:<html><body><a href="https://classroom.google.com/c/ODQ3MjY2MjIwMTk4">Google Classroom</a> </body></html>
END:VEVENT
BEGIN:VEVENT
UID:UZ_PLZ_20260603_1315_501299
DTSTAMP:20260603T131500
DTSTART:20260603T131500
DTEND:20260603T144500
SUMMARY:PDW: Historia wydarzeń medialnych w Polsce i na świecie w XX i XXI w (Ć): 31DiKS-SP23
CATEGORIES:Ć
LOCATION:221 A-20
X-ALT-DESC;FMTTYPE=text/html:<html><body><a href="https://classroom.google.com/c/ODQ3MjY5OTIyNTg2">Google Classroom</a> </body></html>
END:VEVENT
BEGIN:VEVENT
UID:UZ_PLZ_20260603_1500_504490
DTSTAMP:20260603T150000
DTSTART:20260603T150000
DTEND:20260603T163000
SUMMARY:Przedmiot do wyboru: (B) Mniejszości narodowe w polityce państwa (Ć): 11Polit-SD
CATEGORIES:Ć
LOCATION:231 A-16
X-ALT-DESC;FMTTYPE=text/html:<html><body><a href="https://classroom.google.com/c/Nzk0MTcwMzg1MDI5">Google Classroom</a> </body></html>
END:VEVENT
BEGIN:VEVENT
UID:UZ_PLZ_20260609_1130_504837
DTSTAMP:20260609T113000
DTSTART:20260609T113000
DTEND:20260609T130000
SUMMARY:Dyżur pracowniczy (I)
CATEGORIES:I
END:VEVENT
BEGIN:VEVENT
UID:UZ_PLZ_20260609_1300_507923
DTSTAMP:20260609T130000
DTSTART:20260609T130000
DTEND:20260609T143000
SUMMARY:Konsultacje (I)
CATEGORIES:I
LOCATION:303 A-16
END:VEVENT
BEGIN:VEVENT
UID:UZ_PLZ_20260610_1130_501266
DTSTAMP:20260610T113000
DTSTART:20260610T113000
DTEND:20260610T130000
SUMMARY:Komunikacja kryzysowa w nowych mediach (L): 11DiNM-SD25/11DiNM-SD25/PR
CATEGORIES:L
LOCATION:117 A-20
X-ALT-DESC;FMTTYPE=text/html:<html><body><a href="https://classroom.google.com/c/ODQ3MjY2MjIwMTk4">Google Classroom</a> </body></html>
END:VEVENT
BEGIN:VEVENT
UID:UZ_PLZ_20260610_1315_501299
DTSTAMP:20260610T131500
DTSTART:20260610T131500
DTEND:20260610T144500
SUMMARY:PDW: Historia wydarzeń medialnych w Polsce i na świecie w XX i XXI w (Ć): 31DiKS-SP23
CATEGORIES:Ć
LOCATION:221 A-20
X-ALT-DESC;FMTTYPE=text/html:<html><body><a href="https://classroom.google.com/c/ODQ3MjY5OTIyNTg2">Google Classroom</a> </body></html>
END:VEVENT
BEGIN:VEVENT
UID:UZ_PLZ_20260610_1500_504490
DTSTAMP:20260610T150000
DTSTART:20260610T150000
DTEND:20260610T163000
SUMMARY:Przedmiot do wyboru: (B) Mniejszości narodowe w polityce państwa (Ć): 11Polit-SD
CATEGORIES:Ć
LOCATION:231 A-16
X-ALT-DESC;FMTTYPE=text/html:<html><body><a href="https://classroom.google.com/c/Nzk0MTcwMzg1MDI5">Google Classroom</a> </body></html>
END:VEVENT
BEGIN:VEVENT
UID:UZ_PLZ_20260611_0945_504460
DTSTAMP:20260611T094500
DTSTART:20260611T094500
DTEND:20260611T111500
SUMMARY:Przedmiot DW: International relations in North America (Ć): 31MSP-SP
CATEGORIES:Ć
LOCATION:31 A-16
X-ALT-DESC;FMTTYPE=text/html:<html><body><a href="https://classroom.google.com/c/ODQ3MjcxMjk0MzM5">Google Classroom</a> </body></html>
END:VEVENT
BEGIN:VEVENT
UID:UZ_PLZ_20260616_1130_504837
DTSTAMP:20260616T113000
DTSTART:20260616T113000
DTEND:20260616T130000
SUMMARY:Dyżur pracowniczy (I)
CATEGORIES:I
END:VEVENT
BEGIN:VEVENT
UID:UZ_PLZ_20260616_1300_507923
DTSTAMP:20260616T130000
DTSTART:20260616T130000
DTEND:20260616T143000
SUMMARY:Konsultacje (I)
CATEGORIES:I
LOCATION:303 A-16
END:VEVENT
BEGIN:VEVENT
UID:UZ_PLZ_20260617_1130_501266
DTSTAMP:20260617T113000
DTSTART:20260617T113000
DTEND:20260617T130000
SUMMARY:Komunikacja kryzysowa w nowych mediach (L): 11DiNM-SD25/11DiNM-SD25/PR
CATEGORIES:L
LOCATION:117 A-20
X-ALT-DESC;FMTTYPE=text/html:<html><body><a href="https://classroom.google.com/c/ODQ3MjY2MjIwMTk4">Google Classroom</a> </body></html>
END:VEVENT
BEGIN:VEVENT
UID:UZ_PLZ_20260617_1315_501299
DTSTAMP:20260617T131500
DTSTART:20260617T131500
DTEND:20260617T144500
SUMMARY:PDW: Historia wydarzeń medialnych w Polsce i na świecie w XX i XXI w (Ć): 31DiKS-SP23
CATEGORIES:Ć
LOCATION:221 A-20
X-ALT-DESC;FMTTYPE=text/html:<html><body><a href="https://classroom.google.com/c/ODQ3MjY5OTIyNTg2">Google Classroom</a> </body></html>
END:VEVENT
BEGIN:VEVENT
UID:UZ_PLZ_20260617_1500_504490
DTSTAMP:20260617T150000
DTSTART:20260617T150000
DTEND:20260617T163000
SUMMARY:Przedmiot do wyboru: (B) Mniejszości narodowe w polityce państwa (Ć): 11Polit-SD
CATEGORIES:Ć
LOCATION:231 A-16
X-ALT-DESC;FMTTYPE=text/html:<html><body><a href="https://classroom.google.com/c/Nzk0MTcwMzg1MDI5">Google Classroom</a> </body></html>
END:VEVENT
BEGIN:VEVENT
UID:UZ_PLZ_20260618_0945_504460
DTSTAMP:20260618T094500
DTSTART:20260618T094500
DTEND:20260618T111500
SUMMARY:Przedmiot DW: International relations in North America (Ć): 31MSP-SP
CATEGORIES:Ć
LOCATION:31 A-16
X-ALT-DESC;FMTTYPE=text/html:<html><body><a href="https://classroom.google.com/c/ODQ3MjcxMjk0MzM5">Google Classroom</a> </body></html>
END:VEVENT
END:VCALENDAR
