BEGIN:VCALENDAR
TZID:Europe/Warsaw
X-WR-TIMEZONE:Europe/Warsaw
VERSION:2.0
PRODID:-//Uniwersytet Zielonogórski//NONSGML Plan zajęć v1.0//EN
NAME:Plan zajęć - semestr zimowy 2025/2026
X-WR-CALNAME:Plan zajęć - semestr zimowy 2025/2026
COLOR:green
CALSCALE:GREGORIAN
BEGIN:VEVENT
UID:UZ_PLZ_20251001_0915_487161
DTSTAMP:20251001T091500
DTSTART:20251001T091500
DTEND:20251001T110000
SUMMARY:Rezerwacja IIM (R)
CATEGORIES:R
END:VEVENT
BEGIN:VEVENT
UID:UZ_PLZ_20251001_1250_485310
DTSTAMP:20251001T125000
DTSTART:20251001T125000
DTEND:20251001T141500
SUMMARY:Historia techniki (W): 11BHP-SP
CATEGORIES:W
LOCATION:B312 A-11
END:VEVENT
BEGIN:VEVENT
UID:UZ_PLZ_20251002_1100_485412
DTSTAMP:20251002T110000
DTSTART:20251002T110000
DTEND:20251002T122500
SUMMARY:Metody statystyczne w inżynierii produkcji (W): 21ZiIP-SP
CATEGORIES:W
LOCATION:B213 A-11
END:VEVENT
BEGIN:VEVENT
UID:UZ_PLZ_20251002_1245_485458
DTSTAMP:20251002T124500
DTSTART:20251002T124500
DTEND:20251002T141500
SUMMARY:Informatyka w zastosowaniach inżynierskich (L): 21MiBM-SP/B
CATEGORIES:L
LOCATION:B401 A-11
END:VEVENT
BEGIN:VEVENT
UID:UZ_PLZ_20251006_1100_485433
DTSTAMP:20251006T110000
DTSTART:20251006T110000
DTEND:20251006T123000
SUMMARY:Techniki wytwarzania (W): 21BHP-SP
CATEGORIES:W
LOCATION:B112 A-11
END:VEVENT
BEGIN:VEVENT
UID:UZ_PLZ_20251006_1245_485489
DTSTAMP:20251006T124500
DTSTART:20251006T124500
DTEND:20251006T141500
SUMMARY:Techniki wytwarzania (L): 21BHP-SP
CATEGORIES:L
LOCATION:H034 A-10\; H110 A-10
END:VEVENT
BEGIN:VEVENT
UID:UZ_PLZ_20251008_0915_487161
DTSTAMP:20251008T091500
DTSTART:20251008T091500
DTEND:20251008T110000
SUMMARY:Rezerwacja IIM (R)
CATEGORIES:R
END:VEVENT
BEGIN:VEVENT
UID:UZ_PLZ_20251009_1100_485391
DTSTAMP:20251009T110000
DTSTART:20251009T110000
DTEND:20251009T123500
SUMMARY:Wybrane zagadnienia z obróbki ubytkowej (L): 15MiBM-TM-SD
CATEGORIES:L
LOCATION:H034 A-10
END:VEVENT
BEGIN:VEVENT
UID:UZ_PLZ_20251009_1245_485458
DTSTAMP:20251009T124500
DTSTART:20251009T124500
DTEND:20251009T141500
SUMMARY:Informatyka w zastosowaniach inżynierskich (L): 21MiBM-SP/B
CATEGORIES:L
LOCATION:B401 A-11
END:VEVENT
BEGIN:VEVENT
UID:UZ_PLZ_20251012_1800_492502
DTSTAMP:20251012T180000
DTSTART:20251012T180000
DTEND:20251012T193000
SUMMARY:Metody statystyczne w badaniach naukowych (W): 15BHP-ND
CATEGORIES:W
LOCATION:B312 A-11
END:VEVENT
BEGIN:VEVENT
UID:UZ_PLZ_20251013_1100_485433
DTSTAMP:20251013T110000
DTSTART:20251013T110000
DTEND:20251013T123000
SUMMARY:Techniki wytwarzania (W): 21BHP-SP
CATEGORIES:W
LOCATION:B112 A-11
END:VEVENT
BEGIN:VEVENT
UID:UZ_PLZ_20251013_1245_485489
DTSTAMP:20251013T124500
DTSTART:20251013T124500
DTEND:20251013T141500
SUMMARY:Techniki wytwarzania (L): 21BHP-SP
CATEGORIES:L
LOCATION:H034 A-10\; H110 A-10
END:VEVENT
BEGIN:VEVENT
UID:UZ_PLZ_20251015_0915_487161
DTSTAMP:20251015T091500
DTSTART:20251015T091500
DTEND:20251015T110000
SUMMARY:Rezerwacja IIM (R)
CATEGORIES:R
END:VEVENT
BEGIN:VEVENT
UID:UZ_PLZ_20251015_1250_485310
DTSTAMP:20251015T125000
DTSTART:20251015T125000
DTEND:20251015T141500
SUMMARY:Historia techniki (W): 11BHP-SP
CATEGORIES:W
LOCATION:B312 A-11
END:VEVENT
BEGIN:VEVENT
UID:UZ_PLZ_20251016_1100_485412
DTSTAMP:20251016T110000
DTSTART:20251016T110000
DTEND:20251016T122500
SUMMARY:Metody statystyczne w inżynierii produkcji (W): 21ZiIP-SP
CATEGORIES:W
LOCATION:B213 A-11
END:VEVENT
BEGIN:VEVENT
UID:UZ_PLZ_20251016_1245_485458
DTSTAMP:20251016T124500
DTSTART:20251016T124500
DTEND:20251016T141500
SUMMARY:Informatyka w zastosowaniach inżynierskich (L): 21MiBM-SP/B
CATEGORIES:L
LOCATION:B401 A-11
END:VEVENT
BEGIN:VEVENT
UID:UZ_PLZ_20251020_1100_485433
DTSTAMP:20251020T110000
DTSTART:20251020T110000
DTEND:20251020T123000
SUMMARY:Techniki wytwarzania (W): 21BHP-SP
CATEGORIES:W
LOCATION:B112 A-11
END:VEVENT
BEGIN:VEVENT
UID:UZ_PLZ_20251020_1245_485489
DTSTAMP:20251020T124500
DTSTART:20251020T124500
DTEND:20251020T141500
SUMMARY:Techniki wytwarzania (L): 21BHP-SP
CATEGORIES:L
LOCATION:H034 A-10\; H110 A-10
END:VEVENT
BEGIN:VEVENT
UID:UZ_PLZ_20251022_0915_487161
DTSTAMP:20251022T091500
DTSTART:20251022T091500
DTEND:20251022T110000
SUMMARY:Rezerwacja IIM (R)
CATEGORIES:R
END:VEVENT
BEGIN:VEVENT
UID:UZ_PLZ_20251023_1100_485391
DTSTAMP:20251023T110000
DTSTART:20251023T110000
DTEND:20251023T123500
SUMMARY:Wybrane zagadnienia z obróbki ubytkowej (L): 15MiBM-TM-SD
CATEGORIES:L
LOCATION:H034 A-10
END:VEVENT
BEGIN:VEVENT
UID:UZ_PLZ_20251023_1245_485458
DTSTAMP:20251023T124500
DTSTART:20251023T124500
DTEND:20251023T141500
SUMMARY:Informatyka w zastosowaniach inżynierskich (L): 21MiBM-SP/B
CATEGORIES:L
LOCATION:B401 A-11
END:VEVENT
BEGIN:VEVENT
UID:UZ_PLZ_20251026_0730_485607
DTSTAMP:20251026T073000
DTSTART:20251026T073000
DTEND:20251026T091000
SUMMARY:Historia techniki (W): 11BHP-NP
CATEGORIES:W
LOCATION:B112 A-11
END:VEVENT
BEGIN:VEVENT
UID:UZ_PLZ_20251026_1615_492502
DTSTAMP:20251026T161500
DTSTART:20251026T161500
DTEND:20251026T174500
SUMMARY:Metody statystyczne w badaniach naukowych (W): 15BHP-ND
CATEGORIES:W
LOCATION:B312 A-11
END:VEVENT
BEGIN:VEVENT
UID:UZ_PLZ_20251027_1100_485433
DTSTAMP:20251027T110000
DTSTART:20251027T110000
DTEND:20251027T123000
SUMMARY:Techniki wytwarzania (W): 21BHP-SP
CATEGORIES:W
LOCATION:B112 A-11
END:VEVENT
BEGIN:VEVENT
UID:UZ_PLZ_20251027_1245_485489
DTSTAMP:20251027T124500
DTSTART:20251027T124500
DTEND:20251027T141500
SUMMARY:Techniki wytwarzania (L): 21BHP-SP
CATEGORIES:L
LOCATION:H034 A-10\; H110 A-10
END:VEVENT
BEGIN:VEVENT
UID:UZ_PLZ_20251029_0915_487161
DTSTAMP:20251029T091500
DTSTART:20251029T091500
DTEND:20251029T110000
SUMMARY:Rezerwacja IIM (R)
CATEGORIES:R
END:VEVENT
BEGIN:VEVENT
UID:UZ_PLZ_20251029_1250_485310
DTSTAMP:20251029T125000
DTSTART:20251029T125000
DTEND:20251029T141500
SUMMARY:Historia techniki (W): 11BHP-SP
CATEGORIES:W
LOCATION:B312 A-11
END:VEVENT
BEGIN:VEVENT
UID:UZ_PLZ_20251030_1100_485412
DTSTAMP:20251030T110000
DTSTART:20251030T110000
DTEND:20251030T122500
SUMMARY:Metody statystyczne w inżynierii produkcji (W): 21ZiIP-SP
CATEGORIES:W
LOCATION:B213 A-11
END:VEVENT
BEGIN:VEVENT
UID:UZ_PLZ_20251030_1245_485458
DTSTAMP:20251030T124500
DTSTART:20251030T124500
DTEND:20251030T141500
SUMMARY:Informatyka w zastosowaniach inżynierskich (L): 21MiBM-SP/B
CATEGORIES:L
LOCATION:B401 A-11
END:VEVENT
BEGIN:VEVENT
UID:UZ_PLZ_20251103_1100_485433
DTSTAMP:20251103T110000
DTSTART:20251103T110000
DTEND:20251103T123000
SUMMARY:Techniki wytwarzania (W): 21BHP-SP
CATEGORIES:W
LOCATION:B112 A-11
END:VEVENT
BEGIN:VEVENT
UID:UZ_PLZ_20251103_1245_485489
DTSTAMP:20251103T124500
DTSTART:20251103T124500
DTEND:20251103T141500
SUMMARY:Techniki wytwarzania (L): 21BHP-SP
CATEGORIES:L
LOCATION:H034 A-10\; H110 A-10
END:VEVENT
BEGIN:VEVENT
UID:UZ_PLZ_20251105_0915_487161
DTSTAMP:20251105T091500
DTSTART:20251105T091500
DTEND:20251105T110000
SUMMARY:Rezerwacja IIM (R)
CATEGORIES:R
END:VEVENT
BEGIN:VEVENT
UID:UZ_PLZ_20251106_1100_485391
DTSTAMP:20251106T110000
DTSTART:20251106T110000
DTEND:20251106T123500
SUMMARY:Wybrane zagadnienia z obróbki ubytkowej (L): 15MiBM-TM-SD
CATEGORIES:L
LOCATION:H034 A-10
END:VEVENT
BEGIN:VEVENT
UID:UZ_PLZ_20251106_1245_485458
DTSTAMP:20251106T124500
DTSTART:20251106T124500
DTEND:20251106T141500
SUMMARY:Informatyka w zastosowaniach inżynierskich (L): 21MiBM-SP/B
CATEGORIES:L
LOCATION:B401 A-11
END:VEVENT
BEGIN:VEVENT
UID:UZ_PLZ_20251109_0915_485798
DTSTAMP:20251109T091500
DTSTART:20251109T091500
DTEND:20251109T104500
SUMMARY:Informatyka w zastosowaniach inżynierskich (L): 21MiBM-NP/A
CATEGORIES:L
LOCATION:B420 A-11
END:VEVENT
BEGIN:VEVENT
UID:UZ_PLZ_20251109_1100_489794
DTSTAMP:20251109T110000
DTSTART:20251109T110000
DTEND:20251109T122000
SUMMARY:Metody statystyczne w badaniach naukowych (L): 15BHP-ND/A
CATEGORIES:L
LOCATION:B401 A-11
END:VEVENT
BEGIN:VEVENT
UID:UZ_PLZ_20251109_1245_489793
DTSTAMP:20251109T124500
DTSTART:20251109T124500
DTEND:20251109T140500
SUMMARY:Metody statystyczne w badaniach naukowych (L): 15BHP-ND/B
CATEGORIES:L
LOCATION:B401 A-11
END:VEVENT
BEGIN:VEVENT
UID:UZ_PLZ_20251112_0915_487161
DTSTAMP:20251112T091500
DTSTART:20251112T091500
DTEND:20251112T110000
SUMMARY:Rezerwacja IIM (R)
CATEGORIES:R
END:VEVENT
BEGIN:VEVENT
UID:UZ_PLZ_20251112_1250_485310
DTSTAMP:20251112T125000
DTSTART:20251112T125000
DTEND:20251112T141500
SUMMARY:Historia techniki (W): 11BHP-SP
CATEGORIES:W
LOCATION:B312 A-11
END:VEVENT
BEGIN:VEVENT
UID:UZ_PLZ_20251113_1100_485433
DTSTAMP:20251113T110000
DTSTART:20251113T110000
DTEND:20251113T123000
SUMMARY:Techniki wytwarzania (W): 21BHP-SP
CATEGORIES:W
LOCATION:B112 A-11
END:VEVENT
BEGIN:VEVENT
UID:UZ_PLZ_20251113_1245_485489
DTSTAMP:20251113T124500
DTSTART:20251113T124500
DTEND:20251113T141500
SUMMARY:Techniki wytwarzania (L): 21BHP-SP
CATEGORIES:L
LOCATION:H034 A-10\; H110 A-10
END:VEVENT
BEGIN:VEVENT
UID:UZ_PLZ_20251117_1100_485433
DTSTAMP:20251117T110000
DTSTART:20251117T110000
DTEND:20251117T123000
SUMMARY:Techniki wytwarzania (W): 21BHP-SP
CATEGORIES:W
LOCATION:B112 A-11
END:VEVENT
BEGIN:VEVENT
UID:UZ_PLZ_20251117_1245_485489
DTSTAMP:20251117T124500
DTSTART:20251117T124500
DTEND:20251117T141500
SUMMARY:Techniki wytwarzania (L): 21BHP-SP
CATEGORIES:L
LOCATION:H034 A-10\; H110 A-10
END:VEVENT
BEGIN:VEVENT
UID:UZ_PLZ_20251119_0915_487161
DTSTAMP:20251119T091500
DTSTART:20251119T091500
DTEND:20251119T110000
SUMMARY:Rezerwacja IIM (R)
CATEGORIES:R
END:VEVENT
BEGIN:VEVENT
UID:UZ_PLZ_20251120_1100_485391
DTSTAMP:20251120T110000
DTSTART:20251120T110000
DTEND:20251120T123500
SUMMARY:Wybrane zagadnienia z obróbki ubytkowej (L): 15MiBM-TM-SD
CATEGORIES:L
LOCATION:H034 A-10
END:VEVENT
BEGIN:VEVENT
UID:UZ_PLZ_20251120_1245_485458
DTSTAMP:20251120T124500
DTSTART:20251120T124500
DTEND:20251120T141500
SUMMARY:Informatyka w zastosowaniach inżynierskich (L): 21MiBM-SP/B
CATEGORIES:L
LOCATION:B401 A-11
END:VEVENT
BEGIN:VEVENT
UID:UZ_PLZ_20251123_0730_485607
DTSTAMP:20251123T073000
DTSTART:20251123T073000
DTEND:20251123T091000
SUMMARY:Historia techniki (W): 11BHP-NP
CATEGORIES:W
LOCATION:B112 A-11
END:VEVENT
BEGIN:VEVENT
UID:UZ_PLZ_20251124_1100_485433
DTSTAMP:20251124T110000
DTSTART:20251124T110000
DTEND:20251124T123000
SUMMARY:Techniki wytwarzania (W): 21BHP-SP
CATEGORIES:W
LOCATION:B112 A-11
END:VEVENT
BEGIN:VEVENT
UID:UZ_PLZ_20251124_1245_485489
DTSTAMP:20251124T124500
DTSTART:20251124T124500
DTEND:20251124T141500
SUMMARY:Techniki wytwarzania (L): 21BHP-SP
CATEGORIES:L
LOCATION:H034 A-10\; H110 A-10
END:VEVENT
BEGIN:VEVENT
UID:UZ_PLZ_20251126_0915_487161
DTSTAMP:20251126T091500
DTSTART:20251126T091500
DTEND:20251126T110000
SUMMARY:Rezerwacja IIM (R)
CATEGORIES:R
END:VEVENT
BEGIN:VEVENT
UID:UZ_PLZ_20251126_1250_485310
DTSTAMP:20251126T125000
DTSTART:20251126T125000
DTEND:20251126T141500
SUMMARY:Historia techniki (W): 11BHP-SP
CATEGORIES:W
LOCATION:B312 A-11
END:VEVENT
BEGIN:VEVENT
UID:UZ_PLZ_20251127_1100_485412
DTSTAMP:20251127T110000
DTSTART:20251127T110000
DTEND:20251127T122500
SUMMARY:Metody statystyczne w inżynierii produkcji (W): 21ZiIP-SP
CATEGORIES:W
LOCATION:B213 A-11
END:VEVENT
BEGIN:VEVENT
UID:UZ_PLZ_20251127_1245_485458
DTSTAMP:20251127T124500
DTSTART:20251127T124500
DTEND:20251127T141500
SUMMARY:Informatyka w zastosowaniach inżynierskich (L): 21MiBM-SP/B
CATEGORIES:L
LOCATION:B401 A-11
END:VEVENT
BEGIN:VEVENT
UID:UZ_PLZ_20251201_1100_485433
DTSTAMP:20251201T110000
DTSTART:20251201T110000
DTEND:20251201T123000
SUMMARY:Techniki wytwarzania (W): 21BHP-SP
CATEGORIES:W
LOCATION:B112 A-11
END:VEVENT
BEGIN:VEVENT
UID:UZ_PLZ_20251201_1245_485489
DTSTAMP:20251201T124500
DTSTART:20251201T124500
DTEND:20251201T141500
SUMMARY:Techniki wytwarzania (L): 21BHP-SP
CATEGORIES:L
LOCATION:H034 A-10\; H110 A-10
END:VEVENT
BEGIN:VEVENT
UID:UZ_PLZ_20251203_0915_487161
DTSTAMP:20251203T091500
DTSTART:20251203T091500
DTEND:20251203T110000
SUMMARY:Rezerwacja IIM (R)
CATEGORIES:R
END:VEVENT
BEGIN:VEVENT
UID:UZ_PLZ_20251204_1100_485391
DTSTAMP:20251204T110000
DTSTART:20251204T110000
DTEND:20251204T123500
SUMMARY:Wybrane zagadnienia z obróbki ubytkowej (L): 15MiBM-TM-SD
CATEGORIES:L
LOCATION:H034 A-10
END:VEVENT
BEGIN:VEVENT
UID:UZ_PLZ_20251204_1245_485458
DTSTAMP:20251204T124500
DTSTART:20251204T124500
DTEND:20251204T141500
SUMMARY:Informatyka w zastosowaniach inżynierskich (L): 21MiBM-SP/B
CATEGORIES:L
LOCATION:B401 A-11
END:VEVENT
BEGIN:VEVENT
UID:UZ_PLZ_20251208_1100_485433
DTSTAMP:20251208T110000
DTSTART:20251208T110000
DTEND:20251208T123000
SUMMARY:Techniki wytwarzania (W): 21BHP-SP
CATEGORIES:W
LOCATION:B112 A-11
END:VEVENT
BEGIN:VEVENT
UID:UZ_PLZ_20251208_1245_485489
DTSTAMP:20251208T124500
DTSTART:20251208T124500
DTEND:20251208T141500
SUMMARY:Techniki wytwarzania (L): 21BHP-SP
CATEGORIES:L
LOCATION:H034 A-10\; H110 A-10
END:VEVENT
BEGIN:VEVENT
UID:UZ_PLZ_20251210_0915_487161
DTSTAMP:20251210T091500
DTSTART:20251210T091500
DTEND:20251210T110000
SUMMARY:Rezerwacja IIM (R)
CATEGORIES:R
END:VEVENT
BEGIN:VEVENT
UID:UZ_PLZ_20251210_1250_485310
DTSTAMP:20251210T125000
DTSTART:20251210T125000
DTEND:20251210T141500
SUMMARY:Historia techniki (W): 11BHP-SP
CATEGORIES:W
LOCATION:B312 A-11
END:VEVENT
BEGIN:VEVENT
UID:UZ_PLZ_20251211_1245_485458
DTSTAMP:20251211T124500
DTSTART:20251211T124500
DTEND:20251211T141500
SUMMARY:Informatyka w zastosowaniach inżynierskich (L): 21MiBM-SP/B
CATEGORIES:L
LOCATION:B401 A-11
END:VEVENT
BEGIN:VEVENT
UID:UZ_PLZ_20251213_1245_485672
DTSTAMP:20251213T124500
DTSTART:20251213T124500
DTEND:20251213T141500
SUMMARY:Metody statystyczne w inżynierii produkcji (P): 21ZiIP-NP/A
CATEGORIES:P
LOCATION:B420 A-11
END:VEVENT
BEGIN:VEVENT
UID:UZ_PLZ_20251213_1430_485618
DTSTAMP:20251213T143000
DTSTART:20251213T143000
DTEND:20251213T160000
SUMMARY:Metody statystyczne w inżynierii produkcji (P): 21ZiIP-NP/B
CATEGORIES:P
LOCATION:B420 A-11
END:VEVENT
BEGIN:VEVENT
UID:UZ_PLZ_20251213_1615_485676
DTSTAMP:20251213T161500
DTSTART:20251213T161500
DTEND:20251213T174500
SUMMARY:Planowanie badań inżynierskich (Ć): 15MiBM-EM-ND
CATEGORIES:Ć
LOCATION:B420 A-11
END:VEVENT
BEGIN:VEVENT
UID:UZ_PLZ_20251213_1800_485858
DTSTAMP:20251213T180000
DTSTART:20251213T180000
DTEND:20251213T201500
SUMMARY:Praca przejściowa (P): 15MiBM-EM-ND/A
CATEGORIES:P
LOCATION:B208 A-11
END:VEVENT
BEGIN:VEVENT
UID:UZ_PLZ_20251214_0730_485607
DTSTAMP:20251214T073000
DTSTART:20251214T073000
DTEND:20251214T091000
SUMMARY:Historia techniki (W): 11BHP-NP
CATEGORIES:W
LOCATION:B112 A-11
END:VEVENT
BEGIN:VEVENT
UID:UZ_PLZ_20251215_1100_485433
DTSTAMP:20251215T110000
DTSTART:20251215T110000
DTEND:20251215T123000
SUMMARY:Techniki wytwarzania (W): 21BHP-SP
CATEGORIES:W
LOCATION:B112 A-11
END:VEVENT
BEGIN:VEVENT
UID:UZ_PLZ_20251215_1245_485489
DTSTAMP:20251215T124500
DTSTART:20251215T124500
DTEND:20251215T141500
SUMMARY:Techniki wytwarzania (L): 21BHP-SP
CATEGORIES:L
LOCATION:H034 A-10\; H110 A-10
END:VEVENT
BEGIN:VEVENT
UID:UZ_PLZ_20251217_0915_487161
DTSTAMP:20251217T091500
DTSTART:20251217T091500
DTEND:20251217T110000
SUMMARY:Rezerwacja IIM (R)
CATEGORIES:R
END:VEVENT
BEGIN:VEVENT
UID:UZ_PLZ_20251218_1100_485391
DTSTAMP:20251218T110000
DTSTART:20251218T110000
DTEND:20251218T123500
SUMMARY:Wybrane zagadnienia z obróbki ubytkowej (L): 15MiBM-TM-SD
CATEGORIES:L
LOCATION:H034 A-10
END:VEVENT
BEGIN:VEVENT
UID:UZ_PLZ_20251218_1245_485458
DTSTAMP:20251218T124500
DTSTART:20251218T124500
DTEND:20251218T141500
SUMMARY:Informatyka w zastosowaniach inżynierskich (L): 21MiBM-SP/B
CATEGORIES:L
LOCATION:B401 A-11
END:VEVENT
BEGIN:VEVENT
UID:UZ_PLZ_20260108_1100_485412
DTSTAMP:20260108T110000
DTSTART:20260108T110000
DTEND:20260108T122500
SUMMARY:Metody statystyczne w inżynierii produkcji (W): 21ZiIP-SP
CATEGORIES:W
LOCATION:B213 A-11
END:VEVENT
BEGIN:VEVENT
UID:UZ_PLZ_20260108_1245_485458
DTSTAMP:20260108T124500
DTSTART:20260108T124500
DTEND:20260108T141500
SUMMARY:Informatyka w zastosowaniach inżynierskich (L): 21MiBM-SP/B
CATEGORIES:L
LOCATION:B401 A-11
END:VEVENT
BEGIN:VEVENT
UID:UZ_PLZ_20260112_1100_485433
DTSTAMP:20260112T110000
DTSTART:20260112T110000
DTEND:20260112T123000
SUMMARY:Techniki wytwarzania (W): 21BHP-SP
CATEGORIES:W
LOCATION:B112 A-11
END:VEVENT
BEGIN:VEVENT
UID:UZ_PLZ_20260112_1245_485489
DTSTAMP:20260112T124500
DTSTART:20260112T124500
DTEND:20260112T141500
SUMMARY:Techniki wytwarzania (L): 21BHP-SP
CATEGORIES:L
LOCATION:H034 A-10\; H110 A-10
END:VEVENT
BEGIN:VEVENT
UID:UZ_PLZ_20260114_0915_487161
DTSTAMP:20260114T091500
DTSTART:20260114T091500
DTEND:20260114T110000
SUMMARY:Rezerwacja IIM (R)
CATEGORIES:R
END:VEVENT
BEGIN:VEVENT
UID:UZ_PLZ_20260115_1100_485391
DTSTAMP:20260115T110000
DTSTART:20260115T110000
DTEND:20260115T123500
SUMMARY:Wybrane zagadnienia z obróbki ubytkowej (L): 15MiBM-TM-SD
CATEGORIES:L
LOCATION:H034 A-10
END:VEVENT
BEGIN:VEVENT
UID:UZ_PLZ_20260115_1245_485458
DTSTAMP:20260115T124500
DTSTART:20260115T124500
DTEND:20260115T141500
SUMMARY:Informatyka w zastosowaniach inżynierskich (L): 21MiBM-SP/B
CATEGORIES:L
LOCATION:B401 A-11
END:VEVENT
BEGIN:VEVENT
UID:UZ_PLZ_20260118_0730_485607
DTSTAMP:20260118T073000
DTSTART:20260118T073000
DTEND:20260118T091000
SUMMARY:Historia techniki (W): 11BHP-NP
CATEGORIES:W
LOCATION:B112 A-11
END:VEVENT
BEGIN:VEVENT
UID:UZ_PLZ_20260119_1100_485433
DTSTAMP:20260119T110000
DTSTART:20260119T110000
DTEND:20260119T123000
SUMMARY:Techniki wytwarzania (W): 21BHP-SP
CATEGORIES:W
LOCATION:B112 A-11
END:VEVENT
BEGIN:VEVENT
UID:UZ_PLZ_20260119_1245_485489
DTSTAMP:20260119T124500
DTSTART:20260119T124500
DTEND:20260119T141500
SUMMARY:Techniki wytwarzania (L): 21BHP-SP
CATEGORIES:L
LOCATION:H034 A-10\; H110 A-10
END:VEVENT
BEGIN:VEVENT
UID:UZ_PLZ_20260121_0915_487161
DTSTAMP:20260121T091500
DTSTART:20260121T091500
DTEND:20260121T110000
SUMMARY:Rezerwacja IIM (R)
CATEGORIES:R
END:VEVENT
BEGIN:VEVENT
UID:UZ_PLZ_20260121_1250_485310
DTSTAMP:20260121T125000
DTSTART:20260121T125000
DTEND:20260121T141500
SUMMARY:Historia techniki (W): 11BHP-SP
CATEGORIES:W
LOCATION:B312 A-11
END:VEVENT
BEGIN:VEVENT
UID:UZ_PLZ_20260122_1100_485412
DTSTAMP:20260122T110000
DTSTART:20260122T110000
DTEND:20260122T122500
SUMMARY:Metody statystyczne w inżynierii produkcji (W): 21ZiIP-SP
CATEGORIES:W
LOCATION:B213 A-11
END:VEVENT
BEGIN:VEVENT
UID:UZ_PLZ_20260122_1245_485458
DTSTAMP:20260122T124500
DTSTART:20260122T124500
DTEND:20260122T141500
SUMMARY:Informatyka w zastosowaniach inżynierskich (L): 21MiBM-SP/B
CATEGORIES:L
LOCATION:B401 A-11
END:VEVENT
BEGIN:VEVENT
UID:UZ_PLZ_20260126_1100_485433
DTSTAMP:20260126T110000
DTSTART:20260126T110000
DTEND:20260126T123000
SUMMARY:Techniki wytwarzania (W): 21BHP-SP
CATEGORIES:W
LOCATION:B112 A-11
END:VEVENT
BEGIN:VEVENT
UID:UZ_PLZ_20260126_1245_485489
DTSTAMP:20260126T124500
DTSTART:20260126T124500
DTEND:20260126T141500
SUMMARY:Techniki wytwarzania (L): 21BHP-SP
CATEGORIES:L
LOCATION:H034 A-10\; H110 A-10
END:VEVENT
BEGIN:VEVENT
UID:UZ_PLZ_20260128_0915_487161
DTSTAMP:20260128T091500
DTSTART:20260128T091500
DTEND:20260128T110000
SUMMARY:Rezerwacja IIM (R)
CATEGORIES:R
END:VEVENT
BEGIN:VEVENT
UID:UZ_PLZ_20260128_1250_485310
DTSTAMP:20260128T125000
DTSTART:20260128T125000
DTEND:20260128T141500
SUMMARY:Historia techniki (W): 11BHP-SP
CATEGORIES:W
LOCATION:B312 A-11
END:VEVENT
BEGIN:VEVENT
UID:UZ_PLZ_20260129_1100_485412
DTSTAMP:20260129T110000
DTSTART:20260129T110000
DTEND:20260129T122500
SUMMARY:Metody statystyczne w inżynierii produkcji (W): 21ZiIP-SP
CATEGORIES:W
LOCATION:B213 A-11
END:VEVENT
BEGIN:VEVENT
UID:UZ_PLZ_20260129_1245_485458
DTSTAMP:20260129T124500
DTSTART:20260129T124500
DTEND:20260129T141500
SUMMARY:Informatyka w zastosowaniach inżynierskich (L): 21MiBM-SP/B
CATEGORIES:L
LOCATION:B401 A-11
END:VEVENT
BEGIN:VEVENT
UID:UZ_PLZ_20260202_1100_485433
DTSTAMP:20260202T110000
DTSTART:20260202T110000
DTEND:20260202T123000
SUMMARY:Techniki wytwarzania (W): 21BHP-SP
CATEGORIES:W
LOCATION:B112 A-11
END:VEVENT
BEGIN:VEVENT
UID:UZ_PLZ_20260202_1245_485489
DTSTAMP:20260202T124500
DTSTART:20260202T124500
DTEND:20260202T141500
SUMMARY:Techniki wytwarzania (L): 21BHP-SP
CATEGORIES:L
LOCATION:H034 A-10\; H110 A-10
END:VEVENT
BEGIN:VEVENT
UID:UZ_PLZ_20260205_1000_504411
DTSTAMP:20260205T100000
DTSTART:20260205T100000
DTEND:20260205T113000
SUMMARY:Techniki wytwarzania (E): 21BHP-SP
CATEGORIES:E
LOCATION:302 A-2
END:VEVENT
BEGIN:VEVENT
UID:UZ_PLZ_20260224_1000_504411
DTSTAMP:20260224T100000
DTSTART:20260224T100000
DTEND:20260224T113000
SUMMARY:Techniki wytwarzania (E): 21BHP-SP
CATEGORIES:E
LOCATION:302 A-2
END:VEVENT
END:VCALENDAR
