BEGIN:VCALENDAR
TZID:Europe/Warsaw
X-WR-TIMEZONE:Europe/Warsaw
VERSION:2.0
PRODID:-//Uniwersytet Zielonogórski//NONSGML Plan zajęć v1.0//EN
NAME:Plan zajęć - semestr letni 2025/2026
X-WR-CALNAME:Plan zajęć - semestr letni 2025/2026
COLOR:green
CALSCALE:GREGORIAN
BEGIN:VEVENT
UID:UZ_PLZ_20260426_0740_499730
DTSTAMP:20260426T074000
DTSTART:20260426T074000
DTEND:20260426T090000
SUMMARY:Techniki wytwarzania - obróbka ubytkowa (W): 15MiBM-ND
CATEGORIES:W
LOCATION:B213 A-11
END:VEVENT
BEGIN:VEVENT
UID:UZ_PLZ_20260426_0915_499808
DTSTAMP:20260426T091500
DTSTART:20260426T091500
DTEND:20260426T104500
SUMMARY:Kształtowanie technologicznej i eksploatacyjnej warstwy wierzchniej (L): 31MiBM-EM-NP
CATEGORIES:L
LOCATION:H034c A-10\; H104 A-10
END:VEVENT
BEGIN:VEVENT
UID:UZ_PLZ_20260426_1100_500482
DTSTAMP:20260426T110000
DTSTART:20260426T110000
DTEND:20260426T123000
SUMMARY:Techniki wytwarzania (W): 11ZiIP-NP
CATEGORIES:W
LOCATION:B213 A-11
END:VEVENT
BEGIN:VEVENT
UID:UZ_PLZ_20260426_1245_499743
DTSTAMP:20260426T124500
DTSTART:20260426T124500
DTEND:20260426T141500
SUMMARY:Techniki wytwarzania - obróbka ubytkowa (L): 15MiBM-ND/A
CATEGORIES:L
LOCATION:H034c A-10\; H104 A-10
END:VEVENT
BEGIN:VEVENT
UID:UZ_PLZ_20260426_1430_499719
DTSTAMP:20260426T143000
DTSTART:20260426T143000
DTEND:20260426T160000
SUMMARY:Techniki wytwarzania - obróbka ubytkowa (L): 15MiBM-ND/B
CATEGORIES:L
LOCATION:H034c A-10\; H104 A-10
END:VEVENT
BEGIN:VEVENT
UID:UZ_PLZ_20260426_1615_500572
DTSTAMP:20260426T161500
DTSTART:20260426T161500
DTEND:20260426T173500
SUMMARY:Techniki wytwarzania (L): 11ZiIP-NP/A
CATEGORIES:L
LOCATION:H034c A-10\; H104 A-10
END:VEVENT
BEGIN:VEVENT
UID:UZ_PLZ_20260427_0735_500452
DTSTAMP:20260427T073500
DTSTART:20260427T073500
DTEND:20260427T090000
SUMMARY:Techniki wytwarzania (L): 11ZiIP-SP/A
CATEGORIES:L
LOCATION:H034 A-10\; H110 A-10
END:VEVENT
BEGIN:VEVENT
UID:UZ_PLZ_20260427_0915_499560
DTSTAMP:20260427T091500
DTSTART:20260427T091500
DTEND:20260427T104500
SUMMARY:Informatyka w zastosowaniach inżynierskich (L): 21IL-SP
CATEGORIES:L
LOCATION:B401 A-11
END:VEVENT
BEGIN:VEVENT
UID:UZ_PLZ_20260427_1100_499580
DTSTAMP:20260427T110000
DTSTART:20260427T110000
DTEND:20260427T123000
SUMMARY:Inżynieria wytwarzania II (L): 11IL-SP
CATEGORIES:L
LOCATION:H034 A-10\; H104 A-10
END:VEVENT
BEGIN:VEVENT
UID:UZ_PLZ_20260428_0915_500421
DTSTAMP:20260428T091500
DTSTART:20260428T091500
DTEND:20260428T104500
SUMMARY:Techniki wytwarzania (L): 11ZiIP-SP/B
CATEGORIES:L
LOCATION:H034 A-10\; H110 A-10
END:VEVENT
BEGIN:VEVENT
UID:UZ_PLZ_20260428_1100_499637
DTSTAMP:20260428T110000
DTSTART:20260428T110000
DTEND:20260428T123000
SUMMARY:Techniki wytwarzania - obróbka ubytkowa (L): 15MiBM-SD/A
CATEGORIES:L
LOCATION:H034 A-10\; H104 A-10
END:VEVENT
BEGIN:VEVENT
UID:UZ_PLZ_20260428_1245_499599
DTSTAMP:20260428T124500
DTSTART:20260428T124500
DTEND:20260428T141000
SUMMARY:Techniki wytwarzania - obróbka ubytkowa (W): 15MiBM-SD
CATEGORIES:W
LOCATION:B112 A-11
END:VEVENT
BEGIN:VEVENT
UID:UZ_PLZ_20260430_0915_499564
DTSTAMP:20260430T091500
DTSTART:20260430T091500
DTEND:20260430T104500
SUMMARY:Inżynieria wytwarzania II (L): 11MiBM-SP/B
CATEGORIES:L
LOCATION:H034 A-10\; H104 A-10
END:VEVENT
BEGIN:VEVENT
UID:UZ_PLZ_20260504_0915_500452
DTSTAMP:20260504T091500
DTSTART:20260504T091500
DTEND:20260504T104500
SUMMARY:Techniki wytwarzania (L): 11ZiIP-SP/A
CATEGORIES:L
LOCATION:H034 A-10\; H110 A-10
END:VEVENT
BEGIN:VEVENT
UID:UZ_PLZ_20260504_1100_499580
DTSTAMP:20260504T110000
DTSTART:20260504T110000
DTEND:20260504T123000
SUMMARY:Inżynieria wytwarzania II (L): 11IL-SP
CATEGORIES:L
LOCATION:H034 A-10\; H104 A-10
END:VEVENT
BEGIN:VEVENT
UID:UZ_PLZ_20260505_0730_500421
DTSTAMP:20260505T073000
DTSTART:20260505T073000
DTEND:20260505T090500
SUMMARY:Techniki wytwarzania (L): 11ZiIP-SP/B
CATEGORIES:L
LOCATION:H034 A-10\; H110 A-10
END:VEVENT
BEGIN:VEVENT
UID:UZ_PLZ_20260505_0915_500421
DTSTAMP:20260505T091500
DTSTART:20260505T091500
DTEND:20260505T104500
SUMMARY:Techniki wytwarzania (L): 11ZiIP-SP/B
CATEGORIES:L
LOCATION:H034 A-10\; H110 A-10
END:VEVENT
BEGIN:VEVENT
UID:UZ_PLZ_20260505_1100_499637
DTSTAMP:20260505T110000
DTSTART:20260505T110000
DTEND:20260505T123000
SUMMARY:Techniki wytwarzania - obróbka ubytkowa (L): 15MiBM-SD/A
CATEGORIES:L
LOCATION:H034 A-10\; H104 A-10
END:VEVENT
BEGIN:VEVENT
UID:UZ_PLZ_20260506_0915_500366
DTSTAMP:20260506T091500
DTSTART:20260506T091500
DTEND:20260506T110000
SUMMARY:Rezerwacja IIM (R)
CATEGORIES:R
END:VEVENT
BEGIN:VEVENT
UID:UZ_PLZ_20260506_1245_499561
DTSTAMP:20260506T124500
DTSTART:20260506T124500
DTEND:20260506T141500
SUMMARY:Inżynieria wytwarzania II (W): 11IL-SP
CATEGORIES:W
LOCATION:B213 A-11
END:VEVENT
BEGIN:VEVENT
UID:UZ_PLZ_20260507_0915_499564
DTSTAMP:20260507T091500
DTSTART:20260507T091500
DTEND:20260507T104500
SUMMARY:Inżynieria wytwarzania II (L): 11MiBM-SP/B
CATEGORIES:L
LOCATION:H034 A-10\; H104 A-10
END:VEVENT
BEGIN:VEVENT
UID:UZ_PLZ_20260507_1245_499708
DTSTAMP:20260507T124500
DTSTART:20260507T124500
DTEND:20260507T142000
SUMMARY:Zaawansowane problemy obróbki skrawaniem (L): 31MiBM-EM-SP
CATEGORIES:L
LOCATION:H034 A-10\; H104 A-10
END:VEVENT
BEGIN:VEVENT
UID:UZ_PLZ_20260510_0730_500662
DTSTAMP:20260510T073000
DTSTART:20260510T073000
DTEND:20260510T091000
SUMMARY:Elementy statystyki w badaniach inżynierskich (W): 21BHP-NP
CATEGORIES:W
LOCATION:B213 A-11
END:VEVENT
BEGIN:VEVENT
UID:UZ_PLZ_20260510_0915_499808
DTSTAMP:20260510T091500
DTSTART:20260510T091500
DTEND:20260510T104500
SUMMARY:Kształtowanie technologicznej i eksploatacyjnej warstwy wierzchniej (L): 31MiBM-EM-NP
CATEGORIES:L
LOCATION:H034c A-10\; H104 A-10
END:VEVENT
BEGIN:VEVENT
UID:UZ_PLZ_20260510_1100_500482
DTSTAMP:20260510T110000
DTSTART:20260510T110000
DTEND:20260510T123000
SUMMARY:Techniki wytwarzania (W): 11ZiIP-NP
CATEGORIES:W
LOCATION:B213 A-11
END:VEVENT
BEGIN:VEVENT
UID:UZ_PLZ_20260510_1245_499743
DTSTAMP:20260510T124500
DTSTART:20260510T124500
DTEND:20260510T141500
SUMMARY:Techniki wytwarzania - obróbka ubytkowa (L): 15MiBM-ND/A
CATEGORIES:L
LOCATION:H034c A-10\; H104 A-10
END:VEVENT
BEGIN:VEVENT
UID:UZ_PLZ_20260510_1430_499719
DTSTAMP:20260510T143000
DTSTART:20260510T143000
DTEND:20260510T160000
SUMMARY:Techniki wytwarzania - obróbka ubytkowa (L): 15MiBM-ND/B
CATEGORIES:L
LOCATION:H034c A-10\; H104 A-10
END:VEVENT
BEGIN:VEVENT
UID:UZ_PLZ_20260510_1615_500523
DTSTAMP:20260510T161500
DTSTART:20260510T161500
DTEND:20260510T175500
SUMMARY:Techniki wytwarzania (L): 11ZiIP-NP/B
CATEGORIES:L
LOCATION:H034c A-10\; H104 A-10
END:VEVENT
BEGIN:VEVENT
UID:UZ_PLZ_20260511_0735_500452
DTSTAMP:20260511T073500
DTSTART:20260511T073500
DTEND:20260511T090000
SUMMARY:Techniki wytwarzania (L): 11ZiIP-SP/A
CATEGORIES:L
LOCATION:H034 A-10\; H110 A-10
END:VEVENT
BEGIN:VEVENT
UID:UZ_PLZ_20260511_0915_500452
DTSTAMP:20260511T091500
DTSTART:20260511T091500
DTEND:20260511T104500
SUMMARY:Techniki wytwarzania (L): 11ZiIP-SP/A
CATEGORIES:L
LOCATION:H034 A-10\; H110 A-10
END:VEVENT
BEGIN:VEVENT
UID:UZ_PLZ_20260511_1100_499580
DTSTAMP:20260511T110000
DTSTART:20260511T110000
DTEND:20260511T123000
SUMMARY:Inżynieria wytwarzania II (L): 11IL-SP
CATEGORIES:L
LOCATION:H034 A-10\; H104 A-10
END:VEVENT
BEGIN:VEVENT
UID:UZ_PLZ_20260512_0915_500421
DTSTAMP:20260512T091500
DTSTART:20260512T091500
DTEND:20260512T104500
SUMMARY:Techniki wytwarzania (L): 11ZiIP-SP/B
CATEGORIES:L
LOCATION:H034 A-10\; H110 A-10
END:VEVENT
BEGIN:VEVENT
UID:UZ_PLZ_20260512_1100_499637
DTSTAMP:20260512T110000
DTSTART:20260512T110000
DTEND:20260512T123000
SUMMARY:Techniki wytwarzania - obróbka ubytkowa (L): 15MiBM-SD/A
CATEGORIES:L
LOCATION:H034 A-10\; H104 A-10
END:VEVENT
BEGIN:VEVENT
UID:UZ_PLZ_20260512_1245_499599
DTSTAMP:20260512T124500
DTSTART:20260512T124500
DTEND:20260512T141000
SUMMARY:Techniki wytwarzania - obróbka ubytkowa (W): 15MiBM-SD
CATEGORIES:W
LOCATION:B112 A-11
END:VEVENT
BEGIN:VEVENT
UID:UZ_PLZ_20260513_0915_500366
DTSTAMP:20260513T091500
DTSTART:20260513T091500
DTEND:20260513T110000
SUMMARY:Rezerwacja IIM (R)
CATEGORIES:R
END:VEVENT
BEGIN:VEVENT
UID:UZ_PLZ_20260513_1245_499561
DTSTAMP:20260513T124500
DTSTART:20260513T124500
DTEND:20260513T141500
SUMMARY:Inżynieria wytwarzania II (W): 11IL-SP
CATEGORIES:W
LOCATION:B213 A-11
END:VEVENT
BEGIN:VEVENT
UID:UZ_PLZ_20260514_0915_499564
DTSTAMP:20260514T091500
DTSTART:20260514T091500
DTEND:20260514T104500
SUMMARY:Inżynieria wytwarzania II (L): 11MiBM-SP/B
CATEGORIES:L
LOCATION:H034 A-10\; H104 A-10
END:VEVENT
BEGIN:VEVENT
UID:UZ_PLZ_20260517_0740_499730
DTSTAMP:20260517T074000
DTSTART:20260517T074000
DTEND:20260517T090000
SUMMARY:Techniki wytwarzania - obróbka ubytkowa (W): 15MiBM-ND
CATEGORIES:W
LOCATION:B213 A-11
END:VEVENT
BEGIN:VEVENT
UID:UZ_PLZ_20260517_0915_499808
DTSTAMP:20260517T091500
DTSTART:20260517T091500
DTEND:20260517T104500
SUMMARY:Kształtowanie technologicznej i eksploatacyjnej warstwy wierzchniej (L): 31MiBM-EM-NP
CATEGORIES:L
LOCATION:H034c A-10\; H104 A-10
END:VEVENT
BEGIN:VEVENT
UID:UZ_PLZ_20260517_1100_500482
DTSTAMP:20260517T110000
DTSTART:20260517T110000
DTEND:20260517T123000
SUMMARY:Techniki wytwarzania (W): 11ZiIP-NP
CATEGORIES:W
LOCATION:B213 A-11
END:VEVENT
BEGIN:VEVENT
UID:UZ_PLZ_20260517_1245_499743
DTSTAMP:20260517T124500
DTSTART:20260517T124500
DTEND:20260517T141500
SUMMARY:Techniki wytwarzania - obróbka ubytkowa (L): 15MiBM-ND/A
CATEGORIES:L
LOCATION:H034c A-10\; H104 A-10
END:VEVENT
BEGIN:VEVENT
UID:UZ_PLZ_20260517_1430_499719
DTSTAMP:20260517T143000
DTSTART:20260517T143000
DTEND:20260517T160000
SUMMARY:Techniki wytwarzania - obróbka ubytkowa (L): 15MiBM-ND/B
CATEGORIES:L
LOCATION:H034c A-10\; H104 A-10
END:VEVENT
BEGIN:VEVENT
UID:UZ_PLZ_20260517_1615_500572
DTSTAMP:20260517T161500
DTSTART:20260517T161500
DTEND:20260517T173500
SUMMARY:Techniki wytwarzania (L): 11ZiIP-NP/A
CATEGORIES:L
LOCATION:H034c A-10\; H104 A-10
END:VEVENT
BEGIN:VEVENT
UID:UZ_PLZ_20260518_0915_500452
DTSTAMP:20260518T091500
DTSTART:20260518T091500
DTEND:20260518T104500
SUMMARY:Techniki wytwarzania (L): 11ZiIP-SP/A
CATEGORIES:L
LOCATION:H034 A-10\; H110 A-10
END:VEVENT
BEGIN:VEVENT
UID:UZ_PLZ_20260518_1100_499580
DTSTAMP:20260518T110000
DTSTART:20260518T110000
DTEND:20260518T123000
SUMMARY:Inżynieria wytwarzania II (L): 11IL-SP
CATEGORIES:L
LOCATION:H034 A-10\; H104 A-10
END:VEVENT
BEGIN:VEVENT
UID:UZ_PLZ_20260519_0730_500421
DTSTAMP:20260519T073000
DTSTART:20260519T073000
DTEND:20260519T090500
SUMMARY:Techniki wytwarzania (L): 11ZiIP-SP/B
CATEGORIES:L
LOCATION:H034 A-10\; H110 A-10
END:VEVENT
BEGIN:VEVENT
UID:UZ_PLZ_20260519_0915_500421
DTSTAMP:20260519T091500
DTSTART:20260519T091500
DTEND:20260519T104500
SUMMARY:Techniki wytwarzania (L): 11ZiIP-SP/B
CATEGORIES:L
LOCATION:H034 A-10\; H110 A-10
END:VEVENT
BEGIN:VEVENT
UID:UZ_PLZ_20260519_1100_499637
DTSTAMP:20260519T110000
DTSTART:20260519T110000
DTEND:20260519T123000
SUMMARY:Techniki wytwarzania - obróbka ubytkowa (L): 15MiBM-SD/A
CATEGORIES:L
LOCATION:H034 A-10\; H104 A-10
END:VEVENT
BEGIN:VEVENT
UID:UZ_PLZ_20260520_0915_500366
DTSTAMP:20260520T091500
DTSTART:20260520T091500
DTEND:20260520T110000
SUMMARY:Rezerwacja IIM (R)
CATEGORIES:R
END:VEVENT
BEGIN:VEVENT
UID:UZ_PLZ_20260520_1245_499561
DTSTAMP:20260520T124500
DTSTART:20260520T124500
DTEND:20260520T141500
SUMMARY:Inżynieria wytwarzania II (W): 11IL-SP
CATEGORIES:W
LOCATION:B213 A-11
END:VEVENT
BEGIN:VEVENT
UID:UZ_PLZ_20260521_0915_499564
DTSTAMP:20260521T091500
DTSTART:20260521T091500
DTEND:20260521T104500
SUMMARY:Inżynieria wytwarzania II (L): 11MiBM-SP/B
CATEGORIES:L
LOCATION:H034 A-10\; H104 A-10
END:VEVENT
BEGIN:VEVENT
UID:UZ_PLZ_20260521_1245_499708
DTSTAMP:20260521T124500
DTSTART:20260521T124500
DTEND:20260521T142000
SUMMARY:Zaawansowane problemy obróbki skrawaniem (L): 31MiBM-EM-SP
CATEGORIES:L
LOCATION:H034 A-10\; H104 A-10
END:VEVENT
BEGIN:VEVENT
UID:UZ_PLZ_20260525_0735_500452
DTSTAMP:20260525T073500
DTSTART:20260525T073500
DTEND:20260525T090000
SUMMARY:Techniki wytwarzania (L): 11ZiIP-SP/A
CATEGORIES:L
LOCATION:H034 A-10\; H110 A-10
END:VEVENT
BEGIN:VEVENT
UID:UZ_PLZ_20260525_0915_500452
DTSTAMP:20260525T091500
DTSTART:20260525T091500
DTEND:20260525T104500
SUMMARY:Techniki wytwarzania (L): 11ZiIP-SP/A
CATEGORIES:L
LOCATION:H034 A-10\; H110 A-10
END:VEVENT
BEGIN:VEVENT
UID:UZ_PLZ_20260525_1100_499580
DTSTAMP:20260525T110000
DTSTART:20260525T110000
DTEND:20260525T123000
SUMMARY:Inżynieria wytwarzania II (L): 11IL-SP
CATEGORIES:L
LOCATION:H034 A-10\; H104 A-10
END:VEVENT
BEGIN:VEVENT
UID:UZ_PLZ_20260526_0915_500421
DTSTAMP:20260526T091500
DTSTART:20260526T091500
DTEND:20260526T104500
SUMMARY:Techniki wytwarzania (L): 11ZiIP-SP/B
CATEGORIES:L
LOCATION:H034 A-10\; H110 A-10
END:VEVENT
BEGIN:VEVENT
UID:UZ_PLZ_20260526_1100_499637
DTSTAMP:20260526T110000
DTSTART:20260526T110000
DTEND:20260526T123000
SUMMARY:Techniki wytwarzania - obróbka ubytkowa (L): 15MiBM-SD/A
CATEGORIES:L
LOCATION:H034 A-10\; H104 A-10
END:VEVENT
BEGIN:VEVENT
UID:UZ_PLZ_20260526_1245_499599
DTSTAMP:20260526T124500
DTSTART:20260526T124500
DTEND:20260526T141000
SUMMARY:Techniki wytwarzania - obróbka ubytkowa (W): 15MiBM-SD
CATEGORIES:W
LOCATION:B112 A-11
END:VEVENT
BEGIN:VEVENT
UID:UZ_PLZ_20260527_0915_500366
DTSTAMP:20260527T091500
DTSTART:20260527T091500
DTEND:20260527T110000
SUMMARY:Rezerwacja IIM (R)
CATEGORIES:R
END:VEVENT
BEGIN:VEVENT
UID:UZ_PLZ_20260527_1245_499561
DTSTAMP:20260527T124500
DTSTART:20260527T124500
DTEND:20260527T141500
SUMMARY:Inżynieria wytwarzania II (W): 11IL-SP
CATEGORIES:W
LOCATION:B213 A-11
END:VEVENT
BEGIN:VEVENT
UID:UZ_PLZ_20260528_0915_499564
DTSTAMP:20260528T091500
DTSTART:20260528T091500
DTEND:20260528T104500
SUMMARY:Inżynieria wytwarzania II (L): 11MiBM-SP/B
CATEGORIES:L
LOCATION:H034 A-10\; H104 A-10
END:VEVENT
BEGIN:VEVENT
UID:UZ_PLZ_20260531_0730_500662
DTSTAMP:20260531T073000
DTSTART:20260531T073000
DTEND:20260531T091000
SUMMARY:Elementy statystyki w badaniach inżynierskich (W): 21BHP-NP
CATEGORIES:W
LOCATION:B213 A-11
END:VEVENT
BEGIN:VEVENT
UID:UZ_PLZ_20260531_0915_499808
DTSTAMP:20260531T091500
DTSTART:20260531T091500
DTEND:20260531T104500
SUMMARY:Kształtowanie technologicznej i eksploatacyjnej warstwy wierzchniej (L): 31MiBM-EM-NP
CATEGORIES:L
LOCATION:H034c A-10\; H104 A-10
END:VEVENT
BEGIN:VEVENT
UID:UZ_PLZ_20260531_1100_500482
DTSTAMP:20260531T110000
DTSTART:20260531T110000
DTEND:20260531T123000
SUMMARY:Techniki wytwarzania (W): 11ZiIP-NP
CATEGORIES:W
LOCATION:B213 A-11
END:VEVENT
BEGIN:VEVENT
UID:UZ_PLZ_20260531_1245_499743
DTSTAMP:20260531T124500
DTSTART:20260531T124500
DTEND:20260531T141500
SUMMARY:Techniki wytwarzania - obróbka ubytkowa (L): 15MiBM-ND/A
CATEGORIES:L
LOCATION:H034c A-10\; H104 A-10
END:VEVENT
BEGIN:VEVENT
UID:UZ_PLZ_20260531_1430_499719
DTSTAMP:20260531T143000
DTSTART:20260531T143000
DTEND:20260531T160000
SUMMARY:Techniki wytwarzania - obróbka ubytkowa (L): 15MiBM-ND/B
CATEGORIES:L
LOCATION:H034c A-10\; H104 A-10
END:VEVENT
BEGIN:VEVENT
UID:UZ_PLZ_20260531_1615_500523
DTSTAMP:20260531T161500
DTSTART:20260531T161500
DTEND:20260531T175500
SUMMARY:Techniki wytwarzania (L): 11ZiIP-NP/B
CATEGORIES:L
LOCATION:H034c A-10\; H104 A-10
END:VEVENT
BEGIN:VEVENT
UID:UZ_PLZ_20260601_0910_500452
DTSTAMP:20260601T091000
DTSTART:20260601T091000
DTEND:20260601T095500
SUMMARY:Techniki wytwarzania (L): 11ZiIP-SP/A
CATEGORIES:L
LOCATION:H034 A-10\; H110 A-10
END:VEVENT
BEGIN:VEVENT
UID:UZ_PLZ_20260601_1100_499580
DTSTAMP:20260601T110000
DTSTART:20260601T110000
DTEND:20260601T123000
SUMMARY:Inżynieria wytwarzania II (L): 11IL-SP
CATEGORIES:L
LOCATION:H034 A-10\; H104 A-10
END:VEVENT
BEGIN:VEVENT
UID:UZ_PLZ_20260602_0730_500421
DTSTAMP:20260602T073000
DTSTART:20260602T073000
DTEND:20260602T090500
SUMMARY:Techniki wytwarzania (L): 11ZiIP-SP/B
CATEGORIES:L
LOCATION:H034 A-10\; H110 A-10
END:VEVENT
BEGIN:VEVENT
UID:UZ_PLZ_20260602_0910_500421
DTSTAMP:20260602T091000
DTSTART:20260602T091000
DTEND:20260602T095500
SUMMARY:Techniki wytwarzania (L): 11ZiIP-SP/B
CATEGORIES:L
LOCATION:H034 A-10\; H110 A-10
END:VEVENT
BEGIN:VEVENT
UID:UZ_PLZ_20260602_1100_499637
DTSTAMP:20260602T110000
DTSTART:20260602T110000
DTEND:20260602T123000
SUMMARY:Techniki wytwarzania - obróbka ubytkowa (L): 15MiBM-SD/A
CATEGORIES:L
LOCATION:H034 A-10\; H104 A-10
END:VEVENT
BEGIN:VEVENT
UID:UZ_PLZ_20260603_0915_500366
DTSTAMP:20260603T091500
DTSTART:20260603T091500
DTEND:20260603T110000
SUMMARY:Rezerwacja IIM (R)
CATEGORIES:R
END:VEVENT
BEGIN:VEVENT
UID:UZ_PLZ_20260603_1245_499561
DTSTAMP:20260603T124500
DTSTART:20260603T124500
DTEND:20260603T141500
SUMMARY:Inżynieria wytwarzania II (W): 11IL-SP
CATEGORIES:W
LOCATION:B213 A-11
END:VEVENT
BEGIN:VEVENT
UID:UZ_PLZ_20260608_1100_499580
DTSTAMP:20260608T110000
DTSTART:20260608T110000
DTEND:20260608T123000
SUMMARY:Inżynieria wytwarzania II (L): 11IL-SP
CATEGORIES:L
LOCATION:H034 A-10\; H104 A-10
END:VEVENT
BEGIN:VEVENT
UID:UZ_PLZ_20260609_1100_499637
DTSTAMP:20260609T110000
DTSTART:20260609T110000
DTEND:20260609T123000
SUMMARY:Techniki wytwarzania - obróbka ubytkowa (L): 15MiBM-SD/A
CATEGORIES:L
LOCATION:H034 A-10\; H104 A-10
END:VEVENT
BEGIN:VEVENT
UID:UZ_PLZ_20260609_1245_499599
DTSTAMP:20260609T124500
DTSTART:20260609T124500
DTEND:20260609T141000
SUMMARY:Techniki wytwarzania - obróbka ubytkowa (W): 15MiBM-SD
CATEGORIES:W
LOCATION:B112 A-11
END:VEVENT
BEGIN:VEVENT
UID:UZ_PLZ_20260610_0915_500366
DTSTAMP:20260610T091500
DTSTART:20260610T091500
DTEND:20260610T110000
SUMMARY:Rezerwacja IIM (R)
CATEGORIES:R
END:VEVENT
BEGIN:VEVENT
UID:UZ_PLZ_20260610_1245_499561
DTSTAMP:20260610T124500
DTSTART:20260610T124500
DTEND:20260610T141500
SUMMARY:Inżynieria wytwarzania II (W): 11IL-SP
CATEGORIES:W
LOCATION:B213 A-11
END:VEVENT
BEGIN:VEVENT
UID:UZ_PLZ_20260611_0915_499564
DTSTAMP:20260611T091500
DTSTART:20260611T091500
DTEND:20260611T104500
SUMMARY:Inżynieria wytwarzania II (L): 11MiBM-SP/B
CATEGORIES:L
LOCATION:H034 A-10\; H104 A-10
END:VEVENT
BEGIN:VEVENT
UID:UZ_PLZ_20260614_0740_499730
DTSTAMP:20260614T074000
DTSTART:20260614T074000
DTEND:20260614T090000
SUMMARY:Techniki wytwarzania - obróbka ubytkowa (W): 15MiBM-ND
CATEGORIES:W
LOCATION:B213 A-11
END:VEVENT
BEGIN:VEVENT
UID:UZ_PLZ_20260614_0915_499808
DTSTAMP:20260614T091500
DTSTART:20260614T091500
DTEND:20260614T104500
SUMMARY:Kształtowanie technologicznej i eksploatacyjnej warstwy wierzchniej (L): 31MiBM-EM-NP
CATEGORIES:L
LOCATION:H034c A-10\; H104 A-10
END:VEVENT
BEGIN:VEVENT
UID:UZ_PLZ_20260614_1100_500482
DTSTAMP:20260614T110000
DTSTART:20260614T110000
DTEND:20260614T123000
SUMMARY:Techniki wytwarzania (W): 11ZiIP-NP
CATEGORIES:W
LOCATION:B213 A-11
END:VEVENT
BEGIN:VEVENT
UID:UZ_PLZ_20260614_1245_499743
DTSTAMP:20260614T124500
DTSTART:20260614T124500
DTEND:20260614T141500
SUMMARY:Techniki wytwarzania - obróbka ubytkowa (L): 15MiBM-ND/A
CATEGORIES:L
LOCATION:H034c A-10\; H104 A-10
END:VEVENT
BEGIN:VEVENT
UID:UZ_PLZ_20260614_1430_499719
DTSTAMP:20260614T143000
DTSTART:20260614T143000
DTEND:20260614T160000
SUMMARY:Techniki wytwarzania - obróbka ubytkowa (L): 15MiBM-ND/B
CATEGORIES:L
LOCATION:H034c A-10\; H104 A-10
END:VEVENT
BEGIN:VEVENT
UID:UZ_PLZ_20260614_1615_500572
DTSTAMP:20260614T161500
DTSTART:20260614T161500
DTEND:20260614T173500
SUMMARY:Techniki wytwarzania (L): 11ZiIP-NP/A
CATEGORIES:L
LOCATION:H034c A-10\; H104 A-10
END:VEVENT
BEGIN:VEVENT
UID:UZ_PLZ_20260615_1100_499580
DTSTAMP:20260615T110000
DTSTART:20260615T110000
DTEND:20260615T123000
SUMMARY:Inżynieria wytwarzania II (L): 11IL-SP
CATEGORIES:L
LOCATION:H034 A-10\; H104 A-10
END:VEVENT
BEGIN:VEVENT
UID:UZ_PLZ_20260616_1100_499637
DTSTAMP:20260616T110000
DTSTART:20260616T110000
DTEND:20260616T123000
SUMMARY:Techniki wytwarzania - obróbka ubytkowa (L): 15MiBM-SD/A
CATEGORIES:L
LOCATION:H034 A-10\; H104 A-10
END:VEVENT
BEGIN:VEVENT
UID:UZ_PLZ_20260617_0915_500366
DTSTAMP:20260617T091500
DTSTART:20260617T091500
DTEND:20260617T110000
SUMMARY:Rezerwacja IIM (R)
CATEGORIES:R
END:VEVENT
BEGIN:VEVENT
UID:UZ_PLZ_20260617_1245_499561
DTSTAMP:20260617T124500
DTSTART:20260617T124500
DTEND:20260617T141500
SUMMARY:Inżynieria wytwarzania II (W): 11IL-SP
CATEGORIES:W
LOCATION:B213 A-11
END:VEVENT
BEGIN:VEVENT
UID:UZ_PLZ_20260618_0915_499564
DTSTAMP:20260618T091500
DTSTART:20260618T091500
DTEND:20260618T104500
SUMMARY:Inżynieria wytwarzania II (L): 11MiBM-SP/B
CATEGORIES:L
LOCATION:H034 A-10\; H104 A-10
END:VEVENT
BEGIN:VEVENT
UID:UZ_PLZ_20260618_1245_499708
DTSTAMP:20260618T124500
DTSTART:20260618T124500
DTEND:20260618T142000
SUMMARY:Zaawansowane problemy obróbki skrawaniem (L): 31MiBM-EM-SP
CATEGORIES:L
LOCATION:H034 A-10\; H104 A-10
END:VEVENT
END:VCALENDAR
