BEGIN:VCALENDAR
TZID:Europe/Warsaw
X-WR-TIMEZONE:Europe/Warsaw
VERSION:2.0
PRODID:-//Uniwersytet Zielonogórski//NONSGML Plan zajęć v1.0//EN
NAME:Plan zajęć - semestr zimowy 2025/2026
X-WR-CALNAME:Plan zajęć - semestr zimowy 2025/2026
COLOR:green
CALSCALE:GREGORIAN
BEGIN:VEVENT
UID:UZ_PLZ_20251002_0900_490845
DTSTAMP:20251002T090000
DTSTART:20251002T090000
DTEND:20251002T103000
SUMMARY:Farmakologia (W): 2 PIEL-SP 24/25
CATEGORIES:W
END:VEVENT
BEGIN:VEVENT
UID:UZ_PLZ_20251002_1230_488515
DTSTAMP:20251002T123000
DTSTART:20251002T123000
DTEND:20251002T140000
SUMMARY:Farmakologia z toksykologią (W): 3 LEK-JMS 23/24
CATEGORIES:W
END:VEVENT
BEGIN:VEVENT
UID:UZ_PLZ_20251003_1400_488640
DTSTAMP:20251003T140000
DTSTART:20251003T140000
DTEND:20251003T153000
SUMMARY:Farmakologia z toksykologią (W): 3 LEK-JMN 23/24
CATEGORIES:W
END:VEVENT
BEGIN:VEVENT
UID:UZ_PLZ_20251006_1330_488640
DTSTAMP:20251006T133000
DTSTART:20251006T133000
DTEND:20251006T150000
SUMMARY:Farmakologia z toksykologią (W): 3 LEK-JMN 23/24
CATEGORIES:W
END:VEVENT
BEGIN:VEVENT
UID:UZ_PLZ_20251006_1515_488515
DTSTAMP:20251006T151500
DTSTART:20251006T151500
DTEND:20251006T164500
SUMMARY:Farmakologia z toksykologią (W): 3 LEK-JMS 23/24
CATEGORIES:W
END:VEVENT
BEGIN:VEVENT
UID:UZ_PLZ_20251009_0900_490845
DTSTAMP:20251009T090000
DTSTART:20251009T090000
DTEND:20251009T103000
SUMMARY:Farmakologia (W): 2 PIEL-SP 24/25
CATEGORIES:W
END:VEVENT
BEGIN:VEVENT
UID:UZ_PLZ_20251014_0900_490470
DTSTAMP:20251014T090000
DTSTART:20251014T090000
DTEND:20251014T103000
SUMMARY:Farmakologia (W): 2 POŁ-SP 24/25
CATEGORIES:W
END:VEVENT
BEGIN:VEVENT
UID:UZ_PLZ_20251016_0900_490845
DTSTAMP:20251016T090000
DTSTART:20251016T090000
DTEND:20251016T103000
SUMMARY:Farmakologia (W): 2 PIEL-SP 24/25
CATEGORIES:W
END:VEVENT
BEGIN:VEVENT
UID:UZ_PLZ_20251021_0900_490470
DTSTAMP:20251021T090000
DTSTART:20251021T090000
DTEND:20251021T103000
SUMMARY:Farmakologia (W): 2 POŁ-SP 24/25
CATEGORIES:W
END:VEVENT
BEGIN:VEVENT
UID:UZ_PLZ_20251023_0900_490845
DTSTAMP:20251023T090000
DTSTART:20251023T090000
DTEND:20251023T111500
SUMMARY:Farmakologia (W): 2 PIEL-SP 24/25
CATEGORIES:W
END:VEVENT
BEGIN:VEVENT
UID:UZ_PLZ_20251028_0900_490470
DTSTAMP:20251028T090000
DTSTART:20251028T090000
DTEND:20251028T103000
SUMMARY:Farmakologia (W): 2 POŁ-SP 24/25
CATEGORIES:W
END:VEVENT
BEGIN:VEVENT
UID:UZ_PLZ_20251104_0900_490470
DTSTAMP:20251104T090000
DTSTART:20251104T090000
DTEND:20251104T111500
SUMMARY:Farmakologia (W): 2 POŁ-SP 24/25
CATEGORIES:W
END:VEVENT
BEGIN:VEVENT
UID:UZ_PLZ_20251106_0900_490845
DTSTAMP:20251106T090000
DTSTART:20251106T090000
DTEND:20251106T103000
SUMMARY:Farmakologia (W): 2 PIEL-SP 24/25
CATEGORIES:W
END:VEVENT
BEGIN:VEVENT
UID:UZ_PLZ_20251106_1615_488640
DTSTAMP:20251106T161500
DTSTART:20251106T161500
DTEND:20251106T174500
SUMMARY:Farmakologia z toksykologią (W): 3 LEK-JMN 23/24
CATEGORIES:W
END:VEVENT
BEGIN:VEVENT
UID:UZ_PLZ_20251106_1800_488515
DTSTAMP:20251106T180000
DTSTART:20251106T180000
DTEND:20251106T193000
SUMMARY:Farmakologia z toksykologią (W): 3 LEK-JMS 23/24
CATEGORIES:W
END:VEVENT
BEGIN:VEVENT
UID:UZ_PLZ_20251118_0900_490470
DTSTAMP:20251118T090000
DTSTART:20251118T090000
DTEND:20251118T103000
SUMMARY:Farmakologia (W): 2 POŁ-SP 24/25
CATEGORIES:W
END:VEVENT
BEGIN:VEVENT
UID:UZ_PLZ_20251120_0900_490845
DTSTAMP:20251120T090000
DTSTART:20251120T090000
DTEND:20251120T103000
SUMMARY:Farmakologia (W): 2 PIEL-SP 24/25
CATEGORIES:W
END:VEVENT
BEGIN:VEVENT
UID:UZ_PLZ_20251204_0900_490845
DTSTAMP:20251204T090000
DTSTART:20251204T090000
DTEND:20251204T103000
SUMMARY:Farmakologia (W): 2 PIEL-SP 24/25
CATEGORIES:W
END:VEVENT
END:VCALENDAR
