BEGIN:VCALENDAR
TZID:Europe/Warsaw
X-WR-TIMEZONE:Europe/Warsaw
VERSION:2.0
PRODID:-//Uniwersytet Zielonogórski//NONSGML Plan zajęć v1.0//EN
NAME:Plan zajęć - semestr letni 2025/2026
X-WR-CALNAME:Plan zajęć - semestr letni 2025/2026
COLOR:green
CALSCALE:GREGORIAN
BEGIN:VEVENT
UID:UZ_PLZ_20260305_1400_504370
DTSTAMP:20260305T140000
DTSTART:20260305T140000
DTEND:20260305T161500
SUMMARY:Farmakologia (W): 1 POŁ-SP 25/26
CATEGORIES:W
X-ALT-DESC;FMTTYPE=text/html:<html><body><a href="https://classroom.google.com/c/ODQ1OTU0NzE3MDIz">Google Classroom</a> </body></html>
END:VEVENT
BEGIN:VEVENT
UID:UZ_PLZ_20260305_1630_496837
DTSTAMP:20260305T163000
DTSTART:20260305T163000
DTEND:20260305T180000
SUMMARY:Farmakologia z toksykologią (W): 3 LEK-JMN 23/24
CATEGORIES:W
X-ALT-DESC;FMTTYPE=text/html:<html><body><a href="https://classroom.google.com/c/ODQ1OTU1Mjc5MDM0">Google Classroom</a> </body></html>
END:VEVENT
BEGIN:VEVENT
UID:UZ_PLZ_20260305_1830_496950
DTSTAMP:20260305T183000
DTSTART:20260305T183000
DTEND:20260305T200000
SUMMARY:Farmakologia z toksykologią (W): 3 LEK-JMS 23/24
CATEGORIES:W
X-ALT-DESC;FMTTYPE=text/html:<html><body><a href="https://classroom.google.com/c/ODQ1OTU0Nzk5OTcz">Google Classroom</a> </body></html>
END:VEVENT
BEGIN:VEVENT
UID:UZ_PLZ_20260306_1500_504051
DTSTAMP:20260306T150000
DTSTART:20260306T150000
DTEND:20260306T164500
SUMMARY:Farmakologia i ordynowanie produktów leczniczych (W): 1 PIEL-ND 25/26
CATEGORIES:W
X-ALT-DESC;FMTTYPE=text/html:<html><body><a href="https://classroom.google.com/c/ODQ1OTU1MTUzMDI2">Google Classroom</a> </body></html>
END:VEVENT
BEGIN:VEVENT
UID:UZ_PLZ_20260306_1700_504072
DTSTAMP:20260306T170000
DTSTART:20260306T170000
DTEND:20260306T184500
SUMMARY:Farmakologia i ordynowanie produktów leczniczych (W): 1 PIEL-SD 25/26
CATEGORIES:W
X-ALT-DESC;FMTTYPE=text/html:<html><body><a href="https://classroom.google.com/c/ODQ1OTU0OTMwNzk5">Google Classroom</a> </body></html>
END:VEVENT
BEGIN:VEVENT
UID:UZ_PLZ_20260311_1600_504370
DTSTAMP:20260311T160000
DTSTART:20260311T160000
DTEND:20260311T181500
SUMMARY:Farmakologia (W): 1 POŁ-SP 25/26
CATEGORIES:W
X-ALT-DESC;FMTTYPE=text/html:<html><body><a href="https://classroom.google.com/c/ODQ1OTU0NzE3MDIz">Google Classroom</a> </body></html>
END:VEVENT
BEGIN:VEVENT
UID:UZ_PLZ_20260312_1630_496837
DTSTAMP:20260312T163000
DTSTART:20260312T163000
DTEND:20260312T180000
SUMMARY:Farmakologia z toksykologią (W): 3 LEK-JMN 23/24
CATEGORIES:W
X-ALT-DESC;FMTTYPE=text/html:<html><body><a href="https://classroom.google.com/c/ODQ1OTU1Mjc5MDM0">Google Classroom</a> </body></html>
END:VEVENT
BEGIN:VEVENT
UID:UZ_PLZ_20260312_1830_496950
DTSTAMP:20260312T183000
DTSTART:20260312T183000
DTEND:20260312T200000
SUMMARY:Farmakologia z toksykologią (W): 3 LEK-JMS 23/24
CATEGORIES:W
X-ALT-DESC;FMTTYPE=text/html:<html><body><a href="https://classroom.google.com/c/ODQ1OTU0Nzk5OTcz">Google Classroom</a> </body></html>
END:VEVENT
BEGIN:VEVENT
UID:UZ_PLZ_20260313_1500_504051
DTSTAMP:20260313T150000
DTSTART:20260313T150000
DTEND:20260313T164500
SUMMARY:Farmakologia i ordynowanie produktów leczniczych (W): 1 PIEL-ND 25/26
CATEGORIES:W
X-ALT-DESC;FMTTYPE=text/html:<html><body><a href="https://classroom.google.com/c/ODQ1OTU1MTUzMDI2">Google Classroom</a> </body></html>
END:VEVENT
BEGIN:VEVENT
UID:UZ_PLZ_20260313_1700_504072
DTSTAMP:20260313T170000
DTSTART:20260313T170000
DTEND:20260313T184500
SUMMARY:Farmakologia i ordynowanie produktów leczniczych (W): 1 PIEL-SD 25/26
CATEGORIES:W
X-ALT-DESC;FMTTYPE=text/html:<html><body><a href="https://classroom.google.com/c/ODQ1OTU0OTMwNzk5">Google Classroom</a> </body></html>
END:VEVENT
BEGIN:VEVENT
UID:UZ_PLZ_20260318_1600_504370
DTSTAMP:20260318T160000
DTSTART:20260318T160000
DTEND:20260318T181500
SUMMARY:Farmakologia (W): 1 POŁ-SP 25/26
CATEGORIES:W
X-ALT-DESC;FMTTYPE=text/html:<html><body><a href="https://classroom.google.com/c/ODQ1OTU0NzE3MDIz">Google Classroom</a> </body></html>
END:VEVENT
BEGIN:VEVENT
UID:UZ_PLZ_20260319_1600_504370
DTSTAMP:20260319T160000
DTSTART:20260319T160000
DTEND:20260319T181500
SUMMARY:Farmakologia (W): 1 POŁ-SP 25/26
CATEGORIES:W
X-ALT-DESC;FMTTYPE=text/html:<html><body><a href="https://classroom.google.com/c/ODQ1OTU0NzE3MDIz">Google Classroom</a> </body></html>
END:VEVENT
BEGIN:VEVENT
UID:UZ_PLZ_20260320_1500_504051
DTSTAMP:20260320T150000
DTSTART:20260320T150000
DTEND:20260320T164500
SUMMARY:Farmakologia i ordynowanie produktów leczniczych (W): 1 PIEL-ND 25/26
CATEGORIES:W
X-ALT-DESC;FMTTYPE=text/html:<html><body><a href="https://classroom.google.com/c/ODQ1OTU1MTUzMDI2">Google Classroom</a> </body></html>
END:VEVENT
BEGIN:VEVENT
UID:UZ_PLZ_20260320_1700_504072
DTSTAMP:20260320T170000
DTSTART:20260320T170000
DTEND:20260320T184500
SUMMARY:Farmakologia i ordynowanie produktów leczniczych (W): 1 PIEL-SD 25/26
CATEGORIES:W
X-ALT-DESC;FMTTYPE=text/html:<html><body><a href="https://classroom.google.com/c/ODQ1OTU0OTMwNzk5">Google Classroom</a> </body></html>
END:VEVENT
BEGIN:VEVENT
UID:UZ_PLZ_20260327_1500_504051
DTSTAMP:20260327T150000
DTSTART:20260327T150000
DTEND:20260327T164500
SUMMARY:Farmakologia i ordynowanie produktów leczniczych (W): 1 PIEL-ND 25/26
CATEGORIES:W
X-ALT-DESC;FMTTYPE=text/html:<html><body><a href="https://classroom.google.com/c/ODQ1OTU1MTUzMDI2">Google Classroom</a> </body></html>
END:VEVENT
BEGIN:VEVENT
UID:UZ_PLZ_20260327_1700_504072
DTSTAMP:20260327T170000
DTSTART:20260327T170000
DTEND:20260327T184500
SUMMARY:Farmakologia i ordynowanie produktów leczniczych (W): 1 PIEL-SD 25/26
CATEGORIES:W
X-ALT-DESC;FMTTYPE=text/html:<html><body><a href="https://classroom.google.com/c/ODQ1OTU0OTMwNzk5">Google Classroom</a> </body></html>
END:VEVENT
BEGIN:VEVENT
UID:UZ_PLZ_20260402_1600_504370
DTSTAMP:20260402T160000
DTSTART:20260402T160000
DTEND:20260402T181500
SUMMARY:Farmakologia (W): 1 POŁ-SP 25/26
CATEGORIES:W
X-ALT-DESC;FMTTYPE=text/html:<html><body><a href="https://classroom.google.com/c/ODQ1OTU0NzE3MDIz">Google Classroom</a> </body></html>
END:VEVENT
BEGIN:VEVENT
UID:UZ_PLZ_20260403_1700_504072
DTSTAMP:20260403T170000
DTSTART:20260403T170000
DTEND:20260403T184500
SUMMARY:Farmakologia i ordynowanie produktów leczniczych (W): 1 PIEL-SD 25/26
CATEGORIES:W
X-ALT-DESC;FMTTYPE=text/html:<html><body><a href="https://classroom.google.com/c/ODQ1OTU0OTMwNzk5">Google Classroom</a> </body></html>
END:VEVENT
BEGIN:VEVENT
UID:UZ_PLZ_20260409_1630_496837
DTSTAMP:20260409T163000
DTSTART:20260409T163000
DTEND:20260409T180000
SUMMARY:Farmakologia z toksykologią (W): 3 LEK-JMN 23/24
CATEGORIES:W
X-ALT-DESC;FMTTYPE=text/html:<html><body><a href="https://classroom.google.com/c/ODQ1OTU1Mjc5MDM0">Google Classroom</a> </body></html>
END:VEVENT
BEGIN:VEVENT
UID:UZ_PLZ_20260409_1830_496950
DTSTAMP:20260409T183000
DTSTART:20260409T183000
DTEND:20260409T204500
SUMMARY:Farmakologia z toksykologią (W): 3 LEK-JMS 23/24
CATEGORIES:W
X-ALT-DESC;FMTTYPE=text/html:<html><body><a href="https://classroom.google.com/c/ODQ1OTU0Nzk5OTcz">Google Classroom</a> </body></html>
END:VEVENT
BEGIN:VEVENT
UID:UZ_PLZ_20260410_1500_504051
DTSTAMP:20260410T150000
DTSTART:20260410T150000
DTEND:20260410T164500
SUMMARY:Farmakologia i ordynowanie produktów leczniczych (W): 1 PIEL-ND 25/26
CATEGORIES:W
X-ALT-DESC;FMTTYPE=text/html:<html><body><a href="https://classroom.google.com/c/ODQ1OTU1MTUzMDI2">Google Classroom</a> </body></html>
END:VEVENT
BEGIN:VEVENT
UID:UZ_PLZ_20260416_1545_496837
DTSTAMP:20260416T154500
DTSTART:20260416T154500
DTEND:20260416T180000
SUMMARY:Farmakologia z toksykologią (W): 3 LEK-JMN 23/24
CATEGORIES:W
X-ALT-DESC;FMTTYPE=text/html:<html><body><a href="https://classroom.google.com/c/ODQ1OTU1Mjc5MDM0">Google Classroom</a> </body></html>
END:VEVENT
BEGIN:VEVENT
UID:UZ_PLZ_20260416_1830_496950
DTSTAMP:20260416T183000
DTSTART:20260416T183000
DTEND:20260416T200000
SUMMARY:Farmakologia z toksykologią (W): 3 LEK-JMS 23/24
CATEGORIES:W
X-ALT-DESC;FMTTYPE=text/html:<html><body><a href="https://classroom.google.com/c/ODQ1OTU0Nzk5OTcz">Google Classroom</a> </body></html>
END:VEVENT
BEGIN:VEVENT
UID:UZ_PLZ_20260417_1500_504051
DTSTAMP:20260417T150000
DTSTART:20260417T150000
DTEND:20260417T170000
SUMMARY:Farmakologia i ordynowanie produktów leczniczych (W): 1 PIEL-ND 25/26
CATEGORIES:W
X-ALT-DESC;FMTTYPE=text/html:<html><body><a href="https://classroom.google.com/c/ODQ1OTU1MTUzMDI2">Google Classroom</a> </body></html>
END:VEVENT
BEGIN:VEVENT
UID:UZ_PLZ_20260417_1715_504072
DTSTAMP:20260417T171500
DTSTART:20260417T171500
DTEND:20260417T191500
SUMMARY:Farmakologia i ordynowanie produktów leczniczych (W): 1 PIEL-SD 25/26
CATEGORIES:W
X-ALT-DESC;FMTTYPE=text/html:<html><body><a href="https://classroom.google.com/c/ODQ1OTU0OTMwNzk5">Google Classroom</a> </body></html>
END:VEVENT
BEGIN:VEVENT
UID:UZ_PLZ_20260423_1630_496837
DTSTAMP:20260423T163000
DTSTART:20260423T163000
DTEND:20260423T180000
SUMMARY:Farmakologia z toksykologią (W): 3 LEK-JMN 23/24
CATEGORIES:W
X-ALT-DESC;FMTTYPE=text/html:<html><body><a href="https://classroom.google.com/c/ODQ1OTU1Mjc5MDM0">Google Classroom</a> </body></html>
END:VEVENT
BEGIN:VEVENT
UID:UZ_PLZ_20260423_1830_496950
DTSTAMP:20260423T183000
DTSTART:20260423T183000
DTEND:20260423T204500
SUMMARY:Farmakologia z toksykologią (W): 3 LEK-JMS 23/24
CATEGORIES:W
X-ALT-DESC;FMTTYPE=text/html:<html><body><a href="https://classroom.google.com/c/ODQ1OTU0Nzk5OTcz">Google Classroom</a> </body></html>
END:VEVENT
BEGIN:VEVENT
UID:UZ_PLZ_20260424_1500_504051
DTSTAMP:20260424T150000
DTSTART:20260424T150000
DTEND:20260424T170000
SUMMARY:Farmakologia i ordynowanie produktów leczniczych (W): 1 PIEL-ND 25/26
CATEGORIES:W
X-ALT-DESC;FMTTYPE=text/html:<html><body><a href="https://classroom.google.com/c/ODQ1OTU1MTUzMDI2">Google Classroom</a> </body></html>
END:VEVENT
BEGIN:VEVENT
UID:UZ_PLZ_20260424_1715_504072
DTSTAMP:20260424T171500
DTSTART:20260424T171500
DTEND:20260424T191500
SUMMARY:Farmakologia i ordynowanie produktów leczniczych (W): 1 PIEL-SD 25/26
CATEGORIES:W
X-ALT-DESC;FMTTYPE=text/html:<html><body><a href="https://classroom.google.com/c/ODQ1OTU0OTMwNzk5">Google Classroom</a> </body></html>
END:VEVENT
BEGIN:VEVENT
UID:UZ_PLZ_20260507_1630_496950
DTSTAMP:20260507T163000
DTSTART:20260507T163000
DTEND:20260507T180000
SUMMARY:Farmakologia z toksykologią (W): 3 LEK-JMS 23/24
CATEGORIES:W
X-ALT-DESC;FMTTYPE=text/html:<html><body><a href="https://classroom.google.com/c/ODQ1OTU0Nzk5OTcz">Google Classroom</a> </body></html>
END:VEVENT
BEGIN:VEVENT
UID:UZ_PLZ_20260507_1830_496837
DTSTAMP:20260507T183000
DTSTART:20260507T183000
DTEND:20260507T204500
SUMMARY:Farmakologia z toksykologią (W): 3 LEK-JMN 23/24
CATEGORIES:W
X-ALT-DESC;FMTTYPE=text/html:<html><body><a href="https://classroom.google.com/c/ODQ1OTU1Mjc5MDM0">Google Classroom</a> </body></html>
END:VEVENT
BEGIN:VEVENT
UID:UZ_PLZ_20260514_1630_496950
DTSTAMP:20260514T163000
DTSTART:20260514T163000
DTEND:20260514T180000
SUMMARY:Farmakologia z toksykologią (W): 3 LEK-JMS 23/24
CATEGORIES:W
X-ALT-DESC;FMTTYPE=text/html:<html><body><a href="https://classroom.google.com/c/ODQ1OTU0Nzk5OTcz">Google Classroom</a> </body></html>
END:VEVENT
BEGIN:VEVENT
UID:UZ_PLZ_20260514_1830_496837
DTSTAMP:20260514T183000
DTSTART:20260514T183000
DTEND:20260514T200000
SUMMARY:Farmakologia z toksykologią (W): 3 LEK-JMN 23/24
CATEGORIES:W
X-ALT-DESC;FMTTYPE=text/html:<html><body><a href="https://classroom.google.com/c/ODQ1OTU1Mjc5MDM0">Google Classroom</a> </body></html>
END:VEVENT
BEGIN:VEVENT
UID:UZ_PLZ_20260521_1630_496950
DTSTAMP:20260521T163000
DTSTART:20260521T163000
DTEND:20260521T180000
SUMMARY:Farmakologia z toksykologią (W): 3 LEK-JMS 23/24
CATEGORIES:W
X-ALT-DESC;FMTTYPE=text/html:<html><body><a href="https://classroom.google.com/c/ODQ1OTU0Nzk5OTcz">Google Classroom</a> </body></html>
END:VEVENT
BEGIN:VEVENT
UID:UZ_PLZ_20260521_1830_496837
DTSTAMP:20260521T183000
DTSTART:20260521T183000
DTEND:20260521T200000
SUMMARY:Farmakologia z toksykologią (W): 3 LEK-JMN 23/24
CATEGORIES:W
X-ALT-DESC;FMTTYPE=text/html:<html><body><a href="https://classroom.google.com/c/ODQ1OTU1Mjc5MDM0">Google Classroom</a> </body></html>
END:VEVENT
BEGIN:VEVENT
UID:UZ_PLZ_20260528_1630_496950
DTSTAMP:20260528T163000
DTSTART:20260528T163000
DTEND:20260528T180000
SUMMARY:Farmakologia z toksykologią (W): 3 LEK-JMS 23/24
CATEGORIES:W
X-ALT-DESC;FMTTYPE=text/html:<html><body><a href="https://classroom.google.com/c/ODQ1OTU0Nzk5OTcz">Google Classroom</a> </body></html>
END:VEVENT
BEGIN:VEVENT
UID:UZ_PLZ_20260528_1830_496837
DTSTAMP:20260528T183000
DTSTART:20260528T183000
DTEND:20260528T200000
SUMMARY:Farmakologia z toksykologią (W): 3 LEK-JMN 23/24
CATEGORIES:W
X-ALT-DESC;FMTTYPE=text/html:<html><body><a href="https://classroom.google.com/c/ODQ1OTU1Mjc5MDM0">Google Classroom</a> </body></html>
END:VEVENT
END:VCALENDAR
