BEGIN:VCALENDAR
TZID:Europe/Warsaw
X-WR-TIMEZONE:Europe/Warsaw
VERSION:2.0
PRODID:-//Uniwersytet Zielonogórski//NONSGML Plan zajęć v1.0//EN
NAME:Plan zajęć - semestr letni 2025/2026
X-WR-CALNAME:Plan zajęć - semestr letni 2025/2026
COLOR:green
CALSCALE:GREGORIAN
BEGIN:VEVENT
UID:UZ_PLZ_20260423_1245_497683
DTSTAMP:20260423T124500
DTSTART:20260423T124500
DTEND:20260423T141500
SUMMARY:Techniki wytwarzania wyrobów medycznych (L): 21IB-SP
CATEGORIES:L
LOCATION:H002 A-10
END:VEVENT
BEGIN:VEVENT
UID:UZ_PLZ_20260430_1245_497683
DTSTAMP:20260430T124500
DTSTART:20260430T124500
DTEND:20260430T141500
SUMMARY:Techniki wytwarzania wyrobów medycznych (L): 21IB-SP
CATEGORIES:L
LOCATION:H002 A-10
END:VEVENT
BEGIN:VEVENT
UID:UZ_PLZ_20260506_1100_497752
DTSTAMP:20260506T110000
DTSTART:20260506T110000
DTEND:20260506T140000
SUMMARY:Rezerwacja (R)
CATEGORIES:R
END:VEVENT
BEGIN:VEVENT
UID:UZ_PLZ_20260507_1245_497683
DTSTAMP:20260507T124500
DTSTART:20260507T124500
DTEND:20260507T141500
SUMMARY:Techniki wytwarzania wyrobów medycznych (L): 21IB-SP
CATEGORIES:L
LOCATION:H002 A-10
END:VEVENT
BEGIN:VEVENT
UID:UZ_PLZ_20260513_1100_497752
DTSTAMP:20260513T110000
DTSTART:20260513T110000
DTEND:20260513T140000
SUMMARY:Rezerwacja (R)
CATEGORIES:R
END:VEVENT
BEGIN:VEVENT
UID:UZ_PLZ_20260514_1245_497683
DTSTAMP:20260514T124500
DTSTART:20260514T124500
DTEND:20260514T141500
SUMMARY:Techniki wytwarzania wyrobów medycznych (L): 21IB-SP
CATEGORIES:L
LOCATION:H002 A-10
END:VEVENT
BEGIN:VEVENT
UID:UZ_PLZ_20260520_1100_497752
DTSTAMP:20260520T110000
DTSTART:20260520T110000
DTEND:20260520T140000
SUMMARY:Rezerwacja (R)
CATEGORIES:R
END:VEVENT
BEGIN:VEVENT
UID:UZ_PLZ_20260521_1245_497683
DTSTAMP:20260521T124500
DTSTART:20260521T124500
DTEND:20260521T141500
SUMMARY:Techniki wytwarzania wyrobów medycznych (L): 21IB-SP
CATEGORIES:L
LOCATION:H002 A-10
END:VEVENT
BEGIN:VEVENT
UID:UZ_PLZ_20260527_1100_497752
DTSTAMP:20260527T110000
DTSTART:20260527T110000
DTEND:20260527T140000
SUMMARY:Rezerwacja (R)
CATEGORIES:R
END:VEVENT
BEGIN:VEVENT
UID:UZ_PLZ_20260528_1245_497683
DTSTAMP:20260528T124500
DTSTART:20260528T124500
DTEND:20260528T141500
SUMMARY:Techniki wytwarzania wyrobów medycznych (L): 21IB-SP
CATEGORIES:L
LOCATION:H002 A-10
END:VEVENT
BEGIN:VEVENT
UID:UZ_PLZ_20260603_1100_497752
DTSTAMP:20260603T110000
DTSTART:20260603T110000
DTEND:20260603T140000
SUMMARY:Rezerwacja (R)
CATEGORIES:R
END:VEVENT
BEGIN:VEVENT
UID:UZ_PLZ_20260610_1100_497752
DTSTAMP:20260610T110000
DTSTART:20260610T110000
DTEND:20260610T140000
SUMMARY:Rezerwacja (R)
CATEGORIES:R
END:VEVENT
BEGIN:VEVENT
UID:UZ_PLZ_20260611_1245_497683
DTSTAMP:20260611T124500
DTSTART:20260611T124500
DTEND:20260611T141500
SUMMARY:Techniki wytwarzania wyrobów medycznych (L): 21IB-SP
CATEGORIES:L
LOCATION:H222 A-10
END:VEVENT
BEGIN:VEVENT
UID:UZ_PLZ_20260617_1100_497752
DTSTAMP:20260617T110000
DTSTART:20260617T110000
DTEND:20260617T140000
SUMMARY:Rezerwacja (R)
CATEGORIES:R
END:VEVENT
BEGIN:VEVENT
UID:UZ_PLZ_20260618_1245_497683
DTSTAMP:20260618T124500
DTSTART:20260618T124500
DTEND:20260618T141500
SUMMARY:Techniki wytwarzania wyrobów medycznych (L): 21IB-SP
CATEGORIES:L
LOCATION:H002 A-10
END:VEVENT
END:VCALENDAR
