BEGIN:VCALENDAR
TZID:Europe/Warsaw
X-WR-TIMEZONE:Europe/Warsaw
VERSION:2.0
PRODID:-//Uniwersytet Zielonogórski//NONSGML Plan zajęć v1.0//EN
NAME:Plan zajęć - semestr letni 2025/2026
X-WR-CALNAME:Plan zajęć - semestr letni 2025/2026
COLOR:green
CALSCALE:GREGORIAN
BEGIN:VEVENT
UID:UZ_PLZ_20260426_0800_502116
DTSTAMP:20260426T080000
DTSTART:20260426T080000
DTEND:20260426T101500
SUMMARY:Metodyka wychowania w resocjalizacji (W): 11RzK-NP\; 12RzK-NP
CATEGORIES:W
LOCATION:48 A-16
END:VEVENT
BEGIN:VEVENT
UID:UZ_PLZ_20260426_1030_502187
DTSTAMP:20260426T103000
DTSTART:20260426T103000
DTEND:20260426T124500
SUMMARY:Warsztat pracy kuratora sądowego (Ć): 21RzK-NP\; 22RzK-NP
CATEGORIES:Ć
LOCATION:48 A-16
END:VEVENT
BEGIN:VEVENT
UID:UZ_PLZ_20260426_1300_502154
DTSTAMP:20260426T130000
DTSTART:20260426T130000
DTEND:20260426T151500
SUMMARY:Warsztat pracy wychowawcy resocjalizacyjnego (Ć): 21RzK-NP\; 22RzK-NP
CATEGORIES:Ć
LOCATION:48 A-16
END:VEVENT
BEGIN:VEVENT
UID:UZ_PLZ_20260426_1530_502172
DTSTAMP:20260426T153000
DTSTART:20260426T153000
DTEND:20260426T174500
SUMMARY:Seminarium dyplomowe III (S): 31RzK-NP/sem.2\; 32RzK-NP/sem.2
CATEGORIES:S
LOCATION:48 A-16
END:VEVENT
BEGIN:VEVENT
UID:UZ_PLZ_20260426_1800_502108
DTSTAMP:20260426T180000
DTSTART:20260426T180000
DTEND:20260426T201500
SUMMARY:Wybrane zagadnienia wiktymologii (W): 21RzK-ND
CATEGORIES:W
LOCATION:37 A-16
END:VEVENT
BEGIN:VEVENT
UID:UZ_PLZ_20260427_0800_501817
DTSTAMP:20260427T080000
DTSTART:20260427T080000
DTEND:20260427T092500
SUMMARY:Wybrane zagadnienia suicydologii (W): 21RzK-SD
CATEGORIES:W
LOCATION:48 A-16
DESCRIPTION:<a href="https://classroom.google.com/c/ODU4MDgyNTY5NDk4">Google Classroom</a> 
END:VEVENT
BEGIN:VEVENT
UID:UZ_PLZ_20260427_0945_501841
DTSTAMP:20260427T094500
DTSTART:20260427T094500
DTEND:20260427T111000
SUMMARY:Warsztat pracy wychowawcy resocjalizacyjnego (W): 21RzK-SP\; 22RzK-SP\; 23RzK-SP\; 24RzK-SP
CATEGORIES:W
LOCATION:48 A-16
END:VEVENT
BEGIN:VEVENT
UID:UZ_PLZ_20260427_1130_501783
DTSTAMP:20260427T113000
DTSTART:20260427T113000
DTEND:20260427T130000
SUMMARY:Warsztat pracy wychowawcy resocjalizacyjnego (Ć): 21RzK-SP\; 22RzK-SP\; 23RzK-SP\; 24RzK-SP
CATEGORIES:Ć
LOCATION:48 A-16
END:VEVENT
BEGIN:VEVENT
UID:UZ_PLZ_20260427_1300_507788
DTSTAMP:20260427T130000
DTSTART:20260427T130000
DTEND:20260427T143000
SUMMARY:Konsultacje (I)
CATEGORIES:I
END:VEVENT
BEGIN:VEVENT
UID:UZ_PLZ_20260428_1315_501411
DTSTAMP:20260428T131500
DTSTART:20260428T131500
DTEND:20260428T144500
SUMMARY:Mindfulness (Ć): 11LogzN-SP
CATEGORIES:Ć
LOCATION:48 A-16
END:VEVENT
BEGIN:VEVENT
UID:UZ_PLZ_20260428_1500_501428
DTSTAMP:20260428T150000
DTSTART:20260428T150000
DTEND:20260428T163000
SUMMARY:Mindfulness (Ć): 12LogzN-SP
CATEGORIES:Ć
LOCATION:36 A-16
END:VEVENT
BEGIN:VEVENT
UID:UZ_PLZ_20260504_0945_501813
DTSTAMP:20260504T094500
DTSTART:20260504T094500
DTEND:20260504T112000
SUMMARY:Warsztat pracy kuratora sądowego (W): 21RzK-SP\; 22RzK-SP\; 23RzK-SP\; 24RzK-SP
CATEGORIES:W
LOCATION:B A-16
END:VEVENT
BEGIN:VEVENT
UID:UZ_PLZ_20260504_1130_501783
DTSTAMP:20260504T113000
DTSTART:20260504T113000
DTEND:20260504T130000
SUMMARY:Warsztat pracy wychowawcy resocjalizacyjnego (Ć): 21RzK-SP\; 22RzK-SP\; 23RzK-SP\; 24RzK-SP
CATEGORIES:Ć
LOCATION:48 A-16
END:VEVENT
BEGIN:VEVENT
UID:UZ_PLZ_20260504_1300_507788
DTSTAMP:20260504T130000
DTSTART:20260504T130000
DTEND:20260504T143000
SUMMARY:Konsultacje (I)
CATEGORIES:I
END:VEVENT
BEGIN:VEVENT
UID:UZ_PLZ_20260505_1315_501411
DTSTAMP:20260505T131500
DTSTART:20260505T131500
DTEND:20260505T144500
SUMMARY:Mindfulness (Ć): 11LogzN-SP
CATEGORIES:Ć
LOCATION:48 A-16
END:VEVENT
BEGIN:VEVENT
UID:UZ_PLZ_20260505_1500_501428
DTSTAMP:20260505T150000
DTSTART:20260505T150000
DTEND:20260505T163000
SUMMARY:Mindfulness (Ć): 12LogzN-SP
CATEGORIES:Ć
LOCATION:36 A-16
END:VEVENT
BEGIN:VEVENT
UID:UZ_PLZ_20260506_0800_501875
DTSTAMP:20260506T080000
DTSTART:20260506T080000
DTEND:20260506T093500
SUMMARY:Metodyka wychowania w resocjalizacji (W): 11RzK-SP\; 12RzK-SP\; 13RzK-SP\; 14RzK-SP
CATEGORIES:W
LOCATION:B A-16
END:VEVENT
BEGIN:VEVENT
UID:UZ_PLZ_20260506_0945_501756
DTSTAMP:20260506T094500
DTSTART:20260506T094500
DTEND:20260506T111500
SUMMARY:Seminarium dyplomowe I (S): 21RzK-SP/sem. 5\; 22RzK-SP/sem. 5\; 23RzK-SP/sem. 5\; 24RzK-SP/sem. 5
CATEGORIES:S
LOCATION:10 A-16
END:VEVENT
BEGIN:VEVENT
UID:UZ_PLZ_20260506_1130_498764
DTSTAMP:20260506T113000
DTSTART:20260506T113000
DTEND:20260506T130000
SUMMARY:Dyżur pracowniczy (I)
CATEGORIES:I
END:VEVENT
BEGIN:VEVENT
UID:UZ_PLZ_20260506_1305_501780
DTSTAMP:20260506T130500
DTSTART:20260506T130500
DTEND:20260506T150500
SUMMARY:Seminarium dyplomowe III (S): 31RzK-SP/sem.3\; 32RzK-SP/sem.3\; 33RzK-SP/sem.3
CATEGORIES:S
LOCATION:102 A-20
END:VEVENT
BEGIN:VEVENT
UID:UZ_PLZ_20260509_1030_502172
DTSTAMP:20260509T103000
DTSTART:20260509T103000
DTEND:20260509T124500
SUMMARY:Seminarium dyplomowe III (S): 31RzK-NP/sem.2\; 32RzK-NP/sem.2
CATEGORIES:S
LOCATION:34 A-16
END:VEVENT
BEGIN:VEVENT
UID:UZ_PLZ_20260510_0800_502154
DTSTAMP:20260510T080000
DTSTART:20260510T080000
DTEND:20260510T101500
SUMMARY:Warsztat pracy wychowawcy resocjalizacyjnego (Ć): 21RzK-NP\; 22RzK-NP
CATEGORIES:Ć
LOCATION:36 A-16
END:VEVENT
BEGIN:VEVENT
UID:UZ_PLZ_20260510_1030_502172
DTSTAMP:20260510T103000
DTSTART:20260510T103000
DTEND:20260510T124500
SUMMARY:Seminarium dyplomowe III (S): 31RzK-NP/sem.2\; 32RzK-NP/sem.2
CATEGORIES:S
LOCATION:36 A-16
END:VEVENT
BEGIN:VEVENT
UID:UZ_PLZ_20260510_1300_502116
DTSTAMP:20260510T130000
DTSTART:20260510T130000
DTEND:20260510T151500
SUMMARY:Metodyka wychowania w resocjalizacji (W): 11RzK-NP\; 12RzK-NP
CATEGORIES:W
LOCATION:36 A-16
END:VEVENT
BEGIN:VEVENT
UID:UZ_PLZ_20260510_1530_501913
DTSTAMP:20260510T153000
DTSTART:20260510T153000
DTEND:20260510T174500
SUMMARY:Mindfulness (Ć): 11LogzN-NP
CATEGORIES:Ć
LOCATION:36 A-16
END:VEVENT
BEGIN:VEVENT
UID:UZ_PLZ_20260510_1800_502187
DTSTAMP:20260510T180000
DTSTART:20260510T180000
DTEND:20260510T201500
SUMMARY:Warsztat pracy kuratora sądowego (Ć): 21RzK-NP\; 22RzK-NP
CATEGORIES:Ć
LOCATION:36 A-16
END:VEVENT
BEGIN:VEVENT
UID:UZ_PLZ_20260511_0800_501817
DTSTAMP:20260511T080000
DTSTART:20260511T080000
DTEND:20260511T092500
SUMMARY:Wybrane zagadnienia suicydologii (W): 21RzK-SD
CATEGORIES:W
LOCATION:48 A-16
DESCRIPTION:<a href="https://classroom.google.com/c/ODU4MDgyNTY5NDk4">Google Classroom</a> 
END:VEVENT
BEGIN:VEVENT
UID:UZ_PLZ_20260511_0945_501841
DTSTAMP:20260511T094500
DTSTART:20260511T094500
DTEND:20260511T111000
SUMMARY:Warsztat pracy wychowawcy resocjalizacyjnego (W): 21RzK-SP\; 22RzK-SP\; 23RzK-SP\; 24RzK-SP
CATEGORIES:W
LOCATION:48 A-16
END:VEVENT
BEGIN:VEVENT
UID:UZ_PLZ_20260511_1130_501783
DTSTAMP:20260511T113000
DTSTART:20260511T113000
DTEND:20260511T130000
SUMMARY:Warsztat pracy wychowawcy resocjalizacyjnego (Ć): 21RzK-SP\; 22RzK-SP\; 23RzK-SP\; 24RzK-SP
CATEGORIES:Ć
LOCATION:48 A-16
END:VEVENT
BEGIN:VEVENT
UID:UZ_PLZ_20260511_1300_507788
DTSTAMP:20260511T130000
DTSTART:20260511T130000
DTEND:20260511T143000
SUMMARY:Konsultacje (I)
CATEGORIES:I
END:VEVENT
BEGIN:VEVENT
UID:UZ_PLZ_20260512_1315_501411
DTSTAMP:20260512T131500
DTSTART:20260512T131500
DTEND:20260512T144500
SUMMARY:Mindfulness (Ć): 11LogzN-SP
CATEGORIES:Ć
LOCATION:48 A-16
END:VEVENT
BEGIN:VEVENT
UID:UZ_PLZ_20260512_1500_501428
DTSTAMP:20260512T150000
DTSTART:20260512T150000
DTEND:20260512T163000
SUMMARY:Mindfulness (Ć): 12LogzN-SP
CATEGORIES:Ć
LOCATION:36 A-16
END:VEVENT
BEGIN:VEVENT
UID:UZ_PLZ_20260513_0945_501756
DTSTAMP:20260513T094500
DTSTART:20260513T094500
DTEND:20260513T111500
SUMMARY:Seminarium dyplomowe I (S): 21RzK-SP/sem. 5\; 22RzK-SP/sem. 5\; 23RzK-SP/sem. 5\; 24RzK-SP/sem. 5
CATEGORIES:S
LOCATION:10 A-16
END:VEVENT
BEGIN:VEVENT
UID:UZ_PLZ_20260513_1130_498764
DTSTAMP:20260513T113000
DTSTART:20260513T113000
DTEND:20260513T130000
SUMMARY:Dyżur pracowniczy (I)
CATEGORIES:I
END:VEVENT
BEGIN:VEVENT
UID:UZ_PLZ_20260513_1305_501780
DTSTAMP:20260513T130500
DTSTART:20260513T130500
DTEND:20260513T150500
SUMMARY:Seminarium dyplomowe III (S): 31RzK-SP/sem.3\; 32RzK-SP/sem.3\; 33RzK-SP/sem.3
CATEGORIES:S
LOCATION:102 A-20
END:VEVENT
BEGIN:VEVENT
UID:UZ_PLZ_20260516_1530_502166
DTSTAMP:20260516T153000
DTSTART:20260516T153000
DTEND:20260516T174500
SUMMARY:Wybrane zagadnienia wiktymologii (Ć): 21RzK-ND
CATEGORIES:Ć
LOCATION:37 A-16
END:VEVENT
BEGIN:VEVENT
UID:UZ_PLZ_20260516_1800_502187
DTSTAMP:20260516T180000
DTSTART:20260516T180000
DTEND:20260516T201500
SUMMARY:Warsztat pracy kuratora sądowego (Ć): 21RzK-NP\; 22RzK-NP
CATEGORIES:Ć
LOCATION:37 A-16
END:VEVENT
BEGIN:VEVENT
UID:UZ_PLZ_20260517_1030_501913
DTSTAMP:20260517T103000
DTSTART:20260517T103000
DTEND:20260517T124500
SUMMARY:Mindfulness (Ć): 11LogzN-NP
CATEGORIES:Ć
LOCATION:37 A-16
END:VEVENT
BEGIN:VEVENT
UID:UZ_PLZ_20260517_1300_502172
DTSTAMP:20260517T130000
DTSTART:20260517T130000
DTEND:20260517T151500
SUMMARY:Seminarium dyplomowe III (S): 31RzK-NP/sem.2\; 32RzK-NP/sem.2
CATEGORIES:S
LOCATION:37 A-16
END:VEVENT
BEGIN:VEVENT
UID:UZ_PLZ_20260517_1530_502116
DTSTAMP:20260517T153000
DTSTART:20260517T153000
DTEND:20260517T174500
SUMMARY:Metodyka wychowania w resocjalizacji (W): 11RzK-NP\; 12RzK-NP
CATEGORIES:W
LOCATION:48 A-16
END:VEVENT
BEGIN:VEVENT
UID:UZ_PLZ_20260518_0945_501813
DTSTAMP:20260518T094500
DTSTART:20260518T094500
DTEND:20260518T112000
SUMMARY:Warsztat pracy kuratora sądowego (W): 21RzK-SP\; 22RzK-SP\; 23RzK-SP\; 24RzK-SP
CATEGORIES:W
LOCATION:B A-16
END:VEVENT
BEGIN:VEVENT
UID:UZ_PLZ_20260518_1130_501783
DTSTAMP:20260518T113000
DTSTART:20260518T113000
DTEND:20260518T130000
SUMMARY:Warsztat pracy wychowawcy resocjalizacyjnego (Ć): 21RzK-SP\; 22RzK-SP\; 23RzK-SP\; 24RzK-SP
CATEGORIES:Ć
LOCATION:48 A-16
END:VEVENT
BEGIN:VEVENT
UID:UZ_PLZ_20260518_1300_507788
DTSTAMP:20260518T130000
DTSTART:20260518T130000
DTEND:20260518T143000
SUMMARY:Konsultacje (I)
CATEGORIES:I
END:VEVENT
BEGIN:VEVENT
UID:UZ_PLZ_20260519_1315_501411
DTSTAMP:20260519T131500
DTSTART:20260519T131500
DTEND:20260519T144500
SUMMARY:Mindfulness (Ć): 11LogzN-SP
CATEGORIES:Ć
LOCATION:48 A-16
END:VEVENT
BEGIN:VEVENT
UID:UZ_PLZ_20260519_1500_501428
DTSTAMP:20260519T150000
DTSTART:20260519T150000
DTEND:20260519T163000
SUMMARY:Mindfulness (Ć): 12LogzN-SP
CATEGORIES:Ć
LOCATION:36 A-16
END:VEVENT
BEGIN:VEVENT
UID:UZ_PLZ_20260520_0800_501875
DTSTAMP:20260520T080000
DTSTART:20260520T080000
DTEND:20260520T093500
SUMMARY:Metodyka wychowania w resocjalizacji (W): 11RzK-SP\; 12RzK-SP\; 13RzK-SP\; 14RzK-SP
CATEGORIES:W
LOCATION:B A-16
END:VEVENT
BEGIN:VEVENT
UID:UZ_PLZ_20260520_0945_501756
DTSTAMP:20260520T094500
DTSTART:20260520T094500
DTEND:20260520T111500
SUMMARY:Seminarium dyplomowe I (S): 21RzK-SP/sem. 5\; 22RzK-SP/sem. 5\; 23RzK-SP/sem. 5\; 24RzK-SP/sem. 5
CATEGORIES:S
LOCATION:10 A-16
END:VEVENT
BEGIN:VEVENT
UID:UZ_PLZ_20260520_1130_498764
DTSTAMP:20260520T113000
DTSTART:20260520T113000
DTEND:20260520T130000
SUMMARY:Dyżur pracowniczy (I)
CATEGORIES:I
END:VEVENT
BEGIN:VEVENT
UID:UZ_PLZ_20260520_1305_501780
DTSTAMP:20260520T130500
DTSTART:20260520T130500
DTEND:20260520T150500
SUMMARY:Seminarium dyplomowe III (S): 31RzK-SP/sem.3\; 32RzK-SP/sem.3\; 33RzK-SP/sem.3
CATEGORIES:S
LOCATION:102 A-20
END:VEVENT
BEGIN:VEVENT
UID:UZ_PLZ_20260525_0800_501817
DTSTAMP:20260525T080000
DTSTART:20260525T080000
DTEND:20260525T092500
SUMMARY:Wybrane zagadnienia suicydologii (W): 21RzK-SD
CATEGORIES:W
LOCATION:48 A-16
DESCRIPTION:<a href="https://classroom.google.com/c/ODU4MDgyNTY5NDk4">Google Classroom</a> 
END:VEVENT
BEGIN:VEVENT
UID:UZ_PLZ_20260525_0945_501841
DTSTAMP:20260525T094500
DTSTART:20260525T094500
DTEND:20260525T111000
SUMMARY:Warsztat pracy wychowawcy resocjalizacyjnego (W): 21RzK-SP\; 22RzK-SP\; 23RzK-SP\; 24RzK-SP
CATEGORIES:W
LOCATION:48 A-16
END:VEVENT
BEGIN:VEVENT
UID:UZ_PLZ_20260525_1130_501783
DTSTAMP:20260525T113000
DTSTART:20260525T113000
DTEND:20260525T130000
SUMMARY:Warsztat pracy wychowawcy resocjalizacyjnego (Ć): 21RzK-SP\; 22RzK-SP\; 23RzK-SP\; 24RzK-SP
CATEGORIES:Ć
LOCATION:48 A-16
END:VEVENT
BEGIN:VEVENT
UID:UZ_PLZ_20260525_1300_507788
DTSTAMP:20260525T130000
DTSTART:20260525T130000
DTEND:20260525T143000
SUMMARY:Konsultacje (I)
CATEGORIES:I
END:VEVENT
BEGIN:VEVENT
UID:UZ_PLZ_20260526_1315_501411
DTSTAMP:20260526T131500
DTSTART:20260526T131500
DTEND:20260526T144500
SUMMARY:Mindfulness (Ć): 11LogzN-SP
CATEGORIES:Ć
LOCATION:48 A-16
END:VEVENT
BEGIN:VEVENT
UID:UZ_PLZ_20260526_1500_501428
DTSTAMP:20260526T150000
DTSTART:20260526T150000
DTEND:20260526T163000
SUMMARY:Mindfulness (Ć): 12LogzN-SP
CATEGORIES:Ć
LOCATION:36 A-16
END:VEVENT
BEGIN:VEVENT
UID:UZ_PLZ_20260527_0945_501756
DTSTAMP:20260527T094500
DTSTART:20260527T094500
DTEND:20260527T111500
SUMMARY:Seminarium dyplomowe I (S): 21RzK-SP/sem. 5\; 22RzK-SP/sem. 5\; 23RzK-SP/sem. 5\; 24RzK-SP/sem. 5
CATEGORIES:S
LOCATION:10 A-16
END:VEVENT
BEGIN:VEVENT
UID:UZ_PLZ_20260527_1130_498764
DTSTAMP:20260527T113000
DTSTART:20260527T113000
DTEND:20260527T130000
SUMMARY:Dyżur pracowniczy (I)
CATEGORIES:I
END:VEVENT
BEGIN:VEVENT
UID:UZ_PLZ_20260527_1305_501780
DTSTAMP:20260527T130500
DTSTART:20260527T130500
DTEND:20260527T150500
SUMMARY:Seminarium dyplomowe III (S): 31RzK-SP/sem.3\; 32RzK-SP/sem.3\; 33RzK-SP/sem.3
CATEGORIES:S
LOCATION:102 A-20
END:VEVENT
BEGIN:VEVENT
UID:UZ_PLZ_20260531_0800_502154
DTSTAMP:20260531T080000
DTSTART:20260531T080000
DTEND:20260531T101500
SUMMARY:Warsztat pracy wychowawcy resocjalizacyjnego (Ć): 21RzK-NP\; 22RzK-NP
CATEGORIES:Ć
LOCATION:34 A-16
END:VEVENT
BEGIN:VEVENT
UID:UZ_PLZ_20260531_1030_502166
DTSTAMP:20260531T103000
DTSTART:20260531T103000
DTEND:20260531T124500
SUMMARY:Wybrane zagadnienia wiktymologii (Ć): 21RzK-ND
CATEGORIES:Ć
LOCATION:34 A-16
END:VEVENT
BEGIN:VEVENT
UID:UZ_PLZ_20260601_0945_501813
DTSTAMP:20260601T094500
DTSTART:20260601T094500
DTEND:20260601T112000
SUMMARY:Warsztat pracy kuratora sądowego (W): 21RzK-SP\; 22RzK-SP\; 23RzK-SP\; 24RzK-SP
CATEGORIES:W
LOCATION:B A-16
END:VEVENT
BEGIN:VEVENT
UID:UZ_PLZ_20260601_1130_501783
DTSTAMP:20260601T113000
DTSTART:20260601T113000
DTEND:20260601T130000
SUMMARY:Warsztat pracy wychowawcy resocjalizacyjnego (Ć): 21RzK-SP\; 22RzK-SP\; 23RzK-SP\; 24RzK-SP
CATEGORIES:Ć
LOCATION:48 A-16
END:VEVENT
BEGIN:VEVENT
UID:UZ_PLZ_20260601_1300_507788
DTSTAMP:20260601T130000
DTSTART:20260601T130000
DTEND:20260601T143000
SUMMARY:Konsultacje (I)
CATEGORIES:I
END:VEVENT
BEGIN:VEVENT
UID:UZ_PLZ_20260602_1315_501411
DTSTAMP:20260602T131500
DTSTART:20260602T131500
DTEND:20260602T144500
SUMMARY:Mindfulness (Ć): 11LogzN-SP
CATEGORIES:Ć
LOCATION:48 A-16
END:VEVENT
BEGIN:VEVENT
UID:UZ_PLZ_20260602_1500_501428
DTSTAMP:20260602T150000
DTSTART:20260602T150000
DTEND:20260602T163000
SUMMARY:Mindfulness (Ć): 12LogzN-SP
CATEGORIES:Ć
LOCATION:36 A-16
END:VEVENT
BEGIN:VEVENT
UID:UZ_PLZ_20260603_0800_501875
DTSTAMP:20260603T080000
DTSTART:20260603T080000
DTEND:20260603T093500
SUMMARY:Metodyka wychowania w resocjalizacji (W): 11RzK-SP\; 12RzK-SP\; 13RzK-SP\; 14RzK-SP
CATEGORIES:W
LOCATION:B A-16
END:VEVENT
BEGIN:VEVENT
UID:UZ_PLZ_20260603_0945_501756
DTSTAMP:20260603T094500
DTSTART:20260603T094500
DTEND:20260603T111500
SUMMARY:Seminarium dyplomowe I (S): 21RzK-SP/sem. 5\; 22RzK-SP/sem. 5\; 23RzK-SP/sem. 5\; 24RzK-SP/sem. 5
CATEGORIES:S
LOCATION:10 A-16
END:VEVENT
BEGIN:VEVENT
UID:UZ_PLZ_20260603_1130_498764
DTSTAMP:20260603T113000
DTSTART:20260603T113000
DTEND:20260603T130000
SUMMARY:Dyżur pracowniczy (I)
CATEGORIES:I
END:VEVENT
BEGIN:VEVENT
UID:UZ_PLZ_20260603_1305_501780
DTSTAMP:20260603T130500
DTSTART:20260603T130500
DTEND:20260603T150500
SUMMARY:Seminarium dyplomowe III (S): 31RzK-SP/sem.3\; 32RzK-SP/sem.3\; 33RzK-SP/sem.3
CATEGORIES:S
LOCATION:102 A-20
END:VEVENT
BEGIN:VEVENT
UID:UZ_PLZ_20260608_0800_501817
DTSTAMP:20260608T080000
DTSTART:20260608T080000
DTEND:20260608T092500
SUMMARY:Wybrane zagadnienia suicydologii (W): 21RzK-SD
CATEGORIES:W
LOCATION:48 A-16
DESCRIPTION:<a href="https://classroom.google.com/c/ODU4MDgyNTY5NDk4">Google Classroom</a> 
END:VEVENT
BEGIN:VEVENT
UID:UZ_PLZ_20260608_0945_501841
DTSTAMP:20260608T094500
DTSTART:20260608T094500
DTEND:20260608T111000
SUMMARY:Warsztat pracy wychowawcy resocjalizacyjnego (W): 21RzK-SP\; 22RzK-SP\; 23RzK-SP\; 24RzK-SP
CATEGORIES:W
LOCATION:48 A-16
END:VEVENT
BEGIN:VEVENT
UID:UZ_PLZ_20260608_1130_501783
DTSTAMP:20260608T113000
DTSTART:20260608T113000
DTEND:20260608T130000
SUMMARY:Warsztat pracy wychowawcy resocjalizacyjnego (Ć): 21RzK-SP\; 22RzK-SP\; 23RzK-SP\; 24RzK-SP
CATEGORIES:Ć
LOCATION:48 A-16
END:VEVENT
BEGIN:VEVENT
UID:UZ_PLZ_20260608_1300_507788
DTSTAMP:20260608T130000
DTSTART:20260608T130000
DTEND:20260608T143000
SUMMARY:Konsultacje (I)
CATEGORIES:I
END:VEVENT
BEGIN:VEVENT
UID:UZ_PLZ_20260609_1315_501411
DTSTAMP:20260609T131500
DTSTART:20260609T131500
DTEND:20260609T144500
SUMMARY:Mindfulness (Ć): 11LogzN-SP
CATEGORIES:Ć
LOCATION:48 A-16
END:VEVENT
BEGIN:VEVENT
UID:UZ_PLZ_20260609_1500_501428
DTSTAMP:20260609T150000
DTSTART:20260609T150000
DTEND:20260609T163000
SUMMARY:Mindfulness (Ć): 12LogzN-SP
CATEGORIES:Ć
LOCATION:36 A-16
END:VEVENT
BEGIN:VEVENT
UID:UZ_PLZ_20260610_0945_501756
DTSTAMP:20260610T094500
DTSTART:20260610T094500
DTEND:20260610T111500
SUMMARY:Seminarium dyplomowe I (S): 21RzK-SP/sem. 5\; 22RzK-SP/sem. 5\; 23RzK-SP/sem. 5\; 24RzK-SP/sem. 5
CATEGORIES:S
LOCATION:10 A-16
END:VEVENT
BEGIN:VEVENT
UID:UZ_PLZ_20260610_1130_498764
DTSTAMP:20260610T113000
DTSTART:20260610T113000
DTEND:20260610T130000
SUMMARY:Dyżur pracowniczy (I)
CATEGORIES:I
END:VEVENT
BEGIN:VEVENT
UID:UZ_PLZ_20260610_1305_501780
DTSTAMP:20260610T130500
DTSTART:20260610T130500
DTEND:20260610T150500
SUMMARY:Seminarium dyplomowe III (S): 31RzK-SP/sem.3\; 32RzK-SP/sem.3\; 33RzK-SP/sem.3
CATEGORIES:S
LOCATION:102 A-20
END:VEVENT
BEGIN:VEVENT
UID:UZ_PLZ_20260613_1030_502187
DTSTAMP:20260613T103000
DTSTART:20260613T103000
DTEND:20260613T124500
SUMMARY:Warsztat pracy kuratora sądowego (Ć): 21RzK-NP\; 22RzK-NP
CATEGORIES:Ć
LOCATION:138 A-16
END:VEVENT
BEGIN:VEVENT
UID:UZ_PLZ_20260613_1300_502154
DTSTAMP:20260613T130000
DTSTART:20260613T130000
DTEND:20260613T151500
SUMMARY:Warsztat pracy wychowawcy resocjalizacyjnego (Ć): 21RzK-NP\; 22RzK-NP
CATEGORIES:Ć
LOCATION:138 A-16
END:VEVENT
BEGIN:VEVENT
UID:UZ_PLZ_20260613_1530_502188
DTSTAMP:20260613T153000
DTSTART:20260613T153000
DTEND:20260613T174500
SUMMARY:Warsztat pracy wychowawcy resocjalizacyjnego (W): 21RzK-NP\; 22RzK-NP
CATEGORIES:W
LOCATION:11 A-16
END:VEVENT
BEGIN:VEVENT
UID:UZ_PLZ_20260614_1300_501913
DTSTAMP:20260614T130000
DTSTART:20260614T130000
DTEND:20260614T151500
SUMMARY:Mindfulness (Ć): 11LogzN-NP
CATEGORIES:Ć
LOCATION:11 A-16
END:VEVENT
BEGIN:VEVENT
UID:UZ_PLZ_20260615_0945_501813
DTSTAMP:20260615T094500
DTSTART:20260615T094500
DTEND:20260615T112000
SUMMARY:Warsztat pracy kuratora sądowego (W): 21RzK-SP\; 22RzK-SP\; 23RzK-SP\; 24RzK-SP
CATEGORIES:W
LOCATION:B A-16
END:VEVENT
BEGIN:VEVENT
UID:UZ_PLZ_20260615_1130_501783
DTSTAMP:20260615T113000
DTSTART:20260615T113000
DTEND:20260615T130000
SUMMARY:Warsztat pracy wychowawcy resocjalizacyjnego (Ć): 21RzK-SP\; 22RzK-SP\; 23RzK-SP\; 24RzK-SP
CATEGORIES:Ć
LOCATION:48 A-16
END:VEVENT
BEGIN:VEVENT
UID:UZ_PLZ_20260615_1300_507788
DTSTAMP:20260615T130000
DTSTART:20260615T130000
DTEND:20260615T143000
SUMMARY:Konsultacje (I)
CATEGORIES:I
END:VEVENT
BEGIN:VEVENT
UID:UZ_PLZ_20260616_1315_501411
DTSTAMP:20260616T131500
DTSTART:20260616T131500
DTEND:20260616T144500
SUMMARY:Mindfulness (Ć): 11LogzN-SP
CATEGORIES:Ć
LOCATION:48 A-16
END:VEVENT
BEGIN:VEVENT
UID:UZ_PLZ_20260616_1500_501428
DTSTAMP:20260616T150000
DTSTART:20260616T150000
DTEND:20260616T163000
SUMMARY:Mindfulness (Ć): 12LogzN-SP
CATEGORIES:Ć
LOCATION:36 A-16
END:VEVENT
BEGIN:VEVENT
UID:UZ_PLZ_20260617_0945_501756
DTSTAMP:20260617T094500
DTSTART:20260617T094500
DTEND:20260617T111500
SUMMARY:Seminarium dyplomowe I (S): 21RzK-SP/sem. 5\; 22RzK-SP/sem. 5\; 23RzK-SP/sem. 5\; 24RzK-SP/sem. 5
CATEGORIES:S
LOCATION:10 A-16
END:VEVENT
BEGIN:VEVENT
UID:UZ_PLZ_20260617_1130_498764
DTSTAMP:20260617T113000
DTSTART:20260617T113000
DTEND:20260617T130000
SUMMARY:Dyżur pracowniczy (I)
CATEGORIES:I
END:VEVENT
BEGIN:VEVENT
UID:UZ_PLZ_20260617_1305_501780
DTSTAMP:20260617T130500
DTSTART:20260617T130500
DTEND:20260617T150500
SUMMARY:Seminarium dyplomowe III (S): 31RzK-SP/sem.3\; 32RzK-SP/sem.3\; 33RzK-SP/sem.3
CATEGORIES:S
LOCATION:102 A-20
END:VEVENT
END:VCALENDAR
