BEGIN:VCALENDAR
TZID:Europe/Warsaw
X-WR-TIMEZONE:Europe/Warsaw
VERSION:2.0
PRODID:-//Uniwersytet Zielonogórski//NONSGML Plan zajęć v1.0//EN
NAME:Plan zajęć - semestr letni 2025/2026
X-WR-CALNAME:Plan zajęć - semestr letni 2025/2026
COLOR:green
CALSCALE:GREGORIAN
BEGIN:VEVENT
UID:UZ_PLZ_20260424_0915_498016
DTSTAMP:20260424T091500
DTSTART:20260424T091500
DTEND:20260424T105000
SUMMARY:Teoria wyboru publicznego (P): 11BN-SP
CATEGORIES:P
LOCATION:123 A-29
DESCRIPTION:<a href="https://classroom.google.com/c/ODUwMzYzOTg3NzM1">Google Classroom</a> 
END:VEVENT
BEGIN:VEVENT
UID:UZ_PLZ_20260424_1100_497965
DTSTAMP:20260424T110000
DTSTART:20260424T110000
DTEND:20260424T123500
SUMMARY:Teoria wyboru publicznego (W): 11BN-SP\; 12BN-SP
CATEGORIES:W
LOCATION:123 A-29
END:VEVENT
BEGIN:VEVENT
UID:UZ_PLZ_20260424_1245_497966
DTSTAMP:20260424T124500
DTSTART:20260424T124500
DTEND:20260424T142000
SUMMARY:Teoria wyboru publicznego (P): 12BN-SP
CATEGORIES:P
LOCATION:123 A-29
DESCRIPTION:<a href="https://classroom.google.com/c/ODQ3MzUwMDA5MTE1">Google Classroom</a> 
END:VEVENT
BEGIN:VEVENT
UID:UZ_PLZ_20260424_1425_497966
DTSTAMP:20260424T142500
DTSTART:20260424T142500
DTEND:20260424T160000
SUMMARY:Teoria wyboru publicznego (P): 12BN-SP
CATEGORIES:P
LOCATION:123 A-29
DESCRIPTION:<a href="https://classroom.google.com/c/ODQ3MzUwMDA5MTE1">Google Classroom</a> 
END:VEVENT
BEGIN:VEVENT
UID:UZ_PLZ_20260425_1340_508162
DTSTAMP:20260425T134000
DTSTART:20260425T134000
DTEND:20260425T142500
SUMMARY:Konsultacje (I)
CATEGORIES:I
LOCATION:2 A-5
END:VEVENT
BEGIN:VEVENT
UID:UZ_PLZ_20260425_1430_498261
DTSTAMP:20260425T143000
DTSTART:20260425T143000
DTEND:20260425T160000
SUMMARY:Ryzyko w zapewnieniu bezpieczeństwa (Ć): 21BN-NP
CATEGORIES:Ć
LOCATION:10 A-5
DESCRIPTION:<a href="https://classroom.google.com/c/ODUwMzA2NjA2NzA4">Google Classroom</a> 
END:VEVENT
BEGIN:VEVENT
UID:UZ_PLZ_20260425_1615_498263
DTSTAMP:20260425T161500
DTSTART:20260425T161500
DTEND:20260425T173500
SUMMARY:Teoria wyboru publicznego (W): 11BN-NP
CATEGORIES:W
LOCATION:005 A-0
END:VEVENT
BEGIN:VEVENT
UID:UZ_PLZ_20260425_1800_498527
DTSTAMP:20260425T180000
DTSTART:20260425T180000
DTEND:20260425T192000
SUMMARY:Zarządzanie kryzysem w przedsiębiorstwie2 (Ć): 21BN-NP
CATEGORIES:Ć
LOCATION:110/110a A-0
DESCRIPTION:<a href="https://classroom.google.com/c/Nzk2NDQ5NDUyNzgx">Google Classroom</a> 
END:VEVENT
BEGIN:VEVENT
UID:UZ_PLZ_20260425_1935_498329
DTSTAMP:20260425T193500
DTSTART:20260425T193500
DTEND:20260425T205500
SUMMARY:Gospodarka przestrzenna (Ć): 12BN-AI-ND
CATEGORIES:Ć
LOCATION:110/110a A-0
DESCRIPTION:<a href="https://classroom.google.com/c/ODUwMzA1MDYyNDQw">Google Classroom</a> 
END:VEVENT
BEGIN:VEVENT
UID:UZ_PLZ_20260426_0730_498519
DTSTAMP:20260426T073000
DTSTART:20260426T073000
DTEND:20260426T091000
SUMMARY:Teoria wyboru publicznego (P): 11BN-NP
CATEGORIES:P
LOCATION:03b A-0
DESCRIPTION:<a href="https://classroom.google.com/c/ODUwMzA1NjE1MzE4">Google Classroom</a> 
END:VEVENT
BEGIN:VEVENT
UID:UZ_PLZ_20260426_0915_498261
DTSTAMP:20260426T091500
DTSTART:20260426T091500
DTEND:20260426T104500
SUMMARY:Ryzyko w zapewnieniu bezpieczeństwa (Ć): 21BN-NP
CATEGORIES:Ć
LOCATION:F5 A-0
DESCRIPTION:<a href="https://classroom.google.com/c/ODUwMzA2NjA2NzA4">Google Classroom</a> 
END:VEVENT
BEGIN:VEVENT
UID:UZ_PLZ_20260427_0900_497767
DTSTAMP:20260427T090000
DTSTART:20260427T090000
DTEND:20260427T104000
SUMMARY:Analiza ryzyka2 (W): 21BN-SP
CATEGORIES:W
LOCATION:123 A-29
DESCRIPTION:<a href="https://classroom.google.com/c/ODQ3MzQ4NDUxNjQ0">Google Classroom</a> <br><a href="https://classroom.google.com/c/ODQ3MzQ4ODY5NDQw">Google Classroom</a> 
END:VEVENT
BEGIN:VEVENT
UID:UZ_PLZ_20260427_1045_498085
DTSTAMP:20260427T104500
DTSTART:20260427T104500
DTEND:20260427T122500
SUMMARY:Analiza ryzyka2 (Ć): 21BN-SP
CATEGORIES:Ć
LOCATION:209 A-29
END:VEVENT
BEGIN:VEVENT
UID:UZ_PLZ_20260427_1230_498040
DTSTAMP:20260427T123000
DTSTART:20260427T123000
DTEND:20260427T134000
SUMMARY:Gospodarka przestrzenna (W): 11BN-ZK-SD
CATEGORIES:W
LOCATION:123 A-29
DESCRIPTION:<a href="https://classroom.google.com/c/ODQ3MzQ4NzIzMTcy">Google Classroom</a> 
END:VEVENT
BEGIN:VEVENT
UID:UZ_PLZ_20260427_1345_498099
DTSTAMP:20260427T134500
DTSTART:20260427T134500
DTEND:20260427T152500
SUMMARY:Gospodarka przestrzenna (Ć): 11BN-ZK-SD
CATEGORIES:Ć
LOCATION:122 A-29
END:VEVENT
BEGIN:VEVENT
UID:UZ_PLZ_20260427_1530_507091
DTSTAMP:20260427T153000
DTSTART:20260427T153000
DTEND:20260427T161500
SUMMARY:Konsultacje (I)
CATEGORIES:I
LOCATION:2 A-5
END:VEVENT
BEGIN:VEVENT
UID:UZ_PLZ_20260427_1615_498754
DTSTAMP:20260427T161500
DTSTART:20260427T161500
DTEND:20260427T175000
SUMMARY:Seminarium dyplomowe 1 (S): 32LOG-TS-SP\; 33LOG-TS-SP
CATEGORIES:S
LOCATION:2 A-5
END:VEVENT
BEGIN:VEVENT
UID:UZ_PLZ_20260504_0915_498128
DTSTAMP:20260504T091500
DTSTART:20260504T091500
DTEND:20260504T105000
SUMMARY:Ryzyko w zapewnieniu bezpieczeństwa (W): 21BN-SP
CATEGORIES:W
LOCATION:123 A-29
DESCRIPTION:<a href="https://classroom.google.com/c/ODQ3MzQ4NDUxNjQ0">Google Classroom</a> 
END:VEVENT
BEGIN:VEVENT
UID:UZ_PLZ_20260504_1100_498004
DTSTAMP:20260504T110000
DTSTART:20260504T110000
DTEND:20260504T123000
SUMMARY:Ryzyko w zapewnieniu bezpieczeństwa (Ć): 21BN-SP
CATEGORIES:Ć
LOCATION:123 A-29
END:VEVENT
BEGIN:VEVENT
UID:UZ_PLZ_20260504_1245_498004
DTSTAMP:20260504T124500
DTSTART:20260504T124500
DTEND:20260504T141500
SUMMARY:Ryzyko w zapewnieniu bezpieczeństwa (Ć): 21BN-SP
CATEGORIES:Ć
LOCATION:123 A-29
END:VEVENT
BEGIN:VEVENT
UID:UZ_PLZ_20260504_1615_498754
DTSTAMP:20260504T161500
DTSTART:20260504T161500
DTEND:20260504T175000
SUMMARY:Seminarium dyplomowe 1 (S): 32LOG-TS-SP\; 33LOG-TS-SP
CATEGORIES:S
LOCATION:2 A-5
END:VEVENT
BEGIN:VEVENT
UID:UZ_PLZ_20260504_1615_498676
DTSTAMP:20260504T161500
DTSTART:20260504T161500
DTEND:20260504T175000
SUMMARY:Seminarium magisterskie II (S): 21LOG-LB-SD(L)\; 22LOG-ML-SD(L)
CATEGORIES:S
LOCATION:2 A-5
END:VEVENT
BEGIN:VEVENT
UID:UZ_PLZ_20260511_1530_507091
DTSTAMP:20260511T153000
DTSTART:20260511T153000
DTEND:20260511T161500
SUMMARY:Konsultacje (I)
CATEGORIES:I
LOCATION:2 A-5
END:VEVENT
BEGIN:VEVENT
UID:UZ_PLZ_20260516_1340_508162
DTSTAMP:20260516T134000
DTSTART:20260516T134000
DTEND:20260516T142500
SUMMARY:Konsultacje (I)
CATEGORIES:I
LOCATION:2 A-5
END:VEVENT
BEGIN:VEVENT
UID:UZ_PLZ_20260516_1430_498261
DTSTAMP:20260516T143000
DTSTART:20260516T143000
DTEND:20260516T160000
SUMMARY:Ryzyko w zapewnieniu bezpieczeństwa (Ć): 21BN-NP
CATEGORIES:Ć
LOCATION:10 A-5
DESCRIPTION:<a href="https://classroom.google.com/c/ODUwMzA2NjA2NzA4">Google Classroom</a> 
END:VEVENT
BEGIN:VEVENT
UID:UZ_PLZ_20260516_1615_498263
DTSTAMP:20260516T161500
DTSTART:20260516T161500
DTEND:20260516T173500
SUMMARY:Teoria wyboru publicznego (W): 11BN-NP
CATEGORIES:W
LOCATION:005 A-0
END:VEVENT
BEGIN:VEVENT
UID:UZ_PLZ_20260516_1800_498527
DTSTAMP:20260516T180000
DTSTART:20260516T180000
DTEND:20260516T192000
SUMMARY:Zarządzanie kryzysem w przedsiębiorstwie2 (Ć): 21BN-NP
CATEGORIES:Ć
LOCATION:110/110a A-0
DESCRIPTION:<a href="https://classroom.google.com/c/Nzk2NDQ5NDUyNzgx">Google Classroom</a> 
END:VEVENT
BEGIN:VEVENT
UID:UZ_PLZ_20260516_1935_498329
DTSTAMP:20260516T193500
DTSTART:20260516T193500
DTEND:20260516T205500
SUMMARY:Gospodarka przestrzenna (Ć): 12BN-AI-ND
CATEGORIES:Ć
LOCATION:110/110a A-0
DESCRIPTION:<a href="https://classroom.google.com/c/ODUwMzA1MDYyNDQw">Google Classroom</a> 
END:VEVENT
BEGIN:VEVENT
UID:UZ_PLZ_20260518_0915_498128
DTSTAMP:20260518T091500
DTSTART:20260518T091500
DTEND:20260518T105000
SUMMARY:Ryzyko w zapewnieniu bezpieczeństwa (W): 21BN-SP
CATEGORIES:W
LOCATION:123 A-29
DESCRIPTION:<a href="https://classroom.google.com/c/ODQ3MzQ4NDUxNjQ0">Google Classroom</a> 
END:VEVENT
BEGIN:VEVENT
UID:UZ_PLZ_20260518_1100_498004
DTSTAMP:20260518T110000
DTSTART:20260518T110000
DTEND:20260518T123000
SUMMARY:Ryzyko w zapewnieniu bezpieczeństwa (Ć): 21BN-SP
CATEGORIES:Ć
LOCATION:123 A-29
END:VEVENT
BEGIN:VEVENT
UID:UZ_PLZ_20260518_1245_498004
DTSTAMP:20260518T124500
DTSTART:20260518T124500
DTEND:20260518T141500
SUMMARY:Ryzyko w zapewnieniu bezpieczeństwa (Ć): 21BN-SP
CATEGORIES:Ć
LOCATION:123 A-29
END:VEVENT
BEGIN:VEVENT
UID:UZ_PLZ_20260518_1425_498016
DTSTAMP:20260518T142500
DTSTART:20260518T142500
DTEND:20260518T160000
SUMMARY:Teoria wyboru publicznego (P): 11BN-SP
CATEGORIES:P
LOCATION:123 A-29
DESCRIPTION:<a href="https://classroom.google.com/c/ODUwMzYzOTg3NzM1">Google Classroom</a> 
END:VEVENT
BEGIN:VEVENT
UID:UZ_PLZ_20260518_1615_498754
DTSTAMP:20260518T161500
DTSTART:20260518T161500
DTEND:20260518T175000
SUMMARY:Seminarium dyplomowe 1 (S): 32LOG-TS-SP\; 33LOG-TS-SP
CATEGORIES:S
LOCATION:2 A-5
END:VEVENT
BEGIN:VEVENT
UID:UZ_PLZ_20260518_1615_498676
DTSTAMP:20260518T161500
DTSTART:20260518T161500
DTEND:20260518T175000
SUMMARY:Seminarium magisterskie II (S): 21LOG-LB-SD(L)\; 22LOG-ML-SD(L)
CATEGORIES:S
LOCATION:2 A-5
END:VEVENT
BEGIN:VEVENT
UID:UZ_PLZ_20260522_0915_498016
DTSTAMP:20260522T091500
DTSTART:20260522T091500
DTEND:20260522T105000
SUMMARY:Teoria wyboru publicznego (P): 11BN-SP
CATEGORIES:P
LOCATION:123 A-29
DESCRIPTION:<a href="https://classroom.google.com/c/ODUwMzYzOTg3NzM1">Google Classroom</a> 
END:VEVENT
BEGIN:VEVENT
UID:UZ_PLZ_20260522_1100_497965
DTSTAMP:20260522T110000
DTSTART:20260522T110000
DTEND:20260522T123500
SUMMARY:Teoria wyboru publicznego (W): 11BN-SP\; 12BN-SP
CATEGORIES:W
LOCATION:123 A-29
END:VEVENT
BEGIN:VEVENT
UID:UZ_PLZ_20260522_1245_497966
DTSTAMP:20260522T124500
DTSTART:20260522T124500
DTEND:20260522T142000
SUMMARY:Teoria wyboru publicznego (P): 12BN-SP
CATEGORIES:P
LOCATION:123 A-29
DESCRIPTION:<a href="https://classroom.google.com/c/ODQ3MzUwMDA5MTE1">Google Classroom</a> 
END:VEVENT
BEGIN:VEVENT
UID:UZ_PLZ_20260525_0900_497767
DTSTAMP:20260525T090000
DTSTART:20260525T090000
DTEND:20260525T104000
SUMMARY:Analiza ryzyka2 (W): 21BN-SP
CATEGORIES:W
LOCATION:123 A-29
DESCRIPTION:<a href="https://classroom.google.com/c/ODQ3MzQ4NDUxNjQ0">Google Classroom</a> <br><a href="https://classroom.google.com/c/ODQ3MzQ4ODY5NDQw">Google Classroom</a> 
END:VEVENT
BEGIN:VEVENT
UID:UZ_PLZ_20260525_1045_498085
DTSTAMP:20260525T104500
DTSTART:20260525T104500
DTEND:20260525T122500
SUMMARY:Analiza ryzyka2 (Ć): 21BN-SP
CATEGORIES:Ć
LOCATION:209 A-29
END:VEVENT
BEGIN:VEVENT
UID:UZ_PLZ_20260525_1230_498040
DTSTAMP:20260525T123000
DTSTART:20260525T123000
DTEND:20260525T134000
SUMMARY:Gospodarka przestrzenna (W): 11BN-ZK-SD
CATEGORIES:W
LOCATION:123 A-29
DESCRIPTION:<a href="https://classroom.google.com/c/ODQ3MzQ4NzIzMTcy">Google Classroom</a> 
END:VEVENT
BEGIN:VEVENT
UID:UZ_PLZ_20260525_1345_498099
DTSTAMP:20260525T134500
DTSTART:20260525T134500
DTEND:20260525T152500
SUMMARY:Gospodarka przestrzenna (Ć): 11BN-ZK-SD
CATEGORIES:Ć
LOCATION:122 A-29
END:VEVENT
BEGIN:VEVENT
UID:UZ_PLZ_20260525_1530_507091
DTSTAMP:20260525T153000
DTSTART:20260525T153000
DTEND:20260525T161500
SUMMARY:Konsultacje (I)
CATEGORIES:I
LOCATION:2 A-5
END:VEVENT
BEGIN:VEVENT
UID:UZ_PLZ_20260525_1615_498754
DTSTAMP:20260525T161500
DTSTART:20260525T161500
DTEND:20260525T175000
SUMMARY:Seminarium dyplomowe 1 (S): 32LOG-TS-SP\; 33LOG-TS-SP
CATEGORIES:S
LOCATION:2 A-5
END:VEVENT
BEGIN:VEVENT
UID:UZ_PLZ_20260530_1100_498512
DTSTAMP:20260530T110000
DTSTART:20260530T110000
DTEND:20260530T124000
SUMMARY:Ryzyko w zapewnieniu bezpieczeństwa (W): 21BN-NP
CATEGORIES:W
LOCATION:02a C-2
END:VEVENT
BEGIN:VEVENT
UID:UZ_PLZ_20260530_1245_498444
DTSTAMP:20260530T124500
DTSTART:20260530T124500
DTEND:20260530T142500
SUMMARY:Zarządzanie kryzysem w przedsiębiorstwie2 (W): 21BN-NP
CATEGORIES:W
LOCATION:F6 A-0
END:VEVENT
BEGIN:VEVENT
UID:UZ_PLZ_20260530_1430_498261
DTSTAMP:20260530T143000
DTSTART:20260530T143000
DTEND:20260530T160000
SUMMARY:Ryzyko w zapewnieniu bezpieczeństwa (Ć): 21BN-NP
CATEGORIES:Ć
LOCATION:10 A-5
DESCRIPTION:<a href="https://classroom.google.com/c/ODUwMzA2NjA2NzA4">Google Classroom</a> 
END:VEVENT
BEGIN:VEVENT
UID:UZ_PLZ_20260530_1615_498519
DTSTAMP:20260530T161500
DTSTART:20260530T161500
DTEND:20260530T175500
SUMMARY:Teoria wyboru publicznego (P): 11BN-NP
CATEGORIES:P
LOCATION:005 A-0
DESCRIPTION:<a href="https://classroom.google.com/c/ODUwMzA1NjE1MzE4">Google Classroom</a> 
END:VEVENT
BEGIN:VEVENT
UID:UZ_PLZ_20260530_1800_498328
DTSTAMP:20260530T180000
DTSTART:20260530T180000
DTEND:20260530T194000
SUMMARY:Gospodarka przestrzenna (W): 11BN-ZK-ND\; 12BN-AI-ND
CATEGORIES:W
LOCATION:110/110a A-0
DESCRIPTION:<a href="https://classroom.google.com/c/Nzk2NjQxMTcwMDMz">Google Classroom</a> 
END:VEVENT
BEGIN:VEVENT
UID:UZ_PLZ_20260530_1945_498411
DTSTAMP:20260530T194500
DTSTART:20260530T194500
DTEND:20260530T212500
SUMMARY:Gospodarka przestrzenna (Ć): 11BN-ZK-ND
CATEGORIES:Ć
LOCATION:110/110a A-0
DESCRIPTION:<a href="https://classroom.google.com/c/ODUxNjQyMzc4MzIy">Google Classroom</a> 
END:VEVENT
BEGIN:VEVENT
UID:UZ_PLZ_20260601_0915_498128
DTSTAMP:20260601T091500
DTSTART:20260601T091500
DTEND:20260601T105000
SUMMARY:Ryzyko w zapewnieniu bezpieczeństwa (W): 21BN-SP
CATEGORIES:W
LOCATION:123 A-29
DESCRIPTION:<a href="https://classroom.google.com/c/ODQ3MzQ4NDUxNjQ0">Google Classroom</a> 
END:VEVENT
BEGIN:VEVENT
UID:UZ_PLZ_20260601_1100_498004
DTSTAMP:20260601T110000
DTSTART:20260601T110000
DTEND:20260601T123000
SUMMARY:Ryzyko w zapewnieniu bezpieczeństwa (Ć): 21BN-SP
CATEGORIES:Ć
LOCATION:123 A-29
END:VEVENT
BEGIN:VEVENT
UID:UZ_PLZ_20260601_1245_498004
DTSTAMP:20260601T124500
DTSTART:20260601T124500
DTEND:20260601T141500
SUMMARY:Ryzyko w zapewnieniu bezpieczeństwa (Ć): 21BN-SP
CATEGORIES:Ć
LOCATION:123 A-29
END:VEVENT
BEGIN:VEVENT
UID:UZ_PLZ_20260601_1615_498754
DTSTAMP:20260601T161500
DTSTART:20260601T161500
DTEND:20260601T175000
SUMMARY:Seminarium dyplomowe 1 (S): 32LOG-TS-SP\; 33LOG-TS-SP
CATEGORIES:S
LOCATION:2 A-5
END:VEVENT
BEGIN:VEVENT
UID:UZ_PLZ_20260601_1615_498676
DTSTAMP:20260601T161500
DTSTART:20260601T161500
DTEND:20260601T175000
SUMMARY:Seminarium magisterskie II (S): 21LOG-LB-SD(L)\; 22LOG-ML-SD(L)
CATEGORIES:S
LOCATION:2 A-5
END:VEVENT
BEGIN:VEVENT
UID:UZ_PLZ_20260608_0900_497767
DTSTAMP:20260608T090000
DTSTART:20260608T090000
DTEND:20260608T104000
SUMMARY:Analiza ryzyka2 (W): 21BN-SP
CATEGORIES:W
LOCATION:123 A-29
DESCRIPTION:<a href="https://classroom.google.com/c/ODQ3MzQ4NDUxNjQ0">Google Classroom</a> <br><a href="https://classroom.google.com/c/ODQ3MzQ4ODY5NDQw">Google Classroom</a> 
END:VEVENT
BEGIN:VEVENT
UID:UZ_PLZ_20260608_1045_498085
DTSTAMP:20260608T104500
DTSTART:20260608T104500
DTEND:20260608T122500
SUMMARY:Analiza ryzyka2 (Ć): 21BN-SP
CATEGORIES:Ć
LOCATION:209 A-29
END:VEVENT
BEGIN:VEVENT
UID:UZ_PLZ_20260608_1230_498040
DTSTAMP:20260608T123000
DTSTART:20260608T123000
DTEND:20260608T134000
SUMMARY:Gospodarka przestrzenna (W): 11BN-ZK-SD
CATEGORIES:W
LOCATION:123 A-29
DESCRIPTION:<a href="https://classroom.google.com/c/ODQ3MzQ4NzIzMTcy">Google Classroom</a> 
END:VEVENT
BEGIN:VEVENT
UID:UZ_PLZ_20260608_1345_498099
DTSTAMP:20260608T134500
DTSTART:20260608T134500
DTEND:20260608T152500
SUMMARY:Gospodarka przestrzenna (Ć): 11BN-ZK-SD
CATEGORIES:Ć
LOCATION:122 A-29
END:VEVENT
BEGIN:VEVENT
UID:UZ_PLZ_20260608_1530_507091
DTSTAMP:20260608T153000
DTSTART:20260608T153000
DTEND:20260608T161500
SUMMARY:Konsultacje (I)
CATEGORIES:I
LOCATION:2 A-5
END:VEVENT
BEGIN:VEVENT
UID:UZ_PLZ_20260608_1615_498754
DTSTAMP:20260608T161500
DTSTART:20260608T161500
DTEND:20260608T175000
SUMMARY:Seminarium dyplomowe 1 (S): 32LOG-TS-SP\; 33LOG-TS-SP
CATEGORIES:S
LOCATION:2 A-5
END:VEVENT
BEGIN:VEVENT
UID:UZ_PLZ_20260613_1340_508162
DTSTAMP:20260613T134000
DTSTART:20260613T134000
DTEND:20260613T142500
SUMMARY:Konsultacje (I)
CATEGORIES:I
LOCATION:2 A-5
END:VEVENT
BEGIN:VEVENT
UID:UZ_PLZ_20260613_1430_498261
DTSTAMP:20260613T143000
DTSTART:20260613T143000
DTEND:20260613T160000
SUMMARY:Ryzyko w zapewnieniu bezpieczeństwa (Ć): 21BN-NP
CATEGORIES:Ć
LOCATION:10 A-5
DESCRIPTION:<a href="https://classroom.google.com/c/ODUwMzA2NjA2NzA4">Google Classroom</a> 
END:VEVENT
BEGIN:VEVENT
UID:UZ_PLZ_20260613_1615_498263
DTSTAMP:20260613T161500
DTSTART:20260613T161500
DTEND:20260613T173500
SUMMARY:Teoria wyboru publicznego (W): 11BN-NP
CATEGORIES:W
LOCATION:005 A-0
END:VEVENT
BEGIN:VEVENT
UID:UZ_PLZ_20260613_1800_498527
DTSTAMP:20260613T180000
DTSTART:20260613T180000
DTEND:20260613T192000
SUMMARY:Zarządzanie kryzysem w przedsiębiorstwie2 (Ć): 21BN-NP
CATEGORIES:Ć
LOCATION:110/110a A-0
DESCRIPTION:<a href="https://classroom.google.com/c/Nzk2NDQ5NDUyNzgx">Google Classroom</a> 
END:VEVENT
BEGIN:VEVENT
UID:UZ_PLZ_20260613_1935_498329
DTSTAMP:20260613T193500
DTSTART:20260613T193500
DTEND:20260613T205500
SUMMARY:Gospodarka przestrzenna (Ć): 12BN-AI-ND
CATEGORIES:Ć
LOCATION:110/110a A-0
DESCRIPTION:<a href="https://classroom.google.com/c/ODUwMzA1MDYyNDQw">Google Classroom</a> 
END:VEVENT
BEGIN:VEVENT
UID:UZ_PLZ_20260615_0915_498128
DTSTAMP:20260615T091500
DTSTART:20260615T091500
DTEND:20260615T105000
SUMMARY:Ryzyko w zapewnieniu bezpieczeństwa (W): 21BN-SP
CATEGORIES:W
LOCATION:123 A-29
DESCRIPTION:<a href="https://classroom.google.com/c/ODQ3MzQ4NDUxNjQ0">Google Classroom</a> 
END:VEVENT
BEGIN:VEVENT
UID:UZ_PLZ_20260615_1100_498004
DTSTAMP:20260615T110000
DTSTART:20260615T110000
DTEND:20260615T123000
SUMMARY:Ryzyko w zapewnieniu bezpieczeństwa (Ć): 21BN-SP
CATEGORIES:Ć
LOCATION:123 A-29
END:VEVENT
BEGIN:VEVENT
UID:UZ_PLZ_20260615_1245_498004
DTSTAMP:20260615T124500
DTSTART:20260615T124500
DTEND:20260615T141500
SUMMARY:Ryzyko w zapewnieniu bezpieczeństwa (Ć): 21BN-SP
CATEGORIES:Ć
LOCATION:123 A-29
END:VEVENT
BEGIN:VEVENT
UID:UZ_PLZ_20260615_1615_498754
DTSTAMP:20260615T161500
DTSTART:20260615T161500
DTEND:20260615T175000
SUMMARY:Seminarium dyplomowe 1 (S): 32LOG-TS-SP\; 33LOG-TS-SP
CATEGORIES:S
LOCATION:2 A-5
END:VEVENT
BEGIN:VEVENT
UID:UZ_PLZ_20260615_1615_498676
DTSTAMP:20260615T161500
DTSTART:20260615T161500
DTEND:20260615T175000
SUMMARY:Seminarium magisterskie II (S): 21LOG-LB-SD(L)\; 22LOG-ML-SD(L)
CATEGORIES:S
LOCATION:2 A-5
END:VEVENT
BEGIN:VEVENT
UID:UZ_PLZ_20260619_0915_498016
DTSTAMP:20260619T091500
DTSTART:20260619T091500
DTEND:20260619T105000
SUMMARY:Teoria wyboru publicznego (P): 11BN-SP
CATEGORIES:P
LOCATION:123 A-29
DESCRIPTION:<a href="https://classroom.google.com/c/ODUwMzYzOTg3NzM1">Google Classroom</a> 
END:VEVENT
BEGIN:VEVENT
UID:UZ_PLZ_20260619_1100_497965
DTSTAMP:20260619T110000
DTSTART:20260619T110000
DTEND:20260619T123500
SUMMARY:Teoria wyboru publicznego (W): 11BN-SP\; 12BN-SP
CATEGORIES:W
LOCATION:123 A-29
END:VEVENT
BEGIN:VEVENT
UID:UZ_PLZ_20260619_1245_497966
DTSTAMP:20260619T124500
DTSTART:20260619T124500
DTEND:20260619T142000
SUMMARY:Teoria wyboru publicznego (P): 12BN-SP
CATEGORIES:P
LOCATION:123 A-29
DESCRIPTION:<a href="https://classroom.google.com/c/ODQ3MzUwMDA5MTE1">Google Classroom</a> 
END:VEVENT
BEGIN:VEVENT
UID:UZ_PLZ_20260620_0730_508562
DTSTAMP:20260620T073000
DTSTART:20260620T073000
DTEND:20260620T083000
SUMMARY:Zarządzanie kryzysem w przedsiębiorstwie2 (E): 21BN-NP
CATEGORIES:E
LOCATION:123 A-0
END:VEVENT
BEGIN:VEVENT
UID:UZ_PLZ_20260620_0900_508564
DTSTAMP:20260620T090000
DTSTART:20260620T090000
DTEND:20260620T100000
SUMMARY:Ryzyko w zapewnieniu bezpieczeństwa (E): 21BN-NP
CATEGORIES:E
LOCATION:123 A-0
END:VEVENT
BEGIN:VEVENT
UID:UZ_PLZ_20260622_1100_508565
DTSTAMP:20260622T110000
DTSTART:20260622T110000
DTEND:20260622T120000
SUMMARY:Analiza ryzyka2 (E): 21BN-SP
CATEGORIES:E
LOCATION:9 A-5
END:VEVENT
BEGIN:VEVENT
UID:UZ_PLZ_20260623_1100_508563
DTSTAMP:20260623T110000
DTSTART:20260623T110000
DTEND:20260623T120000
SUMMARY:Ryzyko w zapewnieniu bezpieczeństwa (E): 21BN-SP
CATEGORIES:E
LOCATION:9 A-5
END:VEVENT
BEGIN:VEVENT
UID:UZ_PLZ_20260706_0800_508257
DTSTAMP:20260706T080000
DTSTART:20260706T080000
DTEND:20260706T180000
SUMMARY:Rezerwacja (R)
CATEGORIES:R
LOCATION:6 A-0
END:VEVENT
BEGIN:VEVENT
UID:UZ_PLZ_20260907_1100_508565
DTSTAMP:20260907T110000
DTSTART:20260907T110000
DTEND:20260907T120000
SUMMARY:Analiza ryzyka2 (E): 21BN-SP
CATEGORIES:E
LOCATION:9 A-5
END:VEVENT
BEGIN:VEVENT
UID:UZ_PLZ_20260912_0730_508562
DTSTAMP:20260912T073000
DTSTART:20260912T073000
DTEND:20260912T083000
SUMMARY:Zarządzanie kryzysem w przedsiębiorstwie2 (E): 21BN-NP
CATEGORIES:E
LOCATION:123 A-0
END:VEVENT
BEGIN:VEVENT
UID:UZ_PLZ_20260912_0900_508564
DTSTAMP:20260912T090000
DTSTART:20260912T090000
DTEND:20260912T100000
SUMMARY:Ryzyko w zapewnieniu bezpieczeństwa (E): 21BN-NP
CATEGORIES:E
LOCATION:123 A-0
END:VEVENT
BEGIN:VEVENT
UID:UZ_PLZ_20260914_1100_508563
DTSTAMP:20260914T110000
DTSTART:20260914T110000
DTEND:20260914T120000
SUMMARY:Ryzyko w zapewnieniu bezpieczeństwa (E): 21BN-SP
CATEGORIES:E
LOCATION:9 A-5
END:VEVENT
END:VCALENDAR
