BEGIN:VCALENDAR
TZID:Europe/Warsaw
X-WR-TIMEZONE:Europe/Warsaw
VERSION:2.0
PRODID:-//Uniwersytet Zielonogórski//NONSGML Plan zajęć v1.0//EN
NAME:Plan zajęć - semestr zimowy 2025/2026
X-WR-CALNAME:Plan zajęć - semestr zimowy 2025/2026
COLOR:green
CALSCALE:GREGORIAN
BEGIN:VEVENT
UID:UZ_PLZ_20251001_1100_485882
DTSTAMP:20251001T110000
DTSTART:20251001T110000
DTEND:20251001T140000
SUMMARY:REZERWACJA (R)
CATEGORIES:R
END:VEVENT
BEGIN:VEVENT
UID:UZ_PLZ_20251002_0730_485265
DTSTAMP:20251002T073000
DTSTART:20251002T073000
DTEND:20251002T090000
SUMMARY:Chemia (L): 11ZiIP-SP/B
CATEGORIES:L
LOCATION:H114 A-10
DESCRIPTION:<a href="https://classroom.google.com/c/ODEwNjQxMzU4NjU1">Google Classroom</a> 
END:VEVENT
BEGIN:VEVENT
UID:UZ_PLZ_20251002_0915_485352
DTSTAMP:20251002T091500
DTSTART:20251002T091500
DTEND:20251002T104000
SUMMARY:Chemia (L): 11MiBM-SP/B
CATEGORIES:L
LOCATION:H114 A-10
DESCRIPTION:<a href="https://classroom.google.com/c/ODEwNjQwNjc4NTUx">Google Classroom</a> 
END:VEVENT
BEGIN:VEVENT
UID:UZ_PLZ_20251002_1100_492841
DTSTAMP:20251002T110000
DTSTART:20251002T110000
DTEND:20251002T123000
SUMMARY:Konsultacje (I)
CATEGORIES:I
LOCATION:B315 A-11
END:VEVENT
BEGIN:VEVENT
UID:UZ_PLZ_20251007_1245_485101
DTSTAMP:20251007T124500
DTSTART:20251007T124500
DTEND:20251007T141500
SUMMARY:Trwałość biomateriałów (W): 15IB-BiBwM-SD
CATEGORIES:W
LOCATION:B118 A-11
END:VEVENT
BEGIN:VEVENT
UID:UZ_PLZ_20251008_1100_485882
DTSTAMP:20251008T110000
DTSTART:20251008T110000
DTEND:20251008T140000
SUMMARY:REZERWACJA (R)
CATEGORIES:R
END:VEVENT
BEGIN:VEVENT
UID:UZ_PLZ_20251009_0730_485265
DTSTAMP:20251009T073000
DTSTART:20251009T073000
DTEND:20251009T090000
SUMMARY:Chemia (L): 11ZiIP-SP/B
CATEGORIES:L
LOCATION:H114 A-10
DESCRIPTION:<a href="https://classroom.google.com/c/ODEwNjQxMzU4NjU1">Google Classroom</a> 
END:VEVENT
BEGIN:VEVENT
UID:UZ_PLZ_20251009_0915_485137
DTSTAMP:20251009T091500
DTSTART:20251009T091500
DTEND:20251009T105000
SUMMARY:Chemia (L): 11MiBM-SP/A
CATEGORIES:L
LOCATION:H114 A-10
DESCRIPTION:<a href="https://classroom.google.com/c/NzgwOTczNjA5MTk4">Google Classroom</a> 
END:VEVENT
BEGIN:VEVENT
UID:UZ_PLZ_20251009_1100_492841
DTSTAMP:20251009T110000
DTSTART:20251009T110000
DTEND:20251009T123000
SUMMARY:Konsultacje (I)
CATEGORIES:I
LOCATION:B315 A-11
END:VEVENT
BEGIN:VEVENT
UID:UZ_PLZ_20251013_0730_485064
DTSTAMP:20251013T073000
DTSTART:20251013T073000
DTEND:20251013T085500
SUMMARY:Biomechanika inżynierska (L): 21IB-SP
CATEGORIES:L
LOCATION:B002 A-11
DESCRIPTION:<a href="https://classroom.google.com/c/ODA0Mjc5MTExMTk5">Google Classroom</a> 
END:VEVENT
BEGIN:VEVENT
UID:UZ_PLZ_20251013_0915_485020
DTSTAMP:20251013T091500
DTSTART:20251013T091500
DTEND:20251013T104500
SUMMARY:Seminarium dyplomowe II (S): 41IB-SP
CATEGORIES:S
LOCATION:B315 A-11
END:VEVENT
BEGIN:VEVENT
UID:UZ_PLZ_20251014_1245_485101
DTSTAMP:20251014T124500
DTSTART:20251014T124500
DTEND:20251014T141500
SUMMARY:Trwałość biomateriałów (W): 15IB-BiBwM-SD
CATEGORIES:W
LOCATION:B118 A-11
END:VEVENT
BEGIN:VEVENT
UID:UZ_PLZ_20251015_1100_485882
DTSTAMP:20251015T110000
DTSTART:20251015T110000
DTEND:20251015T140000
SUMMARY:REZERWACJA (R)
CATEGORIES:R
END:VEVENT
BEGIN:VEVENT
UID:UZ_PLZ_20251016_0730_485265
DTSTAMP:20251016T073000
DTSTART:20251016T073000
DTEND:20251016T090000
SUMMARY:Chemia (L): 11ZiIP-SP/B
CATEGORIES:L
LOCATION:H114 A-10
DESCRIPTION:<a href="https://classroom.google.com/c/ODEwNjQxMzU4NjU1">Google Classroom</a> 
END:VEVENT
BEGIN:VEVENT
UID:UZ_PLZ_20251016_0915_485352
DTSTAMP:20251016T091500
DTSTART:20251016T091500
DTEND:20251016T104000
SUMMARY:Chemia (L): 11MiBM-SP/B
CATEGORIES:L
LOCATION:H114 A-10
DESCRIPTION:<a href="https://classroom.google.com/c/ODEwNjQwNjc4NTUx">Google Classroom</a> 
END:VEVENT
BEGIN:VEVENT
UID:UZ_PLZ_20251016_1100_492841
DTSTAMP:20251016T110000
DTSTART:20251016T110000
DTEND:20251016T123000
SUMMARY:Konsultacje (I)
CATEGORIES:I
LOCATION:B315 A-11
END:VEVENT
BEGIN:VEVENT
UID:UZ_PLZ_20251021_1245_485101
DTSTAMP:20251021T124500
DTSTART:20251021T124500
DTEND:20251021T141500
SUMMARY:Trwałość biomateriałów (W): 15IB-BiBwM-SD
CATEGORIES:W
LOCATION:B118 A-11
END:VEVENT
BEGIN:VEVENT
UID:UZ_PLZ_20251022_1100_485882
DTSTAMP:20251022T110000
DTSTART:20251022T110000
DTEND:20251022T140000
SUMMARY:REZERWACJA (R)
CATEGORIES:R
END:VEVENT
BEGIN:VEVENT
UID:UZ_PLZ_20251023_0730_485265
DTSTAMP:20251023T073000
DTSTART:20251023T073000
DTEND:20251023T090000
SUMMARY:Chemia (L): 11ZiIP-SP/B
CATEGORIES:L
LOCATION:H114 A-10
DESCRIPTION:<a href="https://classroom.google.com/c/ODEwNjQxMzU4NjU1">Google Classroom</a> 
END:VEVENT
BEGIN:VEVENT
UID:UZ_PLZ_20251023_0915_485137
DTSTAMP:20251023T091500
DTSTART:20251023T091500
DTEND:20251023T105000
SUMMARY:Chemia (L): 11MiBM-SP/A
CATEGORIES:L
LOCATION:H114 A-10
DESCRIPTION:<a href="https://classroom.google.com/c/NzgwOTczNjA5MTk4">Google Classroom</a> 
END:VEVENT
BEGIN:VEVENT
UID:UZ_PLZ_20251023_1100_492841
DTSTAMP:20251023T110000
DTSTART:20251023T110000
DTEND:20251023T123000
SUMMARY:Konsultacje (I)
CATEGORIES:I
LOCATION:B315 A-11
END:VEVENT
BEGIN:VEVENT
UID:UZ_PLZ_20251027_0730_485064
DTSTAMP:20251027T073000
DTSTART:20251027T073000
DTEND:20251027T085500
SUMMARY:Biomechanika inżynierska (L): 21IB-SP
CATEGORIES:L
LOCATION:B002 A-11
DESCRIPTION:<a href="https://classroom.google.com/c/ODA0Mjc5MTExMTk5">Google Classroom</a> 
END:VEVENT
BEGIN:VEVENT
UID:UZ_PLZ_20251027_0730_493636
DTSTAMP:20251027T073000
DTSTART:20251027T073000
DTEND:20251027T085500
SUMMARY:Rezerwacja (R)
CATEGORIES:R
LOCATION:H222 A-10
END:VEVENT
BEGIN:VEVENT
UID:UZ_PLZ_20251027_0915_485020
DTSTAMP:20251027T091500
DTSTART:20251027T091500
DTEND:20251027T104500
SUMMARY:Seminarium dyplomowe II (S): 41IB-SP
CATEGORIES:S
LOCATION:B315 A-11
END:VEVENT
BEGIN:VEVENT
UID:UZ_PLZ_20251027_1245_493636
DTSTAMP:20251027T124500
DTSTART:20251027T124500
DTEND:20251027T141500
SUMMARY:Rezerwacja (R)
CATEGORIES:R
LOCATION:H114 A-10
END:VEVENT
BEGIN:VEVENT
UID:UZ_PLZ_20251028_1245_485101
DTSTAMP:20251028T124500
DTSTART:20251028T124500
DTEND:20251028T141500
SUMMARY:Trwałość biomateriałów (W): 15IB-BiBwM-SD
CATEGORIES:W
LOCATION:B118 A-11
END:VEVENT
BEGIN:VEVENT
UID:UZ_PLZ_20251029_1100_485882
DTSTAMP:20251029T110000
DTSTART:20251029T110000
DTEND:20251029T140000
SUMMARY:REZERWACJA (R)
CATEGORIES:R
END:VEVENT
BEGIN:VEVENT
UID:UZ_PLZ_20251030_0730_485265
DTSTAMP:20251030T073000
DTSTART:20251030T073000
DTEND:20251030T090000
SUMMARY:Chemia (L): 11ZiIP-SP/B
CATEGORIES:L
LOCATION:H114 A-10
DESCRIPTION:<a href="https://classroom.google.com/c/ODEwNjQxMzU4NjU1">Google Classroom</a> 
END:VEVENT
BEGIN:VEVENT
UID:UZ_PLZ_20251030_0915_485352
DTSTAMP:20251030T091500
DTSTART:20251030T091500
DTEND:20251030T104000
SUMMARY:Chemia (L): 11MiBM-SP/B
CATEGORIES:L
LOCATION:H114 A-10
DESCRIPTION:<a href="https://classroom.google.com/c/ODEwNjQwNjc4NTUx">Google Classroom</a> 
END:VEVENT
BEGIN:VEVENT
UID:UZ_PLZ_20251030_1100_492841
DTSTAMP:20251030T110000
DTSTART:20251030T110000
DTEND:20251030T123000
SUMMARY:Konsultacje (I)
CATEGORIES:I
LOCATION:B315 A-11
END:VEVENT
BEGIN:VEVENT
UID:UZ_PLZ_20251104_1245_485101
DTSTAMP:20251104T124500
DTSTART:20251104T124500
DTEND:20251104T141500
SUMMARY:Trwałość biomateriałów (W): 15IB-BiBwM-SD
CATEGORIES:W
LOCATION:B118 A-11
END:VEVENT
BEGIN:VEVENT
UID:UZ_PLZ_20251105_1100_485882
DTSTAMP:20251105T110000
DTSTART:20251105T110000
DTEND:20251105T140000
SUMMARY:REZERWACJA (R)
CATEGORIES:R
END:VEVENT
BEGIN:VEVENT
UID:UZ_PLZ_20251106_0730_485265
DTSTAMP:20251106T073000
DTSTART:20251106T073000
DTEND:20251106T090000
SUMMARY:Chemia (L): 11ZiIP-SP/B
CATEGORIES:L
LOCATION:H114 A-10
DESCRIPTION:<a href="https://classroom.google.com/c/ODEwNjQxMzU4NjU1">Google Classroom</a> 
END:VEVENT
BEGIN:VEVENT
UID:UZ_PLZ_20251106_0915_485137
DTSTAMP:20251106T091500
DTSTART:20251106T091500
DTEND:20251106T105000
SUMMARY:Chemia (L): 11MiBM-SP/A
CATEGORIES:L
LOCATION:H114 A-10
DESCRIPTION:<a href="https://classroom.google.com/c/NzgwOTczNjA5MTk4">Google Classroom</a> 
END:VEVENT
BEGIN:VEVENT
UID:UZ_PLZ_20251106_1100_492841
DTSTAMP:20251106T110000
DTSTART:20251106T110000
DTEND:20251106T123000
SUMMARY:Konsultacje (I)
CATEGORIES:I
LOCATION:B315 A-11
END:VEVENT
BEGIN:VEVENT
UID:UZ_PLZ_20251112_1100_485882
DTSTAMP:20251112T110000
DTSTART:20251112T110000
DTEND:20251112T140000
SUMMARY:REZERWACJA (R)
CATEGORIES:R
END:VEVENT
BEGIN:VEVENT
UID:UZ_PLZ_20251113_0730_485064
DTSTAMP:20251113T073000
DTSTART:20251113T073000
DTEND:20251113T085500
SUMMARY:Biomechanika inżynierska (L): 21IB-SP
CATEGORIES:L
LOCATION:B002 A-11
DESCRIPTION:<a href="https://classroom.google.com/c/ODA0Mjc5MTExMTk5">Google Classroom</a> 
END:VEVENT
BEGIN:VEVENT
UID:UZ_PLZ_20251113_0915_485020
DTSTAMP:20251113T091500
DTSTART:20251113T091500
DTEND:20251113T104500
SUMMARY:Seminarium dyplomowe II (S): 41IB-SP
CATEGORIES:S
LOCATION:B315 A-11
END:VEVENT
BEGIN:VEVENT
UID:UZ_PLZ_20251114_1245_485101
DTSTAMP:20251114T124500
DTSTART:20251114T124500
DTEND:20251114T141500
SUMMARY:Trwałość biomateriałów (W): 15IB-BiBwM-SD
CATEGORIES:W
LOCATION:B118 A-11
END:VEVENT
BEGIN:VEVENT
UID:UZ_PLZ_20251118_1245_485101
DTSTAMP:20251118T124500
DTSTART:20251118T124500
DTEND:20251118T141500
SUMMARY:Trwałość biomateriałów (W): 15IB-BiBwM-SD
CATEGORIES:W
LOCATION:B118 A-11
END:VEVENT
BEGIN:VEVENT
UID:UZ_PLZ_20251119_1100_485882
DTSTAMP:20251119T110000
DTSTART:20251119T110000
DTEND:20251119T140000
SUMMARY:REZERWACJA (R)
CATEGORIES:R
END:VEVENT
BEGIN:VEVENT
UID:UZ_PLZ_20251120_0730_485265
DTSTAMP:20251120T073000
DTSTART:20251120T073000
DTEND:20251120T090000
SUMMARY:Chemia (L): 11ZiIP-SP/B
CATEGORIES:L
LOCATION:H114 A-10
DESCRIPTION:<a href="https://classroom.google.com/c/ODEwNjQxMzU4NjU1">Google Classroom</a> 
END:VEVENT
BEGIN:VEVENT
UID:UZ_PLZ_20251120_0915_485137
DTSTAMP:20251120T091500
DTSTART:20251120T091500
DTEND:20251120T105000
SUMMARY:Chemia (L): 11MiBM-SP/A
CATEGORIES:L
LOCATION:H114 A-10
DESCRIPTION:<a href="https://classroom.google.com/c/NzgwOTczNjA5MTk4">Google Classroom</a> 
END:VEVENT
BEGIN:VEVENT
UID:UZ_PLZ_20251120_1100_492841
DTSTAMP:20251120T110000
DTSTART:20251120T110000
DTEND:20251120T123000
SUMMARY:Konsultacje (I)
CATEGORIES:I
LOCATION:B315 A-11
END:VEVENT
BEGIN:VEVENT
UID:UZ_PLZ_20251124_0730_485064
DTSTAMP:20251124T073000
DTSTART:20251124T073000
DTEND:20251124T085500
SUMMARY:Biomechanika inżynierska (L): 21IB-SP
CATEGORIES:L
LOCATION:B002 A-11
DESCRIPTION:<a href="https://classroom.google.com/c/ODA0Mjc5MTExMTk5">Google Classroom</a> 
END:VEVENT
BEGIN:VEVENT
UID:UZ_PLZ_20251124_0915_485020
DTSTAMP:20251124T091500
DTSTART:20251124T091500
DTEND:20251124T104500
SUMMARY:Seminarium dyplomowe II (S): 41IB-SP
CATEGORIES:S
LOCATION:B315 A-11
END:VEVENT
BEGIN:VEVENT
UID:UZ_PLZ_20251125_1245_485101
DTSTAMP:20251125T124500
DTSTART:20251125T124500
DTEND:20251125T141500
SUMMARY:Trwałość biomateriałów (W): 15IB-BiBwM-SD
CATEGORIES:W
LOCATION:B118 A-11
END:VEVENT
BEGIN:VEVENT
UID:UZ_PLZ_20251126_1100_485882
DTSTAMP:20251126T110000
DTSTART:20251126T110000
DTEND:20251126T140000
SUMMARY:REZERWACJA (R)
CATEGORIES:R
END:VEVENT
BEGIN:VEVENT
UID:UZ_PLZ_20251127_0730_485265
DTSTAMP:20251127T073000
DTSTART:20251127T073000
DTEND:20251127T090000
SUMMARY:Chemia (L): 11ZiIP-SP/B
CATEGORIES:L
LOCATION:H114 A-10
DESCRIPTION:<a href="https://classroom.google.com/c/ODEwNjQxMzU4NjU1">Google Classroom</a> 
END:VEVENT
BEGIN:VEVENT
UID:UZ_PLZ_20251127_0915_485352
DTSTAMP:20251127T091500
DTSTART:20251127T091500
DTEND:20251127T104000
SUMMARY:Chemia (L): 11MiBM-SP/B
CATEGORIES:L
LOCATION:H114 A-10
DESCRIPTION:<a href="https://classroom.google.com/c/ODEwNjQwNjc4NTUx">Google Classroom</a> 
END:VEVENT
BEGIN:VEVENT
UID:UZ_PLZ_20251127_1100_492841
DTSTAMP:20251127T110000
DTSTART:20251127T110000
DTEND:20251127T123000
SUMMARY:Konsultacje (I)
CATEGORIES:I
LOCATION:B315 A-11
END:VEVENT
BEGIN:VEVENT
UID:UZ_PLZ_20251201_0915_485020
DTSTAMP:20251201T091500
DTSTART:20251201T091500
DTEND:20251201T104500
SUMMARY:Seminarium dyplomowe II (S): 41IB-SP
CATEGORIES:S
LOCATION:B315 A-11
END:VEVENT
BEGIN:VEVENT
UID:UZ_PLZ_20251202_1245_485101
DTSTAMP:20251202T124500
DTSTART:20251202T124500
DTEND:20251202T141500
SUMMARY:Trwałość biomateriałów (W): 15IB-BiBwM-SD
CATEGORIES:W
LOCATION:B118 A-11
END:VEVENT
BEGIN:VEVENT
UID:UZ_PLZ_20251203_1100_485882
DTSTAMP:20251203T110000
DTSTART:20251203T110000
DTEND:20251203T140000
SUMMARY:REZERWACJA (R)
CATEGORIES:R
END:VEVENT
BEGIN:VEVENT
UID:UZ_PLZ_20251204_0730_485265
DTSTAMP:20251204T073000
DTSTART:20251204T073000
DTEND:20251204T090000
SUMMARY:Chemia (L): 11ZiIP-SP/B
CATEGORIES:L
LOCATION:H114 A-10
DESCRIPTION:<a href="https://classroom.google.com/c/ODEwNjQxMzU4NjU1">Google Classroom</a> 
END:VEVENT
BEGIN:VEVENT
UID:UZ_PLZ_20251204_0915_485137
DTSTAMP:20251204T091500
DTSTART:20251204T091500
DTEND:20251204T105000
SUMMARY:Chemia (L): 11MiBM-SP/A
CATEGORIES:L
LOCATION:H114 A-10
DESCRIPTION:<a href="https://classroom.google.com/c/NzgwOTczNjA5MTk4">Google Classroom</a> 
END:VEVENT
BEGIN:VEVENT
UID:UZ_PLZ_20251204_1100_492841
DTSTAMP:20251204T110000
DTSTART:20251204T110000
DTEND:20251204T123000
SUMMARY:Konsultacje (I)
CATEGORIES:I
LOCATION:B315 A-11
END:VEVENT
BEGIN:VEVENT
UID:UZ_PLZ_20251208_0730_485064
DTSTAMP:20251208T073000
DTSTART:20251208T073000
DTEND:20251208T085500
SUMMARY:Biomechanika inżynierska (L): 21IB-SP
CATEGORIES:L
LOCATION:B002 A-11
DESCRIPTION:<a href="https://classroom.google.com/c/ODA0Mjc5MTExMTk5">Google Classroom</a> 
END:VEVENT
BEGIN:VEVENT
UID:UZ_PLZ_20251208_0915_485020
DTSTAMP:20251208T091500
DTSTART:20251208T091500
DTEND:20251208T104500
SUMMARY:Seminarium dyplomowe II (S): 41IB-SP
CATEGORIES:S
LOCATION:B315 A-11
END:VEVENT
BEGIN:VEVENT
UID:UZ_PLZ_20251209_1245_485101
DTSTAMP:20251209T124500
DTSTART:20251209T124500
DTEND:20251209T141500
SUMMARY:Trwałość biomateriałów (W): 15IB-BiBwM-SD
CATEGORIES:W
LOCATION:B118 A-11
END:VEVENT
BEGIN:VEVENT
UID:UZ_PLZ_20251210_1100_485882
DTSTAMP:20251210T110000
DTSTART:20251210T110000
DTEND:20251210T140000
SUMMARY:REZERWACJA (R)
CATEGORIES:R
END:VEVENT
BEGIN:VEVENT
UID:UZ_PLZ_20251211_0730_485265
DTSTAMP:20251211T073000
DTSTART:20251211T073000
DTEND:20251211T090000
SUMMARY:Chemia (L): 11ZiIP-SP/B
CATEGORIES:L
LOCATION:H114 A-10
DESCRIPTION:<a href="https://classroom.google.com/c/ODEwNjQxMzU4NjU1">Google Classroom</a> 
END:VEVENT
BEGIN:VEVENT
UID:UZ_PLZ_20251211_0915_485352
DTSTAMP:20251211T091500
DTSTART:20251211T091500
DTEND:20251211T104000
SUMMARY:Chemia (L): 11MiBM-SP/B
CATEGORIES:L
LOCATION:H114 A-10
DESCRIPTION:<a href="https://classroom.google.com/c/ODEwNjQwNjc4NTUx">Google Classroom</a> 
END:VEVENT
BEGIN:VEVENT
UID:UZ_PLZ_20251211_1100_492841
DTSTAMP:20251211T110000
DTSTART:20251211T110000
DTEND:20251211T123000
SUMMARY:Konsultacje (I)
CATEGORIES:I
LOCATION:B315 A-11
END:VEVENT
BEGIN:VEVENT
UID:UZ_PLZ_20251216_1245_485101
DTSTAMP:20251216T124500
DTSTART:20251216T124500
DTEND:20251216T141500
SUMMARY:Trwałość biomateriałów (W): 15IB-BiBwM-SD
CATEGORIES:W
LOCATION:B118 A-11
END:VEVENT
BEGIN:VEVENT
UID:UZ_PLZ_20251217_1100_485882
DTSTAMP:20251217T110000
DTSTART:20251217T110000
DTEND:20251217T140000
SUMMARY:REZERWACJA (R)
CATEGORIES:R
END:VEVENT
BEGIN:VEVENT
UID:UZ_PLZ_20251218_0730_485265
DTSTAMP:20251218T073000
DTSTART:20251218T073000
DTEND:20251218T090000
SUMMARY:Chemia (L): 11ZiIP-SP/B
CATEGORIES:L
LOCATION:H114 A-10
DESCRIPTION:<a href="https://classroom.google.com/c/ODEwNjQxMzU4NjU1">Google Classroom</a> 
END:VEVENT
BEGIN:VEVENT
UID:UZ_PLZ_20251218_0915_485137
DTSTAMP:20251218T091500
DTSTART:20251218T091500
DTEND:20251218T105000
SUMMARY:Chemia (L): 11MiBM-SP/A
CATEGORIES:L
LOCATION:H114 A-10
DESCRIPTION:<a href="https://classroom.google.com/c/NzgwOTczNjA5MTk4">Google Classroom</a> 
END:VEVENT
BEGIN:VEVENT
UID:UZ_PLZ_20251218_1100_492841
DTSTAMP:20251218T110000
DTSTART:20251218T110000
DTEND:20251218T123000
SUMMARY:Konsultacje (I)
CATEGORIES:I
LOCATION:B315 A-11
END:VEVENT
BEGIN:VEVENT
UID:UZ_PLZ_20260107_1245_485101
DTSTAMP:20260107T124500
DTSTART:20260107T124500
DTEND:20260107T141500
SUMMARY:Trwałość biomateriałów (W): 15IB-BiBwM-SD
CATEGORIES:W
LOCATION:B118 A-11
END:VEVENT
BEGIN:VEVENT
UID:UZ_PLZ_20260108_0730_485265
DTSTAMP:20260108T073000
DTSTART:20260108T073000
DTEND:20260108T090000
SUMMARY:Chemia (L): 11ZiIP-SP/B
CATEGORIES:L
LOCATION:H114 A-10
DESCRIPTION:<a href="https://classroom.google.com/c/ODEwNjQxMzU4NjU1">Google Classroom</a> 
END:VEVENT
BEGIN:VEVENT
UID:UZ_PLZ_20260108_0915_485352
DTSTAMP:20260108T091500
DTSTART:20260108T091500
DTEND:20260108T104000
SUMMARY:Chemia (L): 11MiBM-SP/B
CATEGORIES:L
LOCATION:H114 A-10
DESCRIPTION:<a href="https://classroom.google.com/c/ODEwNjQwNjc4NTUx">Google Classroom</a> 
END:VEVENT
BEGIN:VEVENT
UID:UZ_PLZ_20260108_1100_492841
DTSTAMP:20260108T110000
DTSTART:20260108T110000
DTEND:20260108T123000
SUMMARY:Konsultacje (I)
CATEGORIES:I
LOCATION:B315 A-11
END:VEVENT
BEGIN:VEVENT
UID:UZ_PLZ_20260112_0915_485020
DTSTAMP:20260112T091500
DTSTART:20260112T091500
DTEND:20260112T104500
SUMMARY:Seminarium dyplomowe II (S): 41IB-SP
CATEGORIES:S
LOCATION:B315 A-11
END:VEVENT
BEGIN:VEVENT
UID:UZ_PLZ_20260113_1245_485101
DTSTAMP:20260113T124500
DTSTART:20260113T124500
DTEND:20260113T141500
SUMMARY:Trwałość biomateriałów (W): 15IB-BiBwM-SD
CATEGORIES:W
LOCATION:B118 A-11
END:VEVENT
BEGIN:VEVENT
UID:UZ_PLZ_20260114_1100_485882
DTSTAMP:20260114T110000
DTSTART:20260114T110000
DTEND:20260114T140000
SUMMARY:REZERWACJA (R)
CATEGORIES:R
END:VEVENT
BEGIN:VEVENT
UID:UZ_PLZ_20260115_0730_485265
DTSTAMP:20260115T073000
DTSTART:20260115T073000
DTEND:20260115T090000
SUMMARY:Chemia (L): 11ZiIP-SP/B
CATEGORIES:L
LOCATION:H114 A-10
DESCRIPTION:<a href="https://classroom.google.com/c/ODEwNjQxMzU4NjU1">Google Classroom</a> 
END:VEVENT
BEGIN:VEVENT
UID:UZ_PLZ_20260115_0915_485137
DTSTAMP:20260115T091500
DTSTART:20260115T091500
DTEND:20260115T105000
SUMMARY:Chemia (L): 11MiBM-SP/A
CATEGORIES:L
LOCATION:H114 A-10
DESCRIPTION:<a href="https://classroom.google.com/c/NzgwOTczNjA5MTk4">Google Classroom</a> 
END:VEVENT
BEGIN:VEVENT
UID:UZ_PLZ_20260115_1100_492841
DTSTAMP:20260115T110000
DTSTART:20260115T110000
DTEND:20260115T123000
SUMMARY:Konsultacje (I)
CATEGORIES:I
LOCATION:B315 A-11
END:VEVENT
BEGIN:VEVENT
UID:UZ_PLZ_20260119_0730_485064
DTSTAMP:20260119T073000
DTSTART:20260119T073000
DTEND:20260119T085500
SUMMARY:Biomechanika inżynierska (L): 21IB-SP
CATEGORIES:L
LOCATION:B002 A-11
DESCRIPTION:<a href="https://classroom.google.com/c/ODA0Mjc5MTExMTk5">Google Classroom</a> 
END:VEVENT
BEGIN:VEVENT
UID:UZ_PLZ_20260119_0915_485020
DTSTAMP:20260119T091500
DTSTART:20260119T091500
DTEND:20260119T104500
SUMMARY:Seminarium dyplomowe II (S): 41IB-SP
CATEGORIES:S
LOCATION:B315 A-11
END:VEVENT
BEGIN:VEVENT
UID:UZ_PLZ_20260120_1245_485101
DTSTAMP:20260120T124500
DTSTART:20260120T124500
DTEND:20260120T141500
SUMMARY:Trwałość biomateriałów (W): 15IB-BiBwM-SD
CATEGORIES:W
LOCATION:B118 A-11
END:VEVENT
BEGIN:VEVENT
UID:UZ_PLZ_20260121_1100_485882
DTSTAMP:20260121T110000
DTSTART:20260121T110000
DTEND:20260121T140000
SUMMARY:REZERWACJA (R)
CATEGORIES:R
END:VEVENT
BEGIN:VEVENT
UID:UZ_PLZ_20260122_0730_485265
DTSTAMP:20260122T073000
DTSTART:20260122T073000
DTEND:20260122T090000
SUMMARY:Chemia (L): 11ZiIP-SP/B
CATEGORIES:L
LOCATION:H114 A-10
DESCRIPTION:<a href="https://classroom.google.com/c/ODEwNjQxMzU4NjU1">Google Classroom</a> 
END:VEVENT
BEGIN:VEVENT
UID:UZ_PLZ_20260122_0915_485352
DTSTAMP:20260122T091500
DTSTART:20260122T091500
DTEND:20260122T104000
SUMMARY:Chemia (L): 11MiBM-SP/B
CATEGORIES:L
LOCATION:H114 A-10
DESCRIPTION:<a href="https://classroom.google.com/c/ODEwNjQwNjc4NTUx">Google Classroom</a> 
END:VEVENT
BEGIN:VEVENT
UID:UZ_PLZ_20260122_1100_492841
DTSTAMP:20260122T110000
DTSTART:20260122T110000
DTEND:20260122T123000
SUMMARY:Konsultacje (I)
CATEGORIES:I
LOCATION:B315 A-11
END:VEVENT
BEGIN:VEVENT
UID:UZ_PLZ_20260126_0730_485064
DTSTAMP:20260126T073000
DTSTART:20260126T073000
DTEND:20260126T085500
SUMMARY:Biomechanika inżynierska (L): 21IB-SP
CATEGORIES:L
LOCATION:B002 A-11
DESCRIPTION:<a href="https://classroom.google.com/c/ODA0Mjc5MTExMTk5">Google Classroom</a> 
END:VEVENT
BEGIN:VEVENT
UID:UZ_PLZ_20260126_0915_485020
DTSTAMP:20260126T091500
DTSTART:20260126T091500
DTEND:20260126T104500
SUMMARY:Seminarium dyplomowe II (S): 41IB-SP
CATEGORIES:S
LOCATION:B315 A-11
END:VEVENT
BEGIN:VEVENT
UID:UZ_PLZ_20260127_1245_485101
DTSTAMP:20260127T124500
DTSTART:20260127T124500
DTEND:20260127T141500
SUMMARY:Trwałość biomateriałów (W): 15IB-BiBwM-SD
CATEGORIES:W
LOCATION:B118 A-11
END:VEVENT
BEGIN:VEVENT
UID:UZ_PLZ_20260128_1100_485882
DTSTAMP:20260128T110000
DTSTART:20260128T110000
DTEND:20260128T140000
SUMMARY:REZERWACJA (R)
CATEGORIES:R
END:VEVENT
BEGIN:VEVENT
UID:UZ_PLZ_20260129_0730_485265
DTSTAMP:20260129T073000
DTSTART:20260129T073000
DTEND:20260129T090000
SUMMARY:Chemia (L): 11ZiIP-SP/B
CATEGORIES:L
LOCATION:H114 A-10
DESCRIPTION:<a href="https://classroom.google.com/c/ODEwNjQxMzU4NjU1">Google Classroom</a> 
END:VEVENT
BEGIN:VEVENT
UID:UZ_PLZ_20260129_0915_485352
DTSTAMP:20260129T091500
DTSTART:20260129T091500
DTEND:20260129T104000
SUMMARY:Chemia (L): 11MiBM-SP/B
CATEGORIES:L
LOCATION:H114 A-10
DESCRIPTION:<a href="https://classroom.google.com/c/ODEwNjQwNjc4NTUx">Google Classroom</a> 
END:VEVENT
BEGIN:VEVENT
UID:UZ_PLZ_20260129_1100_492841
DTSTAMP:20260129T110000
DTSTART:20260129T110000
DTEND:20260129T123000
SUMMARY:Konsultacje (I)
CATEGORIES:I
LOCATION:B315 A-11
END:VEVENT
BEGIN:VEVENT
UID:UZ_PLZ_20260202_0730_485064
DTSTAMP:20260202T073000
DTSTART:20260202T073000
DTEND:20260202T085500
SUMMARY:Biomechanika inżynierska (L): 21IB-SP
CATEGORIES:L
LOCATION:B002 A-11
DESCRIPTION:<a href="https://classroom.google.com/c/ODA0Mjc5MTExMTk5">Google Classroom</a> 
END:VEVENT
BEGIN:VEVENT
UID:UZ_PLZ_20260213_0900_505750
DTSTAMP:20260213T090000
DTSTART:20260213T090000
DTEND:20260213T140000
SUMMARY:Rezerwacja (R)
CATEGORIES:R
LOCATION:H112 A-10\; H114 A-10
END:VEVENT
BEGIN:VEVENT
UID:UZ_PLZ_20260213_1100_506487
DTSTAMP:20260213T110000
DTSTART:20260213T110000
DTEND:20260213T124500
SUMMARY:"Klasa Uniwersytecka" (R)
CATEGORIES:R
LOCATION:H114 A-10
END:VEVENT
END:VCALENDAR
