BEGIN:VCALENDAR
TZID:Europe/Warsaw
X-WR-TIMEZONE:Europe/Warsaw
VERSION:2.0
PRODID:-//Uniwersytet Zielonogórski//NONSGML Plan zajęć v1.0//EN
NAME:Plan zajęć - semestr letni 2025/2026
X-WR-CALNAME:Plan zajęć - semestr letni 2025/2026
COLOR:green
CALSCALE:GREGORIAN
BEGIN:VEVENT
UID:UZ_PLZ_20260303_0915_497707
DTSTAMP:20260303T091500
DTSTART:20260303T091500
DTEND:20260303T105000
SUMMARY:Mechanika i wytrzymałość materiałów (L): 11IB-SP/A1
CATEGORIES:L
LOCATION:H038 A-10\; H222 A-10
DESCRIPTION:<a href="https://classroom.google.com/c/ODQ3MTE3MzI4NzQ2">Google Classroom</a> 
END:VEVENT
BEGIN:VEVENT
UID:UZ_PLZ_20260303_1100_497672
DTSTAMP:20260303T110000
DTSTART:20260303T110000
DTEND:20260303T123000
SUMMARY:Grafika komputerowa (W): 11IB-SP
CATEGORIES:W
LOCATION:B118 A-11
END:VEVENT
BEGIN:VEVENT
UID:UZ_PLZ_20260303_1245_497646
DTSTAMP:20260303T124500
DTSTART:20260303T124500
DTEND:20260303T141500
SUMMARY:Grafika komputerowa (L): 11IB-SP
CATEGORIES:L
LOCATION:B219 A-11
DESCRIPTION:<a href="https://classroom.google.com/c/ODQ3MzY2OTQyNTc5">Google Classroom</a> 
END:VEVENT
BEGIN:VEVENT
UID:UZ_PLZ_20260304_0730_504520
DTSTAMP:20260304T073000
DTSTART:20260304T073000
DTEND:20260304T150000
SUMMARY:Dzień Otwarty WNIT (R)
CATEGORIES:R
LOCATION:H114 A-10
END:VEVENT
BEGIN:VEVENT
UID:UZ_PLZ_20260304_0900_506990
DTSTAMP:20260304T090000
DTSTART:20260304T090000
DTEND:20260304T103000
SUMMARY:Konsultacje (I)
CATEGORIES:I
LOCATION:B315 A-11
END:VEVENT
BEGIN:VEVENT
UID:UZ_PLZ_20260304_1100_497752
DTSTAMP:20260304T110000
DTSTART:20260304T110000
DTEND:20260304T140000
SUMMARY:Rezerwacja (R)
CATEGORIES:R
END:VEVENT
BEGIN:VEVENT
UID:UZ_PLZ_20260305_1430_497706
DTSTAMP:20260305T143000
DTSTART:20260305T143000
DTEND:20260305T160000
SUMMARY:Mechanika i wytrzymałość materiałów (Ć): 11IB-SP
CATEGORIES:Ć
LOCATION:B118 A-11
END:VEVENT
BEGIN:VEVENT
UID:UZ_PLZ_20260310_0915_497707
DTSTAMP:20260310T091500
DTSTART:20260310T091500
DTEND:20260310T105000
SUMMARY:Mechanika i wytrzymałość materiałów (L): 11IB-SP/A1
CATEGORIES:L
LOCATION:H038 A-10\; H222 A-10
DESCRIPTION:<a href="https://classroom.google.com/c/ODQ3MTE3MzI4NzQ2">Google Classroom</a> 
END:VEVENT
BEGIN:VEVENT
UID:UZ_PLZ_20260310_1100_497672
DTSTAMP:20260310T110000
DTSTART:20260310T110000
DTEND:20260310T123000
SUMMARY:Grafika komputerowa (W): 11IB-SP
CATEGORIES:W
LOCATION:B118 A-11
END:VEVENT
BEGIN:VEVENT
UID:UZ_PLZ_20260310_1245_497646
DTSTAMP:20260310T124500
DTSTART:20260310T124500
DTEND:20260310T141500
SUMMARY:Grafika komputerowa (L): 11IB-SP
CATEGORIES:L
LOCATION:B219 A-11
DESCRIPTION:<a href="https://classroom.google.com/c/ODQ3MzY2OTQyNTc5">Google Classroom</a> 
END:VEVENT
BEGIN:VEVENT
UID:UZ_PLZ_20260310_1615_497669
DTSTAMP:20260310T161500
DTSTART:20260310T161500
DTEND:20260310T175000
SUMMARY:Materiałoznawstwo (L): 11IB-SP/A1
CATEGORIES:L
LOCATION:H114 A-10
DESCRIPTION:<a href="https://classroom.google.com/c/ODUwODQ1OTczNjUy">Google Classroom</a> 
END:VEVENT
BEGIN:VEVENT
UID:UZ_PLZ_20260311_0900_506990
DTSTAMP:20260311T090000
DTSTART:20260311T090000
DTEND:20260311T103000
SUMMARY:Konsultacje (I)
CATEGORIES:I
LOCATION:B315 A-11
END:VEVENT
BEGIN:VEVENT
UID:UZ_PLZ_20260311_1100_497752
DTSTAMP:20260311T110000
DTSTART:20260311T110000
DTEND:20260311T140000
SUMMARY:Rezerwacja (R)
CATEGORIES:R
END:VEVENT
BEGIN:VEVENT
UID:UZ_PLZ_20260312_1430_497706
DTSTAMP:20260312T143000
DTSTART:20260312T143000
DTEND:20260312T160000
SUMMARY:Mechanika i wytrzymałość materiałów (Ć): 11IB-SP
CATEGORIES:Ć
LOCATION:B118 A-11
END:VEVENT
BEGIN:VEVENT
UID:UZ_PLZ_20260317_0730_497669
DTSTAMP:20260317T073000
DTSTART:20260317T073000
DTEND:20260317T090500
SUMMARY:Materiałoznawstwo (L): 11IB-SP/A1
CATEGORIES:L
LOCATION:H114 A-10
DESCRIPTION:<a href="https://classroom.google.com/c/ODUwODQ1OTczNjUy">Google Classroom</a> 
END:VEVENT
BEGIN:VEVENT
UID:UZ_PLZ_20260317_1245_497646
DTSTAMP:20260317T124500
DTSTART:20260317T124500
DTEND:20260317T141500
SUMMARY:Grafika komputerowa (L): 11IB-SP
CATEGORIES:L
LOCATION:B219 A-11
DESCRIPTION:<a href="https://classroom.google.com/c/ODQ3MzY2OTQyNTc5">Google Classroom</a> 
END:VEVENT
BEGIN:VEVENT
UID:UZ_PLZ_20260318_0900_506990
DTSTAMP:20260318T090000
DTSTART:20260318T090000
DTEND:20260318T103000
SUMMARY:Konsultacje (I)
CATEGORIES:I
LOCATION:B315 A-11
END:VEVENT
BEGIN:VEVENT
UID:UZ_PLZ_20260318_0900_506985
DTSTAMP:20260318T090000
DTSTART:20260318T090000
DTEND:20260318T153000
SUMMARY:Warsztaty (R)
CATEGORIES:R
LOCATION:H114 A-10
END:VEVENT
BEGIN:VEVENT
UID:UZ_PLZ_20260318_1100_497752
DTSTAMP:20260318T110000
DTSTART:20260318T110000
DTEND:20260318T140000
SUMMARY:Rezerwacja (R)
CATEGORIES:R
END:VEVENT
BEGIN:VEVENT
UID:UZ_PLZ_20260319_0730_497706
DTSTAMP:20260319T073000
DTSTART:20260319T073000
DTEND:20260319T085500
SUMMARY:Mechanika i wytrzymałość materiałów (Ć): 11IB-SP
CATEGORIES:Ć
LOCATION:B104 A-11
END:VEVENT
BEGIN:VEVENT
UID:UZ_PLZ_20260323_0730_497707
DTSTAMP:20260323T073000
DTSTART:20260323T073000
DTEND:20260323T090500
SUMMARY:Mechanika i wytrzymałość materiałów (L): 11IB-SP/A1
CATEGORIES:L
LOCATION:B219 A-11\; H038 A-10
DESCRIPTION:<a href="https://classroom.google.com/c/ODQ3MTE3MzI4NzQ2">Google Classroom</a> 
END:VEVENT
BEGIN:VEVENT
UID:UZ_PLZ_20260324_0730_497669
DTSTAMP:20260324T073000
DTSTART:20260324T073000
DTEND:20260324T090500
SUMMARY:Materiałoznawstwo (L): 11IB-SP/A1
CATEGORIES:L
LOCATION:H114 A-10
DESCRIPTION:<a href="https://classroom.google.com/c/ODUwODQ1OTczNjUy">Google Classroom</a> 
END:VEVENT
BEGIN:VEVENT
UID:UZ_PLZ_20260324_0915_497707
DTSTAMP:20260324T091500
DTSTART:20260324T091500
DTEND:20260324T105000
SUMMARY:Mechanika i wytrzymałość materiałów (L): 11IB-SP/A1
CATEGORIES:L
LOCATION:H038 A-10\; H222 A-10
DESCRIPTION:<a href="https://classroom.google.com/c/ODQ3MTE3MzI4NzQ2">Google Classroom</a> 
END:VEVENT
BEGIN:VEVENT
UID:UZ_PLZ_20260324_1100_497672
DTSTAMP:20260324T110000
DTSTART:20260324T110000
DTEND:20260324T123000
SUMMARY:Grafika komputerowa (W): 11IB-SP
CATEGORIES:W
LOCATION:B118 A-11
END:VEVENT
BEGIN:VEVENT
UID:UZ_PLZ_20260324_1245_497646
DTSTAMP:20260324T124500
DTSTART:20260324T124500
DTEND:20260324T141500
SUMMARY:Grafika komputerowa (L): 11IB-SP
CATEGORIES:L
LOCATION:B219 A-11
DESCRIPTION:<a href="https://classroom.google.com/c/ODQ3MzY2OTQyNTc5">Google Classroom</a> 
END:VEVENT
BEGIN:VEVENT
UID:UZ_PLZ_20260325_0900_506990
DTSTAMP:20260325T090000
DTSTART:20260325T090000
DTEND:20260325T103000
SUMMARY:Konsultacje (I)
CATEGORIES:I
LOCATION:B315 A-11
END:VEVENT
BEGIN:VEVENT
UID:UZ_PLZ_20260325_1100_497752
DTSTAMP:20260325T110000
DTSTART:20260325T110000
DTEND:20260325T140000
SUMMARY:Rezerwacja (R)
CATEGORIES:R
END:VEVENT
BEGIN:VEVENT
UID:UZ_PLZ_20260326_0730_497706
DTSTAMP:20260326T073000
DTSTART:20260326T073000
DTEND:20260326T085500
SUMMARY:Mechanika i wytrzymałość materiałów (Ć): 11IB-SP
CATEGORIES:Ć
LOCATION:B104 A-11
END:VEVENT
BEGIN:VEVENT
UID:UZ_PLZ_20260331_0730_497669
DTSTAMP:20260331T073000
DTSTART:20260331T073000
DTEND:20260331T090500
SUMMARY:Materiałoznawstwo (L): 11IB-SP/A1
CATEGORIES:L
LOCATION:H114 A-10
DESCRIPTION:<a href="https://classroom.google.com/c/ODUwODQ1OTczNjUy">Google Classroom</a> 
END:VEVENT
BEGIN:VEVENT
UID:UZ_PLZ_20260331_0915_497707
DTSTAMP:20260331T091500
DTSTART:20260331T091500
DTEND:20260331T105000
SUMMARY:Mechanika i wytrzymałość materiałów (L): 11IB-SP/A1
CATEGORIES:L
LOCATION:H038 A-10\; H222 A-10
DESCRIPTION:<a href="https://classroom.google.com/c/ODQ3MTE3MzI4NzQ2">Google Classroom</a> 
END:VEVENT
BEGIN:VEVENT
UID:UZ_PLZ_20260331_1100_497672
DTSTAMP:20260331T110000
DTSTART:20260331T110000
DTEND:20260331T123000
SUMMARY:Grafika komputerowa (W): 11IB-SP
CATEGORIES:W
LOCATION:B118 A-11
END:VEVENT
BEGIN:VEVENT
UID:UZ_PLZ_20260331_1100_508210
DTSTAMP:20260331T110000
DTSTART:20260331T110000
DTEND:20260331T123000
SUMMARY:Rezerwacja (R)
CATEGORIES:R
LOCATION:H222 A-10
END:VEVENT
BEGIN:VEVENT
UID:UZ_PLZ_20260331_1245_497646
DTSTAMP:20260331T124500
DTSTART:20260331T124500
DTEND:20260331T141500
SUMMARY:Grafika komputerowa (L): 11IB-SP
CATEGORIES:L
LOCATION:B219 A-11
DESCRIPTION:<a href="https://classroom.google.com/c/ODQ3MzY2OTQyNTc5">Google Classroom</a> 
END:VEVENT
BEGIN:VEVENT
UID:UZ_PLZ_20260401_0900_506990
DTSTAMP:20260401T090000
DTSTART:20260401T090000
DTEND:20260401T103000
SUMMARY:Konsultacje (I)
CATEGORIES:I
LOCATION:B315 A-11
END:VEVENT
BEGIN:VEVENT
UID:UZ_PLZ_20260401_1100_497752
DTSTAMP:20260401T110000
DTSTART:20260401T110000
DTEND:20260401T140000
SUMMARY:Rezerwacja (R)
CATEGORIES:R
END:VEVENT
BEGIN:VEVENT
UID:UZ_PLZ_20260402_0730_497706
DTSTAMP:20260402T073000
DTSTART:20260402T073000
DTEND:20260402T085500
SUMMARY:Mechanika i wytrzymałość materiałów (Ć): 11IB-SP
CATEGORIES:Ć
LOCATION:B104 A-11
END:VEVENT
BEGIN:VEVENT
UID:UZ_PLZ_20260408_0900_506990
DTSTAMP:20260408T090000
DTSTART:20260408T090000
DTEND:20260408T103000
SUMMARY:Konsultacje (I)
CATEGORIES:I
LOCATION:B315 A-11
END:VEVENT
BEGIN:VEVENT
UID:UZ_PLZ_20260408_1100_497752
DTSTAMP:20260408T110000
DTSTART:20260408T110000
DTEND:20260408T140000
SUMMARY:Rezerwacja (R)
CATEGORIES:R
END:VEVENT
BEGIN:VEVENT
UID:UZ_PLZ_20260409_0730_497706
DTSTAMP:20260409T073000
DTSTART:20260409T073000
DTEND:20260409T085500
SUMMARY:Mechanika i wytrzymałość materiałów (Ć): 11IB-SP
CATEGORIES:Ć
LOCATION:B104 A-11
END:VEVENT
BEGIN:VEVENT
UID:UZ_PLZ_20260414_0730_497669
DTSTAMP:20260414T073000
DTSTART:20260414T073000
DTEND:20260414T090500
SUMMARY:Materiałoznawstwo (L): 11IB-SP/A1
CATEGORIES:L
LOCATION:H114 A-10
DESCRIPTION:<a href="https://classroom.google.com/c/ODUwODQ1OTczNjUy">Google Classroom</a> 
END:VEVENT
BEGIN:VEVENT
UID:UZ_PLZ_20260414_0915_497707
DTSTAMP:20260414T091500
DTSTART:20260414T091500
DTEND:20260414T105000
SUMMARY:Mechanika i wytrzymałość materiałów (L): 11IB-SP/A1
CATEGORIES:L
LOCATION:H038 A-10\; H222 A-10
DESCRIPTION:<a href="https://classroom.google.com/c/ODQ3MTE3MzI4NzQ2">Google Classroom</a> 
END:VEVENT
BEGIN:VEVENT
UID:UZ_PLZ_20260414_1100_497672
DTSTAMP:20260414T110000
DTSTART:20260414T110000
DTEND:20260414T123000
SUMMARY:Grafika komputerowa (W): 11IB-SP
CATEGORIES:W
LOCATION:B118 A-11
END:VEVENT
BEGIN:VEVENT
UID:UZ_PLZ_20260414_1245_497646
DTSTAMP:20260414T124500
DTSTART:20260414T124500
DTEND:20260414T141500
SUMMARY:Grafika komputerowa (L): 11IB-SP
CATEGORIES:L
LOCATION:B219 A-11
DESCRIPTION:<a href="https://classroom.google.com/c/ODQ3MzY2OTQyNTc5">Google Classroom</a> 
END:VEVENT
BEGIN:VEVENT
UID:UZ_PLZ_20260415_0900_506990
DTSTAMP:20260415T090000
DTSTART:20260415T090000
DTEND:20260415T103000
SUMMARY:Konsultacje (I)
CATEGORIES:I
LOCATION:B315 A-11
END:VEVENT
BEGIN:VEVENT
UID:UZ_PLZ_20260415_1100_497752
DTSTAMP:20260415T110000
DTSTART:20260415T110000
DTEND:20260415T140000
SUMMARY:Rezerwacja (R)
CATEGORIES:R
END:VEVENT
BEGIN:VEVENT
UID:UZ_PLZ_20260415_1245_508210
DTSTAMP:20260415T124500
DTSTART:20260415T124500
DTEND:20260415T141500
SUMMARY:Rezerwacja (R)
CATEGORIES:R
LOCATION:B002 A-11
END:VEVENT
BEGIN:VEVENT
UID:UZ_PLZ_20260416_0730_497706
DTSTAMP:20260416T073000
DTSTART:20260416T073000
DTEND:20260416T085500
SUMMARY:Mechanika i wytrzymałość materiałów (Ć): 11IB-SP
CATEGORIES:Ć
LOCATION:B104 A-11
END:VEVENT
BEGIN:VEVENT
UID:UZ_PLZ_20260421_0730_497669
DTSTAMP:20260421T073000
DTSTART:20260421T073000
DTEND:20260421T090500
SUMMARY:Materiałoznawstwo (L): 11IB-SP/A1
CATEGORIES:L
LOCATION:H114 A-10
DESCRIPTION:<a href="https://classroom.google.com/c/ODUwODQ1OTczNjUy">Google Classroom</a> 
END:VEVENT
BEGIN:VEVENT
UID:UZ_PLZ_20260421_0915_497707
DTSTAMP:20260421T091500
DTSTART:20260421T091500
DTEND:20260421T105000
SUMMARY:Mechanika i wytrzymałość materiałów (L): 11IB-SP/A1
CATEGORIES:L
LOCATION:H038 A-10\; H222 A-10
DESCRIPTION:<a href="https://classroom.google.com/c/ODQ3MTE3MzI4NzQ2">Google Classroom</a> 
END:VEVENT
BEGIN:VEVENT
UID:UZ_PLZ_20260421_1100_497672
DTSTAMP:20260421T110000
DTSTART:20260421T110000
DTEND:20260421T123000
SUMMARY:Grafika komputerowa (W): 11IB-SP
CATEGORIES:W
LOCATION:B118 A-11
END:VEVENT
BEGIN:VEVENT
UID:UZ_PLZ_20260421_1245_497646
DTSTAMP:20260421T124500
DTSTART:20260421T124500
DTEND:20260421T141500
SUMMARY:Grafika komputerowa (L): 11IB-SP
CATEGORIES:L
LOCATION:B219 A-11
DESCRIPTION:<a href="https://classroom.google.com/c/ODQ3MzY2OTQyNTc5">Google Classroom</a> 
END:VEVENT
BEGIN:VEVENT
UID:UZ_PLZ_20260422_0900_506990
DTSTAMP:20260422T090000
DTSTART:20260422T090000
DTEND:20260422T103000
SUMMARY:Konsultacje (I)
CATEGORIES:I
LOCATION:B315 A-11
END:VEVENT
BEGIN:VEVENT
UID:UZ_PLZ_20260422_1100_497752
DTSTAMP:20260422T110000
DTSTART:20260422T110000
DTEND:20260422T140000
SUMMARY:Rezerwacja (R)
CATEGORIES:R
END:VEVENT
BEGIN:VEVENT
UID:UZ_PLZ_20260423_0730_497706
DTSTAMP:20260423T073000
DTSTART:20260423T073000
DTEND:20260423T085500
SUMMARY:Mechanika i wytrzymałość materiałów (Ć): 11IB-SP
CATEGORIES:Ć
LOCATION:B104 A-11
END:VEVENT
BEGIN:VEVENT
UID:UZ_PLZ_20260423_1230_508210
DTSTAMP:20260423T123000
DTSTART:20260423T123000
DTEND:20260423T153000
SUMMARY:Rezerwacja (R)
CATEGORIES:R
LOCATION:H114 A-10
END:VEVENT
BEGIN:VEVENT
UID:UZ_PLZ_20260428_1100_497672
DTSTAMP:20260428T110000
DTSTART:20260428T110000
DTEND:20260428T123000
SUMMARY:Grafika komputerowa (W): 11IB-SP
CATEGORIES:W
LOCATION:B118 A-11
END:VEVENT
BEGIN:VEVENT
UID:UZ_PLZ_20260428_1245_497646
DTSTAMP:20260428T124500
DTSTART:20260428T124500
DTEND:20260428T141500
SUMMARY:Grafika komputerowa (L): 11IB-SP
CATEGORIES:L
LOCATION:B219 A-11
DESCRIPTION:<a href="https://classroom.google.com/c/ODQ3MzY2OTQyNTc5">Google Classroom</a> 
END:VEVENT
BEGIN:VEVENT
UID:UZ_PLZ_20260505_1100_497672
DTSTAMP:20260505T110000
DTSTART:20260505T110000
DTEND:20260505T123000
SUMMARY:Grafika komputerowa (W): 11IB-SP
CATEGORIES:W
LOCATION:B118 A-11
END:VEVENT
BEGIN:VEVENT
UID:UZ_PLZ_20260505_1245_497646
DTSTAMP:20260505T124500
DTSTART:20260505T124500
DTEND:20260505T141500
SUMMARY:Grafika komputerowa (L): 11IB-SP
CATEGORIES:L
LOCATION:B219 A-11
DESCRIPTION:<a href="https://classroom.google.com/c/ODQ3MzY2OTQyNTc5">Google Classroom</a> 
END:VEVENT
BEGIN:VEVENT
UID:UZ_PLZ_20260506_0900_506990
DTSTAMP:20260506T090000
DTSTART:20260506T090000
DTEND:20260506T103000
SUMMARY:Konsultacje (I)
CATEGORIES:I
LOCATION:B315 A-11
END:VEVENT
BEGIN:VEVENT
UID:UZ_PLZ_20260506_1100_497752
DTSTAMP:20260506T110000
DTSTART:20260506T110000
DTEND:20260506T140000
SUMMARY:Rezerwacja (R)
CATEGORIES:R
END:VEVENT
BEGIN:VEVENT
UID:UZ_PLZ_20260512_0900_508210
DTSTAMP:20260512T090000
DTSTART:20260512T090000
DTEND:20260512T105000
SUMMARY:Rezerwacja (R)
CATEGORIES:R
LOCATION:B002 A-11
END:VEVENT
BEGIN:VEVENT
UID:UZ_PLZ_20260512_1100_497672
DTSTAMP:20260512T110000
DTSTART:20260512T110000
DTEND:20260512T123000
SUMMARY:Grafika komputerowa (W): 11IB-SP
CATEGORIES:W
LOCATION:B118 A-11
END:VEVENT
BEGIN:VEVENT
UID:UZ_PLZ_20260512_1245_497646
DTSTAMP:20260512T124500
DTSTART:20260512T124500
DTEND:20260512T141500
SUMMARY:Grafika komputerowa (L): 11IB-SP
CATEGORIES:L
LOCATION:B219 A-11
DESCRIPTION:<a href="https://classroom.google.com/c/ODQ3MzY2OTQyNTc5">Google Classroom</a> 
END:VEVENT
BEGIN:VEVENT
UID:UZ_PLZ_20260513_0900_506990
DTSTAMP:20260513T090000
DTSTART:20260513T090000
DTEND:20260513T103000
SUMMARY:Konsultacje (I)
CATEGORIES:I
LOCATION:B315 A-11
END:VEVENT
BEGIN:VEVENT
UID:UZ_PLZ_20260513_1100_497752
DTSTAMP:20260513T110000
DTSTART:20260513T110000
DTEND:20260513T140000
SUMMARY:Rezerwacja (R)
CATEGORIES:R
END:VEVENT
BEGIN:VEVENT
UID:UZ_PLZ_20260519_0830_496713
DTSTAMP:20260519T083000
DTSTART:20260519T083000
DTEND:20260519T104500
SUMMARY:Informatyka (L): 1 LEK-JMS 25/26/lab2
CATEGORIES:L
LOCATION:B219 A-11
END:VEVENT
BEGIN:VEVENT
UID:UZ_PLZ_20260519_1100_497672
DTSTAMP:20260519T110000
DTSTART:20260519T110000
DTEND:20260519T123000
SUMMARY:Grafika komputerowa (W): 11IB-SP
CATEGORIES:W
LOCATION:B118 A-11
END:VEVENT
BEGIN:VEVENT
UID:UZ_PLZ_20260519_1245_497646
DTSTAMP:20260519T124500
DTSTART:20260519T124500
DTEND:20260519T141500
SUMMARY:Grafika komputerowa (L): 11IB-SP
CATEGORIES:L
LOCATION:B219 A-11
DESCRIPTION:<a href="https://classroom.google.com/c/ODQ3MzY2OTQyNTc5">Google Classroom</a> 
END:VEVENT
BEGIN:VEVENT
UID:UZ_PLZ_20260519_1430_496683
DTSTAMP:20260519T143000
DTSTART:20260519T143000
DTEND:20260519T164500
SUMMARY:Informatyka (L): 1 LEK-JMS 25/26/lab4
CATEGORIES:L
LOCATION:B219 A-11
END:VEVENT
BEGIN:VEVENT
UID:UZ_PLZ_20260519_1700_496808
DTSTAMP:20260519T170000
DTSTART:20260519T170000
DTEND:20260519T191500
SUMMARY:Informatyka (L): 1 LEK-JMS 25/26/lab3
CATEGORIES:L
LOCATION:B219 A-11
END:VEVENT
BEGIN:VEVENT
UID:UZ_PLZ_20260520_0900_506990
DTSTAMP:20260520T090000
DTSTART:20260520T090000
DTEND:20260520T103000
SUMMARY:Konsultacje (I)
CATEGORIES:I
LOCATION:B315 A-11
END:VEVENT
BEGIN:VEVENT
UID:UZ_PLZ_20260520_1100_497752
DTSTAMP:20260520T110000
DTSTART:20260520T110000
DTEND:20260520T140000
SUMMARY:Rezerwacja (R)
CATEGORIES:R
END:VEVENT
BEGIN:VEVENT
UID:UZ_PLZ_20260520_1515_496618
DTSTAMP:20260520T151500
DTSTART:20260520T151500
DTEND:20260520T173000
SUMMARY:Informatyka (L): 1 LEK-JMS 25/26/lab1
CATEGORIES:L
LOCATION:B219 A-11
END:VEVENT
BEGIN:VEVENT
UID:UZ_PLZ_20260520_1745_496646
DTSTAMP:20260520T174500
DTSTART:20260520T174500
DTEND:20260520T200000
SUMMARY:Informatyka (L): 1 LEK-JMS 25/26/lab6
CATEGORIES:L
LOCATION:B219 A-11
END:VEVENT
BEGIN:VEVENT
UID:UZ_PLZ_20260521_1515_496697
DTSTAMP:20260521T151500
DTSTART:20260521T151500
DTEND:20260521T173000
SUMMARY:Informatyka (L): 1 LEK-JMN 25/26/lab9
CATEGORIES:L
LOCATION:B219 A-11
END:VEVENT
BEGIN:VEVENT
UID:UZ_PLZ_20260521_1745_496696
DTSTAMP:20260521T174500
DTSTART:20260521T174500
DTEND:20260521T200000
SUMMARY:Informatyka (L): 1 LEK-JMN 25/26/lab8
CATEGORIES:L
LOCATION:B219 A-11
END:VEVENT
BEGIN:VEVENT
UID:UZ_PLZ_20260522_1330_496609
DTSTAMP:20260522T133000
DTSTART:20260522T133000
DTEND:20260522T154500
SUMMARY:Informatyka (L): 1 LEK-JMN 25/26/lab7
CATEGORIES:L
LOCATION:B219 A-11
END:VEVENT
BEGIN:VEVENT
UID:UZ_PLZ_20260522_1600_496592
DTSTAMP:20260522T160000
DTSTART:20260522T160000
DTEND:20260522T181500
SUMMARY:Informatyka (L): 1 LEK-JMS 25/26/lab5
CATEGORIES:L
LOCATION:B219 A-11
END:VEVENT
BEGIN:VEVENT
UID:UZ_PLZ_20260526_0800_496618
DTSTAMP:20260526T080000
DTSTART:20260526T080000
DTEND:20260526T101500
SUMMARY:Informatyka (L): 1 LEK-JMS 25/26/lab1
CATEGORIES:L
LOCATION:B219 A-11
END:VEVENT
BEGIN:VEVENT
UID:UZ_PLZ_20260526_1100_497672
DTSTAMP:20260526T110000
DTSTART:20260526T110000
DTEND:20260526T123000
SUMMARY:Grafika komputerowa (W): 11IB-SP
CATEGORIES:W
LOCATION:B118 A-11
END:VEVENT
BEGIN:VEVENT
UID:UZ_PLZ_20260526_1245_497646
DTSTAMP:20260526T124500
DTSTART:20260526T124500
DTEND:20260526T141500
SUMMARY:Grafika komputerowa (L): 11IB-SP
CATEGORIES:L
LOCATION:B219 A-11
DESCRIPTION:<a href="https://classroom.google.com/c/ODQ3MzY2OTQyNTc5">Google Classroom</a> 
END:VEVENT
BEGIN:VEVENT
UID:UZ_PLZ_20260526_1430_496683
DTSTAMP:20260526T143000
DTSTART:20260526T143000
DTEND:20260526T164500
SUMMARY:Informatyka (L): 1 LEK-JMS 25/26/lab4
CATEGORIES:L
LOCATION:B219 A-11
END:VEVENT
BEGIN:VEVENT
UID:UZ_PLZ_20260526_1700_496808
DTSTAMP:20260526T170000
DTSTART:20260526T170000
DTEND:20260526T191500
SUMMARY:Informatyka (L): 1 LEK-JMS 25/26/lab3
CATEGORIES:L
LOCATION:B219 A-11
END:VEVENT
BEGIN:VEVENT
UID:UZ_PLZ_20260527_0830_496646
DTSTAMP:20260527T083000
DTSTART:20260527T083000
DTEND:20260527T104500
SUMMARY:Informatyka (L): 1 LEK-JMS 25/26/lab6
CATEGORIES:L
LOCATION:B219 A-11
END:VEVENT
BEGIN:VEVENT
UID:UZ_PLZ_20260527_1100_497752
DTSTAMP:20260527T110000
DTSTART:20260527T110000
DTEND:20260527T140000
SUMMARY:Rezerwacja (R)
CATEGORIES:R
END:VEVENT
BEGIN:VEVENT
UID:UZ_PLZ_20260527_1415_496713
DTSTAMP:20260527T141500
DTSTART:20260527T141500
DTEND:20260527T163000
SUMMARY:Informatyka (L): 1 LEK-JMS 25/26/lab2
CATEGORIES:L
LOCATION:B219 A-11
END:VEVENT
BEGIN:VEVENT
UID:UZ_PLZ_20260527_1645_496697
DTSTAMP:20260527T164500
DTSTART:20260527T164500
DTEND:20260527T190000
SUMMARY:Informatyka (L): 1 LEK-JMN 25/26/lab9
CATEGORIES:L
LOCATION:B219 A-11
END:VEVENT
BEGIN:VEVENT
UID:UZ_PLZ_20260528_0915_496696
DTSTAMP:20260528T091500
DTSTART:20260528T091500
DTEND:20260528T113000
SUMMARY:Informatyka (L): 1 LEK-JMN 25/26/lab8
CATEGORIES:L
LOCATION:B219 A-11
END:VEVENT
BEGIN:VEVENT
UID:UZ_PLZ_20260528_1600_496592
DTSTAMP:20260528T160000
DTSTART:20260528T160000
DTEND:20260528T181500
SUMMARY:Informatyka (L): 1 LEK-JMS 25/26/lab5
CATEGORIES:L
LOCATION:B219 A-11
END:VEVENT
BEGIN:VEVENT
UID:UZ_PLZ_20260528_1830_496609
DTSTAMP:20260528T183000
DTSTART:20260528T183000
DTEND:20260528T204500
SUMMARY:Informatyka (L): 1 LEK-JMN 25/26/lab7
CATEGORIES:L
LOCATION:B219 A-11
END:VEVENT
BEGIN:VEVENT
UID:UZ_PLZ_20260602_1100_497672
DTSTAMP:20260602T110000
DTSTART:20260602T110000
DTEND:20260602T123000
SUMMARY:Grafika komputerowa (W): 11IB-SP
CATEGORIES:W
LOCATION:B118 A-11
END:VEVENT
BEGIN:VEVENT
UID:UZ_PLZ_20260602_1245_497646
DTSTAMP:20260602T124500
DTSTART:20260602T124500
DTEND:20260602T141500
SUMMARY:Grafika komputerowa (L): 11IB-SP
CATEGORIES:L
LOCATION:B219 A-11
DESCRIPTION:<a href="https://classroom.google.com/c/ODQ3MzY2OTQyNTc5">Google Classroom</a> 
END:VEVENT
BEGIN:VEVENT
UID:UZ_PLZ_20260603_0900_506990
DTSTAMP:20260603T090000
DTSTART:20260603T090000
DTEND:20260603T103000
SUMMARY:Konsultacje (I)
CATEGORIES:I
LOCATION:B315 A-11
END:VEVENT
BEGIN:VEVENT
UID:UZ_PLZ_20260603_1100_497752
DTSTAMP:20260603T110000
DTSTART:20260603T110000
DTEND:20260603T140000
SUMMARY:Rezerwacja (R)
CATEGORIES:R
END:VEVENT
BEGIN:VEVENT
UID:UZ_PLZ_20260608_1615_497672
DTSTAMP:20260608T161500
DTSTART:20260608T161500
DTEND:20260608T174500
SUMMARY:Grafika komputerowa (W): 11IB-SP
CATEGORIES:W
LOCATION:B312 A-11
END:VEVENT
BEGIN:VEVENT
UID:UZ_PLZ_20260609_1100_497672
DTSTAMP:20260609T110000
DTSTART:20260609T110000
DTEND:20260609T123000
SUMMARY:Grafika komputerowa (W): 11IB-SP
CATEGORIES:W
LOCATION:B118 A-11
END:VEVENT
BEGIN:VEVENT
UID:UZ_PLZ_20260609_1245_497646
DTSTAMP:20260609T124500
DTSTART:20260609T124500
DTEND:20260609T141500
SUMMARY:Grafika komputerowa (L): 11IB-SP
CATEGORIES:L
LOCATION:B219 A-11
DESCRIPTION:<a href="https://classroom.google.com/c/ODQ3MzY2OTQyNTc5">Google Classroom</a> 
END:VEVENT
BEGIN:VEVENT
UID:UZ_PLZ_20260609_1430_496646
DTSTAMP:20260609T143000
DTSTART:20260609T143000
DTEND:20260609T160000
SUMMARY:Informatyka (L): 1 LEK-JMS 25/26/lab6
CATEGORIES:L
LOCATION:B219 A-11
END:VEVENT
BEGIN:VEVENT
UID:UZ_PLZ_20260609_1615_496683
DTSTAMP:20260609T161500
DTSTART:20260609T161500
DTEND:20260609T174500
SUMMARY:Informatyka (L): 1 LEK-JMS 25/26/lab4
CATEGORIES:L
LOCATION:B219 A-11
END:VEVENT
BEGIN:VEVENT
UID:UZ_PLZ_20260609_1800_496808
DTSTAMP:20260609T180000
DTSTART:20260609T180000
DTEND:20260609T193000
SUMMARY:Informatyka (L): 1 LEK-JMS 25/26/lab3
CATEGORIES:L
LOCATION:B219 A-11
END:VEVENT
BEGIN:VEVENT
UID:UZ_PLZ_20260610_0915_496618
DTSTAMP:20260610T091500
DTSTART:20260610T091500
DTEND:20260610T104500
SUMMARY:Informatyka (L): 1 LEK-JMS 25/26/lab1
CATEGORIES:L
LOCATION:B219 A-11
END:VEVENT
BEGIN:VEVENT
UID:UZ_PLZ_20260610_1100_497752
DTSTAMP:20260610T110000
DTSTART:20260610T110000
DTEND:20260610T140000
SUMMARY:Rezerwacja (R)
CATEGORIES:R
END:VEVENT
BEGIN:VEVENT
UID:UZ_PLZ_20260610_1430_496697
DTSTAMP:20260610T143000
DTSTART:20260610T143000
DTEND:20260610T160000
SUMMARY:Informatyka (L): 1 LEK-JMN 25/26/lab9
CATEGORIES:L
LOCATION:B219 A-11
END:VEVENT
BEGIN:VEVENT
UID:UZ_PLZ_20260610_1615_496696
DTSTAMP:20260610T161500
DTSTART:20260610T161500
DTEND:20260610T174500
SUMMARY:Informatyka (L): 1 LEK-JMN 25/26/lab8
CATEGORIES:L
LOCATION:B219 A-11
END:VEVENT
BEGIN:VEVENT
UID:UZ_PLZ_20260610_1800_496713
DTSTAMP:20260610T180000
DTSTART:20260610T180000
DTEND:20260610T193000
SUMMARY:Informatyka (L): 1 LEK-JMS 25/26/lab2
CATEGORIES:L
LOCATION:B219 A-11
END:VEVENT
BEGIN:VEVENT
UID:UZ_PLZ_20260611_1600_496592
DTSTAMP:20260611T160000
DTSTART:20260611T160000
DTEND:20260611T173000
SUMMARY:Informatyka (L): 1 LEK-JMS 25/26/lab5
CATEGORIES:L
LOCATION:B219 A-11
END:VEVENT
BEGIN:VEVENT
UID:UZ_PLZ_20260611_1745_496609
DTSTAMP:20260611T174500
DTSTART:20260611T174500
DTEND:20260611T191500
SUMMARY:Informatyka (L): 1 LEK-JMN 25/26/lab7
CATEGORIES:L
LOCATION:B219 A-11
END:VEVENT
BEGIN:VEVENT
UID:UZ_PLZ_20260616_1100_497672
DTSTAMP:20260616T110000
DTSTART:20260616T110000
DTEND:20260616T123000
SUMMARY:Grafika komputerowa (W): 11IB-SP
CATEGORIES:W
LOCATION:B118 A-11
END:VEVENT
BEGIN:VEVENT
UID:UZ_PLZ_20260616_1245_497646
DTSTAMP:20260616T124500
DTSTART:20260616T124500
DTEND:20260616T141500
SUMMARY:Grafika komputerowa (L): 11IB-SP
CATEGORIES:L
LOCATION:B219 A-11
DESCRIPTION:<a href="https://classroom.google.com/c/ODQ3MzY2OTQyNTc5">Google Classroom</a> 
END:VEVENT
BEGIN:VEVENT
UID:UZ_PLZ_20260617_0900_506990
DTSTAMP:20260617T090000
DTSTART:20260617T090000
DTEND:20260617T103000
SUMMARY:Konsultacje (I)
CATEGORIES:I
LOCATION:B315 A-11
END:VEVENT
BEGIN:VEVENT
UID:UZ_PLZ_20260617_1100_497752
DTSTAMP:20260617T110000
DTSTART:20260617T110000
DTEND:20260617T140000
SUMMARY:Rezerwacja (R)
CATEGORIES:R
END:VEVENT
END:VCALENDAR
