BEGIN:VCALENDAR
TZID:Europe/Warsaw
X-WR-TIMEZONE:Europe/Warsaw
VERSION:2.0
PRODID:-//Uniwersytet Zielonogórski//NONSGML Plan zajęć v1.0//EN
NAME:Plan zajęć - semestr letni 2025/2026
X-WR-CALNAME:Plan zajęć - semestr letni 2025/2026
COLOR:green
CALSCALE:GREGORIAN
BEGIN:VEVENT
UID:UZ_PLZ_20260303_1245_495313
DTSTAMP:20260303T124500
DTSTART:20260303T124500
DTEND:20260303T141500
SUMMARY:Teoria obwodów I (W): 11E-SP
CATEGORIES:W
LOCATION:108 A-2
END:VEVENT
BEGIN:VEVENT
UID:UZ_PLZ_20260304_0730_505411
DTSTAMP:20260304T073000
DTSTART:20260304T073000
DTEND:20260304T090000
SUMMARY:Zebranie pracowników IIŚ (I)
CATEGORIES:I
LOCATION:105 A-12
END:VEVENT
BEGIN:VEVENT
UID:UZ_PLZ_20260307_1410_502980
DTSTAMP:20260307T141000
DTSTART:20260307T141000
DTEND:20260307T154000
SUMMARY:Energetyka odnawialna I (W): 21EN-NP
CATEGORIES:W
LOCATION:105 A-12
END:VEVENT
BEGIN:VEVENT
UID:UZ_PLZ_20260308_1100_495722
DTSTAMP:20260308T110000
DTSTART:20260308T110000
DTEND:20260308T123000
SUMMARY:Pomiary wielkości nieelektrycznych (W): 11E-ND(L)\; 12E-ND(L)
CATEGORIES:W
LOCATION:315 A-2
END:VEVENT
BEGIN:VEVENT
UID:UZ_PLZ_20260308_1315_502988
DTSTAMP:20260308T131500
DTSTART:20260308T131500
DTEND:20260308T144500
SUMMARY:Elektrotechnika I (W): 11EN-NP
CATEGORIES:W
LOCATION:114 A-12
END:VEVENT
BEGIN:VEVENT
UID:UZ_PLZ_20260308_1455_502963
DTSTAMP:20260308T145500
DTSTART:20260308T145500
DTEND:20260308T162500
SUMMARY:Elektrotechnika I (Ć): 11EN-NP
CATEGORIES:Ć
LOCATION:114 A-12
END:VEVENT
BEGIN:VEVENT
UID:UZ_PLZ_20260310_1245_495313
DTSTAMP:20260310T124500
DTSTART:20260310T124500
DTEND:20260310T141500
SUMMARY:Teoria obwodów I (W): 11E-SP
CATEGORIES:W
LOCATION:108 A-2
END:VEVENT
BEGIN:VEVENT
UID:UZ_PLZ_20260311_0730_505411
DTSTAMP:20260311T073000
DTSTART:20260311T073000
DTEND:20260311T090000
SUMMARY:Zebranie pracowników IIŚ (I)
CATEGORIES:I
LOCATION:105 A-12
END:VEVENT
BEGIN:VEVENT
UID:UZ_PLZ_20260317_1245_495313
DTSTAMP:20260317T124500
DTSTART:20260317T124500
DTEND:20260317T141500
SUMMARY:Teoria obwodów I (W): 11E-SP
CATEGORIES:W
LOCATION:108 A-2
END:VEVENT
BEGIN:VEVENT
UID:UZ_PLZ_20260318_0730_505411
DTSTAMP:20260318T073000
DTSTART:20260318T073000
DTEND:20260318T090000
SUMMARY:Zebranie pracowników IIŚ (I)
CATEGORIES:I
LOCATION:105 A-12
END:VEVENT
BEGIN:VEVENT
UID:UZ_PLZ_20260321_1410_502980
DTSTAMP:20260321T141000
DTSTART:20260321T141000
DTEND:20260321T154000
SUMMARY:Energetyka odnawialna I (W): 21EN-NP
CATEGORIES:W
LOCATION:105 A-12
END:VEVENT
BEGIN:VEVENT
UID:UZ_PLZ_20260322_1100_495722
DTSTAMP:20260322T110000
DTSTART:20260322T110000
DTEND:20260322T123000
SUMMARY:Pomiary wielkości nieelektrycznych (W): 11E-ND(L)\; 12E-ND(L)
CATEGORIES:W
LOCATION:315 A-2
END:VEVENT
BEGIN:VEVENT
UID:UZ_PLZ_20260322_1315_502988
DTSTAMP:20260322T131500
DTSTART:20260322T131500
DTEND:20260322T144500
SUMMARY:Elektrotechnika I (W): 11EN-NP
CATEGORIES:W
LOCATION:114 A-12
END:VEVENT
BEGIN:VEVENT
UID:UZ_PLZ_20260322_1455_502963
DTSTAMP:20260322T145500
DTSTART:20260322T145500
DTEND:20260322T162500
SUMMARY:Elektrotechnika I (Ć): 11EN-NP
CATEGORIES:Ć
LOCATION:114 A-12
END:VEVENT
BEGIN:VEVENT
UID:UZ_PLZ_20260324_1245_495313
DTSTAMP:20260324T124500
DTSTART:20260324T124500
DTEND:20260324T141500
SUMMARY:Teoria obwodów I (W): 11E-SP
CATEGORIES:W
LOCATION:108 A-2
END:VEVENT
BEGIN:VEVENT
UID:UZ_PLZ_20260325_0730_505411
DTSTAMP:20260325T073000
DTSTART:20260325T073000
DTEND:20260325T090000
SUMMARY:Zebranie pracowników IIŚ (I)
CATEGORIES:I
LOCATION:105 A-12
END:VEVENT
BEGIN:VEVENT
UID:UZ_PLZ_20260328_1410_502980
DTSTAMP:20260328T141000
DTSTART:20260328T141000
DTEND:20260328T154000
SUMMARY:Energetyka odnawialna I (W): 21EN-NP
CATEGORIES:W
LOCATION:105 A-12
END:VEVENT
BEGIN:VEVENT
UID:UZ_PLZ_20260329_1100_495722
DTSTAMP:20260329T110000
DTSTART:20260329T110000
DTEND:20260329T123000
SUMMARY:Pomiary wielkości nieelektrycznych (W): 11E-ND(L)\; 12E-ND(L)
CATEGORIES:W
LOCATION:315 A-2
END:VEVENT
BEGIN:VEVENT
UID:UZ_PLZ_20260329_1315_502988
DTSTAMP:20260329T131500
DTSTART:20260329T131500
DTEND:20260329T144500
SUMMARY:Elektrotechnika I (W): 11EN-NP
CATEGORIES:W
LOCATION:114 A-12
END:VEVENT
BEGIN:VEVENT
UID:UZ_PLZ_20260329_1455_502963
DTSTAMP:20260329T145500
DTSTART:20260329T145500
DTEND:20260329T162500
SUMMARY:Elektrotechnika I (Ć): 11EN-NP
CATEGORIES:Ć
LOCATION:114 A-12
END:VEVENT
BEGIN:VEVENT
UID:UZ_PLZ_20260331_1245_495313
DTSTAMP:20260331T124500
DTSTART:20260331T124500
DTEND:20260331T141500
SUMMARY:Teoria obwodów I (W): 11E-SP
CATEGORIES:W
LOCATION:108 A-2
END:VEVENT
BEGIN:VEVENT
UID:UZ_PLZ_20260401_0730_505411
DTSTAMP:20260401T073000
DTSTART:20260401T073000
DTEND:20260401T090000
SUMMARY:Zebranie pracowników IIŚ (I)
CATEGORIES:I
LOCATION:105 A-12
END:VEVENT
BEGIN:VEVENT
UID:UZ_PLZ_20260408_0730_505411
DTSTAMP:20260408T073000
DTSTART:20260408T073000
DTEND:20260408T090000
SUMMARY:Zebranie pracowników IIŚ (I)
CATEGORIES:I
LOCATION:105 A-12
END:VEVENT
BEGIN:VEVENT
UID:UZ_PLZ_20260411_1410_502980
DTSTAMP:20260411T141000
DTSTART:20260411T141000
DTEND:20260411T154000
SUMMARY:Energetyka odnawialna I (W): 21EN-NP
CATEGORIES:W
LOCATION:105 A-12
END:VEVENT
BEGIN:VEVENT
UID:UZ_PLZ_20260412_1100_495722
DTSTAMP:20260412T110000
DTSTART:20260412T110000
DTEND:20260412T123000
SUMMARY:Pomiary wielkości nieelektrycznych (W): 11E-ND(L)\; 12E-ND(L)
CATEGORIES:W
LOCATION:315 A-2
END:VEVENT
BEGIN:VEVENT
UID:UZ_PLZ_20260412_1315_502988
DTSTAMP:20260412T131500
DTSTART:20260412T131500
DTEND:20260412T144500
SUMMARY:Elektrotechnika I (W): 11EN-NP
CATEGORIES:W
LOCATION:114 A-12
END:VEVENT
BEGIN:VEVENT
UID:UZ_PLZ_20260412_1455_502963
DTSTAMP:20260412T145500
DTSTART:20260412T145500
DTEND:20260412T162500
SUMMARY:Elektrotechnika I (Ć): 11EN-NP
CATEGORIES:Ć
LOCATION:114 A-12
END:VEVENT
BEGIN:VEVENT
UID:UZ_PLZ_20260414_1245_495313
DTSTAMP:20260414T124500
DTSTART:20260414T124500
DTEND:20260414T141500
SUMMARY:Teoria obwodów I (W): 11E-SP
CATEGORIES:W
LOCATION:108 A-2
END:VEVENT
BEGIN:VEVENT
UID:UZ_PLZ_20260415_0730_505411
DTSTAMP:20260415T073000
DTSTART:20260415T073000
DTEND:20260415T090000
SUMMARY:Zebranie pracowników IIŚ (I)
CATEGORIES:I
LOCATION:105 A-12
END:VEVENT
BEGIN:VEVENT
UID:UZ_PLZ_20260421_1245_495313
DTSTAMP:20260421T124500
DTSTART:20260421T124500
DTEND:20260421T141500
SUMMARY:Teoria obwodów I (W): 11E-SP
CATEGORIES:W
LOCATION:108 A-2
END:VEVENT
BEGIN:VEVENT
UID:UZ_PLZ_20260422_0730_505411
DTSTAMP:20260422T073000
DTSTART:20260422T073000
DTEND:20260422T090000
SUMMARY:Zebranie pracowników IIŚ (I)
CATEGORIES:I
LOCATION:105 A-12
END:VEVENT
BEGIN:VEVENT
UID:UZ_PLZ_20260425_1410_502980
DTSTAMP:20260425T141000
DTSTART:20260425T141000
DTEND:20260425T154000
SUMMARY:Energetyka odnawialna I (W): 21EN-NP
CATEGORIES:W
LOCATION:105 A-12
END:VEVENT
BEGIN:VEVENT
UID:UZ_PLZ_20260426_1100_495722
DTSTAMP:20260426T110000
DTSTART:20260426T110000
DTEND:20260426T123000
SUMMARY:Pomiary wielkości nieelektrycznych (W): 11E-ND(L)\; 12E-ND(L)
CATEGORIES:W
LOCATION:315 A-2
END:VEVENT
BEGIN:VEVENT
UID:UZ_PLZ_20260426_1315_502988
DTSTAMP:20260426T131500
DTSTART:20260426T131500
DTEND:20260426T144500
SUMMARY:Elektrotechnika I (W): 11EN-NP
CATEGORIES:W
LOCATION:114 A-12
END:VEVENT
BEGIN:VEVENT
UID:UZ_PLZ_20260426_1455_502963
DTSTAMP:20260426T145500
DTSTART:20260426T145500
DTEND:20260426T162500
SUMMARY:Elektrotechnika I (Ć): 11EN-NP
CATEGORIES:Ć
LOCATION:114 A-12
END:VEVENT
BEGIN:VEVENT
UID:UZ_PLZ_20260428_1245_495313
DTSTAMP:20260428T124500
DTSTART:20260428T124500
DTEND:20260428T141500
SUMMARY:Teoria obwodów I (W): 11E-SP
CATEGORIES:W
LOCATION:108 A-2
END:VEVENT
BEGIN:VEVENT
UID:UZ_PLZ_20260505_1245_495313
DTSTAMP:20260505T124500
DTSTART:20260505T124500
DTEND:20260505T141500
SUMMARY:Teoria obwodów I (W): 11E-SP
CATEGORIES:W
LOCATION:108 A-2
END:VEVENT
BEGIN:VEVENT
UID:UZ_PLZ_20260506_0730_505411
DTSTAMP:20260506T073000
DTSTART:20260506T073000
DTEND:20260506T090000
SUMMARY:Zebranie pracowników IIŚ (I)
CATEGORIES:I
LOCATION:105 A-12
END:VEVENT
BEGIN:VEVENT
UID:UZ_PLZ_20260509_1410_502980
DTSTAMP:20260509T141000
DTSTART:20260509T141000
DTEND:20260509T154000
SUMMARY:Energetyka odnawialna I (W): 21EN-NP
CATEGORIES:W
LOCATION:105 A-12
END:VEVENT
BEGIN:VEVENT
UID:UZ_PLZ_20260510_1100_495722
DTSTAMP:20260510T110000
DTSTART:20260510T110000
DTEND:20260510T123000
SUMMARY:Pomiary wielkości nieelektrycznych (W): 11E-ND(L)\; 12E-ND(L)
CATEGORIES:W
LOCATION:315 A-2
END:VEVENT
BEGIN:VEVENT
UID:UZ_PLZ_20260510_1315_502988
DTSTAMP:20260510T131500
DTSTART:20260510T131500
DTEND:20260510T144500
SUMMARY:Elektrotechnika I (W): 11EN-NP
CATEGORIES:W
LOCATION:114 A-12
END:VEVENT
BEGIN:VEVENT
UID:UZ_PLZ_20260510_1455_502963
DTSTAMP:20260510T145500
DTSTART:20260510T145500
DTEND:20260510T162500
SUMMARY:Elektrotechnika I (Ć): 11EN-NP
CATEGORIES:Ć
LOCATION:114 A-12
END:VEVENT
BEGIN:VEVENT
UID:UZ_PLZ_20260512_1245_495313
DTSTAMP:20260512T124500
DTSTART:20260512T124500
DTEND:20260512T141500
SUMMARY:Teoria obwodów I (W): 11E-SP
CATEGORIES:W
LOCATION:108 A-2
END:VEVENT
BEGIN:VEVENT
UID:UZ_PLZ_20260513_0730_505411
DTSTAMP:20260513T073000
DTSTART:20260513T073000
DTEND:20260513T090000
SUMMARY:Zebranie pracowników IIŚ (I)
CATEGORIES:I
LOCATION:105 A-12
END:VEVENT
BEGIN:VEVENT
UID:UZ_PLZ_20260516_1410_502980
DTSTAMP:20260516T141000
DTSTART:20260516T141000
DTEND:20260516T154000
SUMMARY:Energetyka odnawialna I (W): 21EN-NP
CATEGORIES:W
LOCATION:105 A-12
END:VEVENT
BEGIN:VEVENT
UID:UZ_PLZ_20260517_1100_495722
DTSTAMP:20260517T110000
DTSTART:20260517T110000
DTEND:20260517T123000
SUMMARY:Pomiary wielkości nieelektrycznych (W): 11E-ND(L)\; 12E-ND(L)
CATEGORIES:W
LOCATION:315 A-2
END:VEVENT
BEGIN:VEVENT
UID:UZ_PLZ_20260517_1315_502988
DTSTAMP:20260517T131500
DTSTART:20260517T131500
DTEND:20260517T144500
SUMMARY:Elektrotechnika I (W): 11EN-NP
CATEGORIES:W
LOCATION:114 A-12
END:VEVENT
BEGIN:VEVENT
UID:UZ_PLZ_20260517_1455_502963
DTSTAMP:20260517T145500
DTSTART:20260517T145500
DTEND:20260517T162500
SUMMARY:Elektrotechnika I (Ć): 11EN-NP
CATEGORIES:Ć
LOCATION:114 A-12
END:VEVENT
BEGIN:VEVENT
UID:UZ_PLZ_20260519_1245_495313
DTSTAMP:20260519T124500
DTSTART:20260519T124500
DTEND:20260519T141500
SUMMARY:Teoria obwodów I (W): 11E-SP
CATEGORIES:W
LOCATION:108 A-2
END:VEVENT
BEGIN:VEVENT
UID:UZ_PLZ_20260520_0730_505411
DTSTAMP:20260520T073000
DTSTART:20260520T073000
DTEND:20260520T090000
SUMMARY:Zebranie pracowników IIŚ (I)
CATEGORIES:I
LOCATION:105 A-12
END:VEVENT
BEGIN:VEVENT
UID:UZ_PLZ_20260526_1245_495313
DTSTAMP:20260526T124500
DTSTART:20260526T124500
DTEND:20260526T141500
SUMMARY:Teoria obwodów I (W): 11E-SP
CATEGORIES:W
LOCATION:108 A-2
END:VEVENT
BEGIN:VEVENT
UID:UZ_PLZ_20260527_0730_505411
DTSTAMP:20260527T073000
DTSTART:20260527T073000
DTEND:20260527T090000
SUMMARY:Zebranie pracowników IIŚ (I)
CATEGORIES:I
LOCATION:105 A-12
END:VEVENT
BEGIN:VEVENT
UID:UZ_PLZ_20260530_1410_502980
DTSTAMP:20260530T141000
DTSTART:20260530T141000
DTEND:20260530T154000
SUMMARY:Energetyka odnawialna I (W): 21EN-NP
CATEGORIES:W
LOCATION:105 A-12
END:VEVENT
BEGIN:VEVENT
UID:UZ_PLZ_20260531_1100_495722
DTSTAMP:20260531T110000
DTSTART:20260531T110000
DTEND:20260531T123000
SUMMARY:Pomiary wielkości nieelektrycznych (W): 11E-ND(L)\; 12E-ND(L)
CATEGORIES:W
LOCATION:315 A-2
END:VEVENT
BEGIN:VEVENT
UID:UZ_PLZ_20260531_1315_502988
DTSTAMP:20260531T131500
DTSTART:20260531T131500
DTEND:20260531T144500
SUMMARY:Elektrotechnika I (W): 11EN-NP
CATEGORIES:W
LOCATION:114 A-12
END:VEVENT
BEGIN:VEVENT
UID:UZ_PLZ_20260531_1455_502963
DTSTAMP:20260531T145500
DTSTART:20260531T145500
DTEND:20260531T162500
SUMMARY:Elektrotechnika I (Ć): 11EN-NP
CATEGORIES:Ć
LOCATION:114 A-12
END:VEVENT
BEGIN:VEVENT
UID:UZ_PLZ_20260602_1245_495313
DTSTAMP:20260602T124500
DTSTART:20260602T124500
DTEND:20260602T141500
SUMMARY:Teoria obwodów I (W): 11E-SP
CATEGORIES:W
LOCATION:108 A-2
END:VEVENT
BEGIN:VEVENT
UID:UZ_PLZ_20260603_0730_505411
DTSTAMP:20260603T073000
DTSTART:20260603T073000
DTEND:20260603T090000
SUMMARY:Zebranie pracowników IIŚ (I)
CATEGORIES:I
LOCATION:105 A-12
END:VEVENT
BEGIN:VEVENT
UID:UZ_PLZ_20260609_1245_495313
DTSTAMP:20260609T124500
DTSTART:20260609T124500
DTEND:20260609T141500
SUMMARY:Teoria obwodów I (W): 11E-SP
CATEGORIES:W
LOCATION:108 A-2
END:VEVENT
BEGIN:VEVENT
UID:UZ_PLZ_20260610_0730_505411
DTSTAMP:20260610T073000
DTSTART:20260610T073000
DTEND:20260610T090000
SUMMARY:Zebranie pracowników IIŚ (I)
CATEGORIES:I
LOCATION:105 A-12
END:VEVENT
BEGIN:VEVENT
UID:UZ_PLZ_20260613_1410_502980
DTSTAMP:20260613T141000
DTSTART:20260613T141000
DTEND:20260613T154000
SUMMARY:Energetyka odnawialna I (W): 21EN-NP
CATEGORIES:W
LOCATION:105 A-12
END:VEVENT
BEGIN:VEVENT
UID:UZ_PLZ_20260614_1100_495722
DTSTAMP:20260614T110000
DTSTART:20260614T110000
DTEND:20260614T123000
SUMMARY:Pomiary wielkości nieelektrycznych (W): 11E-ND(L)\; 12E-ND(L)
CATEGORIES:W
LOCATION:315 A-2
END:VEVENT
BEGIN:VEVENT
UID:UZ_PLZ_20260614_1315_502988
DTSTAMP:20260614T131500
DTSTART:20260614T131500
DTEND:20260614T144500
SUMMARY:Elektrotechnika I (W): 11EN-NP
CATEGORIES:W
LOCATION:114 A-12
END:VEVENT
BEGIN:VEVENT
UID:UZ_PLZ_20260614_1455_502963
DTSTAMP:20260614T145500
DTSTART:20260614T145500
DTEND:20260614T162500
SUMMARY:Elektrotechnika I (Ć): 11EN-NP
CATEGORIES:Ć
LOCATION:114 A-12
END:VEVENT
BEGIN:VEVENT
UID:UZ_PLZ_20260616_1245_495313
DTSTAMP:20260616T124500
DTSTART:20260616T124500
DTEND:20260616T141500
SUMMARY:Teoria obwodów I (W): 11E-SP
CATEGORIES:W
LOCATION:108 A-2
END:VEVENT
BEGIN:VEVENT
UID:UZ_PLZ_20260617_0730_505411
DTSTAMP:20260617T073000
DTSTART:20260617T073000
DTEND:20260617T090000
SUMMARY:Zebranie pracowników IIŚ (I)
CATEGORIES:I
LOCATION:105 A-12
END:VEVENT
END:VCALENDAR
