BEGIN:VCALENDAR
TZID:Europe/Warsaw
X-WR-TIMEZONE:Europe/Warsaw
VERSION:2.0
PRODID:-//Uniwersytet Zielonogórski//NONSGML Plan zajęć v1.0//EN
NAME:Plan zajęć - semestr zimowy 2025/2026
X-WR-CALNAME:Plan zajęć - semestr zimowy 2025/2026
COLOR:green
CALSCALE:GREGORIAN
BEGIN:VEVENT
UID:UZ_PLZ_20251001_0730_487738
DTSTAMP:20251001T073000
DTSTART:20251001T073000
DTEND:20251001T090000
SUMMARY:Zebranie pracowników IIŚ (I)
CATEGORIES:I
LOCATION:105 A-12
END:VEVENT
BEGIN:VEVENT
UID:UZ_PLZ_20251007_1100_484150
DTSTAMP:20251007T110000
DTSTART:20251007T110000
DTEND:20251007T123000
SUMMARY:Podstawy elektrotechniki (W): 11E-SP
CATEGORIES:W
LOCATION:109 A-2
END:VEVENT
BEGIN:VEVENT
UID:UZ_PLZ_20251008_0730_487738
DTSTAMP:20251008T073000
DTSTART:20251008T073000
DTEND:20251008T090000
SUMMARY:Zebranie pracowników IIŚ (I)
CATEGORIES:I
LOCATION:105 A-12
END:VEVENT
BEGIN:VEVENT
UID:UZ_PLZ_20251011_1100_484964
DTSTAMP:20251011T110000
DTSTART:20251011T110000
DTEND:20251011T123000
SUMMARY:Elektrotechnika II (W): 21EN-NP
CATEGORIES:W
LOCATION:105 A-12
END:VEVENT
BEGIN:VEVENT
UID:UZ_PLZ_20251012_1100_484973
DTSTAMP:20251012T110000
DTSTART:20251012T110000
DTEND:20251012T123000
SUMMARY:Wstęp do energetyki (W): 11EN-NP
CATEGORIES:W
LOCATION:105 A-12
END:VEVENT
BEGIN:VEVENT
UID:UZ_PLZ_20251014_1100_484150
DTSTAMP:20251014T110000
DTSTART:20251014T110000
DTEND:20251014T123000
SUMMARY:Podstawy elektrotechniki (W): 11E-SP
CATEGORIES:W
LOCATION:109 A-2
END:VEVENT
BEGIN:VEVENT
UID:UZ_PLZ_20251015_0730_487738
DTSTAMP:20251015T073000
DTSTART:20251015T073000
DTEND:20251015T090000
SUMMARY:Zebranie pracowników IIŚ (I)
CATEGORIES:I
LOCATION:105 A-12
END:VEVENT
BEGIN:VEVENT
UID:UZ_PLZ_20251021_1100_484150
DTSTAMP:20251021T110000
DTSTART:20251021T110000
DTEND:20251021T123000
SUMMARY:Podstawy elektrotechniki (W): 11E-SP
CATEGORIES:W
LOCATION:109 A-2
END:VEVENT
BEGIN:VEVENT
UID:UZ_PLZ_20251022_0730_487738
DTSTAMP:20251022T073000
DTSTART:20251022T073000
DTEND:20251022T090000
SUMMARY:Zebranie pracowników IIŚ (I)
CATEGORIES:I
LOCATION:105 A-12
END:VEVENT
BEGIN:VEVENT
UID:UZ_PLZ_20251025_1100_484964
DTSTAMP:20251025T110000
DTSTART:20251025T110000
DTEND:20251025T123000
SUMMARY:Elektrotechnika II (W): 21EN-NP
CATEGORIES:W
LOCATION:105 A-12
END:VEVENT
BEGIN:VEVENT
UID:UZ_PLZ_20251026_1100_484973
DTSTAMP:20251026T110000
DTSTART:20251026T110000
DTEND:20251026T123000
SUMMARY:Wstęp do energetyki (W): 11EN-NP
CATEGORIES:W
LOCATION:105 A-12
END:VEVENT
BEGIN:VEVENT
UID:UZ_PLZ_20251028_1100_484150
DTSTAMP:20251028T110000
DTSTART:20251028T110000
DTEND:20251028T123000
SUMMARY:Podstawy elektrotechniki (W): 11E-SP
CATEGORIES:W
LOCATION:109 A-2
END:VEVENT
BEGIN:VEVENT
UID:UZ_PLZ_20251029_0730_487738
DTSTAMP:20251029T073000
DTSTART:20251029T073000
DTEND:20251029T090000
SUMMARY:Zebranie pracowników IIŚ (I)
CATEGORIES:I
LOCATION:105 A-12
END:VEVENT
BEGIN:VEVENT
UID:UZ_PLZ_20251104_1100_484150
DTSTAMP:20251104T110000
DTSTART:20251104T110000
DTEND:20251104T123000
SUMMARY:Podstawy elektrotechniki (W): 11E-SP
CATEGORIES:W
LOCATION:109 A-2
END:VEVENT
BEGIN:VEVENT
UID:UZ_PLZ_20251105_0730_487738
DTSTAMP:20251105T073000
DTSTART:20251105T073000
DTEND:20251105T090000
SUMMARY:Zebranie pracowników IIŚ (I)
CATEGORIES:I
LOCATION:105 A-12
END:VEVENT
BEGIN:VEVENT
UID:UZ_PLZ_20251112_0730_487738
DTSTAMP:20251112T073000
DTSTART:20251112T073000
DTEND:20251112T090000
SUMMARY:Zebranie pracowników IIŚ (I)
CATEGORIES:I
LOCATION:105 A-12
END:VEVENT
BEGIN:VEVENT
UID:UZ_PLZ_20251114_1100_484150
DTSTAMP:20251114T110000
DTSTART:20251114T110000
DTEND:20251114T123000
SUMMARY:Podstawy elektrotechniki (W): 11E-SP
CATEGORIES:W
LOCATION:109 A-2
END:VEVENT
BEGIN:VEVENT
UID:UZ_PLZ_20251118_1100_484150
DTSTAMP:20251118T110000
DTSTART:20251118T110000
DTEND:20251118T123000
SUMMARY:Podstawy elektrotechniki (W): 11E-SP
CATEGORIES:W
LOCATION:109 A-2
END:VEVENT
BEGIN:VEVENT
UID:UZ_PLZ_20251119_0730_487738
DTSTAMP:20251119T073000
DTSTART:20251119T073000
DTEND:20251119T090000
SUMMARY:Zebranie pracowników IIŚ (I)
CATEGORIES:I
LOCATION:105 A-12
END:VEVENT
BEGIN:VEVENT
UID:UZ_PLZ_20251122_1100_484964
DTSTAMP:20251122T110000
DTSTART:20251122T110000
DTEND:20251122T123000
SUMMARY:Elektrotechnika II (W): 21EN-NP
CATEGORIES:W
LOCATION:105 A-12
END:VEVENT
BEGIN:VEVENT
UID:UZ_PLZ_20251123_1100_484973
DTSTAMP:20251123T110000
DTSTART:20251123T110000
DTEND:20251123T123000
SUMMARY:Wstęp do energetyki (W): 11EN-NP
CATEGORIES:W
LOCATION:105 A-12
END:VEVENT
BEGIN:VEVENT
UID:UZ_PLZ_20251125_1100_484150
DTSTAMP:20251125T110000
DTSTART:20251125T110000
DTEND:20251125T123000
SUMMARY:Podstawy elektrotechniki (W): 11E-SP
CATEGORIES:W
LOCATION:109 A-2
END:VEVENT
BEGIN:VEVENT
UID:UZ_PLZ_20251126_0730_487738
DTSTAMP:20251126T073000
DTSTART:20251126T073000
DTEND:20251126T090000
SUMMARY:Zebranie pracowników IIŚ (I)
CATEGORIES:I
LOCATION:105 A-12
END:VEVENT
BEGIN:VEVENT
UID:UZ_PLZ_20251202_1100_484150
DTSTAMP:20251202T110000
DTSTART:20251202T110000
DTEND:20251202T123000
SUMMARY:Podstawy elektrotechniki (W): 11E-SP
CATEGORIES:W
LOCATION:109 A-2
END:VEVENT
BEGIN:VEVENT
UID:UZ_PLZ_20251203_0730_487738
DTSTAMP:20251203T073000
DTSTART:20251203T073000
DTEND:20251203T090000
SUMMARY:Zebranie pracowników IIŚ (I)
CATEGORIES:I
LOCATION:105 A-12
END:VEVENT
BEGIN:VEVENT
UID:UZ_PLZ_20251203_1000_484599
DTSTAMP:20251203T100000
DTSTART:20251203T100000
DTEND:20251203T113500
SUMMARY:Rynek energii (W): 31EN-SP
CATEGORIES:W
LOCATION:104 A-12
END:VEVENT
BEGIN:VEVENT
UID:UZ_PLZ_20251206_1100_484964
DTSTAMP:20251206T110000
DTSTART:20251206T110000
DTEND:20251206T123000
SUMMARY:Elektrotechnika II (W): 21EN-NP
CATEGORIES:W
LOCATION:105 A-12
END:VEVENT
BEGIN:VEVENT
UID:UZ_PLZ_20251207_1100_484973
DTSTAMP:20251207T110000
DTSTART:20251207T110000
DTEND:20251207T123000
SUMMARY:Wstęp do energetyki (W): 11EN-NP
CATEGORIES:W
LOCATION:105 A-12
END:VEVENT
BEGIN:VEVENT
UID:UZ_PLZ_20251209_1100_484150
DTSTAMP:20251209T110000
DTSTART:20251209T110000
DTEND:20251209T123000
SUMMARY:Podstawy elektrotechniki (W): 11E-SP
CATEGORIES:W
LOCATION:109 A-2
END:VEVENT
BEGIN:VEVENT
UID:UZ_PLZ_20251210_0730_487738
DTSTAMP:20251210T073000
DTSTART:20251210T073000
DTEND:20251210T090000
SUMMARY:Zebranie pracowników IIŚ (I)
CATEGORIES:I
LOCATION:105 A-12
END:VEVENT
BEGIN:VEVENT
UID:UZ_PLZ_20251211_1625_484599
DTSTAMP:20251211T162500
DTSTART:20251211T162500
DTEND:20251211T180000
SUMMARY:Rynek energii (W): 31EN-SP
CATEGORIES:W
LOCATION:105 A-12
END:VEVENT
BEGIN:VEVENT
UID:UZ_PLZ_20251213_1100_484964
DTSTAMP:20251213T110000
DTSTART:20251213T110000
DTEND:20251213T123000
SUMMARY:Elektrotechnika II (W): 21EN-NP
CATEGORIES:W
LOCATION:105 A-12
END:VEVENT
BEGIN:VEVENT
UID:UZ_PLZ_20251214_1100_484948
DTSTAMP:20251214T110000
DTSTART:20251214T110000
DTEND:20251214T123000
SUMMARY:Rynek energii (W): 31EN-NP
CATEGORIES:W
LOCATION:105 A-12
END:VEVENT
BEGIN:VEVENT
UID:UZ_PLZ_20251216_1100_484150
DTSTAMP:20251216T110000
DTSTART:20251216T110000
DTEND:20251216T123000
SUMMARY:Podstawy elektrotechniki (W): 11E-SP
CATEGORIES:W
LOCATION:109 A-2
END:VEVENT
BEGIN:VEVENT
UID:UZ_PLZ_20251217_0730_487738
DTSTAMP:20251217T073000
DTSTART:20251217T073000
DTEND:20251217T090000
SUMMARY:Zebranie pracowników IIŚ (I)
CATEGORIES:I
LOCATION:105 A-12
END:VEVENT
BEGIN:VEVENT
UID:UZ_PLZ_20251217_1000_484599
DTSTAMP:20251217T100000
DTSTART:20251217T100000
DTEND:20251217T113500
SUMMARY:Rynek energii (W): 31EN-SP
CATEGORIES:W
LOCATION:104 A-12
END:VEVENT
BEGIN:VEVENT
UID:UZ_PLZ_20260107_1100_484150
DTSTAMP:20260107T110000
DTSTART:20260107T110000
DTEND:20260107T123000
SUMMARY:Podstawy elektrotechniki (W): 11E-SP
CATEGORIES:W
LOCATION:109 A-2
END:VEVENT
BEGIN:VEVENT
UID:UZ_PLZ_20260110_1100_484964
DTSTAMP:20260110T110000
DTSTART:20260110T110000
DTEND:20260110T123000
SUMMARY:Elektrotechnika II (W): 21EN-NP
CATEGORIES:W
LOCATION:105 A-12
END:VEVENT
BEGIN:VEVENT
UID:UZ_PLZ_20260110_1245_484948
DTSTAMP:20260110T124500
DTSTART:20260110T124500
DTEND:20260110T141500
SUMMARY:Rynek energii (W): 31EN-NP
CATEGORIES:W
LOCATION:105 A-12
END:VEVENT
BEGIN:VEVENT
UID:UZ_PLZ_20260111_1700_484973
DTSTAMP:20260111T170000
DTSTART:20260111T170000
DTEND:20260111T183000
SUMMARY:Wstęp do energetyki (W): 11EN-NP
CATEGORIES:W
LOCATION:204 A-12
END:VEVENT
BEGIN:VEVENT
UID:UZ_PLZ_20260113_1100_484150
DTSTAMP:20260113T110000
DTSTART:20260113T110000
DTEND:20260113T123000
SUMMARY:Podstawy elektrotechniki (W): 11E-SP
CATEGORIES:W
LOCATION:109 A-2
END:VEVENT
BEGIN:VEVENT
UID:UZ_PLZ_20260114_0730_487738
DTSTAMP:20260114T073000
DTSTART:20260114T073000
DTEND:20260114T090000
SUMMARY:Zebranie pracowników IIŚ (I)
CATEGORIES:I
LOCATION:105 A-12
END:VEVENT
BEGIN:VEVENT
UID:UZ_PLZ_20260114_1000_484599
DTSTAMP:20260114T100000
DTSTART:20260114T100000
DTEND:20260114T113500
SUMMARY:Rynek energii (W): 31EN-SP
CATEGORIES:W
LOCATION:104 A-12
END:VEVENT
BEGIN:VEVENT
UID:UZ_PLZ_20260115_1625_484599
DTSTAMP:20260115T162500
DTSTART:20260115T162500
DTEND:20260115T180000
SUMMARY:Rynek energii (W): 31EN-SP
CATEGORIES:W
LOCATION:105 A-12
END:VEVENT
BEGIN:VEVENT
UID:UZ_PLZ_20260117_1100_484964
DTSTAMP:20260117T110000
DTSTART:20260117T110000
DTEND:20260117T123000
SUMMARY:Elektrotechnika II (W): 21EN-NP
CATEGORIES:W
LOCATION:105 A-12
END:VEVENT
BEGIN:VEVENT
UID:UZ_PLZ_20260118_1100_484948
DTSTAMP:20260118T110000
DTSTART:20260118T110000
DTEND:20260118T123000
SUMMARY:Rynek energii (W): 31EN-NP
CATEGORIES:W
LOCATION:105 A-12
END:VEVENT
BEGIN:VEVENT
UID:UZ_PLZ_20260120_1100_484150
DTSTAMP:20260120T110000
DTSTART:20260120T110000
DTEND:20260120T123000
SUMMARY:Podstawy elektrotechniki (W): 11E-SP
CATEGORIES:W
LOCATION:109 A-2
END:VEVENT
BEGIN:VEVENT
UID:UZ_PLZ_20260121_0730_487738
DTSTAMP:20260121T073000
DTSTART:20260121T073000
DTEND:20260121T090000
SUMMARY:Zebranie pracowników IIŚ (I)
CATEGORIES:I
LOCATION:105 A-12
END:VEVENT
BEGIN:VEVENT
UID:UZ_PLZ_20260122_1625_484599
DTSTAMP:20260122T162500
DTSTART:20260122T162500
DTEND:20260122T180000
SUMMARY:Rynek energii (W): 31EN-SP
CATEGORIES:W
LOCATION:105 A-12
END:VEVENT
BEGIN:VEVENT
UID:UZ_PLZ_20260127_1100_484150
DTSTAMP:20260127T110000
DTSTART:20260127T110000
DTEND:20260127T123000
SUMMARY:Podstawy elektrotechniki (W): 11E-SP
CATEGORIES:W
LOCATION:109 A-2
END:VEVENT
BEGIN:VEVENT
UID:UZ_PLZ_20260128_0730_487738
DTSTAMP:20260128T073000
DTSTART:20260128T073000
DTEND:20260128T090000
SUMMARY:Zebranie pracowników IIŚ (I)
CATEGORIES:I
LOCATION:105 A-12
END:VEVENT
BEGIN:VEVENT
UID:UZ_PLZ_20260128_1000_484599
DTSTAMP:20260128T100000
DTSTART:20260128T100000
DTEND:20260128T113500
SUMMARY:Rynek energii (W): 31EN-SP
CATEGORIES:W
LOCATION:104 A-12
END:VEVENT
BEGIN:VEVENT
UID:UZ_PLZ_20260131_1100_484964
DTSTAMP:20260131T110000
DTSTART:20260131T110000
DTEND:20260131T123000
SUMMARY:Elektrotechnika II (W): 21EN-NP
CATEGORIES:W
LOCATION:105 A-12
END:VEVENT
BEGIN:VEVENT
UID:UZ_PLZ_20260131_1245_484948
DTSTAMP:20260131T124500
DTSTART:20260131T124500
DTEND:20260131T141500
SUMMARY:Rynek energii (W): 31EN-NP
CATEGORIES:W
LOCATION:105 A-12
END:VEVENT
BEGIN:VEVENT
UID:UZ_PLZ_20260131_1615_484964
DTSTAMP:20260131T161500
DTSTART:20260131T161500
DTEND:20260131T174500
SUMMARY:Elektrotechnika II (W): 21EN-NP
CATEGORIES:W
LOCATION:201 A-12
END:VEVENT
BEGIN:VEVENT
UID:UZ_PLZ_20260205_1100_501111
DTSTAMP:20260205T110000
DTSTART:20260205T110000
DTEND:20260205T130000
SUMMARY:Podstawy elektrotechniki (E): 11E-SP
CATEGORIES:E
LOCATION:106 A-2
END:VEVENT
BEGIN:VEVENT
UID:UZ_PLZ_20260207_1100_501165
DTSTAMP:20260207T110000
DTSTART:20260207T110000
DTEND:20260207T130000
SUMMARY:Elektrotechnika II (E): 21EN-NP
CATEGORIES:E
LOCATION:4 A-12
END:VEVENT
BEGIN:VEVENT
UID:UZ_PLZ_20260221_1100_501165
DTSTAMP:20260221T110000
DTSTART:20260221T110000
DTEND:20260221T130000
SUMMARY:Elektrotechnika II (E): 21EN-NP
CATEGORIES:E
LOCATION:4 A-12
END:VEVENT
BEGIN:VEVENT
UID:UZ_PLZ_20260224_1100_501111
DTSTAMP:20260224T110000
DTSTART:20260224T110000
DTEND:20260224T130000
SUMMARY:Podstawy elektrotechniki (E): 11E-SP
CATEGORIES:E
LOCATION:106 A-2
END:VEVENT
END:VCALENDAR
