BEGIN:VCALENDAR
TZID:Europe/Warsaw
X-WR-TIMEZONE:Europe/Warsaw
VERSION:2.0
PRODID:-//Uniwersytet Zielonogórski//NONSGML Plan zajęć v1.0//EN
NAME:Plan zajęć - semestr letni 2025/2026
X-WR-CALNAME:Plan zajęć - semestr letni 2025/2026
COLOR:green
CALSCALE:GREGORIAN
BEGIN:VEVENT
UID:UZ_PLZ_20260428_0800_504491
DTSTAMP:20260428T080000
DTSTART:20260428T080000
DTEND:20260428T093000
SUMMARY:Przedmiot do wyboru: Polityka pamięci (Ć): 11Polit-SD
CATEGORIES:Ć
LOCATION:P2 A-16
DESCRIPTION:<a href="https://classroom.google.com/c/ODQ2ODA1NTY3Mjcz">Google Classroom</a> 
END:VEVENT
BEGIN:VEVENT
UID:UZ_PLZ_20260428_0945_504465
DTSTAMP:20260428T094500
DTSTART:20260428T094500
DTEND:20260428T111500
SUMMARY:Przedmiot DW: Ameryka Lacińska w XX i XXI wieku (Ć): 31MSP-SP
CATEGORIES:Ć
LOCATION:P2 A-16
DESCRIPTION:<a href="https://classroom.google.com/c/ODQ5OTU0MjAyNDU2">Google Classroom</a> 
END:VEVENT
BEGIN:VEVENT
UID:UZ_PLZ_20260428_1130_504837
DTSTAMP:20260428T113000
DTSTART:20260428T113000
DTEND:20260428T130000
SUMMARY:Dyżur pracowniczy (I)
CATEGORIES:I
END:VEVENT
BEGIN:VEVENT
UID:UZ_PLZ_20260428_1130_508386
DTSTAMP:20260428T113000
DTSTART:20260428T113000
DTEND:20260428T130000
SUMMARY:Rezerwacja (R)
CATEGORIES:R
LOCATION:311 A-16
END:VEVENT
BEGIN:VEVENT
UID:UZ_PLZ_20260428_1315_507853
DTSTAMP:20260428T131500
DTSTART:20260428T131500
DTEND:20260428T144500
SUMMARY:Konsultacje (I)
CATEGORIES:I
LOCATION:144 A-16
END:VEVENT
BEGIN:VEVENT
UID:UZ_PLZ_20260430_0800_504451
DTSTAMP:20260430T080000
DTSTART:20260430T080000
DTEND:20260430T093000
SUMMARY:Mity i stereotypy a rzeczywistość społeczna (Ć): 21MSP-SP
CATEGORIES:Ć
LOCATION:311 A-16
DESCRIPTION:<a href="https://classroom.google.com/c/ODQ3MTM0ODEzODUz">Google Classroom</a> 
END:VEVENT
BEGIN:VEVENT
UID:UZ_PLZ_20260430_0945_504434
DTSTAMP:20260430T094500
DTSTART:20260430T094500
DTEND:20260430T111500
SUMMARY:Komunikowanie polityczne (W): 11MSP-SP
CATEGORIES:W
LOCATION:311 A-16
DESCRIPTION:<a href="https://classroom.google.com/c/ODQ5ODIwNjA1ODUy">Google Classroom</a> 
END:VEVENT
BEGIN:VEVENT
UID:UZ_PLZ_20260430_1130_504473
DTSTAMP:20260430T113000
DTSTART:20260430T113000
DTEND:20260430T130000
SUMMARY:Systemy polityczne (W): 21Polit-SP
CATEGORIES:W
LOCATION:311 A-16
DESCRIPTION:<a href="https://classroom.google.com/c/ODQ5OTUzNjY2NzAy">Google Classroom</a> 
END:VEVENT
BEGIN:VEVENT
UID:UZ_PLZ_20260430_1315_504482
DTSTAMP:20260430T131500
DTSTART:20260430T131500
DTEND:20260430T144500
SUMMARY:Systemy polityczne (Ć): 21Polit-SP
CATEGORIES:Ć
LOCATION:311 A-16
END:VEVENT
BEGIN:VEVENT
UID:UZ_PLZ_20260505_0800_504491
DTSTAMP:20260505T080000
DTSTART:20260505T080000
DTEND:20260505T093000
SUMMARY:Przedmiot do wyboru: Polityka pamięci (Ć): 11Polit-SD
CATEGORIES:Ć
LOCATION:P2 A-16
DESCRIPTION:<a href="https://classroom.google.com/c/ODQ2ODA1NTY3Mjcz">Google Classroom</a> 
END:VEVENT
BEGIN:VEVENT
UID:UZ_PLZ_20260505_0945_504465
DTSTAMP:20260505T094500
DTSTART:20260505T094500
DTEND:20260505T111500
SUMMARY:Przedmiot DW: Ameryka Lacińska w XX i XXI wieku (Ć): 31MSP-SP
CATEGORIES:Ć
LOCATION:P2 A-16
DESCRIPTION:<a href="https://classroom.google.com/c/ODQ5OTU0MjAyNDU2">Google Classroom</a> 
END:VEVENT
BEGIN:VEVENT
UID:UZ_PLZ_20260505_1130_504837
DTSTAMP:20260505T113000
DTSTART:20260505T113000
DTEND:20260505T130000
SUMMARY:Dyżur pracowniczy (I)
CATEGORIES:I
END:VEVENT
BEGIN:VEVENT
UID:UZ_PLZ_20260505_1315_507853
DTSTAMP:20260505T131500
DTSTART:20260505T131500
DTEND:20260505T144500
SUMMARY:Konsultacje (I)
CATEGORIES:I
LOCATION:144 A-16
END:VEVENT
BEGIN:VEVENT
UID:UZ_PLZ_20260507_0800_504451
DTSTAMP:20260507T080000
DTSTART:20260507T080000
DTEND:20260507T093000
SUMMARY:Mity i stereotypy a rzeczywistość społeczna (Ć): 21MSP-SP
CATEGORIES:Ć
LOCATION:311 A-16
DESCRIPTION:<a href="https://classroom.google.com/c/ODQ3MTM0ODEzODUz">Google Classroom</a> 
END:VEVENT
BEGIN:VEVENT
UID:UZ_PLZ_20260507_0945_504434
DTSTAMP:20260507T094500
DTSTART:20260507T094500
DTEND:20260507T111500
SUMMARY:Komunikowanie polityczne (W): 11MSP-SP
CATEGORIES:W
LOCATION:311 A-16
DESCRIPTION:<a href="https://classroom.google.com/c/ODQ5ODIwNjA1ODUy">Google Classroom</a> 
END:VEVENT
BEGIN:VEVENT
UID:UZ_PLZ_20260507_1130_504473
DTSTAMP:20260507T113000
DTSTART:20260507T113000
DTEND:20260507T130000
SUMMARY:Systemy polityczne (W): 21Polit-SP
CATEGORIES:W
LOCATION:311 A-16
DESCRIPTION:<a href="https://classroom.google.com/c/ODQ5OTUzNjY2NzAy">Google Classroom</a> 
END:VEVENT
BEGIN:VEVENT
UID:UZ_PLZ_20260507_1315_504482
DTSTAMP:20260507T131500
DTSTART:20260507T131500
DTEND:20260507T144500
SUMMARY:Systemy polityczne (Ć): 21Polit-SP
CATEGORIES:Ć
LOCATION:311 A-16
END:VEVENT
BEGIN:VEVENT
UID:UZ_PLZ_20260507_1450_505536
DTSTAMP:20260507T145000
DTSTART:20260507T145000
DTEND:20260507T153500
SUMMARY:Seminarium doktoranckie (S): 41SDNHiS-22/Polit
CATEGORIES:S
END:VEVENT
BEGIN:VEVENT
UID:UZ_PLZ_20260512_0800_504491
DTSTAMP:20260512T080000
DTSTART:20260512T080000
DTEND:20260512T093000
SUMMARY:Przedmiot do wyboru: Polityka pamięci (Ć): 11Polit-SD
CATEGORIES:Ć
LOCATION:P2 A-16
DESCRIPTION:<a href="https://classroom.google.com/c/ODQ2ODA1NTY3Mjcz">Google Classroom</a> 
END:VEVENT
BEGIN:VEVENT
UID:UZ_PLZ_20260512_0945_504465
DTSTAMP:20260512T094500
DTSTART:20260512T094500
DTEND:20260512T111500
SUMMARY:Przedmiot DW: Ameryka Lacińska w XX i XXI wieku (Ć): 31MSP-SP
CATEGORIES:Ć
LOCATION:P2 A-16
DESCRIPTION:<a href="https://classroom.google.com/c/ODQ5OTU0MjAyNDU2">Google Classroom</a> 
END:VEVENT
BEGIN:VEVENT
UID:UZ_PLZ_20260512_1130_504837
DTSTAMP:20260512T113000
DTSTART:20260512T113000
DTEND:20260512T130000
SUMMARY:Dyżur pracowniczy (I)
CATEGORIES:I
END:VEVENT
BEGIN:VEVENT
UID:UZ_PLZ_20260512_1130_508386
DTSTAMP:20260512T113000
DTSTART:20260512T113000
DTEND:20260512T130000
SUMMARY:Rezerwacja (R)
CATEGORIES:R
LOCATION:311 A-16
END:VEVENT
BEGIN:VEVENT
UID:UZ_PLZ_20260512_1315_507853
DTSTAMP:20260512T131500
DTSTART:20260512T131500
DTEND:20260512T144500
SUMMARY:Konsultacje (I)
CATEGORIES:I
LOCATION:144 A-16
END:VEVENT
BEGIN:VEVENT
UID:UZ_PLZ_20260514_0800_504451
DTSTAMP:20260514T080000
DTSTART:20260514T080000
DTEND:20260514T093000
SUMMARY:Mity i stereotypy a rzeczywistość społeczna (Ć): 21MSP-SP
CATEGORIES:Ć
LOCATION:311 A-16
DESCRIPTION:<a href="https://classroom.google.com/c/ODQ3MTM0ODEzODUz">Google Classroom</a> 
END:VEVENT
BEGIN:VEVENT
UID:UZ_PLZ_20260514_0945_504434
DTSTAMP:20260514T094500
DTSTART:20260514T094500
DTEND:20260514T111500
SUMMARY:Komunikowanie polityczne (W): 11MSP-SP
CATEGORIES:W
LOCATION:311 A-16
DESCRIPTION:<a href="https://classroom.google.com/c/ODQ5ODIwNjA1ODUy">Google Classroom</a> 
END:VEVENT
BEGIN:VEVENT
UID:UZ_PLZ_20260514_1130_504473
DTSTAMP:20260514T113000
DTSTART:20260514T113000
DTEND:20260514T130000
SUMMARY:Systemy polityczne (W): 21Polit-SP
CATEGORIES:W
LOCATION:311 A-16
DESCRIPTION:<a href="https://classroom.google.com/c/ODQ5OTUzNjY2NzAy">Google Classroom</a> 
END:VEVENT
BEGIN:VEVENT
UID:UZ_PLZ_20260514_1315_504482
DTSTAMP:20260514T131500
DTSTART:20260514T131500
DTEND:20260514T144500
SUMMARY:Systemy polityczne (Ć): 21Polit-SP
CATEGORIES:Ć
LOCATION:311 A-16
END:VEVENT
BEGIN:VEVENT
UID:UZ_PLZ_20260519_0800_504491
DTSTAMP:20260519T080000
DTSTART:20260519T080000
DTEND:20260519T093000
SUMMARY:Przedmiot do wyboru: Polityka pamięci (Ć): 11Polit-SD
CATEGORIES:Ć
LOCATION:P2 A-16
DESCRIPTION:<a href="https://classroom.google.com/c/ODQ2ODA1NTY3Mjcz">Google Classroom</a> 
END:VEVENT
BEGIN:VEVENT
UID:UZ_PLZ_20260519_0945_504465
DTSTAMP:20260519T094500
DTSTART:20260519T094500
DTEND:20260519T111500
SUMMARY:Przedmiot DW: Ameryka Lacińska w XX i XXI wieku (Ć): 31MSP-SP
CATEGORIES:Ć
LOCATION:P2 A-16
DESCRIPTION:<a href="https://classroom.google.com/c/ODQ5OTU0MjAyNDU2">Google Classroom</a> 
END:VEVENT
BEGIN:VEVENT
UID:UZ_PLZ_20260519_1130_504837
DTSTAMP:20260519T113000
DTSTART:20260519T113000
DTEND:20260519T130000
SUMMARY:Dyżur pracowniczy (I)
CATEGORIES:I
END:VEVENT
BEGIN:VEVENT
UID:UZ_PLZ_20260519_1130_508386
DTSTAMP:20260519T113000
DTSTART:20260519T113000
DTEND:20260519T130000
SUMMARY:Rezerwacja (R)
CATEGORIES:R
LOCATION:311 A-16
END:VEVENT
BEGIN:VEVENT
UID:UZ_PLZ_20260519_1315_507853
DTSTAMP:20260519T131500
DTSTART:20260519T131500
DTEND:20260519T144500
SUMMARY:Konsultacje (I)
CATEGORIES:I
LOCATION:144 A-16
END:VEVENT
BEGIN:VEVENT
UID:UZ_PLZ_20260521_0800_504451
DTSTAMP:20260521T080000
DTSTART:20260521T080000
DTEND:20260521T093000
SUMMARY:Mity i stereotypy a rzeczywistość społeczna (Ć): 21MSP-SP
CATEGORIES:Ć
LOCATION:311 A-16
DESCRIPTION:<a href="https://classroom.google.com/c/ODQ3MTM0ODEzODUz">Google Classroom</a> 
END:VEVENT
BEGIN:VEVENT
UID:UZ_PLZ_20260521_0945_504434
DTSTAMP:20260521T094500
DTSTART:20260521T094500
DTEND:20260521T111500
SUMMARY:Komunikowanie polityczne (W): 11MSP-SP
CATEGORIES:W
LOCATION:311 A-16
DESCRIPTION:<a href="https://classroom.google.com/c/ODQ5ODIwNjA1ODUy">Google Classroom</a> 
END:VEVENT
BEGIN:VEVENT
UID:UZ_PLZ_20260521_1130_504473
DTSTAMP:20260521T113000
DTSTART:20260521T113000
DTEND:20260521T130000
SUMMARY:Systemy polityczne (W): 21Polit-SP
CATEGORIES:W
LOCATION:311 A-16
DESCRIPTION:<a href="https://classroom.google.com/c/ODQ5OTUzNjY2NzAy">Google Classroom</a> 
END:VEVENT
BEGIN:VEVENT
UID:UZ_PLZ_20260521_1315_504482
DTSTAMP:20260521T131500
DTSTART:20260521T131500
DTEND:20260521T144500
SUMMARY:Systemy polityczne (Ć): 21Polit-SP
CATEGORIES:Ć
LOCATION:311 A-16
END:VEVENT
BEGIN:VEVENT
UID:UZ_PLZ_20260521_1450_505536
DTSTAMP:20260521T145000
DTSTART:20260521T145000
DTEND:20260521T153500
SUMMARY:Seminarium doktoranckie (S): 41SDNHiS-22/Polit
CATEGORIES:S
END:VEVENT
BEGIN:VEVENT
UID:UZ_PLZ_20260526_0800_504491
DTSTAMP:20260526T080000
DTSTART:20260526T080000
DTEND:20260526T093000
SUMMARY:Przedmiot do wyboru: Polityka pamięci (Ć): 11Polit-SD
CATEGORIES:Ć
LOCATION:P2 A-16
DESCRIPTION:<a href="https://classroom.google.com/c/ODQ2ODA1NTY3Mjcz">Google Classroom</a> 
END:VEVENT
BEGIN:VEVENT
UID:UZ_PLZ_20260526_0945_504465
DTSTAMP:20260526T094500
DTSTART:20260526T094500
DTEND:20260526T111500
SUMMARY:Przedmiot DW: Ameryka Lacińska w XX i XXI wieku (Ć): 31MSP-SP
CATEGORIES:Ć
LOCATION:P2 A-16
DESCRIPTION:<a href="https://classroom.google.com/c/ODQ5OTU0MjAyNDU2">Google Classroom</a> 
END:VEVENT
BEGIN:VEVENT
UID:UZ_PLZ_20260526_1130_504837
DTSTAMP:20260526T113000
DTSTART:20260526T113000
DTEND:20260526T130000
SUMMARY:Dyżur pracowniczy (I)
CATEGORIES:I
END:VEVENT
BEGIN:VEVENT
UID:UZ_PLZ_20260526_1130_508386
DTSTAMP:20260526T113000
DTSTART:20260526T113000
DTEND:20260526T130000
SUMMARY:Rezerwacja (R)
CATEGORIES:R
LOCATION:311 A-16
END:VEVENT
BEGIN:VEVENT
UID:UZ_PLZ_20260526_1315_507853
DTSTAMP:20260526T131500
DTSTART:20260526T131500
DTEND:20260526T144500
SUMMARY:Konsultacje (I)
CATEGORIES:I
LOCATION:144 A-16
END:VEVENT
BEGIN:VEVENT
UID:UZ_PLZ_20260528_0800_504451
DTSTAMP:20260528T080000
DTSTART:20260528T080000
DTEND:20260528T093000
SUMMARY:Mity i stereotypy a rzeczywistość społeczna (Ć): 21MSP-SP
CATEGORIES:Ć
LOCATION:311 A-16
DESCRIPTION:<a href="https://classroom.google.com/c/ODQ3MTM0ODEzODUz">Google Classroom</a> 
END:VEVENT
BEGIN:VEVENT
UID:UZ_PLZ_20260528_0945_504434
DTSTAMP:20260528T094500
DTSTART:20260528T094500
DTEND:20260528T111500
SUMMARY:Komunikowanie polityczne (W): 11MSP-SP
CATEGORIES:W
LOCATION:311 A-16
DESCRIPTION:<a href="https://classroom.google.com/c/ODQ5ODIwNjA1ODUy">Google Classroom</a> 
END:VEVENT
BEGIN:VEVENT
UID:UZ_PLZ_20260528_1130_504473
DTSTAMP:20260528T113000
DTSTART:20260528T113000
DTEND:20260528T130000
SUMMARY:Systemy polityczne (W): 21Polit-SP
CATEGORIES:W
LOCATION:311 A-16
DESCRIPTION:<a href="https://classroom.google.com/c/ODQ5OTUzNjY2NzAy">Google Classroom</a> 
END:VEVENT
BEGIN:VEVENT
UID:UZ_PLZ_20260528_1315_504482
DTSTAMP:20260528T131500
DTSTART:20260528T131500
DTEND:20260528T144500
SUMMARY:Systemy polityczne (Ć): 21Polit-SP
CATEGORIES:Ć
LOCATION:311 A-16
END:VEVENT
BEGIN:VEVENT
UID:UZ_PLZ_20260602_0800_504491
DTSTAMP:20260602T080000
DTSTART:20260602T080000
DTEND:20260602T093000
SUMMARY:Przedmiot do wyboru: Polityka pamięci (Ć): 11Polit-SD
CATEGORIES:Ć
LOCATION:P2 A-16
DESCRIPTION:<a href="https://classroom.google.com/c/ODQ2ODA1NTY3Mjcz">Google Classroom</a> 
END:VEVENT
BEGIN:VEVENT
UID:UZ_PLZ_20260602_0945_504465
DTSTAMP:20260602T094500
DTSTART:20260602T094500
DTEND:20260602T111500
SUMMARY:Przedmiot DW: Ameryka Lacińska w XX i XXI wieku (Ć): 31MSP-SP
CATEGORIES:Ć
LOCATION:P2 A-16
DESCRIPTION:<a href="https://classroom.google.com/c/ODQ5OTU0MjAyNDU2">Google Classroom</a> 
END:VEVENT
BEGIN:VEVENT
UID:UZ_PLZ_20260602_1130_504837
DTSTAMP:20260602T113000
DTSTART:20260602T113000
DTEND:20260602T130000
SUMMARY:Dyżur pracowniczy (I)
CATEGORIES:I
END:VEVENT
BEGIN:VEVENT
UID:UZ_PLZ_20260602_1130_508386
DTSTAMP:20260602T113000
DTSTART:20260602T113000
DTEND:20260602T130000
SUMMARY:Rezerwacja (R)
CATEGORIES:R
LOCATION:311 A-16
END:VEVENT
BEGIN:VEVENT
UID:UZ_PLZ_20260602_1315_507853
DTSTAMP:20260602T131500
DTSTART:20260602T131500
DTEND:20260602T144500
SUMMARY:Konsultacje (I)
CATEGORIES:I
LOCATION:144 A-16
END:VEVENT
BEGIN:VEVENT
UID:UZ_PLZ_20260609_0800_504491
DTSTAMP:20260609T080000
DTSTART:20260609T080000
DTEND:20260609T093000
SUMMARY:Przedmiot do wyboru: Polityka pamięci (Ć): 11Polit-SD
CATEGORIES:Ć
LOCATION:P2 A-16
DESCRIPTION:<a href="https://classroom.google.com/c/ODQ2ODA1NTY3Mjcz">Google Classroom</a> 
END:VEVENT
BEGIN:VEVENT
UID:UZ_PLZ_20260609_0945_504465
DTSTAMP:20260609T094500
DTSTART:20260609T094500
DTEND:20260609T111500
SUMMARY:Przedmiot DW: Ameryka Lacińska w XX i XXI wieku (Ć): 31MSP-SP
CATEGORIES:Ć
LOCATION:P2 A-16
DESCRIPTION:<a href="https://classroom.google.com/c/ODQ5OTU0MjAyNDU2">Google Classroom</a> 
END:VEVENT
BEGIN:VEVENT
UID:UZ_PLZ_20260609_1130_504837
DTSTAMP:20260609T113000
DTSTART:20260609T113000
DTEND:20260609T130000
SUMMARY:Dyżur pracowniczy (I)
CATEGORIES:I
END:VEVENT
BEGIN:VEVENT
UID:UZ_PLZ_20260609_1130_508386
DTSTAMP:20260609T113000
DTSTART:20260609T113000
DTEND:20260609T130000
SUMMARY:Rezerwacja (R)
CATEGORIES:R
LOCATION:311 A-16
END:VEVENT
BEGIN:VEVENT
UID:UZ_PLZ_20260609_1315_507853
DTSTAMP:20260609T131500
DTSTART:20260609T131500
DTEND:20260609T144500
SUMMARY:Konsultacje (I)
CATEGORIES:I
LOCATION:144 A-16
END:VEVENT
BEGIN:VEVENT
UID:UZ_PLZ_20260611_0800_504451
DTSTAMP:20260611T080000
DTSTART:20260611T080000
DTEND:20260611T093000
SUMMARY:Mity i stereotypy a rzeczywistość społeczna (Ć): 21MSP-SP
CATEGORIES:Ć
LOCATION:311 A-16
DESCRIPTION:<a href="https://classroom.google.com/c/ODQ3MTM0ODEzODUz">Google Classroom</a> 
END:VEVENT
BEGIN:VEVENT
UID:UZ_PLZ_20260611_0945_504434
DTSTAMP:20260611T094500
DTSTART:20260611T094500
DTEND:20260611T111500
SUMMARY:Komunikowanie polityczne (W): 11MSP-SP
CATEGORIES:W
LOCATION:311 A-16
DESCRIPTION:<a href="https://classroom.google.com/c/ODQ5ODIwNjA1ODUy">Google Classroom</a> 
END:VEVENT
BEGIN:VEVENT
UID:UZ_PLZ_20260611_1130_504473
DTSTAMP:20260611T113000
DTSTART:20260611T113000
DTEND:20260611T130000
SUMMARY:Systemy polityczne (W): 21Polit-SP
CATEGORIES:W
LOCATION:311 A-16
DESCRIPTION:<a href="https://classroom.google.com/c/ODQ5OTUzNjY2NzAy">Google Classroom</a> 
END:VEVENT
BEGIN:VEVENT
UID:UZ_PLZ_20260611_1315_504482
DTSTAMP:20260611T131500
DTSTART:20260611T131500
DTEND:20260611T144500
SUMMARY:Systemy polityczne (Ć): 21Polit-SP
CATEGORIES:Ć
LOCATION:311 A-16
END:VEVENT
BEGIN:VEVENT
UID:UZ_PLZ_20260611_1450_505536
DTSTAMP:20260611T145000
DTSTART:20260611T145000
DTEND:20260611T153500
SUMMARY:Seminarium doktoranckie (S): 41SDNHiS-22/Polit
CATEGORIES:S
END:VEVENT
BEGIN:VEVENT
UID:UZ_PLZ_20260616_0800_504491
DTSTAMP:20260616T080000
DTSTART:20260616T080000
DTEND:20260616T093000
SUMMARY:Przedmiot do wyboru: Polityka pamięci (Ć): 11Polit-SD
CATEGORIES:Ć
LOCATION:P2 A-16
DESCRIPTION:<a href="https://classroom.google.com/c/ODQ2ODA1NTY3Mjcz">Google Classroom</a> 
END:VEVENT
BEGIN:VEVENT
UID:UZ_PLZ_20260616_0945_504465
DTSTAMP:20260616T094500
DTSTART:20260616T094500
DTEND:20260616T111500
SUMMARY:Przedmiot DW: Ameryka Lacińska w XX i XXI wieku (Ć): 31MSP-SP
CATEGORIES:Ć
LOCATION:P2 A-16
DESCRIPTION:<a href="https://classroom.google.com/c/ODQ5OTU0MjAyNDU2">Google Classroom</a> 
END:VEVENT
BEGIN:VEVENT
UID:UZ_PLZ_20260616_1130_504837
DTSTAMP:20260616T113000
DTSTART:20260616T113000
DTEND:20260616T130000
SUMMARY:Dyżur pracowniczy (I)
CATEGORIES:I
END:VEVENT
BEGIN:VEVENT
UID:UZ_PLZ_20260616_1315_507853
DTSTAMP:20260616T131500
DTSTART:20260616T131500
DTEND:20260616T144500
SUMMARY:Konsultacje (I)
CATEGORIES:I
LOCATION:144 A-16
END:VEVENT
BEGIN:VEVENT
UID:UZ_PLZ_20260618_0800_504451
DTSTAMP:20260618T080000
DTSTART:20260618T080000
DTEND:20260618T093000
SUMMARY:Mity i stereotypy a rzeczywistość społeczna (Ć): 21MSP-SP
CATEGORIES:Ć
LOCATION:311 A-16
DESCRIPTION:<a href="https://classroom.google.com/c/ODQ3MTM0ODEzODUz">Google Classroom</a> 
END:VEVENT
BEGIN:VEVENT
UID:UZ_PLZ_20260618_0945_504434
DTSTAMP:20260618T094500
DTSTART:20260618T094500
DTEND:20260618T111500
SUMMARY:Komunikowanie polityczne (W): 11MSP-SP
CATEGORIES:W
LOCATION:311 A-16
DESCRIPTION:<a href="https://classroom.google.com/c/ODQ5ODIwNjA1ODUy">Google Classroom</a> 
END:VEVENT
BEGIN:VEVENT
UID:UZ_PLZ_20260618_1130_504473
DTSTAMP:20260618T113000
DTSTART:20260618T113000
DTEND:20260618T130000
SUMMARY:Systemy polityczne (W): 21Polit-SP
CATEGORIES:W
LOCATION:311 A-16
DESCRIPTION:<a href="https://classroom.google.com/c/ODQ5OTUzNjY2NzAy">Google Classroom</a> 
END:VEVENT
BEGIN:VEVENT
UID:UZ_PLZ_20260618_1315_504482
DTSTAMP:20260618T131500
DTSTART:20260618T131500
DTEND:20260618T144500
SUMMARY:Systemy polityczne (Ć): 21Polit-SP
CATEGORIES:Ć
LOCATION:311 A-16
END:VEVENT
BEGIN:VEVENT
UID:UZ_PLZ_20260623_0900_508387
DTSTAMP:20260623T090000
DTSTART:20260623T090000
DTEND:20260623T110000
SUMMARY:Komunikowanie polityczne (E): 11MSP-SP
CATEGORIES:E
LOCATION:311 A-16
END:VEVENT
BEGIN:VEVENT
UID:UZ_PLZ_20260625_0900_508388
DTSTAMP:20260625T090000
DTSTART:20260625T090000
DTEND:20260625T110000
SUMMARY:Systemy polityczne (E): 21Polit-SP
CATEGORIES:E
LOCATION:311 A-16
END:VEVENT
BEGIN:VEVENT
UID:UZ_PLZ_20260908_1000_508387
DTSTAMP:20260908T100000
DTSTART:20260908T100000
DTEND:20260908T110000
SUMMARY:Komunikowanie polityczne (E): 11MSP-SP
CATEGORIES:E
LOCATION:311 A-16
END:VEVENT
BEGIN:VEVENT
UID:UZ_PLZ_20260908_1115_508388
DTSTAMP:20260908T111500
DTSTART:20260908T111500
DTEND:20260908T121500
SUMMARY:Systemy polityczne (E): 21Polit-SP
CATEGORIES:E
LOCATION:311 A-16
END:VEVENT
END:VCALENDAR
