BEGIN:VCALENDAR
TZID:Europe/Warsaw
X-WR-TIMEZONE:Europe/Warsaw
VERSION:2.0
PRODID:-//Uniwersytet Zielonogórski//NONSGML Plan zajęć v1.0//EN
NAME:Plan zajęć - semestr letni 2025/2026
X-WR-CALNAME:Plan zajęć - semestr letni 2025/2026
COLOR:green
CALSCALE:GREGORIAN
BEGIN:VEVENT
UID:UZ_PLZ_20260308_1700_507220
DTSTAMP:20260308T170000
DTSTART:20260308T170000
DTEND:20260308T174500
SUMMARY:Konsultacje (I)
CATEGORIES:I
LOCATION:106 A-41
END:VEVENT
BEGIN:VEVENT
UID:UZ_PLZ_20260308_1800_494749
DTSTAMP:20260308T180000
DTSTART:20260308T180000
DTEND:20260308T193000
SUMMARY:Seminarium magisterskie IV (S): 51PR-NM
CATEGORIES:S
LOCATION:001 A-41
END:VEVENT
BEGIN:VEVENT
UID:UZ_PLZ_20260309_0930_507219
DTSTAMP:20260309T093000
DTSTART:20260309T093000
DTEND:20260309T110000
SUMMARY:Konsultacje (I)
CATEGORIES:I
LOCATION:106 A-41
END:VEVENT
BEGIN:VEVENT
UID:UZ_PLZ_20260315_1700_507220
DTSTAMP:20260315T170000
DTSTART:20260315T170000
DTEND:20260315T174500
SUMMARY:Konsultacje (I)
CATEGORIES:I
LOCATION:106 A-41
END:VEVENT
BEGIN:VEVENT
UID:UZ_PLZ_20260315_1800_494749
DTSTAMP:20260315T180000
DTSTART:20260315T180000
DTEND:20260315T193000
SUMMARY:Seminarium magisterskie IV (S): 51PR-NM
CATEGORIES:S
LOCATION:001 A-41
END:VEVENT
BEGIN:VEVENT
UID:UZ_PLZ_20260316_0730_503425
DTSTAMP:20260316T073000
DTSTART:20260316T073000
DTEND:20260316T090000
SUMMARY:Ochrona własności intelektualnej (W): 31B-SP 23/24
CATEGORIES:W
LOCATION:117 A-8
END:VEVENT
BEGIN:VEVENT
UID:UZ_PLZ_20260318_1245_507219
DTSTAMP:20260318T124500
DTSTART:20260318T124500
DTEND:20260318T141500
SUMMARY:Konsultacje (I)
CATEGORIES:I
LOCATION:106 A-41
END:VEVENT
BEGIN:VEVENT
UID:UZ_PLZ_20260318_1430_494806
DTSTAMP:20260318T143000
DTSTART:20260318T143000
DTEND:20260318T160000
SUMMARY:Seminarium dyplomowe II (S): 31ADM-AP-SP
CATEGORIES:S
LOCATION:012 A-41
END:VEVENT
BEGIN:VEVENT
UID:UZ_PLZ_20260329_1700_507220
DTSTAMP:20260329T170000
DTSTART:20260329T170000
DTEND:20260329T174500
SUMMARY:Konsultacje (I)
CATEGORIES:I
LOCATION:106 A-41
END:VEVENT
BEGIN:VEVENT
UID:UZ_PLZ_20260329_1800_494749
DTSTAMP:20260329T180000
DTSTART:20260329T180000
DTEND:20260329T193000
SUMMARY:Seminarium magisterskie IV (S): 51PR-NM
CATEGORIES:S
LOCATION:001 A-41
END:VEVENT
BEGIN:VEVENT
UID:UZ_PLZ_20260330_0730_503425
DTSTAMP:20260330T073000
DTSTART:20260330T073000
DTEND:20260330T090000
SUMMARY:Ochrona własności intelektualnej (W): 31B-SP 23/24
CATEGORIES:W
LOCATION:117 A-8
END:VEVENT
BEGIN:VEVENT
UID:UZ_PLZ_20260412_1700_507220
DTSTAMP:20260412T170000
DTSTART:20260412T170000
DTEND:20260412T174500
SUMMARY:Konsultacje (I)
CATEGORIES:I
LOCATION:106 A-41
END:VEVENT
BEGIN:VEVENT
UID:UZ_PLZ_20260412_1800_494749
DTSTAMP:20260412T180000
DTSTART:20260412T180000
DTEND:20260412T193000
SUMMARY:Seminarium magisterskie IV (S): 51PR-NM
CATEGORIES:S
LOCATION:001 A-41
END:VEVENT
BEGIN:VEVENT
UID:UZ_PLZ_20260413_0730_503425
DTSTAMP:20260413T073000
DTSTART:20260413T073000
DTEND:20260413T090000
SUMMARY:Ochrona własności intelektualnej (W): 31B-SP 23/24
CATEGORIES:W
LOCATION:117 A-8
END:VEVENT
BEGIN:VEVENT
UID:UZ_PLZ_20260413_1800_507218
DTSTAMP:20260413T180000
DTSTART:20260413T180000
DTEND:20260413T193000
SUMMARY:Konsultacje (I)
CATEGORIES:I
LOCATION:310a A-8
END:VEVENT
BEGIN:VEVENT
UID:UZ_PLZ_20260415_1245_507219
DTSTAMP:20260415T124500
DTSTART:20260415T124500
DTEND:20260415T141500
SUMMARY:Konsultacje (I)
CATEGORIES:I
LOCATION:106 A-41
END:VEVENT
BEGIN:VEVENT
UID:UZ_PLZ_20260415_1430_494806
DTSTAMP:20260415T143000
DTSTART:20260415T143000
DTEND:20260415T160000
SUMMARY:Seminarium dyplomowe II (S): 31ADM-AP-SP
CATEGORIES:S
LOCATION:012 A-41
END:VEVENT
BEGIN:VEVENT
UID:UZ_PLZ_20260426_1700_507220
DTSTAMP:20260426T170000
DTSTART:20260426T170000
DTEND:20260426T174500
SUMMARY:Konsultacje (I)
CATEGORIES:I
LOCATION:106 A-41
END:VEVENT
BEGIN:VEVENT
UID:UZ_PLZ_20260426_1800_494749
DTSTAMP:20260426T180000
DTSTART:20260426T180000
DTEND:20260426T193000
SUMMARY:Seminarium magisterskie IV (S): 51PR-NM
CATEGORIES:S
LOCATION:001 A-41
END:VEVENT
BEGIN:VEVENT
UID:UZ_PLZ_20260427_0730_503425
DTSTAMP:20260427T073000
DTSTART:20260427T073000
DTEND:20260427T090000
SUMMARY:Ochrona własności intelektualnej (W): 31B-SP 23/24
CATEGORIES:W
LOCATION:117 A-8
END:VEVENT
BEGIN:VEVENT
UID:UZ_PLZ_20260510_1700_507220
DTSTAMP:20260510T170000
DTSTART:20260510T170000
DTEND:20260510T174500
SUMMARY:Konsultacje (I)
CATEGORIES:I
LOCATION:106 A-41
END:VEVENT
BEGIN:VEVENT
UID:UZ_PLZ_20260510_1800_494749
DTSTAMP:20260510T180000
DTSTART:20260510T180000
DTEND:20260510T193000
SUMMARY:Seminarium magisterskie IV (S): 51PR-NM
CATEGORIES:S
LOCATION:001 A-41
END:VEVENT
BEGIN:VEVENT
UID:UZ_PLZ_20260511_0730_503425
DTSTAMP:20260511T073000
DTSTART:20260511T073000
DTEND:20260511T090000
SUMMARY:Ochrona własności intelektualnej (W): 31B-SP 23/24
CATEGORIES:W
LOCATION:117 A-8
END:VEVENT
BEGIN:VEVENT
UID:UZ_PLZ_20260511_1800_507218
DTSTAMP:20260511T180000
DTSTART:20260511T180000
DTEND:20260511T193000
SUMMARY:Konsultacje (I)
CATEGORIES:I
LOCATION:310a A-8
END:VEVENT
BEGIN:VEVENT
UID:UZ_PLZ_20260513_1430_494806
DTSTAMP:20260513T143000
DTSTART:20260513T143000
DTEND:20260513T160000
SUMMARY:Seminarium dyplomowe II (S): 31ADM-AP-SP
CATEGORIES:S
LOCATION:012 A-41
END:VEVENT
BEGIN:VEVENT
UID:UZ_PLZ_20260515_1800_507218
DTSTAMP:20260515T180000
DTSTART:20260515T180000
DTEND:20260515T193000
SUMMARY:Konsultacje (I)
CATEGORIES:I
LOCATION:310a A-8
END:VEVENT
BEGIN:VEVENT
UID:UZ_PLZ_20260517_1700_507220
DTSTAMP:20260517T170000
DTSTART:20260517T170000
DTEND:20260517T174500
SUMMARY:Konsultacje (I)
CATEGORIES:I
LOCATION:106 A-41
END:VEVENT
BEGIN:VEVENT
UID:UZ_PLZ_20260517_1800_494749
DTSTAMP:20260517T180000
DTSTART:20260517T180000
DTEND:20260517T193000
SUMMARY:Seminarium magisterskie IV (S): 51PR-NM
CATEGORIES:S
LOCATION:001 A-41
END:VEVENT
BEGIN:VEVENT
UID:UZ_PLZ_20260518_0730_503425
DTSTAMP:20260518T073000
DTSTART:20260518T073000
DTEND:20260518T094500
SUMMARY:Ochrona własności intelektualnej (W): 31B-SP 23/24
CATEGORIES:W
LOCATION:117 A-8
END:VEVENT
BEGIN:VEVENT
UID:UZ_PLZ_20260531_1700_507220
DTSTAMP:20260531T170000
DTSTART:20260531T170000
DTEND:20260531T174500
SUMMARY:Konsultacje (I)
CATEGORIES:I
LOCATION:106 A-41
END:VEVENT
BEGIN:VEVENT
UID:UZ_PLZ_20260531_1800_494749
DTSTAMP:20260531T180000
DTSTART:20260531T180000
DTEND:20260531T193000
SUMMARY:Seminarium magisterskie IV (S): 51PR-NM
CATEGORIES:S
LOCATION:001 A-41
END:VEVENT
BEGIN:VEVENT
UID:UZ_PLZ_20260601_0730_503425
DTSTAMP:20260601T073000
DTSTART:20260601T073000
DTEND:20260601T090000
SUMMARY:Ochrona własności intelektualnej (W): 31B-SP 23/24
CATEGORIES:W
LOCATION:117 A-8
END:VEVENT
BEGIN:VEVENT
UID:UZ_PLZ_20260601_0910_507218
DTSTAMP:20260601T091000
DTSTART:20260601T091000
DTEND:20260601T104000
SUMMARY:Konsultacje (I)
CATEGORIES:I
LOCATION:310a A-8
END:VEVENT
BEGIN:VEVENT
UID:UZ_PLZ_20260614_1700_507220
DTSTAMP:20260614T170000
DTSTART:20260614T170000
DTEND:20260614T174500
SUMMARY:Konsultacje (I)
CATEGORIES:I
LOCATION:106 A-41
END:VEVENT
BEGIN:VEVENT
UID:UZ_PLZ_20260614_1800_494749
DTSTAMP:20260614T180000
DTSTART:20260614T180000
DTEND:20260614T193000
SUMMARY:Seminarium magisterskie IV (S): 51PR-NM
CATEGORIES:S
LOCATION:001 A-41
END:VEVENT
BEGIN:VEVENT
UID:UZ_PLZ_20260617_1430_494806
DTSTAMP:20260617T143000
DTSTART:20260617T143000
DTEND:20260617T160000
SUMMARY:Seminarium dyplomowe II (S): 31ADM-AP-SP
CATEGORIES:S
LOCATION:012 A-41
END:VEVENT
END:VCALENDAR
