BEGIN:VCALENDAR
TZID:Europe/Warsaw
X-WR-TIMEZONE:Europe/Warsaw
VERSION:2.0
PRODID:-//Uniwersytet Zielonogórski//NONSGML Plan zajęć v1.0//EN
NAME:Plan zajęć - semestr zimowy 2025/2026
X-WR-CALNAME:Plan zajęć - semestr zimowy 2025/2026
COLOR:green
CALSCALE:GREGORIAN
BEGIN:VEVENT
UID:UZ_PLZ_20251005_1005_493145
DTSTAMP:20251005T100500
DTSTART:20251005T100500
DTEND:20251005T105000
SUMMARY:Konsultacje (I)
CATEGORIES:I
LOCATION:106 A-41
END:VEVENT
BEGIN:VEVENT
UID:UZ_PLZ_20251005_1100_482303
DTSTAMP:20251005T110000
DTSTART:20251005T110000
DTEND:20251005T123000
SUMMARY:Prawo ochrony rodziny (W): 21ADM-NP 24/25
CATEGORIES:W
LOCATION:010 A-41
END:VEVENT
BEGIN:VEVENT
UID:UZ_PLZ_20251005_1250_482376
DTSTAMP:20251005T125000
DTSTART:20251005T125000
DTEND:20251005T141000
SUMMARY:Ochrona własności intelektulanej (W): 51PR-NM
CATEGORIES:W
LOCATION:010 A-41
END:VEVENT
BEGIN:VEVENT
UID:UZ_PLZ_20251005_1435_482356
DTSTAMP:20251005T143500
DTSTART:20251005T143500
DTEND:20251005T155500
SUMMARY:Prawo rodzinne i opiekuńcze (Ć): 31PR-NM
CATEGORIES:Ć
LOCATION:001 A-41
END:VEVENT
BEGIN:VEVENT
UID:UZ_PLZ_20251005_1615_482387
DTSTAMP:20251005T161500
DTSTART:20251005T161500
DTEND:20251005T174500
SUMMARY:Prawo rodzinne i opiekuńcze - kazuistyka (Ć): 31PR-NM
CATEGORIES:Ć
LOCATION:001 A-41
END:VEVENT
BEGIN:VEVENT
UID:UZ_PLZ_20251005_1800_482374
DTSTAMP:20251005T180000
DTSTART:20251005T180000
DTEND:20251005T193000
SUMMARY:Seminarium magisterskie III (S): 51PR-NM
CATEGORIES:S
LOCATION:010 A-41
END:VEVENT
BEGIN:VEVENT
UID:UZ_PLZ_20251006_1100_482510
DTSTAMP:20251006T110000
DTSTART:20251006T110000
DTEND:20251006T123500
SUMMARY:Prawo rodzinne i opiekuńcze (Ć): 33PR-SM
CATEGORIES:Ć
LOCATION:203 A-41
END:VEVENT
BEGIN:VEVENT
UID:UZ_PLZ_20251006_1240_482529
DTSTAMP:20251006T124000
DTSTART:20251006T124000
DTEND:20251006T141500
SUMMARY:Prawo rodzinne i opiekuńcze (Ć): 32PR-SM
CATEGORIES:Ć
LOCATION:203 A-41
END:VEVENT
BEGIN:VEVENT
UID:UZ_PLZ_20251006_1425_482491
DTSTAMP:20251006T142500
DTSTART:20251006T142500
DTEND:20251006T160000
SUMMARY:Prawo rodzinne i opiekuńcze (Ć): 34PR-SM
CATEGORIES:Ć
LOCATION:202 A-41
END:VEVENT
BEGIN:VEVENT
UID:UZ_PLZ_20251006_1610_493144
DTSTAMP:20251006T161000
DTSTART:20251006T161000
DTEND:20251006T174000
SUMMARY:Konsultacje (I)
CATEGORIES:I
LOCATION:106 A-41
END:VEVENT
BEGIN:VEVENT
UID:UZ_PLZ_20251006_1755_482422
DTSTAMP:20251006T175500
DTSTART:20251006T175500
DTEND:20251006T193000
SUMMARY:Prawo rodzinne i opiekuńcze (W): 31PR-SM\; 32PR-SM\; 33PR-SM\; 34PR-SM
CATEGORIES:W
LOCATION:202 A-41
END:VEVENT
BEGIN:VEVENT
UID:UZ_PLZ_20251007_1100_482437
DTSTAMP:20251007T110000
DTSTART:20251007T110000
DTEND:20251007T123500
SUMMARY:Ochrona własności intelektulanej (Ć): 51PR-SM
CATEGORIES:Ć
LOCATION:105 A-41
END:VEVENT
BEGIN:VEVENT
UID:UZ_PLZ_20251007_1245_482505
DTSTAMP:20251007T124500
DTSTART:20251007T124500
DTEND:20251007T142000
SUMMARY:Ochrona własności intelektulanej (Ć): 52PR-SM
CATEGORIES:Ć
LOCATION:105 A-41
END:VEVENT
BEGIN:VEVENT
UID:UZ_PLZ_20251007_1430_482430
DTSTAMP:20251007T143000
DTSTART:20251007T143000
DTEND:20251007T160500
SUMMARY:Ochrona własności intelektulanej (W): 51PR-SM\; 52PR-SM\; 53PR-SM
CATEGORIES:W
LOCATION:202 A-41
END:VEVENT
BEGIN:VEVENT
UID:UZ_PLZ_20251007_1615_482431
DTSTAMP:20251007T161500
DTSTART:20251007T161500
DTEND:20251007T175000
SUMMARY:Ochrona własności intelektulanej (Ć): 53PR-SM
CATEGORIES:Ć
LOCATION:105 A-41
END:VEVENT
BEGIN:VEVENT
UID:UZ_PLZ_20251012_1100_482303
DTSTAMP:20251012T110000
DTSTART:20251012T110000
DTEND:20251012T123000
SUMMARY:Prawo ochrony rodziny (W): 21ADM-NP 24/25
CATEGORIES:W
LOCATION:010 A-41
END:VEVENT
BEGIN:VEVENT
UID:UZ_PLZ_20251012_1240_482370
DTSTAMP:20251012T124000
DTSTART:20251012T124000
DTEND:20251012T142000
SUMMARY:Ochrona własności intelektulanej (Ć): 51PR-NM
CATEGORIES:Ć
LOCATION:010 A-41
END:VEVENT
BEGIN:VEVENT
UID:UZ_PLZ_20251012_1430_493145
DTSTAMP:20251012T143000
DTSTART:20251012T143000
DTEND:20251012T151500
SUMMARY:Konsultacje (I)
CATEGORIES:I
LOCATION:106 A-41
END:VEVENT
BEGIN:VEVENT
UID:UZ_PLZ_20251012_1615_482387
DTSTAMP:20251012T161500
DTSTART:20251012T161500
DTEND:20251012T174500
SUMMARY:Prawo rodzinne i opiekuńcze - kazuistyka (Ć): 31PR-NM
CATEGORIES:Ć
LOCATION:001 A-41
END:VEVENT
BEGIN:VEVENT
UID:UZ_PLZ_20251012_1800_482374
DTSTAMP:20251012T180000
DTSTART:20251012T180000
DTEND:20251012T193000
SUMMARY:Seminarium magisterskie III (S): 51PR-NM
CATEGORIES:S
LOCATION:010 A-41
END:VEVENT
BEGIN:VEVENT
UID:UZ_PLZ_20251026_1005_493145
DTSTAMP:20251026T100500
DTSTART:20251026T100500
DTEND:20251026T105000
SUMMARY:Konsultacje (I)
CATEGORIES:I
LOCATION:106 A-41
END:VEVENT
BEGIN:VEVENT
UID:UZ_PLZ_20251026_1100_482303
DTSTAMP:20251026T110000
DTSTART:20251026T110000
DTEND:20251026T123000
SUMMARY:Prawo ochrony rodziny (W): 21ADM-NP 24/25
CATEGORIES:W
LOCATION:010 A-41
END:VEVENT
BEGIN:VEVENT
UID:UZ_PLZ_20251026_1250_482376
DTSTAMP:20251026T125000
DTSTART:20251026T125000
DTEND:20251026T141000
SUMMARY:Ochrona własności intelektulanej (W): 51PR-NM
CATEGORIES:W
LOCATION:010 A-41
END:VEVENT
BEGIN:VEVENT
UID:UZ_PLZ_20251026_1435_482356
DTSTAMP:20251026T143500
DTSTART:20251026T143500
DTEND:20251026T155500
SUMMARY:Prawo rodzinne i opiekuńcze (Ć): 31PR-NM
CATEGORIES:Ć
LOCATION:001 A-41
END:VEVENT
BEGIN:VEVENT
UID:UZ_PLZ_20251026_1615_482387
DTSTAMP:20251026T161500
DTSTART:20251026T161500
DTEND:20251026T174500
SUMMARY:Prawo rodzinne i opiekuńcze - kazuistyka (Ć): 31PR-NM
CATEGORIES:Ć
LOCATION:001 A-41
END:VEVENT
BEGIN:VEVENT
UID:UZ_PLZ_20251026_1800_482374
DTSTAMP:20251026T180000
DTSTART:20251026T180000
DTEND:20251026T193000
SUMMARY:Seminarium magisterskie III (S): 51PR-NM
CATEGORIES:S
LOCATION:010 A-41
END:VEVENT
BEGIN:VEVENT
UID:UZ_PLZ_20251027_1100_482510
DTSTAMP:20251027T110000
DTSTART:20251027T110000
DTEND:20251027T123500
SUMMARY:Prawo rodzinne i opiekuńcze (Ć): 33PR-SM
CATEGORIES:Ć
LOCATION:203 A-41
END:VEVENT
BEGIN:VEVENT
UID:UZ_PLZ_20251027_1240_482529
DTSTAMP:20251027T124000
DTSTART:20251027T124000
DTEND:20251027T141500
SUMMARY:Prawo rodzinne i opiekuńcze (Ć): 32PR-SM
CATEGORIES:Ć
LOCATION:203 A-41
END:VEVENT
BEGIN:VEVENT
UID:UZ_PLZ_20251027_1425_482491
DTSTAMP:20251027T142500
DTSTART:20251027T142500
DTEND:20251027T160000
SUMMARY:Prawo rodzinne i opiekuńcze (Ć): 34PR-SM
CATEGORIES:Ć
LOCATION:202 A-41
END:VEVENT
BEGIN:VEVENT
UID:UZ_PLZ_20251027_1610_493144
DTSTAMP:20251027T161000
DTSTART:20251027T161000
DTEND:20251027T174000
SUMMARY:Konsultacje (I)
CATEGORIES:I
LOCATION:106 A-41
END:VEVENT
BEGIN:VEVENT
UID:UZ_PLZ_20251027_1755_482422
DTSTAMP:20251027T175500
DTSTART:20251027T175500
DTEND:20251027T193000
SUMMARY:Prawo rodzinne i opiekuńcze (W): 31PR-SM\; 32PR-SM\; 33PR-SM\; 34PR-SM
CATEGORIES:W
LOCATION:202 A-41
END:VEVENT
BEGIN:VEVENT
UID:UZ_PLZ_20251028_1100_482437
DTSTAMP:20251028T110000
DTSTART:20251028T110000
DTEND:20251028T123500
SUMMARY:Ochrona własności intelektulanej (Ć): 51PR-SM
CATEGORIES:Ć
LOCATION:105 A-41
END:VEVENT
BEGIN:VEVENT
UID:UZ_PLZ_20251028_1245_482505
DTSTAMP:20251028T124500
DTSTART:20251028T124500
DTEND:20251028T142000
SUMMARY:Ochrona własności intelektulanej (Ć): 52PR-SM
CATEGORIES:Ć
LOCATION:105 A-41
END:VEVENT
BEGIN:VEVENT
UID:UZ_PLZ_20251028_1430_482430
DTSTAMP:20251028T143000
DTSTART:20251028T143000
DTEND:20251028T160500
SUMMARY:Ochrona własności intelektulanej (W): 51PR-SM\; 52PR-SM\; 53PR-SM
CATEGORIES:W
LOCATION:202 A-41
END:VEVENT
BEGIN:VEVENT
UID:UZ_PLZ_20251028_1615_482431
DTSTAMP:20251028T161500
DTSTART:20251028T161500
DTEND:20251028T175000
SUMMARY:Ochrona własności intelektulanej (Ć): 53PR-SM
CATEGORIES:Ć
LOCATION:105 A-41
END:VEVENT
BEGIN:VEVENT
UID:UZ_PLZ_20251029_1245_482202
DTSTAMP:20251029T124500
DTSTART:20251029T124500
DTEND:20251029T141500
SUMMARY:Seminarium dyplomowe I (S): 31ADM-SP
CATEGORIES:S
LOCATION:001 A-41
END:VEVENT
BEGIN:VEVENT
UID:UZ_PLZ_20251116_1100_482303
DTSTAMP:20251116T110000
DTSTART:20251116T110000
DTEND:20251116T123000
SUMMARY:Prawo ochrony rodziny (W): 21ADM-NP 24/25
CATEGORIES:W
LOCATION:010 A-41
END:VEVENT
BEGIN:VEVENT
UID:UZ_PLZ_20251116_1240_482370
DTSTAMP:20251116T124000
DTSTART:20251116T124000
DTEND:20251116T142000
SUMMARY:Ochrona własności intelektulanej (Ć): 51PR-NM
CATEGORIES:Ć
LOCATION:010 A-41
END:VEVENT
BEGIN:VEVENT
UID:UZ_PLZ_20251116_1430_493145
DTSTAMP:20251116T143000
DTSTART:20251116T143000
DTEND:20251116T151500
SUMMARY:Konsultacje (I)
CATEGORIES:I
LOCATION:106 A-41
END:VEVENT
BEGIN:VEVENT
UID:UZ_PLZ_20251116_1615_482387
DTSTAMP:20251116T161500
DTSTART:20251116T161500
DTEND:20251116T174500
SUMMARY:Prawo rodzinne i opiekuńcze - kazuistyka (Ć): 31PR-NM
CATEGORIES:Ć
LOCATION:001 A-41
END:VEVENT
BEGIN:VEVENT
UID:UZ_PLZ_20251116_1800_482374
DTSTAMP:20251116T180000
DTSTART:20251116T180000
DTEND:20251116T193000
SUMMARY:Seminarium magisterskie III (S): 51PR-NM
CATEGORIES:S
LOCATION:010 A-41
END:VEVENT
BEGIN:VEVENT
UID:UZ_PLZ_20251117_1100_482510
DTSTAMP:20251117T110000
DTSTART:20251117T110000
DTEND:20251117T123500
SUMMARY:Prawo rodzinne i opiekuńcze (Ć): 33PR-SM
CATEGORIES:Ć
LOCATION:203 A-41
END:VEVENT
BEGIN:VEVENT
UID:UZ_PLZ_20251117_1240_482529
DTSTAMP:20251117T124000
DTSTART:20251117T124000
DTEND:20251117T141500
SUMMARY:Prawo rodzinne i opiekuńcze (Ć): 32PR-SM
CATEGORIES:Ć
LOCATION:203 A-41
END:VEVENT
BEGIN:VEVENT
UID:UZ_PLZ_20251117_1425_482491
DTSTAMP:20251117T142500
DTSTART:20251117T142500
DTEND:20251117T160000
SUMMARY:Prawo rodzinne i opiekuńcze (Ć): 34PR-SM
CATEGORIES:Ć
LOCATION:202 A-41
END:VEVENT
BEGIN:VEVENT
UID:UZ_PLZ_20251117_1610_493144
DTSTAMP:20251117T161000
DTSTART:20251117T161000
DTEND:20251117T174000
SUMMARY:Konsultacje (I)
CATEGORIES:I
LOCATION:106 A-41
END:VEVENT
BEGIN:VEVENT
UID:UZ_PLZ_20251117_1755_482422
DTSTAMP:20251117T175500
DTSTART:20251117T175500
DTEND:20251117T193000
SUMMARY:Prawo rodzinne i opiekuńcze (W): 31PR-SM\; 32PR-SM\; 33PR-SM\; 34PR-SM
CATEGORIES:W
LOCATION:202 A-41
END:VEVENT
BEGIN:VEVENT
UID:UZ_PLZ_20251118_1100_482437
DTSTAMP:20251118T110000
DTSTART:20251118T110000
DTEND:20251118T123500
SUMMARY:Ochrona własności intelektulanej (Ć): 51PR-SM
CATEGORIES:Ć
LOCATION:105 A-41
END:VEVENT
BEGIN:VEVENT
UID:UZ_PLZ_20251118_1245_482505
DTSTAMP:20251118T124500
DTSTART:20251118T124500
DTEND:20251118T142000
SUMMARY:Ochrona własności intelektulanej (Ć): 52PR-SM
CATEGORIES:Ć
LOCATION:105 A-41
END:VEVENT
BEGIN:VEVENT
UID:UZ_PLZ_20251118_1430_482430
DTSTAMP:20251118T143000
DTSTART:20251118T143000
DTEND:20251118T160500
SUMMARY:Ochrona własności intelektulanej (W): 51PR-SM\; 52PR-SM\; 53PR-SM
CATEGORIES:W
LOCATION:202 A-41
END:VEVENT
BEGIN:VEVENT
UID:UZ_PLZ_20251118_1615_482431
DTSTAMP:20251118T161500
DTSTART:20251118T161500
DTEND:20251118T175000
SUMMARY:Ochrona własności intelektulanej (Ć): 53PR-SM
CATEGORIES:Ć
LOCATION:105 A-41
END:VEVENT
BEGIN:VEVENT
UID:UZ_PLZ_20251123_1005_493145
DTSTAMP:20251123T100500
DTSTART:20251123T100500
DTEND:20251123T105000
SUMMARY:Konsultacje (I)
CATEGORIES:I
LOCATION:106 A-41
END:VEVENT
BEGIN:VEVENT
UID:UZ_PLZ_20251123_1100_482303
DTSTAMP:20251123T110000
DTSTART:20251123T110000
DTEND:20251123T123000
SUMMARY:Prawo ochrony rodziny (W): 21ADM-NP 24/25
CATEGORIES:W
LOCATION:010 A-41
END:VEVENT
BEGIN:VEVENT
UID:UZ_PLZ_20251123_1250_482376
DTSTAMP:20251123T125000
DTSTART:20251123T125000
DTEND:20251123T141000
SUMMARY:Ochrona własności intelektulanej (W): 51PR-NM
CATEGORIES:W
LOCATION:010 A-41
END:VEVENT
BEGIN:VEVENT
UID:UZ_PLZ_20251123_1435_482356
DTSTAMP:20251123T143500
DTSTART:20251123T143500
DTEND:20251123T155500
SUMMARY:Prawo rodzinne i opiekuńcze (Ć): 31PR-NM
CATEGORIES:Ć
LOCATION:001 A-41
END:VEVENT
BEGIN:VEVENT
UID:UZ_PLZ_20251123_1615_482387
DTSTAMP:20251123T161500
DTSTART:20251123T161500
DTEND:20251123T174500
SUMMARY:Prawo rodzinne i opiekuńcze - kazuistyka (Ć): 31PR-NM
CATEGORIES:Ć
LOCATION:001 A-41
END:VEVENT
BEGIN:VEVENT
UID:UZ_PLZ_20251123_1800_482374
DTSTAMP:20251123T180000
DTSTART:20251123T180000
DTEND:20251123T193000
SUMMARY:Seminarium magisterskie III (S): 51PR-NM
CATEGORIES:S
LOCATION:010 A-41
END:VEVENT
BEGIN:VEVENT
UID:UZ_PLZ_20251124_1100_482510
DTSTAMP:20251124T110000
DTSTART:20251124T110000
DTEND:20251124T123500
SUMMARY:Prawo rodzinne i opiekuńcze (Ć): 33PR-SM
CATEGORIES:Ć
LOCATION:203 A-41
END:VEVENT
BEGIN:VEVENT
UID:UZ_PLZ_20251124_1240_482529
DTSTAMP:20251124T124000
DTSTART:20251124T124000
DTEND:20251124T141500
SUMMARY:Prawo rodzinne i opiekuńcze (Ć): 32PR-SM
CATEGORIES:Ć
LOCATION:203 A-41
END:VEVENT
BEGIN:VEVENT
UID:UZ_PLZ_20251124_1425_482491
DTSTAMP:20251124T142500
DTSTART:20251124T142500
DTEND:20251124T160000
SUMMARY:Prawo rodzinne i opiekuńcze (Ć): 34PR-SM
CATEGORIES:Ć
LOCATION:202 A-41
END:VEVENT
BEGIN:VEVENT
UID:UZ_PLZ_20251124_1610_493144
DTSTAMP:20251124T161000
DTSTART:20251124T161000
DTEND:20251124T174000
SUMMARY:Konsultacje (I)
CATEGORIES:I
LOCATION:106 A-41
END:VEVENT
BEGIN:VEVENT
UID:UZ_PLZ_20251124_1755_482422
DTSTAMP:20251124T175500
DTSTART:20251124T175500
DTEND:20251124T193000
SUMMARY:Prawo rodzinne i opiekuńcze (W): 31PR-SM\; 32PR-SM\; 33PR-SM\; 34PR-SM
CATEGORIES:W
LOCATION:202 A-41
END:VEVENT
BEGIN:VEVENT
UID:UZ_PLZ_20251125_1100_482437
DTSTAMP:20251125T110000
DTSTART:20251125T110000
DTEND:20251125T123500
SUMMARY:Ochrona własności intelektulanej (Ć): 51PR-SM
CATEGORIES:Ć
LOCATION:105 A-41
END:VEVENT
BEGIN:VEVENT
UID:UZ_PLZ_20251125_1245_482505
DTSTAMP:20251125T124500
DTSTART:20251125T124500
DTEND:20251125T142000
SUMMARY:Ochrona własności intelektulanej (Ć): 52PR-SM
CATEGORIES:Ć
LOCATION:105 A-41
END:VEVENT
BEGIN:VEVENT
UID:UZ_PLZ_20251125_1430_482430
DTSTAMP:20251125T143000
DTSTART:20251125T143000
DTEND:20251125T160500
SUMMARY:Ochrona własności intelektulanej (W): 51PR-SM\; 52PR-SM\; 53PR-SM
CATEGORIES:W
LOCATION:202 A-41
END:VEVENT
BEGIN:VEVENT
UID:UZ_PLZ_20251125_1615_482431
DTSTAMP:20251125T161500
DTSTART:20251125T161500
DTEND:20251125T175000
SUMMARY:Ochrona własności intelektulanej (Ć): 53PR-SM
CATEGORIES:Ć
LOCATION:105 A-41
END:VEVENT
BEGIN:VEVENT
UID:UZ_PLZ_20251126_1245_482202
DTSTAMP:20251126T124500
DTSTART:20251126T124500
DTEND:20251126T141500
SUMMARY:Seminarium dyplomowe I (S): 31ADM-SP
CATEGORIES:S
LOCATION:001 A-41
END:VEVENT
BEGIN:VEVENT
UID:UZ_PLZ_20251207_1100_482303
DTSTAMP:20251207T110000
DTSTART:20251207T110000
DTEND:20251207T123000
SUMMARY:Prawo ochrony rodziny (W): 21ADM-NP 24/25
CATEGORIES:W
LOCATION:010 A-41
END:VEVENT
BEGIN:VEVENT
UID:UZ_PLZ_20251207_1240_482370
DTSTAMP:20251207T124000
DTSTART:20251207T124000
DTEND:20251207T142000
SUMMARY:Ochrona własności intelektulanej (Ć): 51PR-NM
CATEGORIES:Ć
LOCATION:010 A-41
END:VEVENT
BEGIN:VEVENT
UID:UZ_PLZ_20251207_1430_493145
DTSTAMP:20251207T143000
DTSTART:20251207T143000
DTEND:20251207T151500
SUMMARY:Konsultacje (I)
CATEGORIES:I
LOCATION:106 A-41
END:VEVENT
BEGIN:VEVENT
UID:UZ_PLZ_20251207_1615_482387
DTSTAMP:20251207T161500
DTSTART:20251207T161500
DTEND:20251207T174500
SUMMARY:Prawo rodzinne i opiekuńcze - kazuistyka (Ć): 31PR-NM
CATEGORIES:Ć
LOCATION:001 A-41
END:VEVENT
BEGIN:VEVENT
UID:UZ_PLZ_20251207_1800_482374
DTSTAMP:20251207T180000
DTSTART:20251207T180000
DTEND:20251207T193000
SUMMARY:Seminarium magisterskie III (S): 51PR-NM
CATEGORIES:S
LOCATION:010 A-41
END:VEVENT
BEGIN:VEVENT
UID:UZ_PLZ_20251208_1100_482510
DTSTAMP:20251208T110000
DTSTART:20251208T110000
DTEND:20251208T123500
SUMMARY:Prawo rodzinne i opiekuńcze (Ć): 33PR-SM
CATEGORIES:Ć
LOCATION:203 A-41
END:VEVENT
BEGIN:VEVENT
UID:UZ_PLZ_20251208_1240_482529
DTSTAMP:20251208T124000
DTSTART:20251208T124000
DTEND:20251208T141500
SUMMARY:Prawo rodzinne i opiekuńcze (Ć): 32PR-SM
CATEGORIES:Ć
LOCATION:203 A-41
END:VEVENT
BEGIN:VEVENT
UID:UZ_PLZ_20251208_1425_482491
DTSTAMP:20251208T142500
DTSTART:20251208T142500
DTEND:20251208T160000
SUMMARY:Prawo rodzinne i opiekuńcze (Ć): 34PR-SM
CATEGORIES:Ć
LOCATION:202 A-41
END:VEVENT
BEGIN:VEVENT
UID:UZ_PLZ_20251208_1610_493144
DTSTAMP:20251208T161000
DTSTART:20251208T161000
DTEND:20251208T174000
SUMMARY:Konsultacje (I)
CATEGORIES:I
LOCATION:106 A-41
END:VEVENT
BEGIN:VEVENT
UID:UZ_PLZ_20251208_1755_482422
DTSTAMP:20251208T175500
DTSTART:20251208T175500
DTEND:20251208T193000
SUMMARY:Prawo rodzinne i opiekuńcze (W): 31PR-SM\; 32PR-SM\; 33PR-SM\; 34PR-SM
CATEGORIES:W
LOCATION:202 A-41
END:VEVENT
BEGIN:VEVENT
UID:UZ_PLZ_20251209_1100_482437
DTSTAMP:20251209T110000
DTSTART:20251209T110000
DTEND:20251209T123500
SUMMARY:Ochrona własności intelektulanej (Ć): 51PR-SM
CATEGORIES:Ć
LOCATION:105 A-41
END:VEVENT
BEGIN:VEVENT
UID:UZ_PLZ_20251209_1245_482505
DTSTAMP:20251209T124500
DTSTART:20251209T124500
DTEND:20251209T142000
SUMMARY:Ochrona własności intelektulanej (Ć): 52PR-SM
CATEGORIES:Ć
LOCATION:105 A-41
END:VEVENT
BEGIN:VEVENT
UID:UZ_PLZ_20251209_1430_482430
DTSTAMP:20251209T143000
DTSTART:20251209T143000
DTEND:20251209T160500
SUMMARY:Ochrona własności intelektulanej (W): 51PR-SM\; 52PR-SM\; 53PR-SM
CATEGORIES:W
LOCATION:202 A-41
END:VEVENT
BEGIN:VEVENT
UID:UZ_PLZ_20251209_1615_482431
DTSTAMP:20251209T161500
DTSTART:20251209T161500
DTEND:20251209T175000
SUMMARY:Ochrona własności intelektulanej (Ć): 53PR-SM
CATEGORIES:Ć
LOCATION:105 A-41
END:VEVENT
BEGIN:VEVENT
UID:UZ_PLZ_20251214_1005_493145
DTSTAMP:20251214T100500
DTSTART:20251214T100500
DTEND:20251214T105000
SUMMARY:Konsultacje (I)
CATEGORIES:I
LOCATION:106 A-41
END:VEVENT
BEGIN:VEVENT
UID:UZ_PLZ_20251214_1100_482303
DTSTAMP:20251214T110000
DTSTART:20251214T110000
DTEND:20251214T123000
SUMMARY:Prawo ochrony rodziny (W): 21ADM-NP 24/25
CATEGORIES:W
LOCATION:010 A-41
END:VEVENT
BEGIN:VEVENT
UID:UZ_PLZ_20251214_1250_482376
DTSTAMP:20251214T125000
DTSTART:20251214T125000
DTEND:20251214T141000
SUMMARY:Ochrona własności intelektulanej (W): 51PR-NM
CATEGORIES:W
LOCATION:010 A-41
END:VEVENT
BEGIN:VEVENT
UID:UZ_PLZ_20251214_1435_482356
DTSTAMP:20251214T143500
DTSTART:20251214T143500
DTEND:20251214T155500
SUMMARY:Prawo rodzinne i opiekuńcze (Ć): 31PR-NM
CATEGORIES:Ć
LOCATION:001 A-41
END:VEVENT
BEGIN:VEVENT
UID:UZ_PLZ_20251214_1615_482387
DTSTAMP:20251214T161500
DTSTART:20251214T161500
DTEND:20251214T174500
SUMMARY:Prawo rodzinne i opiekuńcze - kazuistyka (Ć): 31PR-NM
CATEGORIES:Ć
LOCATION:001 A-41
END:VEVENT
BEGIN:VEVENT
UID:UZ_PLZ_20251214_1800_482374
DTSTAMP:20251214T180000
DTSTART:20251214T180000
DTEND:20251214T193000
SUMMARY:Seminarium magisterskie III (S): 51PR-NM
CATEGORIES:S
LOCATION:010 A-41
END:VEVENT
BEGIN:VEVENT
UID:UZ_PLZ_20251215_1100_482510
DTSTAMP:20251215T110000
DTSTART:20251215T110000
DTEND:20251215T123500
SUMMARY:Prawo rodzinne i opiekuńcze (Ć): 33PR-SM
CATEGORIES:Ć
LOCATION:203 A-41
END:VEVENT
BEGIN:VEVENT
UID:UZ_PLZ_20251215_1240_482529
DTSTAMP:20251215T124000
DTSTART:20251215T124000
DTEND:20251215T141500
SUMMARY:Prawo rodzinne i opiekuńcze (Ć): 32PR-SM
CATEGORIES:Ć
LOCATION:203 A-41
END:VEVENT
BEGIN:VEVENT
UID:UZ_PLZ_20251215_1425_482491
DTSTAMP:20251215T142500
DTSTART:20251215T142500
DTEND:20251215T160000
SUMMARY:Prawo rodzinne i opiekuńcze (Ć): 34PR-SM
CATEGORIES:Ć
LOCATION:202 A-41
END:VEVENT
BEGIN:VEVENT
UID:UZ_PLZ_20251215_1610_493144
DTSTAMP:20251215T161000
DTSTART:20251215T161000
DTEND:20251215T174000
SUMMARY:Konsultacje (I)
CATEGORIES:I
LOCATION:106 A-41
END:VEVENT
BEGIN:VEVENT
UID:UZ_PLZ_20251215_1755_482422
DTSTAMP:20251215T175500
DTSTART:20251215T175500
DTEND:20251215T193000
SUMMARY:Prawo rodzinne i opiekuńcze (W): 31PR-SM\; 32PR-SM\; 33PR-SM\; 34PR-SM
CATEGORIES:W
LOCATION:202 A-41
END:VEVENT
BEGIN:VEVENT
UID:UZ_PLZ_20251216_1100_482437
DTSTAMP:20251216T110000
DTSTART:20251216T110000
DTEND:20251216T123500
SUMMARY:Ochrona własności intelektulanej (Ć): 51PR-SM
CATEGORIES:Ć
LOCATION:105 A-41
END:VEVENT
BEGIN:VEVENT
UID:UZ_PLZ_20251216_1245_482505
DTSTAMP:20251216T124500
DTSTART:20251216T124500
DTEND:20251216T142000
SUMMARY:Ochrona własności intelektulanej (Ć): 52PR-SM
CATEGORIES:Ć
LOCATION:105 A-41
END:VEVENT
BEGIN:VEVENT
UID:UZ_PLZ_20251216_1430_482430
DTSTAMP:20251216T143000
DTSTART:20251216T143000
DTEND:20251216T160500
SUMMARY:Ochrona własności intelektulanej (W): 51PR-SM\; 52PR-SM\; 53PR-SM
CATEGORIES:W
LOCATION:202 A-41
END:VEVENT
BEGIN:VEVENT
UID:UZ_PLZ_20251216_1615_482431
DTSTAMP:20251216T161500
DTSTART:20251216T161500
DTEND:20251216T175000
SUMMARY:Ochrona własności intelektulanej (Ć): 53PR-SM
CATEGORIES:Ć
LOCATION:105 A-41
END:VEVENT
BEGIN:VEVENT
UID:UZ_PLZ_20251217_1245_482202
DTSTAMP:20251217T124500
DTSTART:20251217T124500
DTEND:20251217T141500
SUMMARY:Seminarium dyplomowe I (S): 31ADM-SP
CATEGORIES:S
LOCATION:001 A-41
END:VEVENT
BEGIN:VEVENT
UID:UZ_PLZ_20260118_1100_482303
DTSTAMP:20260118T110000
DTSTART:20260118T110000
DTEND:20260118T123000
SUMMARY:Prawo ochrony rodziny (W): 21ADM-NP 24/25
CATEGORIES:W
LOCATION:010 A-41
END:VEVENT
BEGIN:VEVENT
UID:UZ_PLZ_20260118_1240_482370
DTSTAMP:20260118T124000
DTSTART:20260118T124000
DTEND:20260118T142000
SUMMARY:Ochrona własności intelektulanej (Ć): 51PR-NM
CATEGORIES:Ć
LOCATION:010 A-41
END:VEVENT
BEGIN:VEVENT
UID:UZ_PLZ_20260118_1430_493145
DTSTAMP:20260118T143000
DTSTART:20260118T143000
DTEND:20260118T151500
SUMMARY:Konsultacje (I)
CATEGORIES:I
LOCATION:106 A-41
END:VEVENT
BEGIN:VEVENT
UID:UZ_PLZ_20260118_1615_482387
DTSTAMP:20260118T161500
DTSTART:20260118T161500
DTEND:20260118T174500
SUMMARY:Prawo rodzinne i opiekuńcze - kazuistyka (Ć): 31PR-NM
CATEGORIES:Ć
LOCATION:001 A-41
END:VEVENT
BEGIN:VEVENT
UID:UZ_PLZ_20260118_1800_482374
DTSTAMP:20260118T180000
DTSTART:20260118T180000
DTEND:20260118T193000
SUMMARY:Seminarium magisterskie III (S): 51PR-NM
CATEGORIES:S
LOCATION:010 A-41
END:VEVENT
BEGIN:VEVENT
UID:UZ_PLZ_20260119_1100_482510
DTSTAMP:20260119T110000
DTSTART:20260119T110000
DTEND:20260119T123500
SUMMARY:Prawo rodzinne i opiekuńcze (Ć): 33PR-SM
CATEGORIES:Ć
LOCATION:203 A-41
END:VEVENT
BEGIN:VEVENT
UID:UZ_PLZ_20260119_1240_482529
DTSTAMP:20260119T124000
DTSTART:20260119T124000
DTEND:20260119T141500
SUMMARY:Prawo rodzinne i opiekuńcze (Ć): 32PR-SM
CATEGORIES:Ć
LOCATION:203 A-41
END:VEVENT
BEGIN:VEVENT
UID:UZ_PLZ_20260119_1425_482491
DTSTAMP:20260119T142500
DTSTART:20260119T142500
DTEND:20260119T160000
SUMMARY:Prawo rodzinne i opiekuńcze (Ć): 34PR-SM
CATEGORIES:Ć
LOCATION:202 A-41
END:VEVENT
BEGIN:VEVENT
UID:UZ_PLZ_20260119_1610_493144
DTSTAMP:20260119T161000
DTSTART:20260119T161000
DTEND:20260119T174000
SUMMARY:Konsultacje (I)
CATEGORIES:I
LOCATION:106 A-41
END:VEVENT
BEGIN:VEVENT
UID:UZ_PLZ_20260119_1755_482422
DTSTAMP:20260119T175500
DTSTART:20260119T175500
DTEND:20260119T193000
SUMMARY:Prawo rodzinne i opiekuńcze (W): 31PR-SM\; 32PR-SM\; 33PR-SM\; 34PR-SM
CATEGORIES:W
LOCATION:202 A-41
END:VEVENT
BEGIN:VEVENT
UID:UZ_PLZ_20260120_1100_482437
DTSTAMP:20260120T110000
DTSTART:20260120T110000
DTEND:20260120T123500
SUMMARY:Ochrona własności intelektulanej (Ć): 51PR-SM
CATEGORIES:Ć
LOCATION:105 A-41
END:VEVENT
BEGIN:VEVENT
UID:UZ_PLZ_20260120_1245_482505
DTSTAMP:20260120T124500
DTSTART:20260120T124500
DTEND:20260120T142000
SUMMARY:Ochrona własności intelektulanej (Ć): 52PR-SM
CATEGORIES:Ć
LOCATION:105 A-41
END:VEVENT
BEGIN:VEVENT
UID:UZ_PLZ_20260120_1430_482430
DTSTAMP:20260120T143000
DTSTART:20260120T143000
DTEND:20260120T160500
SUMMARY:Ochrona własności intelektulanej (W): 51PR-SM\; 52PR-SM\; 53PR-SM
CATEGORIES:W
LOCATION:202 A-41
END:VEVENT
BEGIN:VEVENT
UID:UZ_PLZ_20260120_1615_482431
DTSTAMP:20260120T161500
DTSTART:20260120T161500
DTEND:20260120T175000
SUMMARY:Ochrona własności intelektulanej (Ć): 53PR-SM
CATEGORIES:Ć
LOCATION:105 A-41
END:VEVENT
BEGIN:VEVENT
UID:UZ_PLZ_20260128_1245_482202
DTSTAMP:20260128T124500
DTSTART:20260128T124500
DTEND:20260128T141500
SUMMARY:Seminarium dyplomowe I (S): 31ADM-SP
CATEGORIES:S
LOCATION:001 A-41
END:VEVENT
BEGIN:VEVENT
UID:UZ_PLZ_20260128_1425_493144
DTSTAMP:20260128T142500
DTSTART:20260128T142500
DTEND:20260128T155500
SUMMARY:Konsultacje (I)
CATEGORIES:I
LOCATION:106 A-41
END:VEVENT
BEGIN:VEVENT
UID:UZ_PLZ_20260128_1615_499314
DTSTAMP:20260128T161500
DTSTART:20260128T161500
DTEND:20260128T174500
SUMMARY:Rezerwacja (R)
CATEGORIES:R
LOCATION:202 A-41
END:VEVENT
BEGIN:VEVENT
UID:UZ_PLZ_20260130_1800_499314
DTSTAMP:20260130T180000
DTSTART:20260130T180000
DTEND:20260130T193000
SUMMARY:Rezerwacja (R)
CATEGORIES:R
LOCATION:202 A-41
END:VEVENT
BEGIN:VEVENT
UID:UZ_PLZ_20260201_1005_493145
DTSTAMP:20260201T100500
DTSTART:20260201T100500
DTEND:20260201T105000
SUMMARY:Konsultacje (I)
CATEGORIES:I
LOCATION:106 A-41
END:VEVENT
BEGIN:VEVENT
UID:UZ_PLZ_20260201_1100_482303
DTSTAMP:20260201T110000
DTSTART:20260201T110000
DTEND:20260201T123000
SUMMARY:Prawo ochrony rodziny (W): 21ADM-NP 24/25
CATEGORIES:W
LOCATION:010 A-41
END:VEVENT
BEGIN:VEVENT
UID:UZ_PLZ_20260201_1250_482376
DTSTAMP:20260201T125000
DTSTART:20260201T125000
DTEND:20260201T141000
SUMMARY:Ochrona własności intelektulanej (W): 51PR-NM
CATEGORIES:W
LOCATION:010 A-41
END:VEVENT
BEGIN:VEVENT
UID:UZ_PLZ_20260201_1435_482356
DTSTAMP:20260201T143500
DTSTART:20260201T143500
DTEND:20260201T155500
SUMMARY:Prawo rodzinne i opiekuńcze (Ć): 31PR-NM
CATEGORIES:Ć
LOCATION:001 A-41
END:VEVENT
BEGIN:VEVENT
UID:UZ_PLZ_20260201_1615_482387
DTSTAMP:20260201T161500
DTSTART:20260201T161500
DTEND:20260201T174500
SUMMARY:Prawo rodzinne i opiekuńcze - kazuistyka (Ć): 31PR-NM
CATEGORIES:Ć
LOCATION:001 A-41
END:VEVENT
BEGIN:VEVENT
UID:UZ_PLZ_20260201_1800_482374
DTSTAMP:20260201T180000
DTSTART:20260201T180000
DTEND:20260201T193000
SUMMARY:Seminarium magisterskie III (S): 51PR-NM
CATEGORIES:S
LOCATION:010 A-41
END:VEVENT
BEGIN:VEVENT
UID:UZ_PLZ_20260202_0915_493144
DTSTAMP:20260202T091500
DTSTART:20260202T091500
DTEND:20260202T104500
SUMMARY:Konsultacje (I)
CATEGORIES:I
LOCATION:010 A-41
END:VEVENT
BEGIN:VEVENT
UID:UZ_PLZ_20260215_1700_505563
DTSTAMP:20260215T170000
DTSTART:20260215T170000
DTEND:20260215T174500
SUMMARY:Konsultacje (I)
CATEGORIES:I
LOCATION:010 A-41
END:VEVENT
BEGIN:VEVENT
UID:UZ_PLZ_20260215_1800_493853
DTSTAMP:20260215T180000
DTSTART:20260215T180000
DTEND:20260215T193000
SUMMARY:Ochrona własności intelektulanej (E): 51PR-NM
CATEGORIES:E
LOCATION:103 A-41
END:VEVENT
BEGIN:VEVENT
UID:UZ_PLZ_20260216_0735_505563
DTSTAMP:20260216T073500
DTSTART:20260216T073500
DTEND:20260216T082000
SUMMARY:Konsultacje (I)
CATEGORIES:I
LOCATION:010 A-41
END:VEVENT
BEGIN:VEVENT
UID:UZ_PLZ_20260216_0830_493852
DTSTAMP:20260216T083000
DTSTART:20260216T083000
DTEND:20260216T100000
SUMMARY:Ochrona własności intelektulanej (E): 51PR-SM\; 52PR-SM\; 53PR-SM
CATEGORIES:E
LOCATION:202 A-41
END:VEVENT
BEGIN:VEVENT
UID:UZ_PLZ_20260216_1010_505563
DTSTAMP:20260216T101000
DTSTART:20260216T101000
DTEND:20260216T105500
SUMMARY:Konsultacje (I)
CATEGORIES:I
LOCATION:010 A-41
END:VEVENT
BEGIN:VEVENT
UID:UZ_PLZ_20260222_1800_493853
DTSTAMP:20260222T180000
DTSTART:20260222T180000
DTEND:20260222T193000
SUMMARY:Ochrona własności intelektulanej (E): 51PR-NM
CATEGORIES:E
LOCATION:103 A-41
END:VEVENT
BEGIN:VEVENT
UID:UZ_PLZ_20260223_0830_493852
DTSTAMP:20260223T083000
DTSTART:20260223T083000
DTEND:20260223T100000
SUMMARY:Ochrona własności intelektulanej (E): 51PR-SM\; 52PR-SM\; 53PR-SM
CATEGORIES:E
LOCATION:202 A-41
END:VEVENT
END:VCALENDAR
