BEGIN:VCALENDAR
TZID:Europe/Warsaw
X-WR-TIMEZONE:Europe/Warsaw
VERSION:2.0
PRODID:-//Uniwersytet Zielonogórski//NONSGML Plan zajęć v1.0//EN
NAME:Plan zajęć - semestr letni 2025/2026
X-WR-CALNAME:Plan zajęć - semestr letni 2025/2026
COLOR:green
CALSCALE:GREGORIAN
BEGIN:VEVENT
UID:UZ_PLZ_20260426_0920_494685
DTSTAMP:20260426T092000
DTSTART:20260426T092000
DTEND:20260426T104000
SUMMARY:Prawo cywilne z umowami w administracji (Ć): 11ADM-NP 25/26
CATEGORIES:Ć
LOCATION:104 A-41
END:VEVENT
BEGIN:VEVENT
UID:UZ_PLZ_20260426_1100_494695
DTSTAMP:20260426T110000
DTSTART:20260426T110000
DTEND:20260426T123000
SUMMARY:Prawo cywilne z umowami w administracji (W): 11ADM-NP 25/26
CATEGORIES:W
LOCATION:203 A-41
END:VEVENT
BEGIN:VEVENT
UID:UZ_PLZ_20260426_1245_508009
DTSTAMP:20260426T124500
DTSTART:20260426T124500
DTEND:20260426T133000
SUMMARY:Konsultacje (I)
CATEGORIES:I
LOCATION:106 A-41
END:VEVENT
BEGIN:VEVENT
UID:UZ_PLZ_20260428_1100_495987
DTSTAMP:20260428T110000
DTSTART:20260428T110000
DTEND:20260428T123000
SUMMARY:Rada Dyscypliny Nauki Prawne (I)
CATEGORIES:I
END:VEVENT
BEGIN:VEVENT
UID:UZ_PLZ_20260429_0835_508008
DTSTAMP:20260429T083500
DTSTART:20260429T083500
DTEND:20260429T092000
SUMMARY:Konsultacje (I)
CATEGORIES:I
LOCATION:004 A-41
END:VEVENT
BEGIN:VEVENT
UID:UZ_PLZ_20260429_0925_494817
DTSTAMP:20260429T092500
DTSTART:20260429T092500
DTEND:20260429T104500
SUMMARY:Prawo cywilne z umowami w administracji (W): 11ADM-SP 25/26
CATEGORIES:W
LOCATION:010 A-41
END:VEVENT
BEGIN:VEVENT
UID:UZ_PLZ_20260429_1100_494817
DTSTAMP:20260429T110000
DTSTART:20260429T110000
DTEND:20260429T123000
SUMMARY:Prawo cywilne z umowami w administracji (W): 11ADM-SP 25/26
CATEGORIES:W
LOCATION:202 A-41
END:VEVENT
BEGIN:VEVENT
UID:UZ_PLZ_20260429_1245_494789
DTSTAMP:20260429T124500
DTSTART:20260429T124500
DTEND:20260429T141000
SUMMARY:Prawo cywilne z umowami w administracji (Ć): 11ADM-SP 25/26
CATEGORIES:Ć
LOCATION:105 A-41
END:VEVENT
BEGIN:VEVENT
UID:UZ_PLZ_20260429_1415_508008
DTSTAMP:20260429T141500
DTSTART:20260429T141500
DTEND:20260429T150000
SUMMARY:Konsultacje (I)
CATEGORIES:I
LOCATION:204 A-41
END:VEVENT
BEGIN:VEVENT
UID:UZ_PLZ_20260510_1100_494695
DTSTAMP:20260510T110000
DTSTART:20260510T110000
DTEND:20260510T123000
SUMMARY:Prawo cywilne z umowami w administracji (W): 11ADM-NP 25/26
CATEGORIES:W
LOCATION:203 A-41
END:VEVENT
BEGIN:VEVENT
UID:UZ_PLZ_20260510_1245_508009
DTSTAMP:20260510T124500
DTSTART:20260510T124500
DTEND:20260510T133000
SUMMARY:Konsultacje (I)
CATEGORIES:I
LOCATION:106 A-41
END:VEVENT
BEGIN:VEVENT
UID:UZ_PLZ_20260515_0835_508008
DTSTAMP:20260515T083500
DTSTART:20260515T083500
DTEND:20260515T092000
SUMMARY:Konsultacje (I)
CATEGORIES:I
LOCATION:004 A-41
END:VEVENT
BEGIN:VEVENT
UID:UZ_PLZ_20260515_0925_494817
DTSTAMP:20260515T092500
DTSTART:20260515T092500
DTEND:20260515T104500
SUMMARY:Prawo cywilne z umowami w administracji (W): 11ADM-SP 25/26
CATEGORIES:W
LOCATION:010 A-41
END:VEVENT
BEGIN:VEVENT
UID:UZ_PLZ_20260515_1100_494817
DTSTAMP:20260515T110000
DTSTART:20260515T110000
DTEND:20260515T123000
SUMMARY:Prawo cywilne z umowami w administracji (W): 11ADM-SP 25/26
CATEGORIES:W
LOCATION:202 A-41
END:VEVENT
BEGIN:VEVENT
UID:UZ_PLZ_20260515_1245_494789
DTSTAMP:20260515T124500
DTSTART:20260515T124500
DTEND:20260515T141000
SUMMARY:Prawo cywilne z umowami w administracji (Ć): 11ADM-SP 25/26
CATEGORIES:Ć
LOCATION:105 A-41
END:VEVENT
BEGIN:VEVENT
UID:UZ_PLZ_20260515_1415_508008
DTSTAMP:20260515T141500
DTSTART:20260515T141500
DTEND:20260515T150000
SUMMARY:Konsultacje (I)
CATEGORIES:I
LOCATION:204 A-41
END:VEVENT
BEGIN:VEVENT
UID:UZ_PLZ_20260517_0920_494685
DTSTAMP:20260517T092000
DTSTART:20260517T092000
DTEND:20260517T104000
SUMMARY:Prawo cywilne z umowami w administracji (Ć): 11ADM-NP 25/26
CATEGORIES:Ć
LOCATION:104 A-41
END:VEVENT
BEGIN:VEVENT
UID:UZ_PLZ_20260517_1100_494695
DTSTAMP:20260517T110000
DTSTART:20260517T110000
DTEND:20260517T123000
SUMMARY:Prawo cywilne z umowami w administracji (W): 11ADM-NP 25/26
CATEGORIES:W
LOCATION:203 A-41
END:VEVENT
BEGIN:VEVENT
UID:UZ_PLZ_20260517_1245_508009
DTSTAMP:20260517T124500
DTSTART:20260517T124500
DTEND:20260517T133000
SUMMARY:Konsultacje (I)
CATEGORIES:I
LOCATION:106 A-41
END:VEVENT
BEGIN:VEVENT
UID:UZ_PLZ_20260526_1100_495989
DTSTAMP:20260526T110000
DTSTART:20260526T110000
DTEND:20260526T123000
SUMMARY:Rada Dyscypliny Nauki Prawne (I)
CATEGORIES:I
END:VEVENT
BEGIN:VEVENT
UID:UZ_PLZ_20260529_0835_508008
DTSTAMP:20260529T083500
DTSTART:20260529T083500
DTEND:20260529T092000
SUMMARY:Konsultacje (I)
CATEGORIES:I
LOCATION:004 A-41
END:VEVENT
BEGIN:VEVENT
UID:UZ_PLZ_20260529_0925_494817
DTSTAMP:20260529T092500
DTSTART:20260529T092500
DTEND:20260529T104500
SUMMARY:Prawo cywilne z umowami w administracji (W): 11ADM-SP 25/26
CATEGORIES:W
LOCATION:010 A-41
END:VEVENT
BEGIN:VEVENT
UID:UZ_PLZ_20260529_1100_494817
DTSTAMP:20260529T110000
DTSTART:20260529T110000
DTEND:20260529T123000
SUMMARY:Prawo cywilne z umowami w administracji (W): 11ADM-SP 25/26
CATEGORIES:W
LOCATION:202 A-41
END:VEVENT
BEGIN:VEVENT
UID:UZ_PLZ_20260529_1245_494789
DTSTAMP:20260529T124500
DTSTART:20260529T124500
DTEND:20260529T141000
SUMMARY:Prawo cywilne z umowami w administracji (Ć): 11ADM-SP 25/26
CATEGORIES:Ć
LOCATION:105 A-41
END:VEVENT
BEGIN:VEVENT
UID:UZ_PLZ_20260529_1415_508008
DTSTAMP:20260529T141500
DTSTART:20260529T141500
DTEND:20260529T150000
SUMMARY:Konsultacje (I)
CATEGORIES:I
LOCATION:204 A-41
END:VEVENT
BEGIN:VEVENT
UID:UZ_PLZ_20260531_1100_494695
DTSTAMP:20260531T110000
DTSTART:20260531T110000
DTEND:20260531T123000
SUMMARY:Prawo cywilne z umowami w administracji (W): 11ADM-NP 25/26
CATEGORIES:W
LOCATION:203 A-41
END:VEVENT
BEGIN:VEVENT
UID:UZ_PLZ_20260531_1245_508009
DTSTAMP:20260531T124500
DTSTART:20260531T124500
DTEND:20260531T133000
SUMMARY:Konsultacje (I)
CATEGORIES:I
LOCATION:106 A-41
END:VEVENT
BEGIN:VEVENT
UID:UZ_PLZ_20260612_0835_508008
DTSTAMP:20260612T083500
DTSTART:20260612T083500
DTEND:20260612T092000
SUMMARY:Konsultacje (I)
CATEGORIES:I
LOCATION:004 A-41
END:VEVENT
BEGIN:VEVENT
UID:UZ_PLZ_20260612_0925_494817
DTSTAMP:20260612T092500
DTSTART:20260612T092500
DTEND:20260612T104500
SUMMARY:Prawo cywilne z umowami w administracji (W): 11ADM-SP 25/26
CATEGORIES:W
LOCATION:010 A-41
END:VEVENT
BEGIN:VEVENT
UID:UZ_PLZ_20260612_1100_494817
DTSTAMP:20260612T110000
DTSTART:20260612T110000
DTEND:20260612T123000
SUMMARY:Prawo cywilne z umowami w administracji (W): 11ADM-SP 25/26
CATEGORIES:W
LOCATION:202 A-41
END:VEVENT
BEGIN:VEVENT
UID:UZ_PLZ_20260612_1245_494789
DTSTAMP:20260612T124500
DTSTART:20260612T124500
DTEND:20260612T141000
SUMMARY:Prawo cywilne z umowami w administracji (Ć): 11ADM-SP 25/26
CATEGORIES:Ć
LOCATION:105 A-41
END:VEVENT
BEGIN:VEVENT
UID:UZ_PLZ_20260612_1415_508008
DTSTAMP:20260612T141500
DTSTART:20260612T141500
DTEND:20260612T150000
SUMMARY:Konsultacje (I)
CATEGORIES:I
LOCATION:204 A-41
END:VEVENT
BEGIN:VEVENT
UID:UZ_PLZ_20260614_0920_494685
DTSTAMP:20260614T092000
DTSTART:20260614T092000
DTEND:20260614T104000
SUMMARY:Prawo cywilne z umowami w administracji (Ć): 11ADM-NP 25/26
CATEGORIES:Ć
LOCATION:104 A-41
END:VEVENT
BEGIN:VEVENT
UID:UZ_PLZ_20260614_1100_494695
DTSTAMP:20260614T110000
DTSTART:20260614T110000
DTEND:20260614T123000
SUMMARY:Prawo cywilne z umowami w administracji (W): 11ADM-NP 25/26
CATEGORIES:W
LOCATION:203 A-41
END:VEVENT
BEGIN:VEVENT
UID:UZ_PLZ_20260614_1245_508009
DTSTAMP:20260614T124500
DTSTART:20260614T124500
DTEND:20260614T133000
SUMMARY:Konsultacje (I)
CATEGORIES:I
LOCATION:106 A-41
END:VEVENT
BEGIN:VEVENT
UID:UZ_PLZ_20260630_1100_495988
DTSTAMP:20260630T110000
DTSTART:20260630T110000
DTEND:20260630T123000
SUMMARY:Rada Dyscypliny Nauki Prawne (I)
CATEGORIES:I
LOCATION:204 A-41
END:VEVENT
END:VCALENDAR
