BEGIN:VCALENDAR
TZID:Europe/Warsaw
X-WR-TIMEZONE:Europe/Warsaw
VERSION:2.0
PRODID:-//Uniwersytet Zielonogórski//NONSGML Plan zajęć v1.0//EN
NAME:Plan zajęć - semestr zimowy 2025/2026
X-WR-CALNAME:Plan zajęć - semestr zimowy 2025/2026
COLOR:green
CALSCALE:GREGORIAN
BEGIN:VEVENT
UID:UZ_PLZ_20251006_1615_492237
DTSTAMP:20251006T161500
DTSTART:20251006T161500
DTEND:20251006T174500
SUMMARY:Seminarium dyplomowe 2 (S): 42LOG-TS-SP
CATEGORIES:S
END:VEVENT
BEGIN:VEVENT
UID:UZ_PLZ_20251006_1615_488280
DTSTAMP:20251006T161500
DTSTART:20251006T161500
DTEND:20251006T175000
SUMMARY:Finanse samorządowe (W): 21FiR-SP
CATEGORIES:W
LOCATION:3 A-29
ATTACH:https://classroom.google.com/c/NzkyNTA2NDM4MTA2
END:VEVENT
BEGIN:VEVENT
UID:UZ_PLZ_20251006_1755_488205
DTSTAMP:20251006T175500
DTSTART:20251006T175500
DTEND:20251006T193000
SUMMARY:Finanse samorządowe (Ć): 21FiR-SP
CATEGORIES:Ć
LOCATION:218 A-29
ATTACH:https://classroom.google.com/c/ODIxMDAzMjIzMjY4
END:VEVENT
BEGIN:VEVENT
UID:UZ_PLZ_20251007_1615_491968
DTSTAMP:20251007T161500
DTSTART:20251007T161500
DTEND:20251007T175000
SUMMARY:BHP z elementami ergonomii (Ć): 12BN-SP
CATEGORIES:Ć
LOCATION:214 A-29
ATTACH:https://classroom.google.com/c/ODMxNzg2NTEyMDcy
END:VEVENT
BEGIN:VEVENT
UID:UZ_PLZ_20251007_1755_491956
DTSTAMP:20251007T175500
DTSTART:20251007T175500
DTEND:20251007T193000
SUMMARY:BHP z elementami ergonomii (P): 12BN-SP
CATEGORIES:P
LOCATION:214 A-29
ATTACH:https://classroom.google.com/c/ODMxNzg2MzI2MDUx
END:VEVENT
BEGIN:VEVENT
UID:UZ_PLZ_20251012_1100_489713
DTSTAMP:20251012T110000
DTSTART:20251012T110000
DTEND:20251012T124000
SUMMARY:BHP z elementami ergonomii (P): 11BN-NP
CATEGORIES:P
LOCATION:02a C-2
ATTACH:https://classroom.google.com/c/ODMxNzg2ODQwODA4
END:VEVENT
BEGIN:VEVENT
UID:UZ_PLZ_20251012_1245_489664
DTSTAMP:20251012T124500
DTSTART:20251012T124500
DTEND:20251012T142500
SUMMARY:Wyzwania i zagrożenia współczesnego świata (Ć): 21BN-BP-ND
CATEGORIES:Ć
LOCATION:02a C-2
ATTACH:https://classroom.google.com/c/ODMxNzg2MDcwNDE5
END:VEVENT
BEGIN:VEVENT
UID:UZ_PLZ_20251012_1430_489614
DTSTAMP:20251012T143000
DTSTART:20251012T143000
DTEND:20251012T161000
SUMMARY:BHP z elementami ergonomii (Ć): 11BN-NP
CATEGORIES:Ć
LOCATION:F5 A-0
ATTACH:https://classroom.google.com/c/ODMxNzg0MjY4MjY1
END:VEVENT
BEGIN:VEVENT
UID:UZ_PLZ_20251013_1615_492237
DTSTAMP:20251013T161500
DTSTART:20251013T161500
DTEND:20251013T174500
SUMMARY:Seminarium dyplomowe 2 (S): 42LOG-TS-SP
CATEGORIES:S
END:VEVENT
BEGIN:VEVENT
UID:UZ_PLZ_20251013_1800_491977
DTSTAMP:20251013T180000
DTSTART:20251013T180000
DTEND:20251013T192500
SUMMARY:Wyzwania i zagrożenia współczesnego świata (Ć): 21BN-BP-SD
CATEGORIES:Ć
LOCATION:218 A-29
ATTACH:https://classroom.google.com/c/ODMxNzg0NzAzMzI3
END:VEVENT
BEGIN:VEVENT
UID:UZ_PLZ_20251014_1615_491919
DTSTAMP:20251014T161500
DTSTART:20251014T161500
DTEND:20251014T174000
SUMMARY:BHP z elementami ergonomii (Ć): 11BN-SP
CATEGORIES:Ć
LOCATION:214 A-29
ATTACH:https://classroom.google.com/c/ODMxNzg1Nzk0Njk1
END:VEVENT
BEGIN:VEVENT
UID:UZ_PLZ_20251014_1745_491967
DTSTAMP:20251014T174500
DTSTART:20251014T174500
DTEND:20251014T191000
SUMMARY:BHP z elementami ergonomii (P): 11BN-SP
CATEGORIES:P
LOCATION:214 A-29
ATTACH:https://classroom.google.com/c/ODMxNzg1NzI2MzA3
END:VEVENT
BEGIN:VEVENT
UID:UZ_PLZ_20251020_1615_492237
DTSTAMP:20251020T161500
DTSTART:20251020T161500
DTEND:20251020T174500
SUMMARY:Seminarium dyplomowe 2 (S): 42LOG-TS-SP
CATEGORIES:S
LOCATION:118 A-29
END:VEVENT
BEGIN:VEVENT
UID:UZ_PLZ_20251020_1615_488280
DTSTAMP:20251020T161500
DTSTART:20251020T161500
DTEND:20251020T175000
SUMMARY:Finanse samorządowe (W): 21FiR-SP
CATEGORIES:W
LOCATION:3 A-29
ATTACH:https://classroom.google.com/c/NzkyNTA2NDM4MTA2
END:VEVENT
BEGIN:VEVENT
UID:UZ_PLZ_20251020_1755_488205
DTSTAMP:20251020T175500
DTSTART:20251020T175500
DTEND:20251020T193000
SUMMARY:Finanse samorządowe (Ć): 21FiR-SP
CATEGORIES:Ć
LOCATION:218 A-29
ATTACH:https://classroom.google.com/c/ODIxMDAzMjIzMjY4
END:VEVENT
BEGIN:VEVENT
UID:UZ_PLZ_20251021_1615_491968
DTSTAMP:20251021T161500
DTSTART:20251021T161500
DTEND:20251021T175000
SUMMARY:BHP z elementami ergonomii (Ć): 12BN-SP
CATEGORIES:Ć
LOCATION:214 A-29
ATTACH:https://classroom.google.com/c/ODMxNzg2NTEyMDcy
END:VEVENT
BEGIN:VEVENT
UID:UZ_PLZ_20251021_1755_491956
DTSTAMP:20251021T175500
DTSTART:20251021T175500
DTEND:20251021T193000
SUMMARY:BHP z elementami ergonomii (P): 12BN-SP
CATEGORIES:P
LOCATION:214 A-29
ATTACH:https://classroom.google.com/c/ODMxNzg2MzI2MDUx
END:VEVENT
BEGIN:VEVENT
UID:UZ_PLZ_20251027_1620_491977
DTSTAMP:20251027T162000
DTSTART:20251027T162000
DTEND:20251027T174500
SUMMARY:Wyzwania i zagrożenia współczesnego świata (Ć): 21BN-BP-SD
CATEGORIES:Ć
LOCATION:108 A-29
ATTACH:https://classroom.google.com/c/ODMxNzg0NzAzMzI3
END:VEVENT
BEGIN:VEVENT
UID:UZ_PLZ_20251027_1800_492237
DTSTAMP:20251027T180000
DTSTART:20251027T180000
DTEND:20251027T193000
SUMMARY:Seminarium dyplomowe 2 (S): 42LOG-TS-SP
CATEGORIES:S
LOCATION:108 A-29
END:VEVENT
BEGIN:VEVENT
UID:UZ_PLZ_20251028_1615_491919
DTSTAMP:20251028T161500
DTSTART:20251028T161500
DTEND:20251028T174000
SUMMARY:BHP z elementami ergonomii (Ć): 11BN-SP
CATEGORIES:Ć
LOCATION:214 A-29
ATTACH:https://classroom.google.com/c/ODMxNzg1Nzk0Njk1
END:VEVENT
BEGIN:VEVENT
UID:UZ_PLZ_20251028_1745_491967
DTSTAMP:20251028T174500
DTSTART:20251028T174500
DTEND:20251028T191000
SUMMARY:BHP z elementami ergonomii (P): 11BN-SP
CATEGORIES:P
LOCATION:214 A-29
ATTACH:https://classroom.google.com/c/ODMxNzg1NzI2MzA3
END:VEVENT
BEGIN:VEVENT
UID:UZ_PLZ_20251103_1615_488280
DTSTAMP:20251103T161500
DTSTART:20251103T161500
DTEND:20251103T175000
SUMMARY:Finanse samorządowe (W): 21FiR-SP
CATEGORIES:W
LOCATION:108 A-29
ATTACH:https://classroom.google.com/c/NzkyNTA2NDM4MTA2
END:VEVENT
BEGIN:VEVENT
UID:UZ_PLZ_20251103_1755_488205
DTSTAMP:20251103T175500
DTSTART:20251103T175500
DTEND:20251103T193000
SUMMARY:Finanse samorządowe (Ć): 21FiR-SP
CATEGORIES:Ć
LOCATION:108 A-29
ATTACH:https://classroom.google.com/c/ODIxMDAzMjIzMjY4
END:VEVENT
BEGIN:VEVENT
UID:UZ_PLZ_20251104_1615_491968
DTSTAMP:20251104T161500
DTSTART:20251104T161500
DTEND:20251104T175000
SUMMARY:BHP z elementami ergonomii (Ć): 12BN-SP
CATEGORIES:Ć
LOCATION:214 A-29
ATTACH:https://classroom.google.com/c/ODMxNzg2NTEyMDcy
END:VEVENT
BEGIN:VEVENT
UID:UZ_PLZ_20251104_1755_491956
DTSTAMP:20251104T175500
DTSTART:20251104T175500
DTEND:20251104T193000
SUMMARY:BHP z elementami ergonomii (P): 12BN-SP
CATEGORIES:P
LOCATION:214 A-29
ATTACH:https://classroom.google.com/c/ODMxNzg2MzI2MDUx
END:VEVENT
BEGIN:VEVENT
UID:UZ_PLZ_20251113_1620_491977
DTSTAMP:20251113T162000
DTSTART:20251113T162000
DTEND:20251113T174500
SUMMARY:Wyzwania i zagrożenia współczesnego świata (Ć): 21BN-BP-SD
CATEGORIES:Ć
LOCATION:108 A-29
ATTACH:https://classroom.google.com/c/ODMxNzg0NzAzMzI3
END:VEVENT
BEGIN:VEVENT
UID:UZ_PLZ_20251113_1800_492237
DTSTAMP:20251113T180000
DTSTART:20251113T180000
DTEND:20251113T193000
SUMMARY:Seminarium dyplomowe 2 (S): 42LOG-TS-SP
CATEGORIES:S
LOCATION:108 A-29
END:VEVENT
BEGIN:VEVENT
UID:UZ_PLZ_20251114_1615_491919
DTSTAMP:20251114T161500
DTSTART:20251114T161500
DTEND:20251114T174000
SUMMARY:BHP z elementami ergonomii (Ć): 11BN-SP
CATEGORIES:Ć
LOCATION:214 A-29
ATTACH:https://classroom.google.com/c/ODMxNzg1Nzk0Njk1
END:VEVENT
BEGIN:VEVENT
UID:UZ_PLZ_20251114_1745_491967
DTSTAMP:20251114T174500
DTSTART:20251114T174500
DTEND:20251114T191000
SUMMARY:BHP z elementami ergonomii (P): 11BN-SP
CATEGORIES:P
LOCATION:214 A-29
ATTACH:https://classroom.google.com/c/ODMxNzg1NzI2MzA3
END:VEVENT
BEGIN:VEVENT
UID:UZ_PLZ_20251116_1100_489713
DTSTAMP:20251116T110000
DTSTART:20251116T110000
DTEND:20251116T124000
SUMMARY:BHP z elementami ergonomii (P): 11BN-NP
CATEGORIES:P
LOCATION:02a C-2
ATTACH:https://classroom.google.com/c/ODMxNzg2ODQwODA4
END:VEVENT
BEGIN:VEVENT
UID:UZ_PLZ_20251116_1245_489664
DTSTAMP:20251116T124500
DTSTART:20251116T124500
DTEND:20251116T142500
SUMMARY:Wyzwania i zagrożenia współczesnego świata (Ć): 21BN-BP-ND
CATEGORIES:Ć
LOCATION:02a C-2
ATTACH:https://classroom.google.com/c/ODMxNzg2MDcwNDE5
END:VEVENT
BEGIN:VEVENT
UID:UZ_PLZ_20251116_1430_489614
DTSTAMP:20251116T143000
DTSTART:20251116T143000
DTEND:20251116T161000
SUMMARY:BHP z elementami ergonomii (Ć): 11BN-NP
CATEGORIES:Ć
LOCATION:F5 A-0
ATTACH:https://classroom.google.com/c/ODMxNzg0MjY4MjY1
END:VEVENT
BEGIN:VEVENT
UID:UZ_PLZ_20251117_1615_488280
DTSTAMP:20251117T161500
DTSTART:20251117T161500
DTEND:20251117T175000
SUMMARY:Finanse samorządowe (W): 21FiR-SP
CATEGORIES:W
LOCATION:108 A-29
ATTACH:https://classroom.google.com/c/NzkyNTA2NDM4MTA2
END:VEVENT
BEGIN:VEVENT
UID:UZ_PLZ_20251117_1755_488205
DTSTAMP:20251117T175500
DTSTART:20251117T175500
DTEND:20251117T193000
SUMMARY:Finanse samorządowe (Ć): 21FiR-SP
CATEGORIES:Ć
LOCATION:108 A-29
ATTACH:https://classroom.google.com/c/ODIxMDAzMjIzMjY4
END:VEVENT
BEGIN:VEVENT
UID:UZ_PLZ_20251118_1615_491968
DTSTAMP:20251118T161500
DTSTART:20251118T161500
DTEND:20251118T175000
SUMMARY:BHP z elementami ergonomii (Ć): 12BN-SP
CATEGORIES:Ć
LOCATION:214 A-29
ATTACH:https://classroom.google.com/c/ODMxNzg2NTEyMDcy
END:VEVENT
BEGIN:VEVENT
UID:UZ_PLZ_20251118_1755_491956
DTSTAMP:20251118T175500
DTSTART:20251118T175500
DTEND:20251118T193000
SUMMARY:BHP z elementami ergonomii (P): 12BN-SP
CATEGORIES:P
LOCATION:214 A-29
ATTACH:https://classroom.google.com/c/ODMxNzg2MzI2MDUx
END:VEVENT
BEGIN:VEVENT
UID:UZ_PLZ_20251124_1620_491977
DTSTAMP:20251124T162000
DTSTART:20251124T162000
DTEND:20251124T174500
SUMMARY:Wyzwania i zagrożenia współczesnego świata (Ć): 21BN-BP-SD
CATEGORIES:Ć
LOCATION:108 A-29
ATTACH:https://classroom.google.com/c/ODMxNzg0NzAzMzI3
END:VEVENT
BEGIN:VEVENT
UID:UZ_PLZ_20251124_1800_492237
DTSTAMP:20251124T180000
DTSTART:20251124T180000
DTEND:20251124T193000
SUMMARY:Seminarium dyplomowe 2 (S): 42LOG-TS-SP
CATEGORIES:S
LOCATION:108 A-29
END:VEVENT
BEGIN:VEVENT
UID:UZ_PLZ_20251125_1615_491919
DTSTAMP:20251125T161500
DTSTART:20251125T161500
DTEND:20251125T174000
SUMMARY:BHP z elementami ergonomii (Ć): 11BN-SP
CATEGORIES:Ć
LOCATION:214 A-29
ATTACH:https://classroom.google.com/c/ODMxNzg1Nzk0Njk1
END:VEVENT
BEGIN:VEVENT
UID:UZ_PLZ_20251125_1745_491967
DTSTAMP:20251125T174500
DTSTART:20251125T174500
DTEND:20251125T191000
SUMMARY:BHP z elementami ergonomii (P): 11BN-SP
CATEGORIES:P
LOCATION:214 A-29
ATTACH:https://classroom.google.com/c/ODMxNzg1NzI2MzA3
END:VEVENT
BEGIN:VEVENT
UID:UZ_PLZ_20251201_1615_488280
DTSTAMP:20251201T161500
DTSTART:20251201T161500
DTEND:20251201T175000
SUMMARY:Finanse samorządowe (W): 21FiR-SP
CATEGORIES:W
LOCATION:108 A-29
ATTACH:https://classroom.google.com/c/NzkyNTA2NDM4MTA2
END:VEVENT
BEGIN:VEVENT
UID:UZ_PLZ_20251201_1755_488205
DTSTAMP:20251201T175500
DTSTART:20251201T175500
DTEND:20251201T193000
SUMMARY:Finanse samorządowe (Ć): 21FiR-SP
CATEGORIES:Ć
LOCATION:108 A-29
ATTACH:https://classroom.google.com/c/ODIxMDAzMjIzMjY4
END:VEVENT
BEGIN:VEVENT
UID:UZ_PLZ_20251202_1615_491968
DTSTAMP:20251202T161500
DTSTART:20251202T161500
DTEND:20251202T175000
SUMMARY:BHP z elementami ergonomii (Ć): 12BN-SP
CATEGORIES:Ć
LOCATION:214 A-29
ATTACH:https://classroom.google.com/c/ODMxNzg2NTEyMDcy
END:VEVENT
BEGIN:VEVENT
UID:UZ_PLZ_20251202_1755_491956
DTSTAMP:20251202T175500
DTSTART:20251202T175500
DTEND:20251202T193000
SUMMARY:BHP z elementami ergonomii (P): 12BN-SP
CATEGORIES:P
LOCATION:214 A-29
ATTACH:https://classroom.google.com/c/ODMxNzg2MzI2MDUx
END:VEVENT
BEGIN:VEVENT
UID:UZ_PLZ_20251207_1100_489713
DTSTAMP:20251207T110000
DTSTART:20251207T110000
DTEND:20251207T124000
SUMMARY:BHP z elementami ergonomii (P): 11BN-NP
CATEGORIES:P
LOCATION:02a C-2
ATTACH:https://classroom.google.com/c/ODMxNzg2ODQwODA4
END:VEVENT
BEGIN:VEVENT
UID:UZ_PLZ_20251207_1245_489664
DTSTAMP:20251207T124500
DTSTART:20251207T124500
DTEND:20251207T142500
SUMMARY:Wyzwania i zagrożenia współczesnego świata (Ć): 21BN-BP-ND
CATEGORIES:Ć
LOCATION:02a C-2
ATTACH:https://classroom.google.com/c/ODMxNzg2MDcwNDE5
END:VEVENT
BEGIN:VEVENT
UID:UZ_PLZ_20251207_1430_489614
DTSTAMP:20251207T143000
DTSTART:20251207T143000
DTEND:20251207T161000
SUMMARY:BHP z elementami ergonomii (Ć): 11BN-NP
CATEGORIES:Ć
LOCATION:F5 A-0
ATTACH:https://classroom.google.com/c/ODMxNzg0MjY4MjY1
END:VEVENT
BEGIN:VEVENT
UID:UZ_PLZ_20251208_1620_491977
DTSTAMP:20251208T162000
DTSTART:20251208T162000
DTEND:20251208T174500
SUMMARY:Wyzwania i zagrożenia współczesnego świata (Ć): 21BN-BP-SD
CATEGORIES:Ć
LOCATION:108 A-29
ATTACH:https://classroom.google.com/c/ODMxNzg0NzAzMzI3
END:VEVENT
BEGIN:VEVENT
UID:UZ_PLZ_20251208_1800_492237
DTSTAMP:20251208T180000
DTSTART:20251208T180000
DTEND:20251208T193000
SUMMARY:Seminarium dyplomowe 2 (S): 42LOG-TS-SP
CATEGORIES:S
LOCATION:108 A-29
END:VEVENT
BEGIN:VEVENT
UID:UZ_PLZ_20251209_1615_491919
DTSTAMP:20251209T161500
DTSTART:20251209T161500
DTEND:20251209T174000
SUMMARY:BHP z elementami ergonomii (Ć): 11BN-SP
CATEGORIES:Ć
LOCATION:214 A-29
ATTACH:https://classroom.google.com/c/ODMxNzg1Nzk0Njk1
END:VEVENT
BEGIN:VEVENT
UID:UZ_PLZ_20251209_1745_491967
DTSTAMP:20251209T174500
DTSTART:20251209T174500
DTEND:20251209T191000
SUMMARY:BHP z elementami ergonomii (P): 11BN-SP
CATEGORIES:P
LOCATION:214 A-29
ATTACH:https://classroom.google.com/c/ODMxNzg1NzI2MzA3
END:VEVENT
BEGIN:VEVENT
UID:UZ_PLZ_20251215_1615_488280
DTSTAMP:20251215T161500
DTSTART:20251215T161500
DTEND:20251215T175000
SUMMARY:Finanse samorządowe (W): 21FiR-SP
CATEGORIES:W
LOCATION:108 A-29
ATTACH:https://classroom.google.com/c/NzkyNTA2NDM4MTA2
END:VEVENT
BEGIN:VEVENT
UID:UZ_PLZ_20251215_1755_488205
DTSTAMP:20251215T175500
DTSTART:20251215T175500
DTEND:20251215T193000
SUMMARY:Finanse samorządowe (Ć): 21FiR-SP
CATEGORIES:Ć
LOCATION:108 A-29
ATTACH:https://classroom.google.com/c/ODIxMDAzMjIzMjY4
END:VEVENT
BEGIN:VEVENT
UID:UZ_PLZ_20251216_1615_491968
DTSTAMP:20251216T161500
DTSTART:20251216T161500
DTEND:20251216T175000
SUMMARY:BHP z elementami ergonomii (Ć): 12BN-SP
CATEGORIES:Ć
LOCATION:214 A-29
ATTACH:https://classroom.google.com/c/ODMxNzg2NTEyMDcy
END:VEVENT
BEGIN:VEVENT
UID:UZ_PLZ_20251216_1755_491956
DTSTAMP:20251216T175500
DTSTART:20251216T175500
DTEND:20251216T193000
SUMMARY:BHP z elementami ergonomii (P): 12BN-SP
CATEGORIES:P
LOCATION:214 A-29
ATTACH:https://classroom.google.com/c/ODMxNzg2MzI2MDUx
END:VEVENT
BEGIN:VEVENT
UID:UZ_PLZ_20260107_1615_491919
DTSTAMP:20260107T161500
DTSTART:20260107T161500
DTEND:20260107T174000
SUMMARY:BHP z elementami ergonomii (Ć): 11BN-SP
CATEGORIES:Ć
LOCATION:214 A-29
ATTACH:https://classroom.google.com/c/ODMxNzg1Nzk0Njk1
END:VEVENT
BEGIN:VEVENT
UID:UZ_PLZ_20260107_1745_491967
DTSTAMP:20260107T174500
DTSTART:20260107T174500
DTEND:20260107T191000
SUMMARY:BHP z elementami ergonomii (P): 11BN-SP
CATEGORIES:P
LOCATION:214 A-29
ATTACH:https://classroom.google.com/c/ODMxNzg1NzI2MzA3
END:VEVENT
BEGIN:VEVENT
UID:UZ_PLZ_20260112_1615_488280
DTSTAMP:20260112T161500
DTSTART:20260112T161500
DTEND:20260112T175000
SUMMARY:Finanse samorządowe (W): 21FiR-SP
CATEGORIES:W
LOCATION:108 A-29
ATTACH:https://classroom.google.com/c/NzkyNTA2NDM4MTA2
END:VEVENT
BEGIN:VEVENT
UID:UZ_PLZ_20260112_1755_488205
DTSTAMP:20260112T175500
DTSTART:20260112T175500
DTEND:20260112T193000
SUMMARY:Finanse samorządowe (Ć): 21FiR-SP
CATEGORIES:Ć
LOCATION:108 A-29
ATTACH:https://classroom.google.com/c/ODIxMDAzMjIzMjY4
END:VEVENT
BEGIN:VEVENT
UID:UZ_PLZ_20260113_1615_491968
DTSTAMP:20260113T161500
DTSTART:20260113T161500
DTEND:20260113T175000
SUMMARY:BHP z elementami ergonomii (Ć): 12BN-SP
CATEGORIES:Ć
LOCATION:214 A-29
ATTACH:https://classroom.google.com/c/ODMxNzg2NTEyMDcy
END:VEVENT
BEGIN:VEVENT
UID:UZ_PLZ_20260113_1755_491956
DTSTAMP:20260113T175500
DTSTART:20260113T175500
DTEND:20260113T193000
SUMMARY:BHP z elementami ergonomii (P): 12BN-SP
CATEGORIES:P
LOCATION:214 A-29
ATTACH:https://classroom.google.com/c/ODMxNzg2MzI2MDUx
END:VEVENT
BEGIN:VEVENT
UID:UZ_PLZ_20260118_1100_489713
DTSTAMP:20260118T110000
DTSTART:20260118T110000
DTEND:20260118T124000
SUMMARY:BHP z elementami ergonomii (P): 11BN-NP
CATEGORIES:P
LOCATION:02a C-2
ATTACH:https://classroom.google.com/c/ODMxNzg2ODQwODA4
END:VEVENT
BEGIN:VEVENT
UID:UZ_PLZ_20260118_1245_489664
DTSTAMP:20260118T124500
DTSTART:20260118T124500
DTEND:20260118T142500
SUMMARY:Wyzwania i zagrożenia współczesnego świata (Ć): 21BN-BP-ND
CATEGORIES:Ć
LOCATION:02a C-2
ATTACH:https://classroom.google.com/c/ODMxNzg2MDcwNDE5
END:VEVENT
BEGIN:VEVENT
UID:UZ_PLZ_20260118_1430_489614
DTSTAMP:20260118T143000
DTSTART:20260118T143000
DTEND:20260118T161000
SUMMARY:BHP z elementami ergonomii (Ć): 11BN-NP
CATEGORIES:Ć
LOCATION:F5 A-0
ATTACH:https://classroom.google.com/c/ODMxNzg0MjY4MjY1
END:VEVENT
BEGIN:VEVENT
UID:UZ_PLZ_20260119_1620_491977
DTSTAMP:20260119T162000
DTSTART:20260119T162000
DTEND:20260119T174500
SUMMARY:Wyzwania i zagrożenia współczesnego świata (Ć): 21BN-BP-SD
CATEGORIES:Ć
LOCATION:108 A-29
ATTACH:https://classroom.google.com/c/ODMxNzg0NzAzMzI3
END:VEVENT
BEGIN:VEVENT
UID:UZ_PLZ_20260119_1800_492237
DTSTAMP:20260119T180000
DTSTART:20260119T180000
DTEND:20260119T193000
SUMMARY:Seminarium dyplomowe 2 (S): 42LOG-TS-SP
CATEGORIES:S
LOCATION:108 A-29
END:VEVENT
BEGIN:VEVENT
UID:UZ_PLZ_20260120_1615_491919
DTSTAMP:20260120T161500
DTSTART:20260120T161500
DTEND:20260120T174000
SUMMARY:BHP z elementami ergonomii (Ć): 11BN-SP
CATEGORIES:Ć
LOCATION:214 A-29
ATTACH:https://classroom.google.com/c/ODMxNzg1Nzk0Njk1
END:VEVENT
BEGIN:VEVENT
UID:UZ_PLZ_20260120_1745_491967
DTSTAMP:20260120T174500
DTSTART:20260120T174500
DTEND:20260120T191000
SUMMARY:BHP z elementami ergonomii (P): 11BN-SP
CATEGORIES:P
LOCATION:214 A-29
ATTACH:https://classroom.google.com/c/ODMxNzg1NzI2MzA3
END:VEVENT
BEGIN:VEVENT
UID:UZ_PLZ_20260126_1620_491977
DTSTAMP:20260126T162000
DTSTART:20260126T162000
DTEND:20260126T174500
SUMMARY:Wyzwania i zagrożenia współczesnego świata (Ć): 21BN-BP-SD
CATEGORIES:Ć
LOCATION:108 A-29
ATTACH:https://classroom.google.com/c/ODMxNzg0NzAzMzI3
END:VEVENT
BEGIN:VEVENT
UID:UZ_PLZ_20260126_1800_492237
DTSTAMP:20260126T180000
DTSTART:20260126T180000
DTEND:20260126T193000
SUMMARY:Seminarium dyplomowe 2 (S): 42LOG-TS-SP
CATEGORIES:S
LOCATION:108 A-29
END:VEVENT
BEGIN:VEVENT
UID:UZ_PLZ_20260127_1615_491919
DTSTAMP:20260127T161500
DTSTART:20260127T161500
DTEND:20260127T174000
SUMMARY:BHP z elementami ergonomii (Ć): 11BN-SP
CATEGORIES:Ć
LOCATION:214 A-29
ATTACH:https://classroom.google.com/c/ODMxNzg1Nzk0Njk1
END:VEVENT
BEGIN:VEVENT
UID:UZ_PLZ_20260127_1745_491967
DTSTAMP:20260127T174500
DTSTART:20260127T174500
DTEND:20260127T191000
SUMMARY:BHP z elementami ergonomii (P): 11BN-SP
CATEGORIES:P
LOCATION:214 A-29
ATTACH:https://classroom.google.com/c/ODMxNzg1NzI2MzA3
END:VEVENT
BEGIN:VEVENT
UID:UZ_PLZ_20260202_1620_491977
DTSTAMP:20260202T162000
DTSTART:20260202T162000
DTEND:20260202T174500
SUMMARY:Wyzwania i zagrożenia współczesnego świata (Ć): 21BN-BP-SD
CATEGORIES:Ć
LOCATION:108 A-29
ATTACH:https://classroom.google.com/c/ODMxNzg0NzAzMzI3
END:VEVENT
BEGIN:VEVENT
UID:UZ_PLZ_20260202_1800_492237
DTSTAMP:20260202T180000
DTSTART:20260202T180000
DTEND:20260202T193000
SUMMARY:Seminarium dyplomowe 2 (S): 42LOG-TS-SP
CATEGORIES:S
LOCATION:108 A-29
END:VEVENT
END:VCALENDAR
