BEGIN:VCALENDAR
TZID:Europe/Warsaw
X-WR-TIMEZONE:Europe/Warsaw
VERSION:2.0
PRODID:-//Uniwersytet Zielonogórski//NONSGML Plan zajęć v1.0//EN
NAME:Plan zajęć - semestr letni 2025/2026
X-WR-CALNAME:Plan zajęć - semestr letni 2025/2026
COLOR:green
CALSCALE:GREGORIAN
BEGIN:VEVENT
UID:UZ_PLZ_20260302_1615_498949
DTSTAMP:20260302T161500
DTSTART:20260302T161500
DTEND:20260302T174000
SUMMARY:Polityka regionalna (W): 11EK-SP
CATEGORIES:W
LOCATION:108 A-29
ATTACH:https://classroom.google.com/c/Nzk2ODQ4NTM2ODM4
END:VEVENT
BEGIN:VEVENT
UID:UZ_PLZ_20260302_1800_498038
DTSTAMP:20260302T180000
DTSTART:20260302T180000
DTEND:20260302T193000
SUMMARY:Globalne społeczeństwo informacyjne (P): 12BN-SP
CATEGORIES:P
LOCATION:108 A-29
ATTACH:https://classroom.google.com/c/ODU3Mjc1OTg4NDMz
END:VEVENT
BEGIN:VEVENT
UID:UZ_PLZ_20260302_1945_497804
DTSTAMP:20260302T194500
DTSTART:20260302T194500
DTEND:20260302T211500
SUMMARY:Partnerstwo międzysektorowe (P): 12BN-SP
CATEGORIES:P
LOCATION:108 A-29
ATTACH:https://classroom.google.com/c/ODU3Mjc1NjkwNDk0
END:VEVENT
BEGIN:VEVENT
UID:UZ_PLZ_20260303_1615_497985
DTSTAMP:20260303T161500
DTSTART:20260303T161500
DTEND:20260303T174500
SUMMARY:Globalne społeczeństwo informacyjne (P): 11BN-SP
CATEGORIES:P
LOCATION:123 A-29
ATTACH:https://classroom.google.com/c/Nzk2ODQ4MjA2NDEx
END:VEVENT
BEGIN:VEVENT
UID:UZ_PLZ_20260303_1800_497950
DTSTAMP:20260303T180000
DTSTART:20260303T180000
DTEND:20260303T193000
SUMMARY:Partnerstwo międzysektorowe (P): 11BN-SP
CATEGORIES:P
LOCATION:123 A-29
ATTACH:https://classroom.google.com/c/ODU3MjcyNDcxMzYw
END:VEVENT
BEGIN:VEVENT
UID:UZ_PLZ_20260304_1615_498169
DTSTAMP:20260304T161500
DTSTART:20260304T161500
DTEND:20260304T174000
SUMMARY:Planowanie strategiczne w systemie bezpieczeństwa państw (Ć): 21BN-SP
CATEGORIES:Ć
LOCATION:123 A-29
ATTACH:https://classroom.google.com/c/ODU3MjczMzE1OTQ4
END:VEVENT
BEGIN:VEVENT
UID:UZ_PLZ_20260304_1800_498117
DTSTAMP:20260304T180000
DTSTART:20260304T180000
DTEND:20260304T192500
SUMMARY:Polityka regionalna w Polsce (W): 11BN-ZK-SD
CATEGORIES:W
LOCATION:123 A-29
ATTACH:https://classroom.google.com/c/ODU3Mjc1Nzc2MzE4
END:VEVENT
BEGIN:VEVENT
UID:UZ_PLZ_20260309_1615_498876
DTSTAMP:20260309T161500
DTSTART:20260309T161500
DTEND:20260309T175000
SUMMARY:Polityka regionalna (P): 11EK-SP
CATEGORIES:P
LOCATION:108 A-29
ATTACH:https://classroom.google.com/c/ODU3Mjc2NDIyODU5
END:VEVENT
BEGIN:VEVENT
UID:UZ_PLZ_20260309_1800_498038
DTSTAMP:20260309T180000
DTSTART:20260309T180000
DTEND:20260309T193000
SUMMARY:Globalne społeczeństwo informacyjne (P): 12BN-SP
CATEGORIES:P
LOCATION:108 A-29
ATTACH:https://classroom.google.com/c/ODU3Mjc1OTg4NDMz
END:VEVENT
BEGIN:VEVENT
UID:UZ_PLZ_20260309_1945_497804
DTSTAMP:20260309T194500
DTSTART:20260309T194500
DTEND:20260309T211500
SUMMARY:Partnerstwo międzysektorowe (P): 12BN-SP
CATEGORIES:P
LOCATION:108 A-29
ATTACH:https://classroom.google.com/c/ODU3Mjc1NjkwNDk0
END:VEVENT
BEGIN:VEVENT
UID:UZ_PLZ_20260310_1615_497985
DTSTAMP:20260310T161500
DTSTART:20260310T161500
DTEND:20260310T174500
SUMMARY:Globalne społeczeństwo informacyjne (P): 11BN-SP
CATEGORIES:P
LOCATION:123 A-29
ATTACH:https://classroom.google.com/c/Nzk2ODQ4MjA2NDEx
END:VEVENT
BEGIN:VEVENT
UID:UZ_PLZ_20260310_1800_497950
DTSTAMP:20260310T180000
DTSTART:20260310T180000
DTEND:20260310T193000
SUMMARY:Partnerstwo międzysektorowe (P): 11BN-SP
CATEGORIES:P
LOCATION:123 A-29
ATTACH:https://classroom.google.com/c/ODU3MjcyNDcxMzYw
END:VEVENT
BEGIN:VEVENT
UID:UZ_PLZ_20260311_1615_498170
DTSTAMP:20260311T161500
DTSTART:20260311T161500
DTEND:20260311T175000
SUMMARY:Planowanie strategiczne w systemie bezpieczeństwa państw (P): 21BN-SP
CATEGORIES:P
LOCATION:123 A-29
ATTACH:https://classroom.google.com/c/Nzk2ODQ3MzMyMzEw
END:VEVENT
BEGIN:VEVENT
UID:UZ_PLZ_20260311_1800_497807
DTSTAMP:20260311T180000
DTSTART:20260311T180000
DTEND:20260311T193500
SUMMARY:Polityka regionalna w Polsce (P): 11BN-ZK-SD
CATEGORIES:P
LOCATION:123 A-29
ATTACH:https://classroom.google.com/c/ODU3Mjc1MTk2ODk3
END:VEVENT
BEGIN:VEVENT
UID:UZ_PLZ_20260316_1615_498949
DTSTAMP:20260316T161500
DTSTART:20260316T161500
DTEND:20260316T174000
SUMMARY:Polityka regionalna (W): 11EK-SP
CATEGORIES:W
LOCATION:108 A-29
ATTACH:https://classroom.google.com/c/Nzk2ODQ4NTM2ODM4
END:VEVENT
BEGIN:VEVENT
UID:UZ_PLZ_20260316_1800_498038
DTSTAMP:20260316T180000
DTSTART:20260316T180000
DTEND:20260316T193000
SUMMARY:Globalne społeczeństwo informacyjne (P): 12BN-SP
CATEGORIES:P
LOCATION:108 A-29
ATTACH:https://classroom.google.com/c/ODU3Mjc1OTg4NDMz
END:VEVENT
BEGIN:VEVENT
UID:UZ_PLZ_20260316_1945_497804
DTSTAMP:20260316T194500
DTSTART:20260316T194500
DTEND:20260316T211500
SUMMARY:Partnerstwo międzysektorowe (P): 12BN-SP
CATEGORIES:P
LOCATION:108 A-29
ATTACH:https://classroom.google.com/c/ODU3Mjc1NjkwNDk0
END:VEVENT
BEGIN:VEVENT
UID:UZ_PLZ_20260317_1615_497985
DTSTAMP:20260317T161500
DTSTART:20260317T161500
DTEND:20260317T174500
SUMMARY:Globalne społeczeństwo informacyjne (P): 11BN-SP
CATEGORIES:P
LOCATION:123 A-29
ATTACH:https://classroom.google.com/c/Nzk2ODQ4MjA2NDEx
END:VEVENT
BEGIN:VEVENT
UID:UZ_PLZ_20260317_1800_497950
DTSTAMP:20260317T180000
DTSTART:20260317T180000
DTEND:20260317T193000
SUMMARY:Partnerstwo międzysektorowe (P): 11BN-SP
CATEGORIES:P
LOCATION:123 A-29
ATTACH:https://classroom.google.com/c/ODU3MjcyNDcxMzYw
END:VEVENT
BEGIN:VEVENT
UID:UZ_PLZ_20260318_1615_498169
DTSTAMP:20260318T161500
DTSTART:20260318T161500
DTEND:20260318T174000
SUMMARY:Planowanie strategiczne w systemie bezpieczeństwa państw (Ć): 21BN-SP
CATEGORIES:Ć
LOCATION:123 A-29
ATTACH:https://classroom.google.com/c/ODU3MjczMzE1OTQ4
END:VEVENT
BEGIN:VEVENT
UID:UZ_PLZ_20260318_1800_498117
DTSTAMP:20260318T180000
DTSTART:20260318T180000
DTEND:20260318T192500
SUMMARY:Polityka regionalna w Polsce (W): 11BN-ZK-SD
CATEGORIES:W
LOCATION:123 A-29
ATTACH:https://classroom.google.com/c/ODU3Mjc1Nzc2MzE4
END:VEVENT
BEGIN:VEVENT
UID:UZ_PLZ_20260323_1615_498876
DTSTAMP:20260323T161500
DTSTART:20260323T161500
DTEND:20260323T175000
SUMMARY:Polityka regionalna (P): 11EK-SP
CATEGORIES:P
LOCATION:108 A-29
ATTACH:https://classroom.google.com/c/ODU3Mjc2NDIyODU5
END:VEVENT
BEGIN:VEVENT
UID:UZ_PLZ_20260323_1800_498038
DTSTAMP:20260323T180000
DTSTART:20260323T180000
DTEND:20260323T193000
SUMMARY:Globalne społeczeństwo informacyjne (P): 12BN-SP
CATEGORIES:P
LOCATION:108 A-29
ATTACH:https://classroom.google.com/c/ODU3Mjc1OTg4NDMz
END:VEVENT
BEGIN:VEVENT
UID:UZ_PLZ_20260323_1945_497804
DTSTAMP:20260323T194500
DTSTART:20260323T194500
DTEND:20260323T211500
SUMMARY:Partnerstwo międzysektorowe (P): 12BN-SP
CATEGORIES:P
LOCATION:108 A-29
ATTACH:https://classroom.google.com/c/ODU3Mjc1NjkwNDk0
END:VEVENT
BEGIN:VEVENT
UID:UZ_PLZ_20260324_1615_497985
DTSTAMP:20260324T161500
DTSTART:20260324T161500
DTEND:20260324T174500
SUMMARY:Globalne społeczeństwo informacyjne (P): 11BN-SP
CATEGORIES:P
LOCATION:123 A-29
ATTACH:https://classroom.google.com/c/Nzk2ODQ4MjA2NDEx
END:VEVENT
BEGIN:VEVENT
UID:UZ_PLZ_20260324_1800_497950
DTSTAMP:20260324T180000
DTSTART:20260324T180000
DTEND:20260324T193000
SUMMARY:Partnerstwo międzysektorowe (P): 11BN-SP
CATEGORIES:P
LOCATION:123 A-29
ATTACH:https://classroom.google.com/c/ODU3MjcyNDcxMzYw
END:VEVENT
BEGIN:VEVENT
UID:UZ_PLZ_20260325_1615_498170
DTSTAMP:20260325T161500
DTSTART:20260325T161500
DTEND:20260325T175000
SUMMARY:Planowanie strategiczne w systemie bezpieczeństwa państw (P): 21BN-SP
CATEGORIES:P
LOCATION:123 A-29
ATTACH:https://classroom.google.com/c/Nzk2ODQ3MzMyMzEw
END:VEVENT
BEGIN:VEVENT
UID:UZ_PLZ_20260325_1800_497807
DTSTAMP:20260325T180000
DTSTART:20260325T180000
DTEND:20260325T193500
SUMMARY:Polityka regionalna w Polsce (P): 11BN-ZK-SD
CATEGORIES:P
LOCATION:123 A-29
ATTACH:https://classroom.google.com/c/ODU3Mjc1MTk2ODk3
END:VEVENT
BEGIN:VEVENT
UID:UZ_PLZ_20260330_1615_498949
DTSTAMP:20260330T161500
DTSTART:20260330T161500
DTEND:20260330T174000
SUMMARY:Polityka regionalna (W): 11EK-SP
CATEGORIES:W
LOCATION:108 A-29
ATTACH:https://classroom.google.com/c/Nzk2ODQ4NTM2ODM4
END:VEVENT
BEGIN:VEVENT
UID:UZ_PLZ_20260330_1800_498038
DTSTAMP:20260330T180000
DTSTART:20260330T180000
DTEND:20260330T193000
SUMMARY:Globalne społeczeństwo informacyjne (P): 12BN-SP
CATEGORIES:P
LOCATION:108 A-29
ATTACH:https://classroom.google.com/c/ODU3Mjc1OTg4NDMz
END:VEVENT
BEGIN:VEVENT
UID:UZ_PLZ_20260330_1945_497804
DTSTAMP:20260330T194500
DTSTART:20260330T194500
DTEND:20260330T211500
SUMMARY:Partnerstwo międzysektorowe (P): 12BN-SP
CATEGORIES:P
LOCATION:108 A-29
ATTACH:https://classroom.google.com/c/ODU3Mjc1NjkwNDk0
END:VEVENT
BEGIN:VEVENT
UID:UZ_PLZ_20260331_1615_497985
DTSTAMP:20260331T161500
DTSTART:20260331T161500
DTEND:20260331T174500
SUMMARY:Globalne społeczeństwo informacyjne (P): 11BN-SP
CATEGORIES:P
LOCATION:123 A-29
ATTACH:https://classroom.google.com/c/Nzk2ODQ4MjA2NDEx
END:VEVENT
BEGIN:VEVENT
UID:UZ_PLZ_20260331_1800_497950
DTSTAMP:20260331T180000
DTSTART:20260331T180000
DTEND:20260331T193000
SUMMARY:Partnerstwo międzysektorowe (P): 11BN-SP
CATEGORIES:P
LOCATION:123 A-29
ATTACH:https://classroom.google.com/c/ODU3MjcyNDcxMzYw
END:VEVENT
BEGIN:VEVENT
UID:UZ_PLZ_20260401_1615_498169
DTSTAMP:20260401T161500
DTSTART:20260401T161500
DTEND:20260401T174000
SUMMARY:Planowanie strategiczne w systemie bezpieczeństwa państw (Ć): 21BN-SP
CATEGORIES:Ć
LOCATION:123 A-29
ATTACH:https://classroom.google.com/c/ODU3MjczMzE1OTQ4
END:VEVENT
BEGIN:VEVENT
UID:UZ_PLZ_20260401_1800_498117
DTSTAMP:20260401T180000
DTSTART:20260401T180000
DTEND:20260401T192500
SUMMARY:Polityka regionalna w Polsce (W): 11BN-ZK-SD
CATEGORIES:W
LOCATION:123 A-29
ATTACH:https://classroom.google.com/c/ODU3Mjc1Nzc2MzE4
END:VEVENT
BEGIN:VEVENT
UID:UZ_PLZ_20260408_1615_498170
DTSTAMP:20260408T161500
DTSTART:20260408T161500
DTEND:20260408T175000
SUMMARY:Planowanie strategiczne w systemie bezpieczeństwa państw (P): 21BN-SP
CATEGORIES:P
LOCATION:123 A-29
ATTACH:https://classroom.google.com/c/Nzk2ODQ3MzMyMzEw
END:VEVENT
BEGIN:VEVENT
UID:UZ_PLZ_20260408_1800_497807
DTSTAMP:20260408T180000
DTSTART:20260408T180000
DTEND:20260408T193500
SUMMARY:Polityka regionalna w Polsce (P): 11BN-ZK-SD
CATEGORIES:P
LOCATION:123 A-29
ATTACH:https://classroom.google.com/c/ODU3Mjc1MTk2ODk3
END:VEVENT
BEGIN:VEVENT
UID:UZ_PLZ_20260413_1615_498949
DTSTAMP:20260413T161500
DTSTART:20260413T161500
DTEND:20260413T174000
SUMMARY:Polityka regionalna (W): 11EK-SP
CATEGORIES:W
LOCATION:108 A-29
ATTACH:https://classroom.google.com/c/Nzk2ODQ4NTM2ODM4
END:VEVENT
BEGIN:VEVENT
UID:UZ_PLZ_20260413_1800_498038
DTSTAMP:20260413T180000
DTSTART:20260413T180000
DTEND:20260413T193000
SUMMARY:Globalne społeczeństwo informacyjne (P): 12BN-SP
CATEGORIES:P
LOCATION:108 A-29
ATTACH:https://classroom.google.com/c/ODU3Mjc1OTg4NDMz
END:VEVENT
BEGIN:VEVENT
UID:UZ_PLZ_20260413_1945_497804
DTSTAMP:20260413T194500
DTSTART:20260413T194500
DTEND:20260413T211500
SUMMARY:Partnerstwo międzysektorowe (P): 12BN-SP
CATEGORIES:P
LOCATION:108 A-29
ATTACH:https://classroom.google.com/c/ODU3Mjc1NjkwNDk0
END:VEVENT
BEGIN:VEVENT
UID:UZ_PLZ_20260414_1615_497985
DTSTAMP:20260414T161500
DTSTART:20260414T161500
DTEND:20260414T174500
SUMMARY:Globalne społeczeństwo informacyjne (P): 11BN-SP
CATEGORIES:P
LOCATION:123 A-29
ATTACH:https://classroom.google.com/c/Nzk2ODQ4MjA2NDEx
END:VEVENT
BEGIN:VEVENT
UID:UZ_PLZ_20260414_1800_497950
DTSTAMP:20260414T180000
DTSTART:20260414T180000
DTEND:20260414T193000
SUMMARY:Partnerstwo międzysektorowe (P): 11BN-SP
CATEGORIES:P
LOCATION:123 A-29
ATTACH:https://classroom.google.com/c/ODU3MjcyNDcxMzYw
END:VEVENT
BEGIN:VEVENT
UID:UZ_PLZ_20260415_1615_498169
DTSTAMP:20260415T161500
DTSTART:20260415T161500
DTEND:20260415T174000
SUMMARY:Planowanie strategiczne w systemie bezpieczeństwa państw (Ć): 21BN-SP
CATEGORIES:Ć
LOCATION:123 A-29
ATTACH:https://classroom.google.com/c/ODU3MjczMzE1OTQ4
END:VEVENT
BEGIN:VEVENT
UID:UZ_PLZ_20260415_1800_498117
DTSTAMP:20260415T180000
DTSTART:20260415T180000
DTEND:20260415T192500
SUMMARY:Polityka regionalna w Polsce (W): 11BN-ZK-SD
CATEGORIES:W
LOCATION:123 A-29
ATTACH:https://classroom.google.com/c/ODU3Mjc1Nzc2MzE4
END:VEVENT
BEGIN:VEVENT
UID:UZ_PLZ_20260420_1615_498876
DTSTAMP:20260420T161500
DTSTART:20260420T161500
DTEND:20260420T175000
SUMMARY:Polityka regionalna (P): 11EK-SP
CATEGORIES:P
LOCATION:108 A-29
ATTACH:https://classroom.google.com/c/ODU3Mjc2NDIyODU5
END:VEVENT
BEGIN:VEVENT
UID:UZ_PLZ_20260420_1800_498038
DTSTAMP:20260420T180000
DTSTART:20260420T180000
DTEND:20260420T193000
SUMMARY:Globalne społeczeństwo informacyjne (P): 12BN-SP
CATEGORIES:P
LOCATION:108 A-29
ATTACH:https://classroom.google.com/c/ODU3Mjc1OTg4NDMz
END:VEVENT
BEGIN:VEVENT
UID:UZ_PLZ_20260420_1945_497804
DTSTAMP:20260420T194500
DTSTART:20260420T194500
DTEND:20260420T211500
SUMMARY:Partnerstwo międzysektorowe (P): 12BN-SP
CATEGORIES:P
LOCATION:108 A-29
ATTACH:https://classroom.google.com/c/ODU3Mjc1NjkwNDk0
END:VEVENT
BEGIN:VEVENT
UID:UZ_PLZ_20260421_1615_497985
DTSTAMP:20260421T161500
DTSTART:20260421T161500
DTEND:20260421T174500
SUMMARY:Globalne społeczeństwo informacyjne (P): 11BN-SP
CATEGORIES:P
LOCATION:123 A-29
ATTACH:https://classroom.google.com/c/Nzk2ODQ4MjA2NDEx
END:VEVENT
BEGIN:VEVENT
UID:UZ_PLZ_20260421_1800_497950
DTSTAMP:20260421T180000
DTSTART:20260421T180000
DTEND:20260421T193000
SUMMARY:Partnerstwo międzysektorowe (P): 11BN-SP
CATEGORIES:P
LOCATION:123 A-29
ATTACH:https://classroom.google.com/c/ODU3MjcyNDcxMzYw
END:VEVENT
BEGIN:VEVENT
UID:UZ_PLZ_20260422_1615_498170
DTSTAMP:20260422T161500
DTSTART:20260422T161500
DTEND:20260422T175000
SUMMARY:Planowanie strategiczne w systemie bezpieczeństwa państw (P): 21BN-SP
CATEGORIES:P
LOCATION:123 A-29
ATTACH:https://classroom.google.com/c/Nzk2ODQ3MzMyMzEw
END:VEVENT
BEGIN:VEVENT
UID:UZ_PLZ_20260422_1800_497807
DTSTAMP:20260422T180000
DTSTART:20260422T180000
DTEND:20260422T193500
SUMMARY:Polityka regionalna w Polsce (P): 11BN-ZK-SD
CATEGORIES:P
LOCATION:123 A-29
ATTACH:https://classroom.google.com/c/ODU3Mjc1MTk2ODk3
END:VEVENT
BEGIN:VEVENT
UID:UZ_PLZ_20260427_1615_498949
DTSTAMP:20260427T161500
DTSTART:20260427T161500
DTEND:20260427T174000
SUMMARY:Polityka regionalna (W): 11EK-SP
CATEGORIES:W
LOCATION:108 A-29
ATTACH:https://classroom.google.com/c/Nzk2ODQ4NTM2ODM4
END:VEVENT
BEGIN:VEVENT
UID:UZ_PLZ_20260427_1800_498038
DTSTAMP:20260427T180000
DTSTART:20260427T180000
DTEND:20260427T193000
SUMMARY:Globalne społeczeństwo informacyjne (P): 12BN-SP
CATEGORIES:P
LOCATION:108 A-29
ATTACH:https://classroom.google.com/c/ODU3Mjc1OTg4NDMz
END:VEVENT
BEGIN:VEVENT
UID:UZ_PLZ_20260427_1945_497804
DTSTAMP:20260427T194500
DTSTART:20260427T194500
DTEND:20260427T211500
SUMMARY:Partnerstwo międzysektorowe (P): 12BN-SP
CATEGORIES:P
LOCATION:108 A-29
ATTACH:https://classroom.google.com/c/ODU3Mjc1NjkwNDk0
END:VEVENT
BEGIN:VEVENT
UID:UZ_PLZ_20260428_1615_497985
DTSTAMP:20260428T161500
DTSTART:20260428T161500
DTEND:20260428T174500
SUMMARY:Globalne społeczeństwo informacyjne (P): 11BN-SP
CATEGORIES:P
LOCATION:123 A-29
ATTACH:https://classroom.google.com/c/Nzk2ODQ4MjA2NDEx
END:VEVENT
BEGIN:VEVENT
UID:UZ_PLZ_20260428_1800_497950
DTSTAMP:20260428T180000
DTSTART:20260428T180000
DTEND:20260428T193000
SUMMARY:Partnerstwo międzysektorowe (P): 11BN-SP
CATEGORIES:P
LOCATION:123 A-29
ATTACH:https://classroom.google.com/c/ODU3MjcyNDcxMzYw
END:VEVENT
BEGIN:VEVENT
UID:UZ_PLZ_20260504_1615_498876
DTSTAMP:20260504T161500
DTSTART:20260504T161500
DTEND:20260504T175000
SUMMARY:Polityka regionalna (P): 11EK-SP
CATEGORIES:P
LOCATION:108 A-29
ATTACH:https://classroom.google.com/c/ODU3Mjc2NDIyODU5
END:VEVENT
BEGIN:VEVENT
UID:UZ_PLZ_20260504_1800_498038
DTSTAMP:20260504T180000
DTSTART:20260504T180000
DTEND:20260504T193000
SUMMARY:Globalne społeczeństwo informacyjne (P): 12BN-SP
CATEGORIES:P
LOCATION:108 A-29
ATTACH:https://classroom.google.com/c/ODU3Mjc1OTg4NDMz
END:VEVENT
BEGIN:VEVENT
UID:UZ_PLZ_20260504_1945_497804
DTSTAMP:20260504T194500
DTSTART:20260504T194500
DTEND:20260504T211500
SUMMARY:Partnerstwo międzysektorowe (P): 12BN-SP
CATEGORIES:P
LOCATION:108 A-29
ATTACH:https://classroom.google.com/c/ODU3Mjc1NjkwNDk0
END:VEVENT
BEGIN:VEVENT
UID:UZ_PLZ_20260505_1615_497985
DTSTAMP:20260505T161500
DTSTART:20260505T161500
DTEND:20260505T174500
SUMMARY:Globalne społeczeństwo informacyjne (P): 11BN-SP
CATEGORIES:P
LOCATION:123 A-29
ATTACH:https://classroom.google.com/c/Nzk2ODQ4MjA2NDEx
END:VEVENT
BEGIN:VEVENT
UID:UZ_PLZ_20260505_1800_497950
DTSTAMP:20260505T180000
DTSTART:20260505T180000
DTEND:20260505T193000
SUMMARY:Partnerstwo międzysektorowe (P): 11BN-SP
CATEGORIES:P
LOCATION:123 A-29
ATTACH:https://classroom.google.com/c/ODU3MjcyNDcxMzYw
END:VEVENT
BEGIN:VEVENT
UID:UZ_PLZ_20260506_1615_498170
DTSTAMP:20260506T161500
DTSTART:20260506T161500
DTEND:20260506T175000
SUMMARY:Planowanie strategiczne w systemie bezpieczeństwa państw (P): 21BN-SP
CATEGORIES:P
LOCATION:123 A-29
ATTACH:https://classroom.google.com/c/Nzk2ODQ3MzMyMzEw
END:VEVENT
BEGIN:VEVENT
UID:UZ_PLZ_20260506_1800_497807
DTSTAMP:20260506T180000
DTSTART:20260506T180000
DTEND:20260506T193500
SUMMARY:Polityka regionalna w Polsce (P): 11BN-ZK-SD
CATEGORIES:P
LOCATION:123 A-29
ATTACH:https://classroom.google.com/c/ODU3Mjc1MTk2ODk3
END:VEVENT
BEGIN:VEVENT
UID:UZ_PLZ_20260511_1615_498949
DTSTAMP:20260511T161500
DTSTART:20260511T161500
DTEND:20260511T174000
SUMMARY:Polityka regionalna (W): 11EK-SP
CATEGORIES:W
LOCATION:108 A-29
ATTACH:https://classroom.google.com/c/Nzk2ODQ4NTM2ODM4
END:VEVENT
BEGIN:VEVENT
UID:UZ_PLZ_20260511_1800_498038
DTSTAMP:20260511T180000
DTSTART:20260511T180000
DTEND:20260511T193000
SUMMARY:Globalne społeczeństwo informacyjne (P): 12BN-SP
CATEGORIES:P
LOCATION:108 A-29
ATTACH:https://classroom.google.com/c/ODU3Mjc1OTg4NDMz
END:VEVENT
BEGIN:VEVENT
UID:UZ_PLZ_20260511_1945_497804
DTSTAMP:20260511T194500
DTSTART:20260511T194500
DTEND:20260511T211500
SUMMARY:Partnerstwo międzysektorowe (P): 12BN-SP
CATEGORIES:P
LOCATION:108 A-29
ATTACH:https://classroom.google.com/c/ODU3Mjc1NjkwNDk0
END:VEVENT
BEGIN:VEVENT
UID:UZ_PLZ_20260512_1615_497985
DTSTAMP:20260512T161500
DTSTART:20260512T161500
DTEND:20260512T174500
SUMMARY:Globalne społeczeństwo informacyjne (P): 11BN-SP
CATEGORIES:P
LOCATION:123 A-29
ATTACH:https://classroom.google.com/c/Nzk2ODQ4MjA2NDEx
END:VEVENT
BEGIN:VEVENT
UID:UZ_PLZ_20260512_1800_497950
DTSTAMP:20260512T180000
DTSTART:20260512T180000
DTEND:20260512T193000
SUMMARY:Partnerstwo międzysektorowe (P): 11BN-SP
CATEGORIES:P
LOCATION:123 A-29
ATTACH:https://classroom.google.com/c/ODU3MjcyNDcxMzYw
END:VEVENT
BEGIN:VEVENT
UID:UZ_PLZ_20260513_1615_498169
DTSTAMP:20260513T161500
DTSTART:20260513T161500
DTEND:20260513T174000
SUMMARY:Planowanie strategiczne w systemie bezpieczeństwa państw (Ć): 21BN-SP
CATEGORIES:Ć
LOCATION:123 A-29
ATTACH:https://classroom.google.com/c/ODU3MjczMzE1OTQ4
END:VEVENT
BEGIN:VEVENT
UID:UZ_PLZ_20260513_1800_498117
DTSTAMP:20260513T180000
DTSTART:20260513T180000
DTEND:20260513T192500
SUMMARY:Polityka regionalna w Polsce (W): 11BN-ZK-SD
CATEGORIES:W
LOCATION:123 A-29
ATTACH:https://classroom.google.com/c/ODU3Mjc1Nzc2MzE4
END:VEVENT
BEGIN:VEVENT
UID:UZ_PLZ_20260518_1615_498876
DTSTAMP:20260518T161500
DTSTART:20260518T161500
DTEND:20260518T175000
SUMMARY:Polityka regionalna (P): 11EK-SP
CATEGORIES:P
LOCATION:108 A-29
ATTACH:https://classroom.google.com/c/ODU3Mjc2NDIyODU5
END:VEVENT
BEGIN:VEVENT
UID:UZ_PLZ_20260518_1800_498038
DTSTAMP:20260518T180000
DTSTART:20260518T180000
DTEND:20260518T193000
SUMMARY:Globalne społeczeństwo informacyjne (P): 12BN-SP
CATEGORIES:P
LOCATION:108 A-29
ATTACH:https://classroom.google.com/c/ODU3Mjc1OTg4NDMz
END:VEVENT
BEGIN:VEVENT
UID:UZ_PLZ_20260518_1945_497804
DTSTAMP:20260518T194500
DTSTART:20260518T194500
DTEND:20260518T211500
SUMMARY:Partnerstwo międzysektorowe (P): 12BN-SP
CATEGORIES:P
LOCATION:108 A-29
ATTACH:https://classroom.google.com/c/ODU3Mjc1NjkwNDk0
END:VEVENT
BEGIN:VEVENT
UID:UZ_PLZ_20260519_1615_497985
DTSTAMP:20260519T161500
DTSTART:20260519T161500
DTEND:20260519T174500
SUMMARY:Globalne społeczeństwo informacyjne (P): 11BN-SP
CATEGORIES:P
LOCATION:123 A-29
ATTACH:https://classroom.google.com/c/Nzk2ODQ4MjA2NDEx
END:VEVENT
BEGIN:VEVENT
UID:UZ_PLZ_20260519_1800_497950
DTSTAMP:20260519T180000
DTSTART:20260519T180000
DTEND:20260519T193000
SUMMARY:Partnerstwo międzysektorowe (P): 11BN-SP
CATEGORIES:P
LOCATION:123 A-29
ATTACH:https://classroom.google.com/c/ODU3MjcyNDcxMzYw
END:VEVENT
BEGIN:VEVENT
UID:UZ_PLZ_20260520_1615_498170
DTSTAMP:20260520T161500
DTSTART:20260520T161500
DTEND:20260520T175000
SUMMARY:Planowanie strategiczne w systemie bezpieczeństwa państw (P): 21BN-SP
CATEGORIES:P
LOCATION:123 A-29
ATTACH:https://classroom.google.com/c/Nzk2ODQ3MzMyMzEw
END:VEVENT
BEGIN:VEVENT
UID:UZ_PLZ_20260520_1800_497807
DTSTAMP:20260520T180000
DTSTART:20260520T180000
DTEND:20260520T193500
SUMMARY:Polityka regionalna w Polsce (P): 11BN-ZK-SD
CATEGORIES:P
LOCATION:123 A-29
ATTACH:https://classroom.google.com/c/ODU3Mjc1MTk2ODk3
END:VEVENT
BEGIN:VEVENT
UID:UZ_PLZ_20260525_1615_498949
DTSTAMP:20260525T161500
DTSTART:20260525T161500
DTEND:20260525T174000
SUMMARY:Polityka regionalna (W): 11EK-SP
CATEGORIES:W
LOCATION:108 A-29
ATTACH:https://classroom.google.com/c/Nzk2ODQ4NTM2ODM4
END:VEVENT
BEGIN:VEVENT
UID:UZ_PLZ_20260525_1800_498038
DTSTAMP:20260525T180000
DTSTART:20260525T180000
DTEND:20260525T193000
SUMMARY:Globalne społeczeństwo informacyjne (P): 12BN-SP
CATEGORIES:P
LOCATION:108 A-29
ATTACH:https://classroom.google.com/c/ODU3Mjc1OTg4NDMz
END:VEVENT
BEGIN:VEVENT
UID:UZ_PLZ_20260525_1945_497804
DTSTAMP:20260525T194500
DTSTART:20260525T194500
DTEND:20260525T211500
SUMMARY:Partnerstwo międzysektorowe (P): 12BN-SP
CATEGORIES:P
LOCATION:108 A-29
ATTACH:https://classroom.google.com/c/ODU3Mjc1NjkwNDk0
END:VEVENT
BEGIN:VEVENT
UID:UZ_PLZ_20260526_1615_497985
DTSTAMP:20260526T161500
DTSTART:20260526T161500
DTEND:20260526T174500
SUMMARY:Globalne społeczeństwo informacyjne (P): 11BN-SP
CATEGORIES:P
LOCATION:123 A-29
ATTACH:https://classroom.google.com/c/Nzk2ODQ4MjA2NDEx
END:VEVENT
BEGIN:VEVENT
UID:UZ_PLZ_20260526_1800_497950
DTSTAMP:20260526T180000
DTSTART:20260526T180000
DTEND:20260526T193000
SUMMARY:Partnerstwo międzysektorowe (P): 11BN-SP
CATEGORIES:P
LOCATION:123 A-29
ATTACH:https://classroom.google.com/c/ODU3MjcyNDcxMzYw
END:VEVENT
BEGIN:VEVENT
UID:UZ_PLZ_20260527_1615_498169
DTSTAMP:20260527T161500
DTSTART:20260527T161500
DTEND:20260527T174000
SUMMARY:Planowanie strategiczne w systemie bezpieczeństwa państw (Ć): 21BN-SP
CATEGORIES:Ć
LOCATION:123 A-29
ATTACH:https://classroom.google.com/c/ODU3MjczMzE1OTQ4
END:VEVENT
BEGIN:VEVENT
UID:UZ_PLZ_20260527_1800_498117
DTSTAMP:20260527T180000
DTSTART:20260527T180000
DTEND:20260527T192500
SUMMARY:Polityka regionalna w Polsce (W): 11BN-ZK-SD
CATEGORIES:W
LOCATION:123 A-29
ATTACH:https://classroom.google.com/c/ODU3Mjc1Nzc2MzE4
END:VEVENT
BEGIN:VEVENT
UID:UZ_PLZ_20260601_1615_498876
DTSTAMP:20260601T161500
DTSTART:20260601T161500
DTEND:20260601T175000
SUMMARY:Polityka regionalna (P): 11EK-SP
CATEGORIES:P
LOCATION:108 A-29
ATTACH:https://classroom.google.com/c/ODU3Mjc2NDIyODU5
END:VEVENT
BEGIN:VEVENT
UID:UZ_PLZ_20260601_1800_498038
DTSTAMP:20260601T180000
DTSTART:20260601T180000
DTEND:20260601T193000
SUMMARY:Globalne społeczeństwo informacyjne (P): 12BN-SP
CATEGORIES:P
LOCATION:108 A-29
ATTACH:https://classroom.google.com/c/ODU3Mjc1OTg4NDMz
END:VEVENT
BEGIN:VEVENT
UID:UZ_PLZ_20260601_1945_497804
DTSTAMP:20260601T194500
DTSTART:20260601T194500
DTEND:20260601T211500
SUMMARY:Partnerstwo międzysektorowe (P): 12BN-SP
CATEGORIES:P
LOCATION:108 A-29
ATTACH:https://classroom.google.com/c/ODU3Mjc1NjkwNDk0
END:VEVENT
BEGIN:VEVENT
UID:UZ_PLZ_20260602_1615_497985
DTSTAMP:20260602T161500
DTSTART:20260602T161500
DTEND:20260602T174500
SUMMARY:Globalne społeczeństwo informacyjne (P): 11BN-SP
CATEGORIES:P
LOCATION:123 A-29
ATTACH:https://classroom.google.com/c/Nzk2ODQ4MjA2NDEx
END:VEVENT
BEGIN:VEVENT
UID:UZ_PLZ_20260602_1800_497950
DTSTAMP:20260602T180000
DTSTART:20260602T180000
DTEND:20260602T193000
SUMMARY:Partnerstwo międzysektorowe (P): 11BN-SP
CATEGORIES:P
LOCATION:123 A-29
ATTACH:https://classroom.google.com/c/ODU3MjcyNDcxMzYw
END:VEVENT
BEGIN:VEVENT
UID:UZ_PLZ_20260603_1615_498170
DTSTAMP:20260603T161500
DTSTART:20260603T161500
DTEND:20260603T175000
SUMMARY:Planowanie strategiczne w systemie bezpieczeństwa państw (P): 21BN-SP
CATEGORIES:P
LOCATION:123 A-29
ATTACH:https://classroom.google.com/c/Nzk2ODQ3MzMyMzEw
END:VEVENT
BEGIN:VEVENT
UID:UZ_PLZ_20260603_1800_497807
DTSTAMP:20260603T180000
DTSTART:20260603T180000
DTEND:20260603T193500
SUMMARY:Polityka regionalna w Polsce (P): 11BN-ZK-SD
CATEGORIES:P
LOCATION:123 A-29
ATTACH:https://classroom.google.com/c/ODU3Mjc1MTk2ODk3
END:VEVENT
BEGIN:VEVENT
UID:UZ_PLZ_20260608_1615_498949
DTSTAMP:20260608T161500
DTSTART:20260608T161500
DTEND:20260608T174000
SUMMARY:Polityka regionalna (W): 11EK-SP
CATEGORIES:W
LOCATION:108 A-29
ATTACH:https://classroom.google.com/c/Nzk2ODQ4NTM2ODM4
END:VEVENT
BEGIN:VEVENT
UID:UZ_PLZ_20260608_1800_498038
DTSTAMP:20260608T180000
DTSTART:20260608T180000
DTEND:20260608T193000
SUMMARY:Globalne społeczeństwo informacyjne (P): 12BN-SP
CATEGORIES:P
LOCATION:108 A-29
ATTACH:https://classroom.google.com/c/ODU3Mjc1OTg4NDMz
END:VEVENT
BEGIN:VEVENT
UID:UZ_PLZ_20260608_1945_497804
DTSTAMP:20260608T194500
DTSTART:20260608T194500
DTEND:20260608T211500
SUMMARY:Partnerstwo międzysektorowe (P): 12BN-SP
CATEGORIES:P
LOCATION:108 A-29
ATTACH:https://classroom.google.com/c/ODU3Mjc1NjkwNDk0
END:VEVENT
BEGIN:VEVENT
UID:UZ_PLZ_20260609_1615_497985
DTSTAMP:20260609T161500
DTSTART:20260609T161500
DTEND:20260609T174500
SUMMARY:Globalne społeczeństwo informacyjne (P): 11BN-SP
CATEGORIES:P
LOCATION:123 A-29
ATTACH:https://classroom.google.com/c/Nzk2ODQ4MjA2NDEx
END:VEVENT
BEGIN:VEVENT
UID:UZ_PLZ_20260609_1800_497950
DTSTAMP:20260609T180000
DTSTART:20260609T180000
DTEND:20260609T193000
SUMMARY:Partnerstwo międzysektorowe (P): 11BN-SP
CATEGORIES:P
LOCATION:123 A-29
ATTACH:https://classroom.google.com/c/ODU3MjcyNDcxMzYw
END:VEVENT
BEGIN:VEVENT
UID:UZ_PLZ_20260610_1615_498169
DTSTAMP:20260610T161500
DTSTART:20260610T161500
DTEND:20260610T174000
SUMMARY:Planowanie strategiczne w systemie bezpieczeństwa państw (Ć): 21BN-SP
CATEGORIES:Ć
LOCATION:123 A-29
ATTACH:https://classroom.google.com/c/ODU3MjczMzE1OTQ4
END:VEVENT
BEGIN:VEVENT
UID:UZ_PLZ_20260610_1800_498117
DTSTAMP:20260610T180000
DTSTART:20260610T180000
DTEND:20260610T192500
SUMMARY:Polityka regionalna w Polsce (W): 11BN-ZK-SD
CATEGORIES:W
LOCATION:123 A-29
ATTACH:https://classroom.google.com/c/ODU3Mjc1Nzc2MzE4
END:VEVENT
BEGIN:VEVENT
UID:UZ_PLZ_20260615_1615_498876
DTSTAMP:20260615T161500
DTSTART:20260615T161500
DTEND:20260615T175000
SUMMARY:Polityka regionalna (P): 11EK-SP
CATEGORIES:P
LOCATION:108 A-29
ATTACH:https://classroom.google.com/c/ODU3Mjc2NDIyODU5
END:VEVENT
BEGIN:VEVENT
UID:UZ_PLZ_20260615_1800_498038
DTSTAMP:20260615T180000
DTSTART:20260615T180000
DTEND:20260615T193000
SUMMARY:Globalne społeczeństwo informacyjne (P): 12BN-SP
CATEGORIES:P
LOCATION:108 A-29
ATTACH:https://classroom.google.com/c/ODU3Mjc1OTg4NDMz
END:VEVENT
BEGIN:VEVENT
UID:UZ_PLZ_20260615_1945_497804
DTSTAMP:20260615T194500
DTSTART:20260615T194500
DTEND:20260615T211500
SUMMARY:Partnerstwo międzysektorowe (P): 12BN-SP
CATEGORIES:P
LOCATION:108 A-29
ATTACH:https://classroom.google.com/c/ODU3Mjc1NjkwNDk0
END:VEVENT
BEGIN:VEVENT
UID:UZ_PLZ_20260616_1615_497985
DTSTAMP:20260616T161500
DTSTART:20260616T161500
DTEND:20260616T174500
SUMMARY:Globalne społeczeństwo informacyjne (P): 11BN-SP
CATEGORIES:P
LOCATION:123 A-29
ATTACH:https://classroom.google.com/c/Nzk2ODQ4MjA2NDEx
END:VEVENT
BEGIN:VEVENT
UID:UZ_PLZ_20260616_1800_497950
DTSTAMP:20260616T180000
DTSTART:20260616T180000
DTEND:20260616T193000
SUMMARY:Partnerstwo międzysektorowe (P): 11BN-SP
CATEGORIES:P
LOCATION:123 A-29
ATTACH:https://classroom.google.com/c/ODU3MjcyNDcxMzYw
END:VEVENT
BEGIN:VEVENT
UID:UZ_PLZ_20260617_1615_498169
DTSTAMP:20260617T161500
DTSTART:20260617T161500
DTEND:20260617T174000
SUMMARY:Planowanie strategiczne w systemie bezpieczeństwa państw (Ć): 21BN-SP
CATEGORIES:Ć
LOCATION:123 A-29
ATTACH:https://classroom.google.com/c/ODU3MjczMzE1OTQ4
END:VEVENT
BEGIN:VEVENT
UID:UZ_PLZ_20260617_1800_498117
DTSTAMP:20260617T180000
DTSTART:20260617T180000
DTEND:20260617T192500
SUMMARY:Polityka regionalna w Polsce (W): 11BN-ZK-SD
CATEGORIES:W
LOCATION:123 A-29
ATTACH:https://classroom.google.com/c/ODU3Mjc1Nzc2MzE4
END:VEVENT
END:VCALENDAR
